{"text_format":"1","workbook":"xlsx","n_sheets":2,"sheets":["Tabulación","Análisis"],"not_rendered":{"charts":0,"images":0,"macros":1,"external_links":0,"defined_names":0,"comments":0,"pivot_tables":0},"unopened":[],"bounds":{"document_bytes":16777216,"sheet_cells":100000,"rows_first":2000,"rows_last":500,"rows_between":2000,"halvings":0,"cell_chars":16384,"cell_head_chars":4096},"cells_cut":0,"cells_raw":0,"read":"whole","date_system":"1900"}

{"sheet":"Tabulación","index":0,"n_rows":29,"n_cols":350,"rows_kept":29,"cut":false,"hidden":false,"merged":[]}
[]
["Evaluación de Sostenibilidad Turística ","T.Absol","T.Relat",1,{"$f":"+D2+1","v":2},{"$f":"+E2+1","v":3},4,5,6,7,8,9,10,11,12,13,14,15,16,17,18,19,20,21,22,{"$f":"+Y2+1","v":23},{"$f":"+Z2+1","v":24},{"$f":"+AA2+1","v":25},{"$f":"+AB2+1","v":26},{"$f":"+AC2+1","v":27},{"$f":"+AD2+1","v":28},{"$f":"+AE2+1","v":29},{"$f":"+AF2+1","v":30},{"$f":"+AG2+1","v":31},{"$f":"+AH2+1","v":32},{"$f":"+AI2+1","v":33},{"$f":"+AJ2+1","v":34},{"$f":"+AK2+1","v":35},{"$f":"+AL2+1","v":36},{"$f":"+AM2+1","v":37},{"$f":"+AN2+1","v":38},{"$f":"+AO2+1","v":39},{"$f":"+AP2+1","v":40},{"$f":"+AQ2+1","v":41},{"$f":"+AR2+1","v":42},{"$f":"+AS2+1","v":43},{"$f":"+AT2+1","v":44},{"$f":"+AU2+1","v":45},{"$f":"+AV2+1","v":46},{"$f":"+AW2+1","v":47},{"$f":"+AX2+1","v":48},{"$f":"+AY2+1","v":49},{"$f":"+AZ2+1","v":50},{"$f":"+BA2+1","v":51},{"$f":"+BB2+1","v":52},{"$f":"+BC2+1","v":53},54,55,56,57,58,59,60,61,62,63,64,65,66,67,68,69,70,71,72,73,74,75,76,77,78,79,80,81,82,83,84,85,86,87,88,{"$f":"+CM2+1","v":89},{"$f":"+CN2+1","v":90},{"$f":"+CO2+1","v":91},92,93,94,95,96,97,98,99,100,101,102,103,104,105,106,107,108,109,110,111,112,113,114,115,116,117,118,119,120,121,122,123,124,{"$f":"+DW2+1","v":125},{"$f":"+DX2+1","v":126},{"$f":"+DY2+1","v":127},128,129,130,131,132,133,134,135,136,137,138,139,140,141,142,143,144,145,146,147,148,149,150,151,152,153,154,155,156,157,158,159,160,161,162,163,{"$f":"+FJ2+1","v":164},{"$f":"+FK2+1","v":165},{"$f":"+FL2+1","v":166},{"$f":"+FM2+1","v":167},{"$f":"+FN2+1","v":168},{"$f":"+FO2+1","v":169},{"$f":"+FP2+1","v":170},{"$f":"+FQ2+1","v":171},{"$f":"+FR2+1","v":172},{"$f":"+FS2+1","v":173},{"$f":"+FT2+1","v":174},{"$f":"+FU2+1","v":175},{"$f":"+FV2+1","v":176},{"$f":"+FW2+1","v":177},{"$f":"+FX2+1","v":178},{"$f":"+FY2+1","v":179},{"$f":"+FZ2+1","v":180},{"$f":"+GA2+1","v":181},{"$f":"+GB2+1","v":182},{"$f":"+GC2+1","v":183},{"$f":"+GD2+1","v":184},{"$f":"+GE2+1","v":185},{"$f":"+GF2+1","v":186},{"$f":"+GG2+1","v":187},{"$f":"+GH2+1","v":188},{"$f":"+GI2+1","v":189},{"$f":"+GJ2+1","v":190},{"$f":"+GK2+1","v":191},{"$f":"+GL2+1","v":192},{"$f":"+GM2+1","v":193},{"$f":"+GN2+1","v":194},{"$f":"+GO2+1","v":195},{"$f":"+GP2+1","v":196},{"$f":"+GQ2+1","v":197},{"$f":"+GR2+1","v":198},{"$f":"+GS2+1","v":199},{"$f":"+GT2+1","v":200},{"$f":"+GU2+1","v":201},{"$f":"+GV2+1","v":202},{"$f":"+GW2+1","v":203},{"$f":"+GX2+1","v":204},{"$f":"+GY2+1","v":205},{"$f":"+GZ2+1","v":206},{"$f":"+HA2+1","v":207},{"$f":"+HB2+1","v":208},{"$f":"+HC2+1","v":209},{"$f":"+HD2+1","v":210},{"$f":"+HE2+1","v":211},{"$f":"+HF2+1","v":212},{"$f":"+HG2+1","v":213},{"$f":"+HH2+1","v":214},{"$f":"+HI2+1","v":215},{"$f":"+HJ2+1","v":216},{"$f":"+HK2+1","v":217},{"$f":"+HL2+1","v":218},{"$f":"+HM2+1","v":219},{"$f":"+HN2+1","v":220},{"$f":"+HO2+1","v":221},{"$f":"+HP2+1","v":222},{"$f":"+HQ2+1","v":223},{"$f":"+HR2+1","v":224},{"$f":"+HS2+1","v":225},{"$f":"+HT2+1","v":226},{"$f":"+HU2+1","v":227},{"$f":"+HV2+1","v":228},{"$f":"+HW2+1","v":229},{"$f":"+HX2+1","v":230},{"$f":"+HY2+1","v":231},{"$f":"+HZ2+1","v":232},{"$f":"+IA2+1","v":233},{"$f":"+IB2+1","v":234},{"$f":"+IC2+1","v":235},{"$f":"+ID2+1","v":236},{"$f":"+IE2+1","v":237},{"$f":"+IF2+1","v":238},{"$f":"+IG2+1","v":239},{"$f":"+IH2+1","v":240},{"$f":"+II2+1","v":241},{"$f":"+IJ2+1","v":242},{"$f":"+IK2+1","v":243},{"$f":"+IL2+1","v":244},{"$f":"+IM2+1","v":245},{"$f":"+IN2+1","v":246},{"$f":"+IO2+1","v":247},{"$f":"+IP2+1","v":248},{"$f":"+IQ2+1","v":249},{"$f":"+IR2+1","v":250},{"$f":"+IS2+1","v":251},{"$f":"+IT2+1","v":252},{"$f":"+IU2+1","v":253},{"$f":"+IV2+1","v":254},{"$f":"+IW2+1","v":255},{"$f":"+IX2+1","v":256},{"$f":"+IY2+1","v":257},{"$f":"+IZ2+1","v":258},{"$f":"+JA2+1","v":259},{"$f":"+JB2+1","v":260},{"$f":"+JC2+1","v":261},{"$f":"+JD2+1","v":262},{"$f":"+JE2+1","v":263},{"$f":"+JF2+1","v":264},{"$f":"+JG2+1","v":265},{"$f":"+JH2+1","v":266},{"$f":"+JI2+1","v":267},{"$f":"+JJ2+1","v":268},{"$f":"+JK2+1","v":269},{"$f":"+JL2+1","v":270},{"$f":"+JM2+1","v":271},{"$f":"+JN2+1","v":272},{"$f":"+JO2+1","v":273},{"$f":"+JP2+1","v":274},{"$f":"+JQ2+1","v":275},{"$f":"+JR2+1","v":276},{"$f":"+JS2+1","v":277},{"$f":"+JT2+1","v":278},{"$f":"+JU2+1","v":279},{"$f":"+JV2+1","v":280},{"$f":"+JW2+1","v":281},{"$f":"+JX2+1","v":282},{"$f":"+JY2+1","v":283},{"$f":"+JZ2+1","v":284},{"$f":"+KA2+1","v":285},{"$f":"+KB2+1","v":286},{"$f":"+KC2+1","v":287},{"$f":"+KD2+1","v":288},{"$f":"+KE2+1","v":289},{"$f":"+KF2+1","v":290},{"$f":"+KG2+1","v":291},{"$f":"+KH2+1","v":292},{"$f":"+KI2+1","v":293},{"$f":"+KJ2+1","v":294},{"$f":"+KK2+1","v":295},{"$f":"+KL2+1","v":296},{"$f":"+KM2+1","v":297},{"$f":"+KN2+1","v":298},{"$f":"+KO2+1","v":299},{"$f":"+KP2+1","v":300},{"$f":"+KQ2+1","v":301},{"$f":"+KR2+1","v":302},{"$f":"+KS2+1","v":303},{"$f":"+KT2+1","v":304},{"$f":"+KU2+1","v":305},{"$f":"+KV2+1","v":306},{"$f":"+KW2+1","v":307},{"$f":"+KX2+1","v":308},{"$f":"+KY2+1","v":309},{"$f":"+KZ2+1","v":310},{"$f":"+LA2+1","v":311},{"$f":"+LB2+1","v":312},{"$f":"+LC2+1","v":313},{"$f":"+LD2+1","v":314},{"$f":"+LE2+1","v":315},{"$f":"+LF2+1","v":316},{"$f":"+LG2+1","v":317},{"$f":"+LH2+1","v":318},{"$f":"+LI2+1","v":319},{"$f":"+LJ2+1","v":320},{"$f":"+LK2+1","v":321},{"$f":"+LL2+1","v":322},{"$f":"+LM2+1","v":323},{"$f":"+LN2+1","v":324},{"$f":"+LO2+1","v":325},{"$f":"+LP2+1","v":326},{"$f":"+LQ2+1","v":327},{"$f":"+LR2+1","v":328},{"$f":"+LS2+1","v":329},{"$f":"+LT2+1","v":330},{"$f":"+LU2+1","v":331},{"$f":"+LV2+1","v":332},{"$f":"+LW2+1","v":333},{"$f":"+LX2+1","v":334},{"$f":"+LY2+1","v":335},{"$f":"+LZ2+1","v":336},{"$f":"+MA2+1","v":337},{"$f":"+MB2+1","v":338},{"$f":"+MC2+1","v":339},{"$f":"+MD2+1","v":340},{"$f":"+ME2+1","v":341},{"$f":"+MF2+1","v":342},{"$f":"+MG2+1","v":343},{"$f":"+MH2+1","v":344},{"$f":"+MI2+1","v":345},{"$f":"+MJ2+1","v":346},{"$f":"+MK2+1","v":347}]
[]
[]
["1.1 El Hotel  da muestra de una relación con la cultura regional?",{"$f":"SUM(D5:FJ5)","v":79},{"$f":"+B5/$B$11","v":0.1673728813559322},3,2,3,2,4,4,4,4,4,4,4,4,4,4,4,4,3,4,4,5,5]
["1.2 El hotel insta a los huéspedes a visitar áreas protegidas de la zona?",{"$f":"SUM(D6:FJ6)","v":77},0.16313559322033899,2,2,2,2,4,4,4,4,4,4,4,4,4,4,4,4,4,4,4,4,5]
["1.3 Idetifica en el hotel productos  basados en criterios ecológicos y sociales?",{"$f":"SUM(D7:FJ7)","v":81},0.17161016949152541,3,2,3,2,4,4,4,4,4,4,4,4,4,4,4,4,4,4,6,4,5]
["1.4 El hotel aplica encuestas regulares para medir su satisfacción como cliente. ",{"$f":"SUM(D8:FJ8)","v":79},0.1673728813559322,3,2,3,2,4,4,4,4,4,4,4,4,4,4,4,4,4,4,4,4,5]
["1.5 El hospedaje cuenta con alguna condecoración, distinción o certificación referente a sostenibilidad?.",{"$f":"SUM(D9:FJ9)","v":77},0.16313559322033899,3,2,2,2,4,4,4,4,4,4,4,4,4,4,4,4,4,4,4,3,5]
["1.6 La ubicación del hotel e infraestructura es sostenible?",{"$f":"SUM(D10:FJ10)","v":79},0.1673728813559322,3,2,3,2,4,4,4,4,4,4,4,4,4,4,4,4,4,4,4,4,5]
[null,{"$f":"SUM(B5:B10)","v":472},{"$f":"SUM(C5:C10)","v":1}]
["2.1 En el restaurante encontraron comida típica?",{"$f":"SUM(D12:FJ12)","v":60},{"$f":"+B12/$B$19","v":0.20833333333333334},4,3,3,2,4,1,1,2,2,4,2,3,4,4,4,4,3,3,3,4]
["2.2 El hotel cuenta con basureros para la clasificación de la basura?",69,0.23958333333333334,1,3,1,2,4,4,4,4,3,4,3,4,4,4,4,4,4,4,4,4]
["2.3 El hotel informa las medidas de seguridad y ecología en la zona?",71,0.24652777777777779,2,2,2,2,4,4,4,4,4,4,4,4,4,4,4,4,4,4,3,4]
["2.4 El hotel le insta a tratar de ahorrar agua? ",75,0.26041666666666669,4,2,2,3,4,4,4,4,4,4,4,4,4,4,4,4,4,4,4,4]
["2.5 El hotel le insta a  tratar a ahorrar energía eléctrica ?",72,0.25,3,2,2,2,4,4,4,4,4,4,4,4,4,4,4,4,4,4,4,3]
["2.6 El hotel cuenta con equipo sostenible y eficiente en las instalaciones?",70,0.24305555555555555,3,2,2,2,4,4,4,4,4,4,4,4,4,4,4,4,4,3,3,3]
["2.8 El jardín tiene plantas nativas y con sus respectivos nombres?",71,0.24652777777777779,3,3,2,3,4,4,3,4,3,4,3,4,4,4,4,4,4,3,4,4]
[null,{"$f":"SUM(B15:B18)","v":288},{"$f":"SUM(C15:C18)","v":1}]
["3.1 El hotel rechaza plenamente el trabajo infantil bajo explotación?",{"$f":"SUM(D20:FJ20)","v":80},{"$f":"+B20/$B$24","v":0.25157232704402516},4,4,4,4,4,4,4,4,4,4,4,4,4,4,4,4,4,4,4,4]
["3.2 El hotel prohibe la prostitución dentro de las instalaciones?",{"$f":"SUM(D21:FJ21)","v":79},{"$f":"+B21/$B$24","v":0.24842767295597484},4,4,4,4,4,4,4,4,4,4,4,4,4,4,4,4,4,3,4,4]
["3.3 El hotel rechaza y previene la explotación sexual infantil?",{"$f":"SUM(D22:FJ22)","v":79},0.24842767295597484,4,4,4,4,4,4,4,4,4,4,4,4,4,4,4,4,4,4,4,3]
["3.4 El hotel prohibe la venta de narcóticos y estupefacientes en las instalaciones?",{"$f":"SUM(D23:FJ23)","v":80},0.25157232704402516,4,4,4,4,4,4,4,4,4,4,4,4,4,4,4,4,4,4,4,4]
[null,{"$f":"SUM(B20:B23)","v":318},{"$f":"SUM(C20:C23)","v":1}]
["4.1 Considera usted como cliente que el hotel  es un beneficio para la comunidad?",{"$f":"SUM(D25:FJ25)","v":77},{"$f":"+B25/$B$28","v":0.39896373056994816},4,3,3,4,4,4,4,4,4,4,4,4,4,4,4,3,4,4,4,4]
["4.2 El hotel prefiere a los productores locales?",68,{"$f":"+B26/$B$28","v":0.35233160621761656},2,2,1,3,4,4,4,4,4,4,3,4,4,4,4,4,4,3,3,3]
["4.3 El hotele tiene un espacio para mencionar actividades de la comunidad?",48,{"$f":"+B27/$B$28","v":0.24870466321243523},2,2,2,2,4,2,1,1,2,2,1,2,3,4,3,3,2,3,3,4]
[null,{"$f":"SUM(B25:B27)","v":193},{"$f":"SUM(C25:C27)","v":1},{"$f":"SUM(D5:D27)","v":61},{"$f":"SUM(E5:E27)","v":52},{"$f":"SUM(F5:F27)","v":52},53,80,75,73,75,74,78,72,77,79,80,79,78,76,74,77,76,30,0,0,0,0]
[null,null,null,{"$f":"D28*100/80","v":76.25},{"$f":"E28*100/80","v":65},{"$f":"F28*100/80","v":65},66.25,100,93.75,91.25,93.75,92.5,97.5,90,96.25,98.75,100,98.75,97.5,95,92.5,96.25,95,37.5,0,0,0,0]

{"sheet":"Análisis","index":1,"n_rows":181,"n_cols":11,"rows_kept":181,"cut":false,"hidden":false,"merged":[]}
[null,"Fecha:","Fecha:","Fecha:","Fecha:","Fecha:","2018-02-20","Fecha:","2018-03-06","Fecha:"]
["Pregunta",null,null,null,null,"Nota",null,"Nota",null,"Nota"]
[{"$f":"Tabulación!A5","v":"1.1 El Hotel  da muestra de una relación con la cultura regional?"},5,{"$f":"COUNTIF(Tabulación!D5:XFD5,\">0\")","v":21},{"$f":"IF(B3>0,C3*B3,0)","v":105},{"$f":"Tabulación!B5","v":79},{"$f":"E3/D3","v":0.75238095238095237},null,0.5,"Promever mas lo cultural",0.75238095238095237,"Promever mas lo cultural"]
[{"$f":"Tabulación!A6","v":"1.2 El hotel insta a los huéspedes a visitar áreas protegidas de la zona?"},5,{"$f":"COUNTIF(Tabulación!D6:XFD6,\">0\")","v":21},{"$f":"IF(B4>0,C4*B4,0)","v":105},{"$f":"Tabulación!B6","v":77},{"$f":"E4/D4","v":0.73333333333333328},null,0.73333333333333328,null,0.73333333333333328]
[{"$f":"Tabulación!A7","v":"1.3 Idetifica en el hotel productos  basados en criterios ecológicos y sociales?"},5,{"$f":"COUNTIF(Tabulación!D7:XFD7,\">0\")","v":21},105,{"$f":"Tabulación!B7","v":81},0.77142857142857146,null,0.77142857142857146,null,0.77142857142857146]
[{"$f":"Tabulación!A8","v":"1.4 El hotel aplica encuestas regulares para medir su satisfacción como cliente. "},5,{"$f":"COUNTIF(Tabulación!D8:XFD8,\">0\")","v":21},105,{"$f":"Tabulación!B8","v":79},0.75238095238095237,null,0.75238095238095237,null,0.75238095238095237]
[{"$f":"Tabulación!A9","v":"1.5 El hospedaje cuenta con alguna condecoración, distinción o certificación referente a sostenibilidad?."},5,{"$f":"COUNTIF(Tabulación!D9:XFD9,\">0\")","v":21},105,{"$f":"Tabulación!B9","v":77},0.73333333333333328,null,0.73333333333333328,null,0.73333333333333328]
[{"$f":"Tabulación!A10","v":"1.6 La ubicación del hotel e infraestructura es sostenible?"},5,{"$f":"COUNTIF(Tabulación!D10:XFD10,\">0\")","v":21},105,{"$f":"Tabulación!B10","v":79},0.75238095238095237,null,0.75238095238095237,null,0.75238095238095237]
[{"$f":"Tabulación!A11","v":0}]
[{"$f":"Tabulación!A12","v":"2.1 En el restaurante encontraron comida típica?"},5,{"$f":"COUNTIF(Tabulación!D12:XFD12,\">0\")","v":20},100,{"$f":"Tabulación!B12","v":60},0.6,null,0.6,null,0.6]
[{"$f":"Tabulación!A13","v":"2.2 El hotel cuenta con basureros para la clasificación de la basura?"},5,{"$f":"COUNTIF(Tabulación!D13:XFD13,\">0\")","v":20},100,{"$f":"Tabulación!B13","v":69},0.69,"Rotular Basureros",0.69,null,0.69]
[{"$f":"Tabulación!A14","v":"2.3 El hotel informa las medidas de seguridad y ecología en la zona?"},5,{"$f":"COUNTIF(Tabulación!D14:XFD14,\">0\")","v":20},100,{"$f":"Tabulación!B14","v":71},0.71,null,0.71,null,0.71]
[{"$f":"Tabulación!A15","v":"2.4 El hotel le insta a tratar de ahorrar agua? "},5,{"$f":"COUNTIF(Tabulación!D15:XFD15,\">0\")","v":20},100,{"$f":"Tabulación!B15","v":75},0.75,null,0.75,null,0.75]
[{"$f":"Tabulación!A16","v":"2.5 El hotel le insta a  tratar a ahorrar energía eléctrica ?"},5,{"$f":"COUNTIF(Tabulación!D16:XFD16,\">0\")","v":20},100,{"$f":"Tabulación!B16","v":72},0.72,null,0.72,null,0.72]
[{"$f":"Tabulación!A17","v":"2.6 El hotel cuenta con equipo sostenible y eficiente en las instalaciones?"},5,{"$f":"COUNTIF(Tabulación!D17:XFD17,\">0\")","v":20},100,{"$f":"Tabulación!B17","v":70},0.7,null,0.7,null,0.7]
[{"$f":"Tabulación!A18","v":"2.8 El jardín tiene plantas nativas y con sus respectivos nombres?"},5,{"$f":"COUNTIF(Tabulación!D18:XFD18,\">0\")","v":20},100,{"$f":"Tabulación!B18","v":71},0.71,null,0.71,null,0.71]
[{"$f":"Tabulación!A19","v":0}]
[{"$f":"Tabulación!A20","v":"3.1 El hotel rechaza plenamente el trabajo infantil bajo explotación?"},5,{"$f":"COUNTIF(Tabulación!D20:XFD20,\">0\")","v":20},100,{"$f":"Tabulación!B20","v":80},0.8,null,0.8,null,0.8]
[{"$f":"Tabulación!A21","v":"3.2 El hotel prohibe la prostitución dentro de las instalaciones?"},5,{"$f":"COUNTIF(Tabulación!D21:XFD21,\">0\")","v":20},100,{"$f":"Tabulación!B21","v":79},0.79,null,0.79,null,0.79]
[{"$f":"Tabulación!A22","v":"3.3 El hotel rechaza y previene la explotación sexual infantil?"},5,{"$f":"COUNTIF(Tabulación!D22:XFD22,\">0\")","v":20},100,{"$f":"Tabulación!B22","v":79},0.79,null,0.79,null,0.79]
[{"$f":"Tabulación!A23","v":"3.4 El hotel prohibe la venta de narcóticos y estupefacientes en las instalaciones?"},5,{"$f":"COUNTIF(Tabulación!D23:XFD23,\">0\")","v":20},100,{"$f":"Tabulación!B23","v":80},0.8,null,0.8,null,0.8]
[{"$f":"Tabulación!A24","v":0}]
[{"$f":"Tabulación!A25","v":"4.1 Considera usted como cliente que el hotel  es un beneficio para la comunidad?"},5,{"$f":"COUNTIF(Tabulación!D25:XFD25,\">0\")","v":20},100,{"$f":"Tabulación!B25","v":77},0.77,null,0.77,null,0.77]
[{"$f":"Tabulación!A26","v":"4.2 El hotel prefiere a los productores locales?"},5,{"$f":"COUNTIF(Tabulación!D26:XFD26,\">0\")","v":20},100,{"$f":"Tabulación!B26","v":68},0.68,null,0.68,null,0.68]
[{"$f":"Tabulación!A27","v":"4.3 El hotele tiene un espacio para mencionar actividades de la comunidad?"},5,{"$f":"COUNTIF(Tabulación!D27:XFD27,\">0\")","v":20},100,{"$f":"Tabulación!B27","v":48},0.48,"Activar la piezarra mural",0.48,null,0.48]
[]
[]
[]
[]
[]
[]
[]
[]
[]
[]
[]
[]
[]
[]
[]
[]
[]
[]
[]
[]
[]
[]
[]
[]
[]
[]
[]
[]
[]
[]
[]
[]
[]
[]
[]
[]
[]
[]
[]
[]
[]
[]
[]
[]
[]
[]
[]
[]
[]
[]
[]
[]
[]
[]
[]
[]
[]
[]
[]
[]
[]
[]
[]
[]
[]
[]
[]
[]
[]
[]
[]
[]
[]
[]
[]
[]
[]
[]
[]
[]
[]
[]
[]
[]
[]
[]
[]
[]
[]
[]
[]
[]
[]
[]
[]
[]
[]
[]
[]
[]
[]
[]
[]
[]
[]
[]
[]
[]
[]
[]
[]
[]
[]
[]
[]
[]
[]
[]
[null,null,{"$f":"COUNTIF(Tabulación!D146:XFD146,\">0\")","v":0}]
[null,null,{"$f":"COUNTIF(Tabulación!D147:XFD147,\">0\")","v":0}]
[null,null,{"$f":"COUNTIF(Tabulación!D148:XFD148,\">0\")","v":0}]
[null,null,{"$f":"COUNTIF(Tabulación!D149:XFD149,\">0\")","v":0}]
[null,null,{"$f":"COUNTIF(Tabulación!D150:XFD150,\">0\")","v":0}]
[null,null,{"$f":"COUNTIF(Tabulación!D151:XFD151,\">0\")","v":0}]
[null,null,{"$f":"COUNTIF(Tabulación!D152:XFD152,\">0\")","v":0}]
[null,null,{"$f":"COUNTIF(Tabulación!D153:XFD153,\">0\")","v":0}]
[null,null,{"$f":"COUNTIF(Tabulación!D154:XFD154,\">0\")","v":0}]
[null,null,{"$f":"COUNTIF(Tabulación!D155:XFD155,\">0\")","v":0}]
[null,null,{"$f":"COUNTIF(Tabulación!D156:XFD156,\">0\")","v":0}]
[null,null,{"$f":"COUNTIF(Tabulación!D157:XFD157,\">0\")","v":0}]
[null,null,{"$f":"COUNTIF(Tabulación!D158:XFD158,\">0\")","v":0}]
[null,null,{"$f":"COUNTIF(Tabulación!D159:XFD159,\">0\")","v":0}]
[null,null,{"$f":"COUNTIF(Tabulación!D160:XFD160,\">0\")","v":0}]
[null,null,{"$f":"COUNTIF(Tabulación!D161:XFD161,\">0\")","v":0}]
[null,null,{"$f":"COUNTIF(Tabulación!D162:XFD162,\">0\")","v":0}]
[null,null,{"$f":"COUNTIF(Tabulación!D163:XFD163,\">0\")","v":0}]
[null,null,{"$f":"COUNTIF(Tabulación!D164:XFD164,\">0\")","v":0}]
[null,null,{"$f":"COUNTIF(Tabulación!D165:XFD165,\">0\")","v":0}]
[null,null,{"$f":"COUNTIF(Tabulación!D166:XFD166,\">0\")","v":0}]
[null,null,{"$f":"COUNTIF(Tabulación!D167:XFD167,\">0\")","v":0}]
[null,null,{"$f":"COUNTIF(Tabulación!D168:XFD168,\">0\")","v":0}]
[null,null,{"$f":"COUNTIF(Tabulación!D169:XFD169,\">0\")","v":0}]
[null,null,{"$f":"COUNTIF(Tabulación!D170:XFD170,\">0\")","v":0}]
[null,null,{"$f":"COUNTIF(Tabulación!D171:XFD171,\">0\")","v":0}]
[null,null,{"$f":"COUNTIF(Tabulación!D172:XFD172,\">0\")","v":0}]
[null,null,{"$f":"COUNTIF(Tabulación!D173:XFD173,\">0\")","v":0}]
[null,null,{"$f":"COUNTIF(Tabulación!D174:XFD174,\">0\")","v":0}]
[null,null,{"$f":"COUNTIF(Tabulación!D175:XFD175,\">0\")","v":0}]
[null,null,{"$f":"COUNTIF(Tabulación!D176:XFD176,\">0\")","v":0}]
[null,null,{"$f":"COUNTIF(Tabulación!D177:XFD177,\">0\")","v":0}]
[null,null,{"$f":"COUNTIF(Tabulación!D178:XFD178,\">0\")","v":0}]
[null,null,{"$f":"COUNTIF(Tabulación!D179:XFD179,\">0\")","v":0}]
[null,null,{"$f":"COUNTIF(Tabulación!D180:XFD180,\">0\")","v":0}]
[null,null,{"$f":"COUNTIF(Tabulación!D181:XFD181,\">0\")","v":0}]
[null,null,{"$f":"COUNTIF(Tabulación!D182:XFD182,\">0\")","v":0}]
[null,null,{"$f":"COUNTIF(Tabulación!D183:XFD183,\">0\")","v":0}]