{"text_format":"1","workbook":"xlsx","n_sheets":3,"sheets":["Machote","Tabluar","Resultados"],"not_rendered":{"charts":0,"images":1,"macros":1,"external_links":0,"defined_names":0,"comments":0,"pivot_tables":0},"unopened":[],"bounds":{"document_bytes":16777216,"sheet_cells":100000,"rows_first":2000,"rows_last":500,"rows_between":2000,"halvings":0,"cell_chars":16384,"cell_head_chars":4096},"cells_cut":0,"cells_raw":0,"read":"whole","date_system":"1900"}

{"sheet":"Machote","index":0,"n_rows":24,"n_cols":6,"rows_kept":24,"cut":false,"hidden":false,"merged":[[0,0,0,8],[1,0,1,8],[2,0,2,8],[7,5,23,5],[7,6,23,6],[7,7,23,7],[7,8,23,8],[4,0,4,8],[5,0,5,8],[6,0,6,8],[23,2,23,4],[3,0,3,8],[7,0,8,0],[7,1,8,1],[7,2,7,4]]}
["Hotel Arenal Springs "]
["Resort & Spa"]
["Tel: 2479 1212 "]
["Encuesta para monitorear los beneficios o impactos negativos,  que generamos en los lugares culturales, territorios indígenas o comunidades campesinas, ocasionados por nuestras  actividades o visitas."]
["Nombre y Apellidos:                                                                                                                                                            N°                                                           "]
["Cédula:                                                                   Teléfonos:                                                                     "]
["Comunidad:                                                         Cantón:                                                   Provincia:           "]
["Marcar con una \"X\" una de las opciones en la columna Cumple, si lo hacemos o no","Pts","CUMPLE",null,null,"Observaciones:"]
[null,null,"SI","NO","N.A."]
["Hacemos uso racional del agua.",10]
["Hacemos uso racional de la electricidad.",10]
["Fomentamos el hábito de reciclar.",10]
["Dejamos nuestros desechos en la comunidad.",5]
["Imponemos nuestra cultura.",5]
["Respetamos sus costumbres .",10]
["Hacemos intercambio cultural.",10]
["Respetamos sus munumentos religiosos e históricos.",10]
["Las actividades se realizan con integridad.",10]
["Generamos problemas sociales.",10]
["La comunidad esta de acuerdo que los visitemos.",5]
["Aportamos apoyo ecómico o en especie.",5]
["Captamos recursos de la comunidad para nuestros proyectos.",5]
["Respetamos la igualdad de genero.",5]
["Total",{"$f":"SUM(B10:B23)","v":110}]

{"sheet":"Tabluar","index":1,"n_rows":18,"n_cols":11,"rows_kept":18,"cut":false,"hidden":false,"merged":[[17,2,17,6],[0,2,0,4],[0,5,1,5],[0,6,1,6],[16,2,16,5]]}
["                              Consumos y Ahorros              N°",7,"CUMPLE",null,null,"DOCUMENTOS RELACIONADOS","PUNTOS OBTENIDOS"]
[null,"Pts","SI","NO","N.A.",null,null,"Nota","Cant Pts","Cant Encuentas","Pts Max"]
["Hacemos uso racional del agua.",10,null,null,null,null,{"$f":"IF(C3=\"X\",(10),IF(D3=\"X\",(0),IF(E3=\"X\",(10),(0))))","v":0},{"$f":"I3*100/K3","v":100},{"$f":"SUM(Resultados!3:3)","v":110},{"$f":"COUNTIF(Resultados!3:3,\">1\")","v":11},{"$f":"J3*B3","v":110}]
["Hacemos uso racional de la electricidad.",10,null,null,null,null,{"$f":"IF(C4=\"X\",(10),IF(D4=\"X\",(0),IF(E4=\"X\",(10),(0))))","v":0},{"$f":"I4*100/K4","v":100},{"$f":"SUM(Resultados!4:4)","v":110},{"$f":"COUNTIF(Resultados!4:4,\">1\")","v":11},110]
["Fomentamos el hábito de reciclar.",10,null,null,null,null,{"$f":"IF(C5=\"X\",(10),IF(D5=\"X\",(0),IF(E5=\"X\",(10),(0))))","v":0},100,{"$f":"SUM(Resultados!5:5)","v":110},{"$f":"COUNTIF(Resultados!5:5,\">1\")","v":11},110]
["Dejamos nuestros desechos en la comunidad.",5,null,null,null,null,{"$f":"IF(C6=\"X\",(0),IF(D6=\"X\",(5),IF(E6=\"X\",(5),(0))))","v":0},100,{"$f":"SUM(Resultados!6:6)","v":55},{"$f":"COUNTIF(Resultados!6:6,\">1\")","v":11},55]
["Imponemos nuestra cultura.",5,null,null,null,null,{"$f":"IF(C7=\"X\",(0),IF(D7=\"X\",(5),IF(E7=\"X\",(5),(0))))","v":0},100,{"$f":"SUM(Resultados!7:7)","v":55},{"$f":"COUNTIF(Resultados!7:7,\">1\")","v":11},55]
["Respetamos sus costumbres .",10,null,null,null,null,{"$f":"IF(C8=\"X\",(10),IF(D8=\"X\",(0),IF(E8=\"X\",(10),(0))))","v":0},100,{"$f":"SUM(Resultados!8:8)","v":110},{"$f":"COUNTIF(Resultados!8:8,\">1\")","v":11},110]
["Hacemos intercambio cultural.",10,null,null,null,null,{"$f":"IF(C9=\"X\",(10),IF(D9=\"X\",(0),IF(E9=\"X\",(10),(0))))","v":0},100,{"$f":"SUM(Resultados!9:9)","v":110},{"$f":"COUNTIF(Resultados!9:9,\">1\")","v":11},110]
["Respetamos sus munumentos religiosos e históricos.",10,null,null,null,null,{"$f":"IF(C10=\"X\",(10),IF(D10=\"X\",(0),IF(E10=\"X\",(10),(0))))","v":0},100,{"$f":"SUM(Resultados!10:10)","v":110},{"$f":"COUNTIF(Resultados!10:10,\">1\")","v":11},110]
["Las actividades se realizan con integridad.",10,null,null,null,null,{"$f":"IF(C11=\"X\",(10),IF(D11=\"X\",(0),IF(E11=\"X\",(10),(0))))","v":0},100,{"$f":"SUM(Resultados!11:11)","v":110},{"$f":"COUNTIF(Resultados!11:11,\">1\")","v":11},110]
["Generamos problemas sociales.",10,null,null,null,null,{"$f":"IF(C12=\"X\",(0),IF(D12=\"X\",(10),IF(E12=\"X\",(10),(0))))","v":0},100,{"$f":"SUM(Resultados!12:12)","v":110},{"$f":"COUNTIF(Resultados!12:12,\">1\")","v":11},110]
["La comunidad esta de acuerdo que los visitemos.",5,null,null,null,null,{"$f":"IF(C13=\"X\",(5),IF(D13=\"X\",(0),IF(E13=\"X\",(5),(0))))","v":0},100,{"$f":"SUM(Resultados!13:13)","v":55},{"$f":"COUNTIF(Resultados!13:13,\">1\")","v":11},55]
["Aportamos apoyo ecómico o en especie.",5,null,null,null,null,{"$f":"IF(C14=\"X\",(5),IF(D14=\"X\",(0),IF(E14=\"X\",(5),(0))))","v":0},100,{"$f":"SUM(Resultados!14:14)","v":55},{"$f":"COUNTIF(Resultados!14:14,\">1\")","v":11},55]
["Captamos recursos de la comunidad para nuestros proyectos.",5,null,null,null,null,{"$f":"IF(C15=\"X\",(0),IF(D15=\"X\",(5),IF(E15=\"X\",(0),(0))))","v":0},100,{"$f":"SUM(Resultados!15:15)","v":55},{"$f":"COUNTIF(Resultados!15:15,\">1\")","v":11},55]
["Respetamos la igualdad de genero.",5,null,null,null,null,{"$f":"IF(C16=\"X\",(5),IF(D16=\"X\",(0),IF(E16=\"X\",(5),(0))))","v":0},100,{"$f":"SUM(Resultados!16:16)","v":55},{"$f":"COUNTIF(Resultados!16:16,\">1\")","v":11},55]
["Total",{"$f":"SUM(B3:B16)","v":110},"Puntos:",null,null,null,{"$f":"SUM(G3:G16)","v":0}]
["Puntación",null,{"$f":"G17*100/B17","v":0}]

{"sheet":"Resultados","index":2,"n_rows":20,"n_cols":12,"rows_kept":20,"cut":false,"hidden":false,"merged":[]}
[null,7,7,7,8,7,6,5,4,3,2,1]
[null,"Pts","Pts","Pts","Pts","Pts","Pts","Pts","Pts","Pts","Pts","Pts"]
[{"$f":"Tabluar!A3","v":"Hacemos uso racional del agua."},10,10,10,10,10,10,10,10,10,10,10]
[{"$f":"Tabluar!A4","v":"Hacemos uso racional de la electricidad."},10,10,10,10,10,10,10,10,10,10,10]
[{"$f":"Tabluar!A5","v":"Fomentamos el hábito de reciclar."},10,10,10,10,10,10,10,10,10,10,10]
[{"$f":"Tabluar!A6","v":"Dejamos nuestros desechos en la comunidad."},5,5,5,5,5,5,5,5,5,5,5]
[{"$f":"Tabluar!A7","v":"Imponemos nuestra cultura."},5,5,5,5,5,5,5,5,5,5,5]
[{"$f":"Tabluar!A8","v":"Respetamos sus costumbres ."},10,10,10,10,10,10,10,10,10,10,10]
[{"$f":"Tabluar!A9","v":"Hacemos intercambio cultural."},10,10,10,10,10,10,10,10,10,10,10]
[{"$f":"Tabluar!A10","v":"Respetamos sus munumentos religiosos e históricos."},10,10,10,10,10,10,10,10,10,10,10]
[{"$f":"Tabluar!A11","v":"Las actividades se realizan con integridad."},10,10,10,10,10,10,10,10,10,10,10]
[{"$f":"Tabluar!A12","v":"Generamos problemas sociales."},10,10,10,10,10,10,10,10,10,10,10]
[{"$f":"Tabluar!A13","v":"La comunidad esta de acuerdo que los visitemos."},5,5,5,5,5,5,5,5,5,5,5]
[{"$f":"Tabluar!A14","v":"Aportamos apoyo ecómico o en especie."},5,5,5,5,5,5,5,5,5,5,5]
[{"$f":"Tabluar!A15","v":"Captamos recursos de la comunidad para nuestros proyectos."},5,5,5,5,5,5,5,5,5,5,5]
[{"$f":"Tabluar!A16","v":"Respetamos la igualdad de genero."},5,5,5,5,5,5,5,5,5,5,5]
[{"$f":"Tabluar!A17","v":"Total"},{"$f":"SUM(B3:B16)","v":110},{"$f":"SUM(C3:C16)","v":110},{"$f":"SUM(D3:D16)","v":110},{"$f":"SUM(E3:E16)","v":110},110,110,110,110,110,110,110]
[{"$f":"Tabluar!A18","v":"Puntación"}]
[{"$f":"Tabluar!A19","v":0}]
[{"$f":"Tabluar!A20","v":0}]