{"text_format":"1","workbook":"xlsx","n_sheets":14,"sheets":["Registro","Valoracion","Historicos Registro Quejas","Historico Valoracion Quejas ","Impresión","Historico Folios","Matriz","Datos","Reportes","Hoja15","Resumen","Precentacón de Datos","Hoja1","Hoja3"],"not_rendered":{"charts":7,"images":6,"macros":1,"external_links":0,"defined_names":9,"comments":0,"pivot_tables":1},"unopened":[],"bounds":{"document_bytes":16777216,"sheet_cells":100000,"rows_first":2000,"rows_last":500,"rows_between":2000,"halvings":0,"cell_chars":16384,"cell_head_chars":4096},"cells_cut":0,"cells_raw":0,"read":"whole","date_system":"1900"}

{"sheet":"Registro","index":0,"n_rows":15,"n_cols":4,"rows_kept":15,"cut":false,"hidden":false,"merged":[]}
[]
["Folio#",1151]
["Datos Requeridos:",43415,null,{"$f":"SUM(D4:D15)","v":1}]
["Fecha:",null,18,{"$f":"IF(B4=\"Inicia registrando aquí la fecha de la queja.\",0,1)","v":1}]
["Puesta:",null,null,{"$f":"IF(B5>0,1,0)","v":0}]
["Habitación:",null,null,0]
["Tipo Cliente:",null,null,0]
["Area de la Queja:",null,null,0]
["Descripción de la queja:",null,null,0]
["Solucion Solicitada por el Cliente:",null,null,0]
["Gestion Realizado:",null,null,0]
["Recibida Por:",null,null,0]
["Puesto:",null,null,0]
["Capturada en:",null,null,0]
["# Documento:",null,null,0]

{"sheet":"Valoracion","index":1,"n_rows":15,"n_cols":6,"rows_kept":15,"cut":false,"hidden":false,"merged":[]}
["2017-12-26","Valoracion de Quejas","Queja a Valorar:",{"$f":"IF(F5=0,\"Todas las Quejas ya Fueron Evaluadas\",F4+2)","v":1139}]
["Cant Quejas por Resol",{"$f":"F5-(1)","v":13},"Fecha:",{"$f":"TODAY()","v":"2020-05-26"}]
["Datos Requeridos","Digite lo Solicitado","Semana #:",{"$f":"(D2-A1)/7","v":126},null,{"$f":"Historico_Registro_Quejas[[#This Row],['#Queja]]","v":1151}]
["Fecha:",{"$f":"IF(D$4=\"Digite aquí el # Queja\",\"-\",VLOOKUP(D$4,Historico_Registro_Quejas[],2,FALSE))","v":"-"},"Queja #:","Digite aquí el # Queja",null,{"$f":"Historico_Registro_Quejas3['# Queja]","v":1137}]
["Puesta:",{"$f":"IF(D$4=\"Digite aquí el # Queja\",\"-\",VLOOKUP(D$4,Historico_Registro_Quejas[],3,FALSE))","v":"-"},"Volaración:",null,null,{"$f":"F3-F4","v":14}]
["Habitación:",{"$f":"IF(D$4=\"Digite aquí el # Queja\",\"-\",VLOOKUP(D$4,Historico_Registro_Quejas[],4,FALSE))","v":"-"},"Acción a Realizar:"]
["Tipo Cliente:",{"$f":"IF(D$4=\"Digite aquí el # Queja\",\"-\",VLOOKUP(D$4,Historico_Registro_Quejas[],5,FALSE))","v":"-"},"Departamento:"]
["Area de la Queja:",{"$f":"IF(D$4=\"Digite aquí el # Queja\",\"-\",VLOOKUP(D$4,Historico_Registro_Quejas[],6,FALSE))","v":"-"},"Siguimiento Comité:"]
["Descripción de la queja:",{"$f":"IF(D$4=\"Digite aquí el # Queja\",\"-\",VLOOKUP(D$4,Historico_Registro_Quejas[],7,FALSE))","v":"-"},"Estatus:"]
["Solucion Solicitada por el Cliente:",{"$f":"IF(D$4=\"Digite aquí el # Queja\",\"-\",VLOOKUP(D$4,Historico_Registro_Quejas[],8,FALSE))","v":"-"},"Resuelto:"]
["Gestion Realizado:",{"$f":"IF(D$4=\"Digite aquí el # Queja\",\"-\",VLOOKUP(D$4,Historico_Registro_Quejas[],9,FALSE))","v":"-"},"Duplicada:"]
["Recibida Por:",{"$f":"IF(D$4=\"Digite aquí el # Queja\",\"-\",VLOOKUP(D$4,Historico_Registro_Quejas[],10,FALSE))","v":"-"},"Buscar Payaso:"]
["Puesto:",{"$f":"IF(D$4=\"Digite aquí el # Queja\",\"-\",VLOOKUP(D$4,Historico_Registro_Quejas[],11,FALSE))","v":"-"},"Payaso:",{"$f":"IF(D12=0,0,VLOOKUP(D12,Tabla_Payasos[],2,FALSE))","v":0}]
["Capturada en:",{"$f":"IF(D$4=\"Digite aquí el # Queja\",\"-\",VLOOKUP(D$4,Historico_Registro_Quejas[],12,FALSE))","v":"-"}]
["# Documento:",{"$f":"IF(D$4=\"Digite aquí el # Queja\",\"-\",VLOOKUP(D$4,Historico_Registro_Quejas[],13,FALSE))","v":"-"},"Codgi"]

{"sheet":"Historicos Registro Quejas","index":2,"n_rows":730,"n_cols":13,"rows_kept":730,"cut":false,"hidden":false,"merged":[]}
[]
["#Queja","Fecha","Puesta","Habitación","Tipo Cliente","Área de la queja ","Descripción ","Solucion Solicitada por el Cliente:","Gestion Realizada:","Recibida Por:","Puesto","Capturada","# Documento:"]
[1151,"2018-12-31","Huésped",210,"C1","Bar Húmedo","Huésped se queja del mal servicio que recibió en el Bar Barril, comenta que estuvo esperando varios minutos sin ser atendido, dice que sucedió en varias ocaciones. Al final alguien llego y les preguntó que si querian una bebida. Comenta que el servicio no es profesional comparado a otros hoteles.","n/a","n/a","Oscar Retana","Servicio Cliente","Hj Evaluacion Gen",1317]
[1150,"2018-12-31","Huésped",103,"C1","Recepción","Huesped se queja de que es incomodo andar los brazaletes, que debieran reemplazarlo por algo que no tenga bordes con filo. ","N/A","N/A","Oscar Retana","Servicio Cliente","Hj Evaluacion Gen",882]
[1149,"Inicia registrando aquí la fecha de la queja.","Huésped",508,"C1","Habitaciones","Huésped se queja del ruido entre habitaciones, indica que se escucha absolutamente todo. ","N/A","N/A","Oscar Retana","Servicio Cliente","Hj Evaluacion Gen",1803]
[1148,"2018-12-31","Huésped",905,"C2","Habitaciones","Huésped se queja de que en la noche cuando ingreso al hotel se fue la electricidad mientras dormian, esto por motivo de que las habitaciones nuevas no cuentan con planta electrica, nos indican de que estuvieron sin electricidad como ","N/A","Por motivo de que el huésped estaba bastante molesto por pasar una mal noche debidio a que no tuvieron A/C por dos horas se le anularon los cargos extras. ","Oscar Retana","Servicio Cliente","Recepción","N/A"]
[1147,"2018-12-29","Huésped",415,"C1","Hotel","Huésped disgustado por el estado de las frutas que se le entregaron en el desayuno para llevar, la manzana en específico estaba golpeada, majada y sucia.","N/A","N/A","Luis Carlos Navarro ","Servicio Cliente","Recepción","N/A"]
[1146,"2018-12-29","Huésped",210,"C1","Barril","Huésped se acerca a recepción quejandose que la noche anterior fue al bar barril a tomar algo y esperó 15 minutos hasta que alguien se interesó en preguntarle que se le ofrecía, también indicó que en el wet bar les pasó lo mismo y que eso no puede ser posible en un hotel como este.","Solicita mejorar la atención al huésped en los restaurantes.","N/A","Luis Carlos Navarro ","Supervisora Recep","Recepción","N/A"]
[1145,"2018-12-30","Huésped",514,"C1","Habitaciones","Huésped se queja de las duchas de las master 514-515, al check-out nos informa que las duchas necesitan ajuste o cambio.","Solicita revisar las duchas y ajustarlas.","N/A","Luis Carlos Navarro ","Supervisora Recep","Check-out","N/A"]
[1144,"2018-12-27","Huésped",406,"C1","Tour Desk","Huéspedes se quejan del mal servicio que les brindó Edward.","N/A","N/A","Luis Carlos Navarro ","Servicio Cliente","Servicio al Cliente","N/A"]
[1143,"2018-12-26","Huésped",507,"C1","Habitaciones","Mala calidad del internet, señal del Wi-fi mala","N/A","N/A","Luis Carlos Navarro ","Servicio Cliente","Recepción","N/A"]
[1142,"2018-12-26","Huésped",705,"C1","Habitaciones","Huésped se queja del internet y la señal del Wi-Fi.","N/A","N/A","Luis Carlos Navarro ","Servicio Cliente","Recepción","N/A"]
[1141,"2018-12-26","Huésped",903,"C1","Habitaciones","Huésped se queja de la mala señal del Wi-Fi","N/A","N/A","Luis Carlos Navarro ","Servicio Cliente","Recepción","N/A"]
[1140,"2018-12-24","Huésped",806,"C1","Habitaciones","Huesped se queja por un fuerte sonido ocasionado por el agua que fluye en las tuberías en las habitaciones master nuevas, al parecer se escucha el burbujeo y eso molesta a los huéspedes.","Solicitan revisar de donde proviene el sonido.","Se envío a mantenimiento a revisar tuberías.","Luis Carlos Navarro ","Servicio Cliente","Servicio al Cliente","N/A"]
[1139,"2018-12-26","Huésped",504,"C1","Ti-Cain","Huésped se queja del precio de la cena de navidad, comenta que $98 dolares por persona es demasiado caro. ","N/A","N/A","Oscar Retana","Servicio Cliente","Hj Evaluacion Gen",1689]
[1138,"2018-12-24","Huésped",803,"C1","Habitaciones","Huésped se queja que la caja fuerte no tiene instrucciones y es difícil de usar.","N/A","Se envió al X1 para verificar el funcionamiento de la caja fuerte nueva ya que se desconocía como usarlas, nos damos cuenta que algunos pasos cambian y que el botón de reseteo se encuentra detrás de una tapa que es dificil de quitar, el compañero botones Ulises junto con Oscar de servicio al cliente dieron seguimiento y crearon una manera de solucionarle al cliente.","Luis Carlos Navarro ","Servicio Cliente","Servicio al Cliente","N/A"]
[1137,"2018-12-24","Huésped",906,"C1","Habitaciones","Huéspedes se quejan de la presión de agua en sus habitaciones, los mismos indican que es muy baja y que dificilmente les llega agua.","N/A","Se envía a los compañeros de mantenimiento los cuales resuelven el problema y reportan como solucionada la queja.","Luis Carlos Navarro ","Servicio Cliente","Servicio al Cliente","N/A"]
[1136,"2018-12-22","Huésped",902,"C2","Habitaciones","EL presente correo tiene como fin informarles por escrito de la situación que vivieron los huéspedes Braden Coffin y Robin Boddy la noche de ayer,  ellos nos reportaron que alguien ingresó a su habitación en el momento en que salieron a cenar y cuando llegaron las gavetas estaban desordenadas y había un faltante de dinero, este dinero que según dicen los huéspedes era equivalente a 1300 dólares se encontraba en la caja fuerte de la habitación que por cierto ellos mismos dicen habían dejado sin cerrar, indican además que dejaron la puerta del balcón sin cerradura y por ahí fue precisamente por donde hicieron ingreso los sospechosos y sustrajeron el dinero. Ante esta situación nosotros como hotel hemos decidido tomar responsabilidad de lo sucedido y se les ha hecho efectiva la devolución total de los 1300 dólares y además se han eliminado los cargos de la habitación buscando de alguna manera generar satisfacción. Esto con la idea de que nuestros huéspedes no se lleven con ellos una mala experiencia o un sabor amargo a pesar de haber tenido una muy agradable estadía. \n","N/A","N/A","Luis Carlos Navarro ","Servicio Cliente","Servicio al Cliente","N/A"]
[1135,"2018-12-22","Huésped",801,"C2","Habitaciones","Buenas noches compañeros \nLa siguiente es para hacer de su conocimiento, que hoy 21/12/2018 al ser las 8:50pm los clientes de las habitaciones 801 y 802 bajo el nombre de GUINN ROBERT de la agencia Travel Excellence, se aproximaron a la recepción y nos reportan que al regresar de la cena a sus respectivas habitaciones, se percataron de que tanto   una  laptop con su respectivo cargador y también  unos regalos que tenían dentro de una de las maletas habían  sido sustraídos de la habitación 801, procedemos a revisar la habitación junto a los clientes para verificar que  no los hubieran guardado en alguna otra maleta, al llegar la habitación tanto las ventanas como la puerta principal no presentan  signos de  haber sido forzadas, por protocolo de la empresa procedemos a llamar a la Policía Turística quien es el ente encargado de levantar el acta de lo sucedido y nos comentan que mañana a las 7 am se pueden aproximar a confeccionar el acta, esto debido a que en este momento se encuentran atendiendo otro incidente. \n","N/A","a los huéspedes se les ayudó de principio a fin y se logró que al finalizar la estadía se mostraran agradecidos. Eliminamos cargos en la habitación de aproximadamente $400, los llevamos a la policía turística para hacer la respectiva denuncia, y además les pagamos un transfer privado hasta Monteverde debido a su atraso por la gestión en la policía. Ellos estaban tranquilos porque sus pertenencias estaban aseguradas y lo que necesitaban era el reporte policial para que el seguro les cubriera lo ocurrido, se les ofrecieron disculpas de parte del hotel.","Luis Carlos Navarro ","Servicio Cliente","Servicio al Cliente","N/A"]
[1134,"2018-12-23","Huésped",108,"C1","Habitaciones","Huéspedes llaman a recepción quejandose del ruido ocasionado por los vecinos en  la hab 107.","N/A","Para el siguiente día se bloqueó la hab 107 y que así no hubiera mas problemas de ruido.","Luis Carlos Navarro ","Servicio Cliente","Servicio al Cliente","N/A"]
[1133,"2018-12-24","Huésped",805,"C1","Habitaciones","Huésped se queja del sonido se las habitaciones de arriba, les molesta bastante el sonido que produce la gente al caminar, dicen que suena como elefantes andantes.","N/A","N/A","Jean Pierre Brenes","Recepción","Recepción","N/A"]
[1132,"2018-12-23","Huésped",807,"C1","Habitaciones","Huéspedes se quejan porque la habitación no tiene caja fuerte.","N/A","Se reportó a mantenimiento de la queja ya que ese mismo día a las 8am llegaron las cajas fuertes, sin embargo ellos dijeron que se encontraban ocupados y que no podían colocarla aún. Se colocó hasta el siguiente día.","Luis Carlos Navarro ","Servicio Cliente","Servicio al Cliente","N/A"]
[1131,"2018-12-21","Huésped",803,"C1","Habitaciones","Los huéspedes reportan que no tienen agua caliente, se le reporta a mantenimiento pero nos indican que por parte de ellos hacen lo posible por solucionarlo pero que la falla es de Mario Lezama, los huéspedes llevaban dos días sin agua caliente.","N/A","Se llamo a Mario para que mandara a uno de sus empleados y al llegar vieron que las tuberias estaban mal instaladas. Cuando los huépedes llegaron de Tour ya tenian agua caliente, y además se les ofreció las disculpas del caso.","Oscar Retana","Servicio Cliente","Servicio al Cliente","N/A"]
[1130,"2018-12-21","Huésped",904,"C1","Habitaciones","Huéspedes que anteriormente estaban en la 703 se tuvieron que cambiar porque la señora era alergica a las plantas y aromatizantes, los huéspedes vieron que desde las 11am ya los huéspedes de la 904 habian hecho check-out por lo tanto se acercaron a recepción a las 12:30pm solicitando si su hab estaba lista, al volver a consultar a las mucamas las mismas nos indican que va estar lista hasta las 2pm y eso molestó mucho a los huéspedes los cuales pidieron una solución mas eficiente a su movimiento de habitación.","N/A","Se habló con Mérita y se explicó la situación y la necesidad del huésped de tener la hab lista lo mas pronto posible, las mucamas nos ayudaron y en 20 min la reportaron como lista, los huéspedes agradecieron el gesto y se dio la queja por cerrada.","Luis Carlos Navarro ","Servicio Cliente","Servicio al Cliente","N/A"]
[1129,"2018-12-21","Huésped",508,"C1","Habitaciones","Huésped reporta caída en el baño por accidente y el mismo quebró el espejo de cuerpo, nos indicó que los espejos tienen un espacio entre la pared y el espejo que con solo apoyarse o tocarlo se quiebra y eso fue lo que ocurrió cuando se cayó. ","Colocar los espejos correctamente.","Se limpió la habitación y quedó de momento sin espejo. Además se verificó que la huésped se encontrara bien y que no tuviera cortadas o algún golpe de consideración.","Luis Carlos Navarro ","Servicio Cliente","Servicio al Cliente","N/A"]
[1128,"2018-12-20","Huésped",515,"C1","Habitaciones","Huésped molesto indica que el A/C de su habitación tiene una fuga la cual causó un gran charco de agua y nos dice que no piensa perder el tiempo soportando estas situaciones si recién viene llegando al hotel.","N/A","Se movieron a la 906-907 sin embargo huéspedes no les gustó el cambio, se les brindó las disculpas del caso y como compensación se tuvo que dar una cena para 4 pax sin bebidas alcholicas.","Luis Carlos Navarro ","Servicio Cliente","Servicio al Cliente","N/A"]
[1127,"2018-12-20","Huésped",202,"C1","Habitaciones","Huésped se queja al momento del check-out indicando que la ducha de la habitación debe revisarse porque no distribuye el agua bien, en la medida de lo posible colocar una de mejor calidad.","N/A","N/A","Luis Carlos Navarro ","Servicio Cliente","Check-out","N/A"]
[1126,"2018-12-20","Huésped",212,"C1","Hotel","Huésped se acercó a recepción indicando que le gustaría que tuvieramos la bandera de reino unido, que como era posible que no la tuvieramos si a Costa Rica la visitaba mucho turista de Europa.","Pide colocar la bandera de Reino Unido, se encontraba tomando fotos y no pudo tomarle a su bandera.","Se colocó la bandera de Reino Unido que teníamos en recepción ( no esn tan buen estado) para que el señor tomara su foto y viera su bandera junto a las otras.","Luis Carlos Navarro ","Servicio Cliente","Recepción","N/A"]
[1125,"2018-12-19","Huésped",902,"C1","Habitaciones","Huésped se queja porque su aire acondicionado no funciona correctamente.","N/a","Se envía a mantenimiento y ellos nos indican que la reparación no puede ser inmediata debido a que están con las master nuevas, por lo que sugieren mover a los 44 a otra hab, se movieron a la 903 donde se probó el A/C antes de moverlos para que no tuvieran ningún problema similar.","Luis Carlos Navarro ","Servicio Cliente","Recepción","N/A"]
[1124,"2018-12-15","Huésped",110,"C1","Italiano","Huésped se queja por el tiempo de la estación de café, pide que se extienda a más tiempo.","N/A","N/A","Luis Carlos Navarro ","Servicio Cliente","Hj Evaluacion Gen",1169]
[1123,"2018-12-15","Huésped",110,"C1","Italiano","Calidad no es buena en comparación con el valor.","N/A","N/A","Luis Carlos Navarro ","Servicio Cliente","Hj Evaluacion Gen",1169]
[1122,"2018-12-16","Huésped",305,"C1","Habitaciones","Huésped se queja debido a que su baño tiene muchas hormigas y eso no ocurre en las habitaciones del resto de su familia.","N/A","Se procede a envíar a mantenimiento para fumigar el baño aprovechando que los huéspedes salieron y nos dieron autorización, además se coordina con mucama para limpiar y dejar todo en orden.","Luis Carlos Navarro ","Servicio Cliente","Servicio al Cliente","N/A"]
[1121,"2018-12-16","Colaborador",102,"C1","Habitaciones","Colaboradora  nos reporta que durante su estadía en el hotel notó que la cama se encontraba con polilla, huecos y en mal estado. Consultó a una mucama y la misma le dijo que eso llevaba meses así. ","N/A","N/A","Liz Aguilar ","Supervisora Recep","Llamada a Recepción","N/A"]
[1120,"2018-12-15","Huésped",104,"C1","Habitaciones","Huésped se queja porque las instrucciones del pulsador BOSH no estan en español.","N/A","N/A","Luis Carlos Navarro ","Servicio Cliente","Hj Evaluacion Gen",881]
[1119,"2018-12-15","Huésped",104,"C1","Hotel","Huésped se queja porque la caminadora del gimnasio la cual es demasiado básica y carece de mantenimiento al igual que el resto de equipos.","N/A","N/A","Luis Carlos Navarro ","Servicio Cliente","Hj Evaluacion Gen",881]
[1118,"2018-12-15","Huésped",104,"C1","Recepción","Huésped se queja porque en el check-out no le entregaron el voucher manual de garantía.","N/A","N/A","Luis Carlos Navarro ","Servicio Cliente","Hj Evaluacion Gen",881]
[1117,"2018-12-15","Huésped",104,"C1","Hotel","Huésped indica que es necesaria información en el hotel de que hacer en caso de emergencia ( fuego, terremoto, etc).","N/A","N/A","Luis Carlos Navarro ","Servicio Cliente","Hj Evaluacion Gen",881]
[1116,"2018-12-14","Huésped",504,"C1","Bar Húmedo","Huésped se queja de las copas plasticas que se entregan en el aréa del bar húmedo, hace que el lugar se sienta como barato.","N/A","N/A","Luis Carlos Navarro ","Servicio Cliente","Hj Evaluacion Gen",1686]
[1115,"2018-12-14","Huésped",504,"C1","Italiano","Restaurante demasiado caro.","N/A","N/A","Luis Carlos Navarro ","Servicio Cliente","Hj Evaluacion Gen",1686]
[1114,"2018-12-14","Huésped",611,"C1","Souvenir","Parece como que el personal disfruta estar hablando juntos aquí. Además la tienda necesita expandirse.","N/A","N/A","Luis Carlos Navarro ","Servicio Cliente","Hj Evaluacion Gen",1149]
[1113,"2018-12-16","Huésped",503,"C1","Hotel","Puerta del baño en recepción se encuentra en mal estado, pega en el piso y hace ruido.","N/A","N/A","Luis Carlos Navarro ","Servicio Cliente","Hj Evaluacion Gen",1688]
[1112,"2018-12-16","Huésped",503,"C1","Italiano","Huésped se queja del precio del churrasco en el restaurante Italiano.","N/A","N/A","Luis Carlos Navarro ","Servicio Cliente","Hj Evaluacion Gen",1688]
[1111,"2018-12-16","Huésped",503,"C1","Souvenir","Huésped se queja porque en el souvenir no hay tantos objetos alusivos al volcán Arenal, sugiere mas souvenirs con el nombre del volcán impreso.","N/A","N/A","Luis Carlos Navarro ","Servicio Cliente","Hj Evaluacion Gen",1688]
[1110,"2018-12-13","Huésped",104,"C1","Habitaciones","Huésped se queja que en su habitación el café y las tazas son exclusivamente para dos personas sin embargo ellos pagaron por 3 personas y consideran debe haber tazas y café para cada huésped que paga.","N/A","N/A","Luis Carlos Navarro ","Servicio Cliente","Recepción","N/A"]
[1109,"2018-12-12","Huésped",515,"C1","Habitaciones","Huéspedes de la master suite se quejan por el mal funcionamiento del jacuzzi en su habitación.","Solicita reparar el jacuzzi","Huéspedes se encuentran en tour, al momento de llegar se les va ofrecer la posibilidad de moverse a la otra master suite, además de las disculpas del caso.","Luis Carlos Navarro ","Servicio Cliente","Servicio al Cliente","N/A"]
[1108,"2018-12-11","Huésped",410,"C1","Habitaciones","Huésped se queja del ruido entre habitaciones, el aislante es muy pobre y se escucha hasta cuando hablan o toman una ducha.","N/A","N/A","Luis Carlos Navarro ","Servicio Cliente","Hj Evaluacion Gen",1196]
[1107,"2018-12-10","Huésped",105,"C1","Habitaciones","Huésped se queja porque al colocar la llave en el tarjetero de la habitación no se activa la electricidad.","N/A","Se reporta a mantenimiento y los mismos indican que en esa habitación el tarjetero no funciona y la electricidad esta directa. Huéspedes no quieren pasarse a otra room y aceptan tener la electricidad fija.","Luis Carlos Navarro ","Servicio Cliente","Recepción","N/A"]
[1106,"2018-12-09","Huésped",211,"C1","Aguas Termales","Cambiar filtro de la piscina grande, cuando el agua fluye trae objetos flotando.","N/A","N/A","Luis Carlos Navarro ","Servicio Cliente","Hj Evaluacion Gen",972]
[1105,"2018-12-09","Huésped",211,"C1","Habitaciones","Iluminación de la habitación es deficiente, no es buena para leer, las luces no son ajustables.","N/A","N/A","Luis Carlos Navarro ","Servicio Cliente","Hj Evaluacion Gen",972]
[1104,"2018-12-08","Huésped",515,"C1","Recepción","Huésped se queja que el trato en recepción no fue amigable.","Personal mas amigable","N/A","Luis Carlos Navarro ","Servicio Cliente","Hj Evaluacion Gen",801]
[1103,"2018-12-08","Huésped",308,"C1","Italiano","Para el precio de este hotel la expectativa era encontrar todos los restaurantes abiertos.","N/A","N/A","Luis Carlos Navarro ","Servicio Cliente","Hj Evaluacion Gen",952]
[1102,"2018-12-09","Huésped",108,"C1","Habitaciones","Huésped se queja porque el refrigerador de la hab no se encuentra frío cuando el huésped ingresa.","N/A","N/A","Luis Carlos Navarro ","Servicio Cliente","Hj Evaluacion Gen",662]
[1101,"2018-12-06","Huésped",402,"C1","Ti-Cain","Se necesita café o té a la llegada en el desayuno, se tiene que esperar demasiado para que le ofrezcan alguna de las opciones. Cuando se pidió fue servido pero debería de haber ya café y té.","N/A","N/A","Luis Carlos Navarro ","Servicio Cliente","Hj Evaluacion Gen",1249]
[1100,"2018-12-08","Huésped",303,"C1","Ti-Cain","Huésped se queja por calidad en desayuno. Los zumos en el desayuno deberían ser naturales.","N/A","N/A","Luis Carlos Navarro ","Servicio Cliente","Hj Evaluacion Gen",1002]
[1099,"2018-12-06","Huésped",601,"C1","Bar Húmedo","Precios muy altos para una copa de vino.","N/A","N/A","Luis Carlos Navarro ","Servicio Cliente","Hj Evaluacion Gen",1233]
[1098,"2018-12-07","Huésped",506,"C1","Hotel","Huésped se queja porque el hotel no tiene suficientes tiendas.","N/A","N/A","Luis Carlos Navarro ","Servicio Cliente","Hj Evaluacion Gen",1114]
[1097,"2018-12-07","Guía","N/A","N/A","Spa","El Guía de Collette el señor Ricardo Howell se acercó a Recepción muy molesto quejándose por una confirmación que recibió de 3 masajes correspondientes a su grupo y que al momento de llegar al SPA no estaban en el sistema, al guía un día antes de ingresar al hotel se le confirmó las reservas que estaban ya en el sistema y fueron chequeadas por el recepcionista Ignacio, el propio Ricardo solicitó le pasaran una llamada al SPA y minutos después recepción llamó al SPA para ver si todo estaba bien y si se le había ayudado al guía con lo que solicitaba, Ignacio indica que hasta se le reservó mas espacio porque siempre se sabía que Ricardo enviaba mas personas al SPA y fue por este motivo que se dió todo por acordado. Cuando los huéspedes llegaron al SPA, no estaban en el sistema porque más temprano otros  huéspedes de collete que NO habían reservado con Howell  los confundieron y asumieron que esos huéspedes eran los de la reserva ya hecha, pero resulta que eran otros huéspedes que venían a reservar directamente. Esto ocasionó que no se les diera el servicio esperado y como consecuencia el guía a cargo demostró mucho enojo y descontento con el SPA y la reacción del recepcionista ante lo que sucedió.","N/A","EL Gerente Minor Castro habló con Ricardo Howell.","Luis Carlos Navarro ","Servicio Cliente","Servicio al Cliente","N/A"]
[1096,"2018-12-08","Huésped",902,"C1","Habitaciones","Huéspedes muy molestos por el ruido ocasionado por la construcción, al momento del check-out comparten su disgusto.","N/A","Se le retiraron dos facturas como compensación ya que no pudieron estar tranquilos debido al ruido.","Marianela Sancho ","Recepción","Recepción","N/A"]
[1095,"2018-12-08","Colaborador",506,"N/A","Habitaciones","Colaboradora mucama nos reporta que el murito de afuera de la hab se encuentra en muy mal estado ( pieza de madera podrida ). Tiene aspecto de que no se le da mantenimiento a las instalaciones.","N/A","N/A","Luis Carlos Navarro ","Servicio Cliente","Servicio al Cliente","N/A"]
[1094,"2018-11-22","Huésped",405,"C1","Ti-Cain","Huéspedes solicitan se mejore la calidad de las frutas.","N/A","N/A","Luis Carlos Navarro ","Servicio Cliente","Hj Evaluacion Gen",1184]
[1093,"2018-11-22","Huésped",405,"C1","Hotel","Huésped se queja porque no haybun trato igualitario entre turistas extranjeros y nacionales","N/A","N/A","Luis Carlos Navarro ","Servicio Cliente","Hj Evaluacion Gen",1184]
[1092,"2018-12-03","Huésped",702,"C1","Hotel","Huésped molesto se queja del àrea de fumado, y solicita un lugar cercano para poder fumar.","N/A","N/A","Luis Carlos Navarro ","Servicio Cliente","Hj Evaluacion Gen",823]
[1091,"2018-12-04","Huésped",307,"C1","Bar Húmedo","No más pajillas de plastico, usen de otro tipo de material.","N/A","N/A","Luis Carlos Navarro ","Servicio Cliente","Hj Evaluacion Gen",1003]
[1090,"2018-12-04","Huésped",604,"C1","Habitaciones","Huésped se queja de que en la habitación una silla no es suficiente.","N/A","N/A","Luis Carlos Navarro ","Servicio Cliente","Hj Evaluacion Gen",1263]
[1089,"2018-12-05","Huésped",301,"C1","Habitaciones","Aire acondicionado no funciona ni tampoco ventilador de techo.","N/A","N/A","Luis Carlos Navarro ","Servicio Cliente","Recepción","N/A"]
[1088,"2018-11-12","Huésped",503,"C1","Recepción","Llegamos en la noche y nuestra primera interacción fue con el recepcionista quien fue muy impersonal y poco cálido.","N/A",null,"Liz Aguilar ","Supervisora Recep","Hj Evaluacion Gen","N/A"]
[1087,"2018-12-04","Huésped",205,"C1","Hotel","Se que tienen una ley que prohibe fumar en lugares públicos , pero no entiendo que un hotel grande no disponga de una zona interna para fumar, el camino hacia la entrada en la noche debido a los animales de la zona es peligroso."]
[1086,"2018-12-02","Huésped",105,"C1","Hotel","La comida a nivel general del hotel esta sobrevalorada y no es buena en lo absoluto.","N/A","N/A","Luis Carlos Navarro ","Servicio Cliente","Llamada a Recepción","N/A"]
[1085,"2018-12-01","Huésped",111,"C1","Ti-Cain","Huésped se queja del desayuno e indica que puede mejorar teniendo mejores opciones en panes y queques.","N/A","N/A","Luis Carlos Navarro ","Servicio Cliente","Llamada a Recepción","N/A"]
[1084,"2018-12-03","Huésped",611,"C1","Habitaciones","Huéspedes se quejan fuertemente porque al llegar su Internet no funciona y piden tener ese servicio habilitado lo mas pronto posible.","N/A","Arnaldo reparó el daño en unas de las areas afectadas, se reestableció el servicio a eso de las 8pm","Luis Carlos Navarro ","Servicio Cliente","Llamada a Recepción","N/A"]
[1083,"Inicia registrando aquí la fecha de la queja.","Huésped",606,"C1","Habitaciones","No funciona el Internet, huésped llama quejandose por el mal servicio de Internet que tiene el hotel.","N/A","Se contactó a Arnaldo, se reparó el daño ya que uno de los switch estaba apagado y quedó funcionando bien el internet.","Luis Carlos Navarro ","Servicio Cliente","Llamada de bienvenida","N/A"]
[1082,"2018-12-03","Huésped",712,"C1","Habitaciones","Huéspedes se quejan por el mal funcionamiento del Internet, a su llegada reportan que no tienen señal de Wi-Fi.","N/A","Se contactó a Arnaldo el cual nos dijo que uno de los switch se había apagado y fue necesario reiniciarlo y establecer todo luego de casi 3 horas con el problema.","Luis Carlos Navarro ","Servicio Cliente","Llamada a Recepción","N/A"]
[1081,"2018-12-01","Huésped",310,"C1","Hotel","Huéspedes se quejan porque la acera de la habitación es muy oscura y no hay oluminación adecuada lo cual hace peligroso el caminar por ahí.","N/A","N/A","Luis Carlos Navarro ","Servicio Cliente","Servicio al Cliente","N/A"]
[1080,"2018-12-01","Huésped",606,"C1","Habitaciones","Huésped se queja porque el hotel no dispone de jabón en gel, no le gusta el jabón de barra.","N/A","N/A","Luis Carlos Navarro ","Servicio Cliente","Hj Evaluacion Gen",737]
[1079,"2018-11-30","Huésped",210,"C1","Habitaciones","Huésped se queja de la manera en que se maneja el cambio de toallas en las habitaciones, él mismo indica que sería muy bueno si seguimos el procedimiento que aparece en la información que se brinda ( solo las toallas en el suelo serán cambiadas, las que se mantienen colgando que se dejen ahi) El huésped se queja porque a pesar de no dejar ninguna toalla en el suelo, todas sus toallas fueron cambiadas.","N/A","N/A","Luis Carlos Navarro ","Servicio Cliente","Hj Evaluacion Gen",1275]
[1078,"2018-11-30","Huésped",503,"C1","Ti-Cain","Huésped se queja de que durante su estadía el restaurante principal nunca estuvo abierto.","N/A","N/A","Luis Carlos Navarro ","Servicio Cliente","Hj Evaluacion Gen",1131]
[1077,"2018-11-29","Huésped",401,"C1","Habitaciones","Huésped se queja del Shampoo y acondicionador en botellas plasticas, sugiere un dispensador.","N/A","N/A","Luis Carlos Navarro ","Servicio Cliente","Hj Evaluacion Gen",1250]
[1076,"2018-11-28","Huésped",410,"C1","Italiano","Restaurante muy pobre en calidad y demasiado caro. La pasta fue de bja calidad.","N/A","N/A","Luis Carlos Navarro ","Servicio Cliente","Hj Evaluacion Gen",504]
[1075,"2018-11-27","Huésped",801,"C1","Habitaciones","La puerta del baño no cierra bien, se encuentra desmontada y no calza con el marco.","Reparar la puerta ","N/A","Luis Carlos Navarro ","Servicio Cliente","Hj Evaluacion Gen",1229]
[1074,"2018-11-26","Huésped",307,"C1","Habitaciones","Huésped en llamada de bienvenida indica que su aire no funciona como debería y que no enfría.","Colocar un instructivo del control del A/C, explicando que significa cada símbolo.","Se envía a mantenimiento y los mismos indican que el control estaba desconfigurado, procedieron a configurarlo y quedo enfriando bien.","Luis Carlos Navarro ","Servicio Cliente","Llamada de bienvenida","N/A"]
[1073,"2018-11-26","Huésped",509,"C1","Hotel","Huéspedes se quejan porque al momento de que se les recibió se les entregó toallas y bebida pero no les dieron tiempo de disfrutar de la bebida y poder sentarse tranquilos cuando venían con equipaje y cosas, ellos dicen que los obligaron a ir a recepcion inmediatamente y hacer el check-in a pesar de que venían cansados, alegan que no se debe recibir a un huésped de esa manera.","Mejorar en el recibimiento, incorporando unos sillones o sillas en el lugar donde dan las bebidas de bienvenida y toallas. Y a la vez dar al huésped su espacio y que decida cuando ir a a recepción.","N/A","Luis Carlos Navarro ","Servicio Cliente","Servicio al Cliente","N/A"]
[1072,"2018-11-26","Colaborador","N/A","N/A","Parqueo","Colaboradores botones reportan que constantemente escuchan a los huéspedes hablar que el área del parqueo es oscura y que necesita una mejor iluminación. Ellos coinciden en que se necesita colocar bombillos mas fuertes y un par de lámparas adicionales.","N/A","N/A","Luis Carlos Navarro ","Servicio Cliente","Servicio al Cliente","N/A"]
[1071,"2018-11-26","Huésped",509,"C1","Habitaciones","A/C no enfría bien y huésped muy molesto indica a recepción que esta decepcionado del hotel.","Actualizar los aires ya que no funciona  bien.","Se envía a mantenimiento y botones los cuales confirman que el control del aire estaba desconfigurado y esto provocó que el huésped no pudiera hacer uso del aire adecuadamente.","Luis Carlos Navarro ","Servicio Cliente","Recepción","N/A"]
[1070,"2018-11-26","Huésped",509,"C1","Habitaciones","Huéspedes disconformes en general desde su llegada se acercan a recepción informando de una queja más, esta vez alegan que el TV es pésimo y que la señal no es buena.","Mejorar las condiciones del hotel.","Se envía a mantenimiento y nos confirman que el cable estaba dañado y esto no permitía una buena señal, reparan el daño y colocan el cable nuevo, imagen clara y de buena calidad. Cuando huéspedes lleguen de tour se le dará la solución.","Luis Carlos Navarro ","Servicio Cliente","Recepción","N/A"]
[1069,"2018-11-25","Huésped",404,"C1","Habitaciones","Huésped se acerca a recepción indicando que el A/C no funciona y no enfría nada, nos pide que se revise mañana porque tiene a sus hijas durmiendo ahora mismo.","N/A","Se le presta ventilador de recepción para que puedan usarlo durante la noche, mañana se revisará el ventilador.","Luis Carlos Navarro ","Servicio Cliente","Recepción","N/A"]
[1068,"2018-11-25","Huésped",205,"C1","Habitaciones","Huéspedes de Inglaterra decepcionados de la habitación con la que se fueron a encontrar, ellos reclaman que no es una juniro suite y que el espacio es muy reducido, llaman a recepción quejandose porque no es lo que esperaban y que adicional al lado de su habitación hay mucho ruido de otros huéspedes que hace aún más decepcionante su estadía.","Solicitan alguna otra habitación diferente.","Se conversa con los huéspedes para conocer su necesidad y resulta que ellos estan en total desacuerdo con las habitaciones y su diseño, reclaman que no es una junior suite y que la decoración no es nada a lo que se esperaban ya que han viajado alrededor del mundo, amablemente voy a su habitación y los busco para hablar y explicarles que todas las habitaciones de Arenal Springs tienen una misma idea y que en su interior la decoración es la misma, los llevo a la 304 donde el baño es distinto y me dicen que no ven ninguna diferencia y que es el mismo cuadrante con 2 camas que la anterior, seguidamente los llevo a la hab 509 donde hay cama king y también me dicen que no ven ninguna diferencia y que el hotel es desactualizado y poco moderno, les menciono que existen master suite y que son mas grandes pero tienen un valor mayor, ellos me dicen que quieren verlas pero al verlas indican que no les agrada la manera en que son diseñadas las habitaciones, con amabilidad les indico que me gustaría tener lo que ellos quieren para que esten cómodos, pero que el hotel lo que ofrece es lo que han visto y no hay mas allá. Al final deciden moverse a la 509 porque encontraron las espacio al solo haber una cama king.  ","Luis Carlos Navarro ","Servicio Cliente","Servicio al Cliente","N/A"]
[1067,"2018-11-25","Huésped",102,"C1","Recepción","La recepción debe de tener un mejor botiquín equipado con lo bàsico y necesario para los huéspedes en caso de algún incidente. A la hora de solicitarlo estaba muy escaso.","N/A","N/A","Luis Carlos Navarro ","Servicio Cliente","Hj Evaluacion Gen",1208]
[1066,"2018-11-25","Huésped",102,"C1","Tour Desk","Encargado de Tours no fue útil, él incluso no ofreció información o recomendaciones y nos dio todo muy resumido.","N/A","N/A","Luis Carlos Navarro ","Servicio Cliente","Hj Evaluacion Gen",1208]
[1065,"2018-11-24","Huésped",404,"C1","Habitaciones","Huéspedes se quejan del acceso a la habitación 404, indica que como pueden llamar a esa habitación una habitación para discapacitados si no se puede accesar con silla de ruedas por si solo, el muchacho utiliza silla para movilizarse todo el tiempo pero no es posible pasar de la calle a la habitación sin sufrir una caída.","Adaptar los accesos de manera que una persona discapacitada pueda salir de la hab a las termales o restaurantes, es muy peligroso lo que tienen como accesos.","Se colocó temporalmente una tapa de cañeria para que el huésped pudiera pasar.","Luis Carlos Navarro ","Servicio Cliente","Servicio al Cliente","N/A"]
[1064,"2018-11-23","Huésped",904,"C1","Habitaciones","Huésped se queja debido a que no encontró información de los precios del mini bar en la habitación. Nadie le informó nada al respecto.","N/A","N/A","Luis Carlos Navarro ","Servicio Cliente","Hj Evaluacion Gen",1257]
[1063,"2018-11-24","Huésped",410,"C1","Italiano","Precios de los vinos demasiado caros.","N/A","N/A","Luis Carlos Navarro ","Servicio Cliente","Hj Evaluacion Gen",1238]
[1062,"2018-11-24","Huésped",606,"C1","Habitaciones","Huespédes se quejan porque el telefono de la habitacion no sirve para hablar a restaurantes o transferir sus llamadas.","N/A","Bloqueadas las habitaciones para reparación de Randall.","Luis Carlos Navarro ","Servicio Cliente","Recepción","N/A"]
[1061,"2018-11-24","Huésped",102,"C1","Habitaciones","Huéspedes se quejan porque no es posible transferir sus llamadas a restaurantes u otros puntos de venta.","Arreglar el problema del teléfono.","Habitacion bloqueada a la espera de Randall para reparación.","Luis Carlos Navarro ","Servicio Cliente","Recepción","N/A"]
[1060,"2018-11-24","Huésped",208,"C1","Habitaciones","Huéspedes se quejan porque desde sus habitaciones no se pueden transferir las llamadas, no es posible contactarlos con restaurantes u otros puntos de venta. ","Arreglar problema de teléfono.","N/A","Luis Carlos Navarro ","Servicio Cliente","Recepción","N/A"]
[1059,"2018-11-24","Huésped",703,"C1","Habitaciones","Huésped molesta llama a recepción por segunda vez indicando que anteriormente llamó solicitando el room service para retirar los platos y nunca llegaron por ellos a pesar que le indicaron que iban para allà, su primera llamada fue a las 7pm y luego volvió a llamar a las 9pm porque no le habían retirado sus platos.","Solicita inmediatamente le retiren los platos sucios.","Se contacta al restaurante y los mismos informan que olvidaron el número de habitación y por esa razón no cumplieron la solicitud del huésped.","Luis Carlos Navarro ","Servicio Cliente","Llamada a Recepción","N/A"]
[1058,"2018-11-22","Colaborador",102,"C1","Habitaciones","Colaborador Fernando reporta que al momento de cambiar a los huéspedes de la 110 a la 102 a eso de las 9:30pm, al mostrar la hab la misma no tenía paños en ninguna parte.","N/A","N/A","Luis Carlos Navarro ","Servicio Cliente","Recepción","N/A"]
[1057,"2018-11-22","Huésped",110,"C1","Habitaciones","Huésped se queja porque en su hab no hay agua caliente.","N/A","Tanque de agua reventado, se cambia de habitación a los huéspedes debido a que la reparación no se puede hacer inmediata. Se ofrecen disculpas y huésped queda contento en hab 102.","Luis Carlos Navarro ","Servicio Cliente","Servicio al Cliente","N/A"]
[1056,"2018-11-22","Huésped",514,"C1","Habitaciones","Aire acondicionado no funciona correctamente, la primera noche huéspedes informan de la situación ya que no enfría bien. La segunda noche llaman de nuevo porque a pesar de que les dijeron que estaba reparado, nuevamente no enfría.","Solicitan reparar el A/C","Mantenimiento la mañana siguiente realiza la revisión y nos informan que ya el aire ha sido recargado y que funciona bien, sin embargo al otro día vuelve a fallar y determinan que la instalación se reventó por lo que necesitaran 3 horas dentro de la hab para bajar el aire y colocar toda la instalación nueva. Se conversa con el huésped y él muy amable nos da permiso para reparar el aire aprovechando que su familia anda en tour.","Luis Carlos Navarro ","Servicio Cliente","Servicio al Cliente","N/A"]
[1055,"2018-11-22","Huésped",514,"C1","Habitaciones","Huéspedes minutos después del check-in e ingreso de habitación reclaman porque se encuentran varios bombillos de la habitación quemados.","Solicitan reemplazar los bombillos por nuevos para tener luz","Se cambiaron los bombillos y quedó funcionando la iluminación de manera correcta.","Luis Carlos Navarro ","Servicio Cliente","Recepción","N/A"]
[1054,"2018-11-21","Huésped",110,"C1","Hotel","Huésped se queja porque considera que el hotel debería tener mejor y completa información en la habitación, por ejemplo horarios de restaurantes, menús, servicios del hotel,etc.","N/A","N/A","Luis Carlos Navarro ","Servicio Cliente","Hj Evaluacion Gen",1051]
[1053,"2018-11-21","Huésped",415,"C1","Ti-Cain","Favor cambiar el piso del restaurante ya que es muy resbaloso y peligroso.","N/A","N/A","Luis Carlos Navarro ","Servicio Cliente","Hj Evaluacion Gen","N/A"]
[1052,"2018-11-20","Huésped",205,"C1","Habitaciones","Huésped se queja porque en el sanitario el agua sale constantemente y no hay alguna tapon que detenga el agua, esto le molesta porque en realidad el hotel no preserva el agua.","N/A","N/A","Luis Carlos Navarro ","Servicio Cliente","Hj Evaluacion Gen",1085]
[1051,"2018-11-20","Huésped",205,"C1","Italiano","Restaurante con precios muy elevados.","N/A","N/A","Luis Carlos Navarro ","Servicio Cliente","Hj Evaluacion Gen",1085]
[1050,"2018-11-20","Huésped",205,"C1","Habitaciones","Máquina de café y copas de la habitación se encontraban sucias.","N/A","N/A","Luis Carlos Navarro ","Servicio Cliente","Hj Evaluacion Gen",1085]
[1049,"2018-11-20","Huésped",710,"C1","Hotel","Huéspedes extremadamente molestos al momento de llegar a la habitación se percatan del fuerte ruido de la construcción y deciden no bajarse de su auto hasta que se les dé otra habitación donde puedan estar tranquilos.","Desean otra habitación lejos.","Se mueven a la 406 inmediatamente donde quedan satisfechos.","Luis Carlos Navarro ","Servicio Cliente","Servicio al Cliente","N/A"]
[1048,"2018-11-19","Huésped",708,"C1","Hotel","Huéspedes se quejan por ruido ocasionado por la construcción, llaman molestos indicando que así no es posible descansar ni vacacionar.","Solicitan cambio de habitación.","Se mueven a la hab 612 y se les ofrecen disculpas. ","Luis Carlos Navarro ","Servicio Cliente","Servicio al Cliente","N/A"]
[1047,"2018-11-19","Huésped",512,"C1","Habitaciones","Huésped molesto porque el agua del jacuzzi no es caliente, practicamente lo que calienta es nulo y no se encuentra a gusto. Solicita revisar el funcionamiento del jacuzzi.","N/A","N/A","Luis Carlos Navarro ","Servicio Cliente","Servicio al Cliente","N/A"]
[1046,"2018-11-19","Huésped",601,"C1","Habitaciones","Huésped se queja del reloj alarma de las habitaciones, una vez que el botones va y lo configura todo bien pero al momento de que los huéspedes salen de su habitación se vuelve a desconfigurar, cuestionan como un reloj va estar parado y como pretenden que se use un reloj así.","N/A","N/A","Luis Carlos Navarro ","Servicio Cliente","Servicio al Cliente","N/A"]
[1045,"2018-11-18","Huésped",710,"C1","Habitaciones","Huésped se queja de recepción, ya que faltó que les informaran que debían abrir crédito antes de usar las instalaciones.","N/A","N/A","Luis Carlos Navarro ","Servicio Cliente","Hj Evaluacion Gen",1081]
[1044,"2018-11-17","Huésped",703,"C1","Habitaciones","Para las habitaciones de discapacitados poner la altura de la cama adecuada ya que es muy alta para una persona con discapacidad, debe de quedar al nivel de la silla de ruedas para poder llamarse una habitación de discapacitados.","N/A","N/A","Luis Carlos Navarro ","Servicio Cliente","Hj Evaluacion Gen",1130]
[1043,"2018-11-18","Huésped",205,"C1","Habitaciones","Huésped llama muy enojado a Recepción porque en la habitación no hay un tapón para el lavatorio, el nos dice que necesita afeitarse y que es necesario para él llenar el lavatorio hasta arriba, pide que le solucionen inmediatamente y solicita al siguiente día una cita con el gerente.",null,"Mantenimiento y Mucamas nos indican que no pueden ayudarnos debido a que no tienen tapones y no saben donde pueden obtenerlos. A la hora de indicarle al cliente que no podemos solucionar inmediatamente se molesta aún más y grita al teléfono. Minutos después vamos a chequear en una master en busqueda de un tapón y con suerte lo encontramos, se removió ese tapón y se probó en otra junior suite sin embargo el tipo de lavatorio era distinto y no se logro solucionar la queja. El señor espera al día siguiente un tapón ya que no puede creer que en todo el hotel no exista uno.","Luis Carlos Navarro ","Servicio Cliente","Servicio al Cliente","N/A"]
[1042,"2018-11-18","Huésped",901,"C2","Habitaciones","Huésped extremadamente molesto reclama que viene desde Florida y que el A/C de la habitación no enfría, a pesar de reportarlo en la mañana para la noche el aire seguía igual y eso lo tenía muy decepcionado, él comenta que no tiene porque pagar los errores del hotel ya que al momento de llegar mantenimiento le dijeron que el A/C así era como trabajaba ya que no era un aire moderno.","Nos solicita que le brindemos una solución inmediata ya que no piensan dormir con tanto calor.","Debido a que no hay más habitaciones con cama king se le ofrece al huésped la posibilidad de cambiarse a otra habitación con 2 camas queen, el mismo no le parece y se molesta más, luego de conversar y escuchar su molestia, se le piden disculpas y se le ofrece como compensación una cena gratis la noche de hoy, acepta y agradece por la intención de hacerlo sentir mejor a pesar de pasar todo el día con un A/C que no enfría bien. Termina aceptando moverse a la hab 201.","Luis Carlos Navarro ","Servicio Cliente"]
[1041,"2018-11-17","Colaborador",711,"N/A","Habitaciones","Compañero botones reporta que la hab al ser entregada tenía un fuerte olor a pintura y que esto incomodó un poco a los huéspedes cuando estaban entrando a la hab.","N/A","N/A","Luis Carlos Navarro ","Servicio Cliente","Recepción","N/A"]
[1040,"2018-11-18","Colaborador",111,"N/A","Habitaciones","Botones Jason reporta que la hab 111 al momento de ser entregada se encontraba con varias partes del baño mojadas y con extractos de jabón en una de las paredes, esto fue percibido por los huéspedes los cuales inmediatamente se mostraron molestos alegando que querían una hab que estuviera en condiciones y que no pareciera sucia.","Cambiar la habitación a una que no parezca usada.","Se realizó el cambio inmediato a la hab 205 y se le ofrecieron disculpas a los huéspedes.","Luis Carlos Navarro ","Servicio Cliente","Recepción","N/A"]
[1039,"2018-11-18"]
[1038,"2018-11-16","Huésped",602,"C1","Recepción","Huésped se queja debido a que considera debemos mejorar a la hora de brindar información, otros huéspedes tuvieron que decirme como funcionaba el servicio de lavandería, me dí cuenta de las clases de yoga muy tarde, quería usar el SPA pero nunca me dieron información de los precios o como reservar.","N/A","N/A","Luis Carlos Navarro ","Servicio Cliente","Hj Evaluacion Gen",1226]
[1037,"2018-11-17","Huésped",504,"C1","Italiano","Precios de los vinos cuestan el doble de lo que hemos pagado en todo lado, y son de calidad inferior.","N/A","N/A","Luis Carlos Navarro ","Servicio Cliente","Hj Evaluacion Gen",1129]
[1036,"2018-11-17","Huésped",301,"C1","Habitaciones","Huésped se queja por la secadora de pelo, no calienta correctamente.","N/A","N/A","Luis Carlos Navarro ","Servicio Cliente","Hj Evaluacion Gen",926]
[1035,"2018-11-10","Huésped",305,"C1","Hotel","Huésped sugiere que el hotel podría mejorar si tuviera la opción de TODO INCLUIDO.","N/A","N/A","Luis Carlos Navarro ","Servicio Cliente","Hj Evaluacion Gen",1274]
[1034,"2018-11-17","Huésped",606,"C1","Habitaciones","Huésped se queja porque considera que el espejo grande en frente del sanitario debe de estar en la habitación y que ademas hacen falta mas ganchos para colocar la ropa.","N/A","N/A","Luis Carlos Navarro ","Servicio Cliente","Hj Evaluacion Gen",274]
[1033,"2018-11-16","Huésped",207,"C1","Habitaciones","Las cajas fuertes de las habitaciones 201,207,209 y 205 necesitan ser reparadas.","N/A","N/A","Luis Carlos Navarro ","Servicio Cliente","Hj Evaluacion Gen",1041]
[1032,"2018-11-16","Huésped",201,"C1","Italiano","Huésped se queja de la atención y el mismo dice que tuvo problemas para que las ordenes individuales estuvieran correctas.","N/A","N/A","Luis Carlos Navarro ","Servicio Cliente","Hj Evaluacion Gen",787]
[1031,"2018-11-15","Huésped",708,"C1","Habitaciones","Aire acondicionado no enfriaba en lo absoluto.","N/A","Se envió a mantenimiento a revisar el A/C antes que ingresara otra reserva y que se viera afectada.","Luis Carlos Navarro ","Servicio Cliente","Hj Evaluacion Gen",1089]
[1030,"2018-11-15","Huésped",802,"C1","Bar Húmedo","Huésped se queja debido a que el bartender en el  bar húmedo fue muy rápido para aumentar las ventas y eso se malinterpreta.","N/A","N/A","Luis Carlos Navarro ","Servicio Cliente","Hj Evaluacion Gen",417]
[1029,"2018-11-15","Huésped",802,"C1","Habitaciones","Wifi no funcionó en la habitación.","N/A","Se envió a Arnaldo a revisar y el mismo indicó que se encontraba funcionando bien el Internet.","Luis Carlos Navarro ","Servicio Cliente","Hj Evaluacion Gen",417]
[1028,"2018-11-15","Huésped",801,"C1","Bar Húmedo","El personal del bar húmedo fue muy insistente y presionaba para que comparamos más, ante cada oportunidad querían aumentar la venta.","N/A","N/A","Luis Carlos Navarro ","Servicio Cliente","Hj Evaluacion Gen",1225]
[1027,"2018-11-15","Huésped",601,"C1","Recepción","Las llaves de la habitación no funcionaban, tuve que ir a recepción a resetearlas.","N/A","N/A","Luis Carlos Navarro ","Servicio Cliente","Hj Evaluacion Gen",1231]
[1026,"2018-11-13","Huésped",408,"C1","Habitaciones","Huésped se queja por el mal funcionamiento del telefono, èl necesitaba una wake-up call y tambien llamar a recepción y a pesar de que se le dijo que lo estaban arreglando al llegar de tour no se encontraba reparado.","Repara teléfono","Se le ofreció moverse a otra habitación por la noche que le quedaba, sin embargo no aceptaron, se les ofreció disculpas y se les dió la opcion de ir a despertarlos en la mañana. EL guarda nos ayudó a las 5:30 am para despertarlos.","Luis Carlos Navarro ","Servicio Cliente","Llamada a Recepción","N/A"]
[1025,"2018-11-14","Colaborador",415,"N/A","Habitaciones","Colaborador Oscar nos reporta que en varias ocasiones los huéspedes han comentado acerca del estado de la llave para drenar el jacuzzi la cual se encuentra afuera de la habitación. ( llave herrumbrada y en un mal estado)","N/A","N/A","Luis Carlos Navarro ","Servicio Cliente","Servicio al Cliente","N/A"]
[1024,"2018-11-12","Huésped",709,"C1","Souvenir","precios muy caros a nuestra opinión.","Mejorar los precios.","N/A","Luis Carlos Navarro ","Servicio Cliente","Hj Evaluacion Gen",1088]
[1023,"2018-11-12","Huésped","N/A","C1","Italiano","En el italiano las pizzas son grandes pero las ensaladas vienen pequeñas. Hacer hincapié en eso.","N/A","N/A","Luis Carlos Navarro ","Servicio Cliente","Tripadvisor","N/A"]
[1022,"2018-11-12","Huésped","N/A","C1","Bar Húmedo","El bar de pileta nos pareció con precios un poco elevados y poca variedad","N/A","N/A","Luis Carlos Navarro ","Servicio Cliente","Tripadvisor","N/A"]
[1021,"2018-11-11","Huésped",903,"C3","Italiano","El cliente dice que el salonero le vendió a la fuerza una botella de vino de $145 , dice que lo presionó cuando él llegó a cenar ya le tenía esa botella fría en lugar de mostrarle el menú.","No pagó la botella ",null,"Liz Aguilar ","Supervisora Recep","Servicio al Cliente"]
[1020,"2018-11-11","Huésped",208,"C2-C3","Habitaciones","NO HAY SEÑAL DE CABLE ",null,"Se reporta a mantenimiento, pero hay que esperar hasta el lunes ","Liz Aguilar ","Supervisora Recep","Llamada de bienvenida"]
[1019,"2018-11-08","Huésped",609,"C1","Habitaciones","Señal de televisión muy mala.","Solicita que cambien de compañía proveedora de cable debido a la pésima señal.","Se envío a mantenimiento sin embargo los compañeros indican que la señal es igual en todas las habitaciones y que cabletica ha visitado el hotel varias veces pero nunca lo solucionan.","Luis Carlos Navarro ","Servicio Cliente","Llamada a Recepción","N/A"]
[1018,"2018-11-08","Huésped",212,"C1","Habitaciones","Huéspedes se quejan por el pésimo servicio de cable, la imagen se ve fatal y estan muy decepcionados de un hotel 4 estrellas con televisión por cable tan mala.","N/A","N/A","Luis Carlos Navarro ","Servicio Cliente","Llamada a Recepción","N/A"]
[1017,"2018-11-07","Huésped",701,"C1","Habitaciones","Huésped se queja porque no hay silla en la habitación y porque el lavatorio es muy pequeño.","N/A","N/A","Luis Carlos Navarro ","Servicio Cliente","Hj Evaluacion Gen",814]
[1016,"2018-11-04","Huésped",205,"C1","Italiano","Huésped se queja porque no encontró menu libre de gluten en los restaurantes y además expresa que debe existir una preparacion y capacitación del personal para atender personas celiacas.","N/A","N/A","Luis Carlos Navarro ","Servicio Cliente","Hj Evaluacion Gen",1042]
[1015,"2018-11-06","Huésped",415,"C1","Habitaciones","Huésped se queja porque considera que el hotel debería rellenar el mini bar diariamente.","N/A","N/A","Luis Carlos Navarro ","Servicio Cliente","Hj Evaluacion Gen",278]
[1014,"2018-11-06","Huésped",414,"C1","Habitaciones","Huésped se queja por el tamaño de las barras de jabón, solicita sean mas grandes.","N/A","N/A","Luis Carlos Navarro ","Servicio Cliente","Hj Evaluacion Gen",278]
[1013,"2018-11-04","Huésped",403,"C1","Lockers","Huésped se queja porque la persona encargada de entregar toallas no se encontraba cuando llegó por su toalla.","N/A","N/A","Luis Carlos Navarro ","Servicio Cliente","Hj Evaluacion Gen",1026]
[1012,"2018-11-05","Huésped",209,"C1","Habitaciones","El aire acondicionado de la habitación no estaba configurado cuando llegamos, necesita reemplazarse por uno moderno ya que es ruidoso y la caracteristica de moverse para que aire vaya a diferentes direcciones no funcionó nunca.","N/A","N/A","Luis Carlos Navarro ","Servicio Cliente","Hj Evaluacion Gen",1038]
[1011,"2018-11-03","Huésped",109,"C1","Bar Húmedo","Huésped se queja por el uso de pajillas.","N/A","N/A","Luis Carlos Navarro ","Servicio Cliente","Hj Evaluacion Gen",778]
[1010,"2018-11-04","Huésped",507,"C1","Recepción","Huésped se queja por la poca felxibilidad en cuanto a la hora de entrada y salida.","Ser mas flexibles en cuanto a la hora de entrada y salida","N/A","Luis Carlos Navarro ","Servicio Cliente","Hj Evaluacion Gen",888]
[1009,"2018-11-04","Huésped",903,"C1","Habitaciones","Huésped se acerca a recepción molesta indicando que hoy por la mañana su habitación y la de sus familiares a la par (904) despues de 3 minutos en la ducha solamente sale agua fría, nos pide revisar las duchas de las habitaciones para poder ducharse con agua caliente ya que tienen a su hija y es necesario que les brindemos una solución.","N/A","Se envía a mantenimiento a revisar la hab, y los mismos explican que la capacidad de los tanques no da abasto para tantos, se le ofrecen disculpas a los huéspedes y como compensación por el poco abastecimiento de agua caliente se les brinda 1 bebida de cortesía, agradecen el gesto.","Luis Carlos Navarro ","Servicio Cliente","Recepción","N/A"]
[1008,"2018-11-04","Huésped",304,"C1","Hotel","Podrìan mejorar con algún tipo de entretenimiento nocturno como música en vivo o algun show similar.","N/A","N/A","Luis Carlos Navarro ","Servicio Cliente","Hj Evaluacion Gen",1015]
[1007,"2018-04-11","Huésped",207,"C1","Recepción","Huésped se queja por la mala experiencia con la cual finalizó su estancia en el hotel, ellos tenían 2 habitaciones juntas y solicitaron un late check-out a las 2:00pm, sin embargo al estar lleno el hotel no fue posible y se les dio la posibilidad de utilizar las instalaciones y bañarse en los lockers. Al parecer esto ocasionó una gran molestia, porque los huèspedes indican que el área donde los enviaron a bañarse no es apta y que ahí tuvieron una experiencia muy triste y decepcionante.","N/A","N/A","Luis Carlos Navarro ","Servicio Cliente","Recepción","N/A"]
[1006,"2018-11-01","Huésped",608,"C1","Habitaciones","Huésped se queja porque no hay una buena iluminación a los lados de la cama para poder leer, y además reclama por no haber una silla en la habitación.","N/A","N/A","Luis Carlos Navarro ","Servicio Cliente","Hj Evaluacion Gen",606]
[1005,"2018-11-01","Huésped",404,"C1","Bar Húmedo","Huésped se queja que los precios deberian de ser mas bajos en el sushi y en el bar de la piscina, es inclusive mas caro que una bebida en europa.","N/A","N/A","Luis Carlos Navarro ","Servicio Cliente","Hj Evaluacion Gen",614]
[1004,"2018-10-27","Huésped",902,"C1","Souvenir","NO vender el agua a un precio tan elevado.","N/A","N/A","Luis Carlos Navarro ","Servicio Cliente","Hj Evaluacion Gen",720]
[1003,"2018-10-30","Huésped",208,"C1","Souvenir","Expandir el souvenir ya que es muy pequeño y que puedan proveer un lugar conveniente con bebidas y comida.","N/A","N/A","Luis Carlos Navarro ","Servicio Cliente","Hj Evaluacion Gen",532]
[1002,"2018-10-30","Huésped",208,"C1","Habitaciones","Poner ventiladores o ventilación en los baños","N/A","N/A","Luis Carlos Navarro ","Servicio Cliente","Hj Evaluacion Gen",532]
[1001,"2018-10-30","Huésped",301,"C1","Habitaciones","Huésped llama a recepción porque su A/C no funciona correctamente.","Revisar A/C.","Se envía al botones para revisar primeramente si es algun problema del control, el botones  indica que mantenimiento debe revisar el aire por lo tanto se envía a mantenimiento. Ellos cargaron el aire de refrigerante ya que no tenía.","Luis Carlos Navarro ","Servicio Cliente","Servicio al Cliente","N/A"]
[1000,"2018-10-29","Huésped",506,"C1","Italiano","los precios de la comida y especialmente las bebidas son muy altos.","N/A","N/A","Luis Carlos Navarro ","Servicio Cliente","Hj Evaluacion Gen",887]
[999,"2018-10-29","Huésped",106,"C1","Habitaciones","Huèsped se queja porque no hay sombrillas en las habitaciones.","N/A","N/A","Luis Carlos Navarro ","Servicio Cliente","Hj Evaluacion Gen",909]
[998,"2018-10-28","Huésped",211,"C1","Habitaciones","La cafetera de la habitación no tiene filtros.","Poner capsulas en lugar de café molido.","N/A","Luis Carlos Navarro ","Servicio Cliente","Hj Evaluacion Gen",710]
[997,"2018-10-29","Huésped",503,"C1","Sushi","Precios excesivamente caros.","Precios mas competitivos en la zona.","N/A","Luis Carlos Navarro ","Servicio Cliente","Hj Evaluacion Gen",1022]
[996,"2018-10-29","Huésped",205,"C1","Italiano","Huésped se queja por no haber mayor oferta gastronomica en el hotel ni mejores opciones libres de gluten.","N/A","N/A","Luis Carlos Navarro ","Servicio Cliente","Hj Evaluacion Gen",138]
[995,"2018-10-26","Huésped",411,"C1","Hotel","Huèsped se queja por la poca iluminaciòn en las esquinas de cada callejòn, menciona que le encantarìa ver mejor iluminaciòn con los nùmeros de las habitaciones alumbrando.","N/A","N/A","Luis Carlos Navarro ","Servicio Cliente","Hj Evaluacion Gen",719]
[994,"2018-10-25","Huésped",209,"C1","Ti-Cain","Bueno el desayuno pero terminè decepcionado porque estuvo cerrado nuestra estadìa entera, no tuve oportunidad de experimentar de la cultura tica porque siempre estuvo cerrado.La comida estuvo mas o menos en general, lo digo porque las porciones eran pequeñas.","N/A","N/A","Luis Carlos Navarro ","Servicio Cliente","Hj Evaluacion Gen",837]
[993,"2018-10-27","Huésped",208,"C1","Italiano","Como visitante de temporada baja me gustarìa ver mas y mejores opciones de almuerzo y cena.","N/A","N/A","Luis Carlos Navarro ","Servicio Cliente","Hj Evaluacion Gen",1034]
[992,"2018-10-27","Huésped",208,"C1","Souvenir","Insectos en los helados. No fue una buena opciòn comprar ahì.","N/A","N/A","Luis Carlos Navarro ","Servicio Cliente","Hj Evaluacion Gen",1034]
[991,"2018-10-27","Huésped",208,"C1","Italiano","Menù muy limitado y extremadamente caro","N/A","N/A","Luis Carlos Navarro ","Servicio Cliente","Hj Evaluacion Gen",1034]
[990,"2018-10-24","Huésped",904,"C1","Recepción","Pueden mejorar su servicio con una mejor ayuda con la conversión de dinero. Me dijeron que un taxi cuesta 12 dolares a la Fortuna pero la \"maria\" marca 5000 colones, se supone que son 10 dòlares. No entendì porque.","N/A","N/A","Luis Carlos Navarro ","Servicio Cliente","Hj Evaluacion Gen",768]
[989,"2018-10-25","Huésped",108,"C1","Recepción","Deberìan entregar un brochure con informaciòn del hotel para futuras visitas.","N/A","N/A","Luis Carlos Navarro ","Servicio Cliente","Hj Evaluacion Gen",849]
[988,"2018-10-25","Huésped",108,"C1","Italiano","El servicio muy bueno pero el sabor del arroz con camarones no era el mejor.","N/A","N/a","Luis Carlos Navarro ","Servicio Cliente","Hj Evaluacion Gen",849]
[987,"2018-10-23","Huésped",504,"C1","Hotel","Podrìan mejorar en tener en el hotel servicio de alquiler de carros y un supermercado mas cerca.","N/A","N/A","Luis Carlos Navarro ","Servicio Cliente","Hj Evaluacion Gen",1028]
[986,"2018-10-23","Huésped",504,"C1","Bar Húmedo","muy caro, por una cerveza de lata 5 dòlares.","N/A","N/A","Luis Carlos Navarro ","Servicio Cliente","Hj Evaluacion Gen",1028]
[985,"2018-10-28","Colaborador",202,"C1","Habitaciones","Cama nido que se colocò a peticiòn de huèsped se encontraba en muy mal estado, quebrada y no en las mejores condiciones.","N/A","N/A","Liz Aguilar ","Supervisora Recep","Recepción","N/A"]
[984,"2018-10-28","Colaborador","N/A","N/A","Ti-Cain","Buenos días Compañeros \n\nTengan muy buen día todas y todos.\n\nLes comparto el siguiente  incidente , durante el desayuno de hoy.\n\nLa mañana de hoy la compañera Karen Núñez se acercó a mi persona y me indico , que aparentemente estaban cayendo del cielo raso, excremento de ratas.\n\nEstaba en espera de  terminar el desayuno , para informar al señor Jairo.\n\nLamentablemente, ella no se equivocaba.\n\nMinutos después , cayó muy cerca de una de las mesas, una rata.  La compañera Hazel y el señor Ariel, pudieron recogerla y disponer de ella, pero lamentablemente los huéspedes    , en el salón B , se dieron cuenta.\n\nLas habitaciones a nombre de la familia LAINES, son 603-703-903.\n\nMi recomendación seria , entrar lo más pronto posible en un programa de exterminio y/o previsión a l asunto.\n\nEspero que la información sea de ayuda.\n","N/A","N/A","Luis Carlos Navarro ","Servicio Cliente","Servicio al Cliente","N/A"]
[983,"2018-10-21","Huésped",111,"C1","Ti-Cain","Huésped se queja por no haber ventiladores en los restaurantes que permitan un mejor flujo de aire.","N/A","N/A","Luis Carlos Navarro ","Servicio Cliente","Hj Evaluacion Gen",845]
[982,"2018-10-20","Huésped",701,"C1","Habitaciones","Huésped se queja porque el hotel no tiene NETFLIX con costo agregado en las habitaciones para el hospedaje.","N/A","N/A","Luis Carlos Navarro ","Servicio Cliente","Hj Evaluacion Gen",844]
[981,"2018-10-17","Huésped",505,"C1","Souvenir","Precios muy altos.","N/A","N/A","Luis Carlos Navarro ","Servicio Cliente","Hj Evaluacion Gen",480]
[980,"2018-10-17","Huésped",505,"C1","Italiano","Comida buena pero sobrevalorada.","N/A","N/A","Luis Carlos Navarro ","Servicio Cliente","Hj Evaluacion Gen",480]
[979,"2018-10-19","Huésped",705,"C1","Hotel","Los trabajos de construcción detrás de nosotros comenzaron muy temprano a las 7am y eran demasiado ruidosos. No fue muy gratificante ni tranquila la estadía por ese motivo.","N/A","N/A","Luis Carlos Navarro ","Servicio Cliente","Hj Evaluacion Gen",231]
[978,"2018-10-21","Huésped",512,"C2","Habitaciones","Huésped al momento del check-out nos comparte la queja que el día 20 de octubre ( día de su boda) se había coordinado la limpieza y decoración respectiva para que cuando llegaran de su boda encontraran la sorpresa, sin embargo cuando la mucama llegó a hacer lo solicitado ellos se encontraban alistandose y preparando todo para la boda por lo que pidieron a la mucama venir más tarde ya cuando se hubieran marchado. La situación que molestó a la huésped fue que cuando llegaron de su boda a celebrar la luna de miel la habitación era un desastre y no había ninguna decoración. Ella nos expresó que habían hecho un esfuerzo muy grande para conseguir disfrutar de su luna de miel en esa habitación y que al final lo que recibieron fue una decepción en lugar de una grata sorpresa. ","N/a","Se le removió una factura de $25 la cual era la única que tenían como consumo y se les ofreció disculpas por tan vergonzoso error. ","Liz Aguilar ","Supervisora Recep","Check-out","N/A"]
[977,"2018-10-18","Colaborador","N/A","N/A","Lockers","Locker #18 de los hombres posee número erroneo en su llavero. Revisar estado y números de los llaveros.","N/A","N/A","Jean Pierre Brenes","Recepción","Recepción","N/A"]
[976,"2018-10-18","Huésped",402,"C1","Aguas Termales","Los botones del jacuzzi no funcionaban bien a ciertas horas.","N/A","N/A","Luis Carlos Navarro ","Servicio Cliente","Hj Evaluacion Gen",753]
[975,"2018-10-17","Huésped",608,"C1","Italiano","NO ofrezcan pajillas para las bebidas a la hora de servir una comida, son muy malas para el medio ambiente.","N/A","N/A","Luis Carlos Navarro ","Servicio Cliente","Hj Evaluacion Gen",804]
[974,"2018-10-18","Huésped",306,"C1","Souvenir","Huésped se queja que en el souvenir  las tallas de ropa se encontraban todas mezcladas y en desorden y fue difícil encontrar la ropa.","N/A","N/A","Luis Carlos Navarro ","Servicio Cliente","Hj Evaluacion Gen",538]
[973,"2018-10-17","Huésped",312,"C1","Sushi","Las bebidas estuvieron ok pero no fueron algo grandioso.","Mejorar las bebidas y su calidad.","N/A","Luis Carlos Navarro ","Servicio Cliente","Hj Evaluacion Gen",520]
[972,"2018-10-17","Huésped",109,"C1","Habitaciones","Solamente teníamos shampoo y acondicionador pero nunca tuvimos gel de baño lo cual sería una muy buena idea.","Incorporar gel de baño.","N/A","Luis Carlos Navarro ","Servicio Cliente","Hj Evaluacion Gen",901]
[971,"2018-10-17","Huésped",109,"C1","Ti-Cain","Huésped se queja que al desayuno una sola waflera no es suficiente para el número de personas presentes, se necesita demasiado tiempo para un waffle y no le gustó esperar tanto.","una maquina de hacer waffles extra.","N/A","Luis Carlos Navarro ","Servicio Cliente","Hj Evaluacion Gen",901]
[970,"2018-10-17","Huésped",103,"C1","Habitaciones","Huésped se queja del ruido ocasionado durante las dos noches de su estadía por el televisor de la habitación adyacente. Indica que pudo escuchar de todo y que hasta se sorprendió de lo que escuchó.","N/A","N/A","Luis Carlos Navarro ","Servicio Cliente","Hj Evaluacion Gen",841]
[969,"2018-10-17","Huésped",501,"C1","Habitaciones","Huésped se queja por no haber una silla en la habitación, dice que es muy difícil ponerse la ropa en una cama alta.","Una silla es necesaria en la habitación.","N/A","Luis Carlos Navarro ","Servicio Cliente","Hj Evaluacion Gen",290]
[968,"2018-10-18","Guía",125,"N/A","Habitaciones","Habitaciones 125-126 reportadas por el chofer y guía con cucarachas entre el aire acondicionado, se quejan de una posible plaga la cual intentaron matar con insecticidad pero aún así salieron más en la noche.","Revisar y fumigar esas habitaciones.","La compañera Ericka fue y fumigó por encima pero es necesario una aplicación del producto más a fondo.","Erika Vanegas","Recepción","Recepción","N/A"]
[967,"2018-10-18","Huésped",605,"C1","Habitaciones","Huésped luego de llegar del check-in llama molesto a recepción porque su aire acondicionado no funciona bien, él mismo pide que le den un tiempo para descansar y que más tarde le intenten solucionar el problema.","Repara A/C","Mantenimiento fue a chequear tiempo después y reparó el aire sin embargo el señor no estaba muy contento desde el inicio de su estadía.","Luis Carlos Navarro ","Servicio Cliente","Llamada a Recepción","N/A"]
[966,"2018-10-16","Guía",602,"C1","Salón Manantial","Cable HDMI en muy mal estado, no permitió llevar a cabo una charla de chocolate planeada para el grupo ROAD SCHOLAR ( Arenal Manoa).","Reemplazar cable.","N/A","Luis Carlos Navarro ","Servicio Cliente","Servicio al Cliente","N/A"]
[965,"2018-10-15","Huésped",611,"C1","Sushi","Restaurante del Sushi malo. Además el bar de la piscina debería de dar también al agua fría ","N/A","N/A","Luis Carlos Navarro ","Servicio Cliente","Hj Evaluacion Gen",603]
[964,"2018-10-15","Huésped",507,"C1","Ti-Cain","Mejorar la variedad de los desayunos especialmente cuando se viene varios días.","N/A","N/A","Luis Carlos Navarro ","Servicio Cliente","Hj Evaluacion Gen",483]
[963,"2018-10-13","Huésped",204,"C1","Recepción","Televisor de Recepción es horrible. Esto es algo que deberían mejorar","N/A","N/A","Luis Carlos Navarro ","Servicio Cliente","Hj Evaluacion Gen",282]
[962,"2018-10-13","Huésped",206,"C1","Habitaciones","Caja de seguridad no funciona","N/A","N/A","Luis Carlos Navarro ","Servicio Cliente","Hj Evaluacion Gen",897]
[961,"2018-10-14","Huésped",107,"C1","Italiano","Huésped se queja de precios. Crema de hongos cuesta igual que una pizza hawaiana","N/A","N/A","Luis Carlos Navarro ","Servicio Cliente","Hj Evaluacion Gen",848]
[960,"2018-10-14","Huésped",107,"C1","Aguas Termales","Toallas de piscina ya son beige y no azules como lo dice los rótulos en el área de las termales. Ver rotulación y renovarla.","N/A","N/A","Luis Carlos Navarro ","Servicio Cliente","Hj Evaluacion Gen",848]
[959,"2018-10-14","Huésped",107,"C1","Hotel","Huésped se queja de los brazaletes, sugieren que no sean de plástico.","N/A","N/A","Luis Carlos Navarro ","Servicio Cliente","Hj Evaluacion Gen",848]
[958,"2018-10-14","Huésped",701,"C1","Sushi","Pedí papas a las 11 y no me las dieron porque el aceite estaba frío.","N/A","N/A","Luis Carlos Navarro ","Servicio Cliente","Hj Evaluacion Gen",418]
[957,"2018-10-14","Huésped",409,"C1","Italiano","Huésped se queja de los precios de los restaurantes, 40 000 un almuerzo? ","N/A","N/A","Luis Carlos Navarro ","Servicio Cliente","Hj Evaluacion Gen",534]
[956,"2018-10-14","Huésped",204,"C1","Habitaciones","Huésped se queja indicando que hay una necesidad de enmasillar el area entre el techo y el cielo raso en el baño.","N/A","N/A","Luis Carlos Navarro ","Servicio Cliente","Hj Evaluacion Gen",900]
[955,"2018-10-14","Huésped",403,"C1","Habitaciones","Huésped se queja de las camas e indica que el hotel debe mejorar teniendo camas más suaves.","N/A","N/A","Luis Carlos Navarro ","Servicio Cliente","Hj Evaluacion Gen",717]
[954,"2018-10-14","Huésped",403,"C1","Italiano","Huésped se queja de las opciones de comida, pide mejores opciones ya que para él la comida fue solo buena y no encontró nada especial en ella.","Incorporar mejores opciones de comida","N/A","Luis Carlos Navarro ","Servicio Cliente","Hj Evaluacion Gen",717]
[953,"2018-10-15","Colaborador",305,"N/A","Habitaciones","Mientras se iba a chequear una habitación con una ducha apta para lo que nos solicitaba un cliente se encontró que la ducha de la hab 305 no esta pegada y que al abrir toda la presión es muy vulonerable a safarse y caer en la cabeza de un huésped.","N/A","Se informó a Mantenimiento y a Roberto Escoto de la situación. La hab se bloqueó para proceder con la reparación.","Luis Carlos Navarro ","Servicio Cliente","Servicio al Cliente","N/A"]
[952,"2018-10-15","Huésped",602,"C1","Habitaciones","Señora Kristine dueña de la agencia LatinEscapes se queja fuertemente indicando que ella conoce este hotel y que lo ha visitado en varias ocasiones pero que esta vez le han dado la peor habitación, ella se queja que la ducha no es regulable y que al momento de abrirla el agua sale disparada por todo lado sin poder bañarse o lavarse el pelo como ella quiere, además ella reclama por el ruido del ventilador del techo que se encuentra mal pegado y no los deja dormir. Ella nos hace ver que si pudiera irse se iría ahora mismo porque no se encuentra a gusto.","Arreglar los problemas que presenta la habitación por la cual ella esta pagando.","Se va directamente a la habitación para conversar con la huésped, chequear con mantenimiento y ofrecer las disculpas del caso, después de revisar nos damos cuenta que el ventilador necesita estar colocado de una manera que no produzca ese sonido incómodo. La ducha se intentó regular sin embargo en busqueda de la satisfacción de la huésped se le dió como solución moverse a la habitación 307 donde se revisó previamente que la ducha, ventilador y A/C funcionaran correctamente y así solucionar la queja. La señora agradeció la ayuda y quedó contenta. ","Luis Carlos Navarro ","Servicio Cliente","Llamada a Recepción","N/A"]
[951,"2018-10-14","Guía",121,"C1","Italiano","El guía de Collete el señor Ricardo Howell presentó la queja con respecto al menú que se le ofreció luego de traer a su grupo a cenar a nuestro restaurante, él mismo quedó disconforme ya que en otras ocasiones se le ha ofrecido menú abierto y esta vez tanto en el Rest Italiano como en el Ti-cain se le dió un menú carta paquete el cual no le agrado. Nos mencionó que la próxima vez su grupo iría a cenar afuera y se encontraba molesto por el accionar del hotel.","N/A","N/A","Liz Aguilar ","Supervisora Recep","Recepción","N/A"]
[950,"2018-10-15","Huésped",503,"C1","Habitaciones","503  La señora se queja de que el A/C no le sirvió en toda la noche, se revisa y efectivamente le falta refrigerante ","N/A","Se reparó el A/C","Luis Carlos Navarro ","Servicio Cliente","Recepción","N/A"]
[949,"2018-10-13","Huésped",410,"C1","Habitaciones","se queja ahora de que el A/C no sirve, efectivamente estaba sin refrigerante ","N/A","se les terminó otorgándola cena de cortesía","Luis Carlos Navarro ","Servicio Cliente","Recepción","N/A"]
[948,"2018-10-13","Huésped",705,"C1","Hotel","Huéspedes molestos por ruido ocasionado por la construcción.","N/A","Se movieron de hab a la 410","Luis Carlos Navarro ","Servicio Cliente","Recepción","N/A"]
[947,"2018-10-14","Huésped",602,"C1","Habitaciones","A/C en mal estado, huésped se se queja porque no funciona como debería.","Reparar el A/C","Se movieron a la hab 101","Luis Carlos Navarro ","Servicio Cliente","Recepción","N/A"]
[946,"2018-10-14","Huésped",903,"C2","Ti-Cain","BUENAS NOCHES COMPAÑEROS\n\nLes describo el incidente que sucedió al final de la cena, con los huéspedes de la habitación 903 :\n\nDichos señores son personas muy amables, cenaron por segunda ocasión en este RESTAURANTE.\n\nEllos pidieron un  salmón, el cual viene acompañado de brócoli y coliflor.\n\nAl parecer ; lamentablemente, les salió un pequeño gusano.\n\nLa señora ya había terminado la cena casi por completo.\nEl señor Jhon Pinnel me indica del problema, reviso el plato y efectivamente lo tenía.\nMe aproximo a los huéspedes, quienes se manifestaron al respecto, muy respetuosos, comprensivos, pero me indicaron que la señora era fóbica a estos animalitos.\n\n\n","N/A","Procedí a disculparme y a retirar el producto de la factura, y a la vez les hice saber que mañana, el personero del Guest Service, se iba a comunicar con ellos.\r\n","Gerardo Melendez","Capitán","Servicio al Cliente","N/A"]
[945,"2018-10-12","Huésped",205,"C2","Recepción","Buenos días compañeros, \nMe gustaría comunicarles una situación que se dio hoy con el señor Eduardo Otero de la habitación 205 durante el check out. \nSe le comunico el monto a pagar por cargos extras, él dijo que iba a pagar en efectivo y en euros. Y bueno ya que se está dando la opción de que lo hagan procedimos a aceptar la moneda. Sin embargo, no aceptó el monto que se le dijo y mencionó que ese no era el tipo de cambio; además agregó que ayer se lo habían cambiado a 650 y que aun así salió perdiendo dinero. \nLe explique que 620 era el tipo de cambio que estaba autorizado a dar y no podía hacer ningún cambio al mismo. El señor ya en un tono más fuerte dijo que entonces estábamos ganando dinero extra  “a costas de su dinero”, pero le mencione que de hecho no se aceptan euros, pero que los recibimos para hacerles un favor ya que sabemos que quizás no tienen tiempo para ir al banco y nuevamente le mencioné que 620 era el cambio establecido por contabilidad. \n\nAl final, el señor pagó sus cargos y el tipo de cambio que se le estaba dando, pero no estaba contento. De mi parte no puedo hacer alguna alteración a lo que ya está esta por los compañeros de contabilidad, pero aun así les hice la consulta pero me dijeron lo mismo que ya le había mencionado al señor Otero. \n\nEstamos ofreciendo una pequeña ayuda a ellos aceptando los euros, pero no me parece respetuoso que ellos vengan a imponer lo que ellos desean cuando ya tenemos las cosas establecidas por los compañeros de contabilidad. Si vamos a otro país nos tenemos que apegar a las normas que rigen al mismo, incluyéndose en esto el tipo de moneda… Estamos siendo flexible al ayudarle a los clientes aceptando Euros, pero hasta cuando quieren cambiar dinero y no se les puede cambiar el monto que desean se enojan con nosotros. \n","N/A","N/A","Deyvin Aguirre ","Recepción","Check-out","N/A"]
[944,"2018-10-08","Huésped",901,"C1","Habitaciones","Huéspedes se quejan de las camas que son duras.","Mejorar las camas para que sean mas suaves y confortables.","N/A","Luis Carlos Navarro ","Servicio Cliente","Hj Evaluacion Gen",723]
[943,"2018-10-08","Huésped",405,"C1","Italiano","Huésped se queja porque habían muchas moscas durante el desayuno.","N/A","N/A","Luis Carlos Navarro ","Servicio Cliente","Hj Evaluacion Gen",507]
[942,"2018-10-06","Huésped",206,"C1","Habitaciones","El frigorifico hace mucho ruido y es bastante molesto en la noche.","N/A","N/A","Luis Carlos Navarro ","Servicio Cliente","Hj Evaluacion Gen",496]
[941,"2018-09-29","Mayorista",201,"C1","Habitaciones","pensamos que la habitación 201 es un poquito pequeña si los clientes son 4 adultos tomando en cuenta que casi todos nuestros clientes tienen cada uno una maleta grande y una maleta pequeña durante su viaje. Entonces, prestaremos atención a la categoría de habitación que reservamos por respecto a la composición de los grupos de clientes. ","N/A","N/A","Luis Carlos Navarro ","Servicio Cliente","Retroalimentación Inspección","N/A"]
[940,"2018-09-29","Mayorista",201,"C1","Bar Húmedo","Primero, el hotel Arenal Springs nos parece ser una muy buena opción para nuestros clientes que quieren relajación y confort. Las aguas termales incluidas en el hotel son un valor agregado enorme. Además, esta zona termal está muy bien pensada con los dos bares, los jardines y las diferentes categorías de « piscinas » que hay. Solamente pensamos que el segundo bar (el que propone solamente bebidas y no el Sushi bar) merecería un poquito más de decoración para ser más acogedor todavía. ","N/A","N/A","Luis Carlos Navarro ","Servicio Cliente","Retroalimentación Inspección","N/A"]
[939,"2018-10-08","Huésped",211,"C1","Habitaciones","Huésped se acerca a recepción indicando que anoche al abrir su closet y sacar la cobija, la misma se encontraba mojada y no la pudo utilizar en toda la noche.","Nos pide revisar qe fue lo que ocurrió y porque razón estaba mojada.","Se contacta a melissa para que revise la habitación, coloque cobijas nuevas y se asegure que no vuelva a suceder.","Luis Carlos Navarro ","Servicio Cliente","Servicio al Cliente","N/A"]
[938,"2018-10-07","Huésped",201,"C1","Habitaciones","Huésped se queja de la mala señal de TV","mejorar la señal","N/A","Luis Carlos Navarro ","Servicio Cliente","Hj Evaluacion Gen",761]
[937,"2018-10-05","Huésped",101,"C1","Habitaciones","Huésped no cuenta con internet ","Proceder a revisar lo reportado","Se cambió el plato de la 301 a la 101, y Arnaldo debe revisar los enlaces","Fernando Sandoval","Recepción","Recepción","n/a"]
[936,"2018-10-03","Huésped",409,"C1","Italiano","Huésped indica que las sillas del italiano se resbalan facilmente, deberían de tener algo en las \"patas\" que no permita que se deslicen.","Revisar lo comentado.","N/A","Luis César Morales Campos","Servicio Cliente","Servicio al Cliente","N/A"]
[935,"2018-10-03","Huésped",410,"C1","Habitaciones","Huésped se queja debido a que los tomacorrientes de la habitación no funcionan correctamente, se encontraba molesta porque colocó su teléfono a cargar creyendo que iba a cargarse y luego se percató que no funcionaba, además cuando solicitó mover las camas y poner las dos mesas de noche juntas para poner ambas lamparas de noche, no fue posible conectar las dos debido a que el tomacorriente estaba sin electricidad.","Reparar el tomacorriente ya que necesita conectar más cosas.","Se contactó a mantenimiento y nos dijeron que eso pasaba en todo ese bloque de habitaciones y que no podían repararlo ya que era algo que Don Mario había hecho, por lo tanto se les prestó la regleta que tenemos en recepción para que pudiera conectar las lámparas y sus cargadores sin problema. Se le pidió disculpas y quedó satisfecha por la rápida solución.","Luis Carlos Navarro ","Servicio Cliente","Llamada a Recepción","N/A"]
[934,"2018-10-02","Guía",121,"C2-C3","Italiano","Chofer del grupo Grand Tour#47 se acerca sumamente molesto a recepción porque estuvo 20 minutos esperando que lo atendieran para cenar y nunca recibió la atención que esperaba, se retira molesto diciendo que ya no piensa cenar y que no puede ser posible que solo por no ser un huésped no le brinden un trato de calidad, si él igual iba a pagar la cena que se iba a comer.","N/A","N/A","Luis Carlos Navarro ","Servicio Cliente","Recepción","N/A"]
[933,"2018-09-23","Huésped",207,"C1","Habitaciones","Sería bueno tener una silla baja dentro de la habitación, ayuda a los adultos mayores","N/A","N/A","Luis César Morales Campos","Servicio Cliente","Hj Evaluacion Gen",546]
[932,"2018-09-26","Huésped",102,"C1","Habitaciones","Huésped indica que el área de la ducha en la habitación tiene poca privacidad","n/a","n/a","Luis César Morales Campos","Servicio Cliente","Hj Evaluacion Gen",460]
[931,"2018-09-26","Huésped",102,"C1","Hotel","Huésped indica que sería bueno mejorar el área de fumado.","Revisar lo descrito anteriormente","N/A","Luis César Morales Campos","Servicio Cliente","Hj Evaluacion Gen",460]
[930,"2018-09-25","Huésped",104,"C1","Recepción","El huésped hace la observación de que si a ud como huésped al llegar al Hotel en Caseta le preguntan los datos sobre la reservación, debería entonces al llegar al parqueo las personas llamarlos por el nombre y mucho menos que en Recepción vuelvan a preguntarles por el dato de la reserva.","Revisar lo descrito arriba","N/A","Luis César Morales Campos","Servicio Cliente","Hj Evaluacion Gen",573]
[929,"2018-09-25","Huésped",104,"C1","Habitaciones","Huésped indica que el aire acondicionado no enfrió correctamente, a veces estaba bien y por ratos no","Revisar aire acondicionado","N/A","Luis César Morales Campos","Servicio Cliente","Hj Evaluacion Gen",573]
[928,"2018-09-24","Huésped",101,"C1","Habitaciones","Huéspedes reportan un olor como a cigarro en su habitación y creen que podría provenir de la hab de la par.","Revisar de donde viene el olor que les molesta.","Se envió a la mucama y minutos después servicio al cliente llegó a la habitación para hablar con los huéspedes e indicarles que nos ibamos a encargar de informar a los vecinos sobre la prohibición del fumado en las habitaciones, se hizo un 21 a las 102 pero ellos dijeron que no habían fumado. La 101 no aceptó cambiarse a otra habitación porque estaban todos acostados ya. Se les dará seguimiento al día siguiente.","Luis Carlos Navarro ","Servicio Cliente","Llamada a Recepción","N/A"]
[927,"2018-09-22","Huésped",304,"C1","Habitaciones","El control del aire tenía problemas y no funcionaba bien.","N/A","N/A","Luis Carlos Navarro ","Servicio Cliente","Hj Evaluacion Gen",539]
[926,"2018-09-23","Huésped",204,"C1","Habitaciones","El baño está mal diseñado, el servicio sanitario debe de estar por lo menos 50cm de la pared lateral, la ducha debe de tener un piso antideslizante. EN el cuarto los adornos laterales de la cama sobran, no se puede accesar a ese lado de la cama y además son peligrosos para niños.","N/A","N/A","Luis Carlos Navarro ","Servicio Cliente","Hj Evaluacion Gen",245]
[925,"Inicia registrando aquí la fecha de la queja.","Huésped",308,"C1","Habitaciones","Requiere remodelar los muebles, se necesita más espacio para colgar ropa, además en sí la habitación es muy básica","N/A","Por definir","Luis César Morales Campos","Servicio Cliente","Hj Evaluacion Gen",544]
[924,"2018-09-21","Huesped",312,"C2-C3","Habitaciones","Huéspedes extremadamente molestos se acercan a recepción porque durante la noche fueron picados por piojos o chinches que según indican invadieron el colchón, ellos se encontraban con toda su espalda y brazos irritados y comentaron que han estado en todo tipo de hoteles baratos y que nunca pensaron que en un hotel bueno donde celebraban su luna de miel hubieran tenido que llegar a los extremos de revisar los colchones hasta encontrar estos piojos. Muy disconformes nos dicen que esta situación ha afectado sus vacaciones y que van para la clínica a revisarse. Ellos tenían fotos de los piojos que según indican usaran para poner una reclamación.","Revisar la habitación","Se fue inmediatamente a la hab para revisar y efectivamente bajo el colchón y entre las tablas habían gran cantidad de piojos, por lo tanto se les ofrecieron las disculpas por tan embarazosa situación, se le hizo la devolución de las 2 noches de hospedaje, se les dió una crema para la alergía y se explicó que esto no suele pasar debido a planes de fumigación constantes, a nombre del hotel tomamos toda la responsabilidad y ellos aceptan la solución brindada.","Luis Carlos Navarro ","Servicio Cliente","Servicio al Cliente","N/A"]
[923,"2018-09-19","Huesped",410,"C1","Italiano","El personal en el desayuno el primer día fue bueno y amable pero en el segundo día no fue bueno, deben estar atentos a las necesidades individuales para no hacerte sentir como un huésped irritante.","N/A","N/A","Luis Carlos Navarro ","Servicio Cliente","Hj Evaluacion Gen",292]
[922,"2018-09-18","Huesped","N/A","C1","Italiano","Mejorar con un entrenamiento del personal encargado del desayuno, en la evaluación califico con un 2 la experiencia.","Entrenar al personal.","N/A","Luis Carlos Navarro ","Servicio Cliente","Hj Evaluacion Gen",512]
[921,"2018-09-18","Huesped",403,"C1","Italiano","Muy caro y el sabor no es bueno en las comidas","N/A","N/A","Luis Carlos Navarro ","Servicio Cliente","Hj Evaluacion Gen",260]
[920,"2018-09-19","Colaborador","N/A","N/A","Recepción","Fuerte olor a boñiga en toda la recepción y restaurante italiano.","N/A","N/A","Luis Carlos Navarro ","Servicio Cliente","Recepción","N/A"]
[919,"2018-09-18","Huesped",802,"C1","Aguas Termales","Huéspedes enfadados por fumigación en el rest Ti Cain que provocó una nube de humo en las termales.","N/A","Se llamó a Jairo y se suspendió la fumigación.","Luis Carlos Navarro ","Servicio Cliente","Servicio al Cliente","N/A"]
[918,"2018-09-18","Huesped",801,"C1","Aguas Termales","Huésped se acerca a lockers quejandose porque la fumigación que se lleva a cabo en el Ti-Cain provoca que todo el humo se vaya para las termales donde se encuentran sus niños, y eso le molestó mucho. El mismo reclamó que como iban a hacer eso mientras estaban ellos bañandose y disfrutando de las termales.","Detener la fumigación.","Se llamó a Jairo y se detuvo la fumigación.","Luis Carlos Navarro ","Servicio Cliente","Servicio al Cliente","N/A"]
[917,"2018-09-18","Huesped",405,"C2","Tour Desk","Huésped muy molesto se acercó a recepción reclamando que Edward le vendió un Tour de perezosos donde iba ver algunos perezosos y vida silvestre, sin embargo dice que no vió nada más que un tucán muerto. Ël mismo canceló los tour del siguiente día y se encontraba bastante enfadado por lo que le prometieron y no se cumplió.","Cancelar todos sus tours","N/A","Luis Carlos Navarro ","Servicio Cliente","Recepción","N/A"]
[916,"2018-09-18","Huesped",108,"C1","Hotel","Huesped que estuvo hospedado del 13 al 16 de septiembre con reserva a nombre de Carlos Urrego envió correo a Servicio al Cliente preguntando por un objeto olvidado descrito como un medicamento utilizado para su insulina que estaba dentro de un recipiente azul en el refrigerador de la habitación 108, al momento de recibir la solicitud se consulta a las mucamas para que revisen y a recepción para buscar en lost&found pero ambos indican que no hay nada por lo que se procede a responder que desafortunadamente no se encontró nada, el hecho fue que el señor hizo caso omiso al correo  y se vino manejando desde Guanacaste hasta el hotel donde pidió lo dejaran entrar para hablar con Servicio al Cliente, cuando el señor llega el insiste en que el dejó su objeto ahí por lo que amable y abiertamente le dije que aunque las mucamas no encontraron nada yo mismo iba ir a revisar a esa habitación, a pesar de que estaba fumigada y llena de humo por completo ingresé hasta el refrigerador y busqué hasta encontrar lo que el señor aseguraba había dejado. Debido a esta situación me ví por la pena de pedir disculpas por el correo enviado asegurando que no había nada y por el reporte de las mucamas que no había nada ahí, el señor solicitó fueramos mas cuidadosos con las  cosas olvidadas y me agradeció por ir a buscar minuciosamente.  ","Chequear bien antes de brindar la información a los huéspedes.","Se  ofrecieron disculpas a nombre del hotel, se fue a buscar a la habitación hasta encontrar el objeto y se entregó en buen estado.","Luis Carlos Navarro ","Servicio Cliente","Servicio al Cliente","N/A"]
[915,"2018-09-18","Huesped",312,"C2","Habitaciones","Huésped reporta que no pudieron dormir debido a que en la habitación hay bichos.","Cambio de Habitación","N/A","Deyvin Aguirre ","Recepción","Llamada a Recepción","N/A"]
[914,"2018-09-18","Huesped",602,"C1","Bar Húmedo","Huésped expresa sentirse incomodo al comer y otras personas estén cerca nadando","N/A","N/A","Cesar Morales ","Servicio Cliente","Hj Evaluacion Gen",430]
[913,"2018-09-17","Huesped",902,"C1","Habitaciones","Aire Acondicionado no funciona","Quieren un A/C en buen estado","Mantenimiento intentó repararlo sin embargo no fue posible, por lo que se procesió a moverlos de hab.","Luis Carlos Navarro ","Servicio Cliente","Llamada a Recepción","N/A"]
[912,"2018-09-16","Huesped",801,"C1","Aguas Termales","Me gustaría que el jacuzzi que esta a 39 grados estuviera a una temp mas  baja ya que por estar tan caliente casi no se puede utilizar, no se aguanta el dolor, si fuera de 35 grados podría utilizarse más.","N/A","N/A","Luis Carlos Navarro ","Servicio Cliente","Hj Evaluacion Gen",422]
[911,"2018-09-17","Huesped",307,"C1","Habitaciones","Encender el aire acondicionado antes que lleguen los huéspedes. Así cuando estos lleguen encontrarán la habitación fresca","Encender el aire acondicionado","N/A","Cesar Morales ","Servicio Cliente","Hj Evaluacion Gen",174]
[910,"2018-09-17","Huesped",104,"C2-C3","Italiano","Huésped se queja de la manera en que no la dejaron ingresar al rest. Italiano, a la señora la mantuvieron esperando en recepción sin indicarle nada mientras iban a preguntar a un superior si podía o no entrar como andaba vestida, ella se molestó porque otra mujer andaba vestida muy parecido y si la dejaron entrar. Ella al hacer check-out nos hizo la observación que se sintió insultada y que fue totalmente inapropiado que la mantuvieran sin entrar durante unos minutos.","Ser más especificos y claros con el código de vestimenta, saber como comunicarlo y que sea de una manera que no insulte al huésped.","N/A","Luis Carlos Navarro ","Servicio Cliente","Check-out","N/A"]
[909,"2018-09-16","Huesped",302,"C1","Italiano","Muy mal coordinado el desayuno, nos quejamos del espacio-tiempo en el desayuno.","N/A","N/A","Luis Carlos Navarro ","Servicio Cliente","Hj Evaluacion Gen",457]
[908,"2018-09-16","Huesped",901,"C1","Hotel","Huéspedes se quejan de que no hay un billar o futbolín para para entretenimiento.","Seria chiva un pool o futbolin.","N/A","Luis Carlos Navarro ","Servicio Cliente","Hj Evaluacion Gen",433]
[907,"2018-09-16","Huesped",110,"C1","Italiano","Comida del italiano de poca calidad","Mejorar sustancialmente la calidad de la comida del Restaurante Italiano.","N/A","Luis Carlos Navarro ","Servicio Cliente","Hj Evaluacion Gen",463]
[906,"2018-09-15","Huesped",405,"C1","Italiano","Restaurate italiano lo encontramos con precios un poco caros.","N/A","N/A","Luis Carlos Navarro ","Servicio Cliente","Hj Evaluacion Gen",646]
[905,"2018-09-15","Huesped",606,"C1","Habitaciones","Huéspedes se quejan por mal funcionamiento del A/C, el mismo no enfría bien y las huéspedes no estan a gusto a pesar que mantenimiento fue a revisar. Según ellas la potencia no es la que debería de tener.","Revisar la potencia del A/C","Se procedió a mover a las huéspedes a la hab 210 en donde se probó el aire 30 minutos antes para verificar que enfríara a como las huéspedes deseaban, esa hab tenía un aire mas moderno por lo que quedaron satisfechas.","Luis Carlos Navarro ","Servicio Cliente","Llamada a Recepción","N/A"]
[904,"2018-09-16","Huesped",108,"C1","Hotel","Huésped se queja porque considera que a las aguas termales se les debería se sacar mayor provecho creando baños turcos con el vapor o con algún tipo de sauna. Además sugiere que hayan canchas de tennis o volleyball, hasta inclusive mesas de ping pong en alguna área.","N/A","N/A","Luis Carlos Navarro ","Servicio Cliente","Hj Evaluacion Gen",556]
[903,"2018-09-13","Huesped",401,"C1","Bar Húmedo","Precios del bar del Sushi muy elevados","N/A","N/A","Luis Carlos Navarro ","Servicio Cliente","Hj Evaluacion Gen",453]
[902,"2018-09-13","Huesped",101,"C1","Italiano","No hay suficientes opciones","Más opciones en vegetales y alimentos libres de glutten.","N/A","Luis Carlos Navarro ","Servicio Cliente","Hj Evaluacion Gen",294]
[901,"2018-09-12","Huesped",202,"C1","Habitaciones","Solamente había dos copas para una habitación que era de 3 personas.","N/A","N/A","Luis Carlos Navarro ","Servicio Cliente","Hj Evaluacion Gen",688]
[900,"2018-09-12","Huesped",202,"C1","Habitaciones","Huésped se queja porque no hay un espejo afuera del baño en la habitación.","Poner espejo en la habitación.","N/A","Luis Carlos Navarro ","Servicio Cliente","Hj Evaluacion Gen",688]
[899,"2018-09-11","Huesped",201,"C1","Italiano","Precios muy elevados.","N/A","N/A","Luis Carlos Navarro ","Servicio Cliente","Hj Evaluacion Gen",287]
[898,"2018-09-05","Huesped",311,"C1","Habitaciones","Un menú en la habitación de los diferentes restaurantes es lo que falta.","N/A","N/A","Luis Carlos Navarro ","Servicio Cliente","Hj Evaluacion Gen",692]
[897,"2018-09-06","Huesped",303,"C1","Hotel","Se queja porque no hay cajero automatico.","Instalar un cajero automatico para huéspedes.","N/A","Luis Carlos Navarro ","Servicio Cliente","Hj Evaluacion Gen",691]
[896,"2018-09-06","Huesped",303,"C1","Italiano","Huésped se queja porque no se ofrece comida local. La comida fue mediocre, el esposo pidió un sandwich de pollo que tenía muy poco pollo y mucho pan. Si yo fuera el chef, preferiría ofrecer comida que comen los locales y no comida que se puede conseguir en USA.","N/A","N/A","Luis Carlos Navarro ","Servicio Cliente","Hj Evaluacion Gen",691]
[895,"2018-09-09","Huesped",707,"C1","Bar Húmedo","Anoche fuimos testigos de una situación en el Bar Sushi acerca de que se acabó el Sushi, nos pareció que son asuntos operativos que los clientes no deben enterarse. Sabemos que son cosas que pasan y que es positivo porque es sinonimo de venta, sin embargo debería de manejarse de una mejor manera.","N/A","N/A","Luis Carlos Navarro ","Servicio Cliente","Hj Evaluacion Gen",216]
[894,"2018-09-09","Huesped",106,"C1","Souvenir","Se queja porque no venden la crema de miel con vainilla que se ofrece en las habitaciones.","Vender en la tienda la crema que es muy buena.","N/A","Luis Carlos Navarro ","Servicio Cliente","Hj Evaluacion Gen",396]
[893,"2018-09-09","Huesped",212,"C1","Bar Húmedo","Se queja por no tener servicio antes de las 10:00am disponible en el sushi y bar húmedo.","N/A","N/A","Luis Carlos Navarro ","Servicio Cliente","Hj Evaluacion Gen",170]
[892,"2018-09-09","Huesped",106,"C1","Hotel","No hay actividades recreativas ni entretenimiento en el hotel.","hacer actividades en la tarde/noche como por ejemplo algún show.","N/A","Luis Carlos Navarro ","Servicio Cliente","Hj Evaluacion Gen",396]
[891,"2018-09-10","Huesped",210,"C1","Recepción","Quisimos un day-pass para un familiar que estaba hospedado en otro hotel y nos salieron cobrando 120 dólares. Deberían haber excepciones o deberían tener el pase de un día.","Tener el pase de un día habilitado para ciertas ocasiones.","N/A","Luis Carlos Navarro ","Servicio Cliente","Hj Evaluacion Gen",636]
[890,"2018-09-08","Huesped",108,"C1","Italiano","Nos parecio excesivo el precio de las comidas en el Rest. Italiano","N/A","N/A","Luis Carlos Navarro ","Servicio Cliente","Hj Evaluacion Gen",638]
[889,"2018-09-11","Huesped",212,"C1","Bar Húmedo","Tener servicio antes de las 10:00am disponible","N/A","N/A","Luis Carlos Navarro R","Servicio Cliente","Hj Evaluacion Gen",170]
[888,"2018-09-06","Huesped",312,"C1","Restaurante","Cuando hay poca gente en el desayuno los comentarios de los empleados molestan ya que comentan cosas que no son del trabajo, haya poca o mucha gente los empleados deben saber ser profesionales y abtenerse de risas, comentarios, etc.",null,null,null,null,"Evaluacion Gen",693]
[887,"6/9/2018","Huesped","306","C1","Habitación","Huésped molesto por ruido de refrigerador, indica que no lo deja dormir.",null,"Se reemplaza el refrigerador con la ayuda de mantenimiento.","Luis Carlos Navarro","Servicio Cliente"]
[886,"2018-09-04","Huesped",106,"C1","Habitación","Camas muy duras, es lo único que cambiariamos.",null,null,null,null,"Evaluacion Gen",363]
[885,"2018-09-02","Huesped",211,"C1","Habitación","Huésped se queja de la no información acerca de los canales de TV, no sabía cuales estaban disponibles ni cuales eran en ingles.",null,null,"Jean Pierre Brenes","Recepción"]
[884,"2018-09-03","Huesped",611,"C1","Habitación","Huésped molesto se queja de la capacidad del agua caliente, según indica el agua caliente solamente dura 3 minutos y luego no sale mas caliente. Y esto a perjudicado su estancia ya que todos los días sucedió lo mismo.","él mismo solicita revisar los tanques donde proviene el agua","Se envía a mantenimiento los cuales nos confirman que este baño no cuenta con la rotulación necesaria para darle un correcto uso al agua caliente, todo funciona bien pero el huésped al no tener la explicación le da un mal uso a las llaves de agua fría y caliente. ","Luis Carlos Navarro","Servicio Cliente"]
[883,"2018-08-31","Huesped",302,"C1","Lockers ","Debería de haber una silla plastica para discapacitados en el área de duchas",null,null,null,null,"Evaluacion Gen","2018-08-235"]
[882,"2018-08-31","Huesped",308,"C1","Hotel","El precio que se debe pagar por todo el hotel hace pensar que es de muy alta calidad, sin embargo esto no es así",null,null,null,null,"Evaluacion Gen","2018-08-234"]
[881,"2018-08-31","Huesped",308,"C1","Restaurante","Los precios de los restaurantes son muy caros y la comida muy mediocre",null,null,null,null,"Evaluacion Gen","2018-08-234"]
[880,"2018-08-31","Huesped",308,"C1","Habitación","El mini bar debería rellenarse diaramente",null,null,null,null,"Evaluacion Gen","2018-08-234"]
[879,"2018-08-31","Huesped",308,"C1","Lavandería","El servicio de lavandería es muy caro",null,null,null,null,"Evaluacion Gen","2018-08-234"]
[878,"2018-08-31","Huesped",308,"C1","Restaurante","El chicken gyoza en el bar húmedo es muy malo y los precios son muy caros ",null,null,null,null,"Evaluacion Gen","2018-08-234"]
[877,"2018-08-31","Huesped",308,"C1","Hotel","Contar con un servicio de shuttle al pueblo sería algo útil",null,null,null,null,"Evaluacion Gen","2018-08-234"]
[876,"2018-09-01","Huesped",505,"C1","Habitación","Reducir el ruido producido por el aire acondicionado, durante la noche se escucha mucho",null,null,null,null,"Evaluacion Gen","2018-08-233"]
[875,"2018-09-01","Huesped",901,"C1","Restaurante","Mejores alternativas de alimentación, excepto el desayuno el cual es muy bueno",null,null,null,null,"Evaluacion Gen","2018-08-232"]
[874,"2018-08-31","Huesped",307,"C1","Restaurante","El vino es muy caro en los restaurantes",null,null,null,null,"Evaluacion Gen","2018-08-223"]
[873,"2018-09-01","Huesped",null,"C1","Area de Piscinas","Al ir a cubrir al compañero de lockers para que pudiera ir a almorzar, un huésped me comenta que deberiamos de tener más basureros al alcance en toda el area de piscinas ya que solo hay unos cerca de lockers, y cuando uno como huésped se encuentra en el area de las pergolas por ejemplo tiene que ir hasta ahí para depositar los desechos que uno tenga, lo que se hace un poco tedioso.",null,null,"Cesar Morales C.","Servicio Cliente"]
[872,"2018-08-30","Huesped",308,"C1","Hotel","El brochure de información del hotel necesita ser actualizado, hay muchas cosas con las que ya no se cuenta y otras en las que se ha mejorado.",null,null,"Cesar Morales C.","Servicio Cliente"]
[871,"2018-08-30","Huesped",904,"C1","Hotel","La construcción inicia muy temprano sus labores, y eso  imposibilita dormir un poco más.",null,null,null,null,"Evaluacion Gen",222]
[870,"2018-08-30","Huesped",904,"C1","Habitación","Poner etiquetas a todos los tomas, son tantos que uno no sabe cual es cual.",null,null,null,null,"Evaluacion Gen",222]
[869,"2018-08-30","Huesped",904,"C1","Restaurante","Los pancakes se secan mucho al estar expuestos al aire libre",null,null,null,null,"Evaluacion Gen",222]
[868,"2018-08-29","Huesped",302,"C1","Habitación","Mejorar el flujo de agua caliente en el grifo del baño",null,null,null,null,"Evaluacion Gen",217]
[867,"2018-08-26","Huesped",508,"C1","Souvenir","Huésped se queja de los precios que son muy elevados.",null,null,null,null,"Evaluacion Gen",228]
[866,"2018-08-26","Huesped",508,"C1","Restaurante","La comida en el buffet es escasa y muy repetitiva.",null,null,null,null,"Evaluacion Gen",228]
[865,"2018-08-24","Huesped",208,"C1","Restaurante","Huésped molesto porque se le sirvió un pollo crudo y él indica que eso es de mucho cuidado porque puede enfermar a una persona, esto provocó que se fueran muy temprano del hotel al check-out porque querían visitar otro restaurante.",null,null,null,null,"Evaluacion Gen",242]
[864,"2018-08-26","Huesped",111,"C1","Habitación","Huéspedes se quejan porque el teléfono de su habitación no recibe llamadas, recepción no es capaz de contactarlas y eso a ellas les preocupa. ",null,"Se les cambió a la habitación 104 y se les pidió disculpas por el inconveniente dado que mantenimiento no pudo arreglar el problema y el señor Randall Salazar se le contactó desde las 8am pero nunca hubo respuesta.","Luis Carlos Navarro","Servicio Cliente"]
[863,"2018-08-26","Huesped",512,"C1","SPA","La novia de la boda la señora Yara al momento de hacer check-out se mostró muy molesta cuando se le cobró un factura correspondiente a un manicure y un pedicure del Spa. Ella nos dijo que solamente saliendo del spa el pedicure se le cayó y que fue un trabajo pésimo por el cúal no iba a pagar, ella dijo  que había hablado con un funcionario del Spa ( que no recordaba el nombre) que le dijo que no se preocupara y que no le ibamos a cobrar ese tratamiento, sin embargo nunca se informó nada a recepción ni a servicio al cliente al respecto. ","No pagar por el pedicure y manicure ue recibió debido a que fue uno de los peores que ha tenido.",null,"Maria Nela Sancho ","Recepción"]
[862,"2018-08-25","Huesped",505,"C1","Restaurantes","Huésped indica que debemos mejorar en el tema de alimentos y calidad.",null,null,null,null,"Evaluacion Gen",227]
[861,"2018-08-25","Huesped",312,"C1","Habitación","Huéspedes reportan al check out, que la habitación tiene una gotera la cual cae sobre la cama que está más cercana a la puerta principal",null,null,"Fernando Sandoval","Recepción"]
[860,"2018-08-23","Huesped",506,null,"Restaurante","Tener más opciones de comida nacional",null,null,null,null,"Evaluacion Gen","2018-08-179"]
[859,"2018-08-23","Huesped",504,null,"Hotel","Seguir implementando desarrollo sostenible",null,null,null,null,"Evaluacion Gen","2018-08-181"]
[858,"2018-08-23","Huesped",305,null,"Restaurante","Falta ofrecer pan libre de glutten como opción. ",null,null,null,null,"Evaluacion Gen",207]
[857,"2018-08-22","Huesped",508,null,"Hotel","La presentación del hotel en la pagina web y otros es muy pobre en comparación con la realidad. Nos hemos llevado una grata sorpresa.",null,null,null,null,"Evaluacion Gen",151]
[856,"2018-08-22","Huesped",506,null,"Hotel","Hacen falta areas infantiles y zonas de esparcimiento como por ejemplo toboganes y columpios.",null,null,null,null,"Evaluacion Gen",223]
[855,"2018-08-22","Huesped",408,null,"Hotle","Deberían tener ocio nocturno",null,null,null,null,"Evaluacion Gen",354]
[854,"2018-08-22","Huesped",408,null,"Hotel","Mas variedad en restaurantes.",null,null,null,null,"Evaluacion Gen",354]
[853,"2018-08-21","Huesped",711,null,"Restaurante","El desayuno es bueno pero estaba muy lleno por lo que sería bueno tener algunas cosas precocinadas como los huevos revueltos.",null,null,null,null,"Evaluacion Gen",140]
[852,"2018-08-21","Huesped",604,null,"Restaurante","Deberian tener mejores opciones vegetarianas y harinas integrales",null,null,null,null,"Evaluacion Gen",328]
[851,"2018-08-21","Huesped",506,null,"Hotel","El área de recepción es más para restaurantes que para ser utilizada como lobby. NO hay suficiente campo para que las familias se sienten a esperar y cuando llueve no hay donde ponerse.",null,null,null,null,"Evaluacion Gen"]
[850,"2018-08-21","Huesped",506,null,"Hotel","EL hotel está pensado solo para adultos. NO hay areas infantiles ni salas de juego donde ellos puedan despejarse y divertirse.",null,null,null,null,"Evaluacion Gen"]
[849,"2018-08-17","Huesped",null,null,"Lavandería","Los precios de lavandería son una broma. Preferí llevar mi ropa a lavar a la Fortuna.",null,null,null,null,"Tripadvisor"]
[848,"2018-08-17","Huesped",null,null,"Bar Húmedo","Las bebidas y comida en la piscina son muy caras.",null,null,null,null,"Tripadvisor"]
[847,"2018-08-17","Huesped",null,null,"Habitación","La habitación es muy pequeña y no hay suficiente espacio para equipaje.",null,null,null,null,"Tripadvisor"]
[846,"2018-08-17","Huesped",null,null,"Restaurante","La comida italiana esta sobrevalorada y sin buen sabor, además las porciones son muy pequeñas.",null,null,null,null,"Tripadvisor"]
[845,"2018-08-13","Huesped",101,null,"Restaurante","Los restaurantes son muy caros y la comida mas o menos.",null,null,null,null,"Tripadvisor"]
[844,"2018-08-20","Huesped",802,null,"Habitación","Huésped se queja del Internet y de la lentitud del mismo.",null,null,"Erika Vanegas","Recepción"]
[843,"2018-08-16","Huesped",306,null,"Habitación","No se podía transferir llamadas de recepción a la hab, huésped tenía una emergencia y estaba molesto por mal funcionamiento e ineficiencia de los teléfonos del hotel.",null,"Se envió a guest service con teléfono de recepción para ayudar al cliente.","Maria Nela Sancho ","Recepción"]
[842,"2018-08-16","Huesped",102,null,"Habitación","Teléfono no funciona"]
[841,"2018-08-16","Huesped","205-206",null,"Habitación","Teléfonos no funcionan",null,null,"Erika Vanegas","Recepción"]
[840,"2018-08-16","Huesped",110,null,"Habitación","Teléfono no sirve",null,null,"Jean Pierre Brenes","Recepción"]
[839,"2018-08-15","Huesped",102,null,"Habitación","Teléfono no sirve",null,null,"Jean Pierre Brenes","Recepción"]
[838,"2018-08-20","Huesped",105,null,"Hotel","Un mejor rotulo en la carretera que muestre bien la dirección del Hotel",null,null,null,null,"Evaluacion Gen","2018-08-146"]
[837,"2018-08-20","Huesped",504,null,"Restaurante","Se puede mejorar el desayuno",null,null,null,null,"Evaluacion Gen","2018-08-147"]
[836,"2018-08-19","Huesped",301,null,"Restaurante Italiano","Servicio muy lento",null,null,null,null,"Evaluacion Gen","2018-08-140"]
[835,"2018-08-19","Huesped",401,null,"Hotel","Necesita más basureros alrededor del hotel",null,null,null,null,"Evaluacion Gen","2018-08-139"]
[834,"2018-08-18","Huesped",506,null,"Restaurante","Muchas moscas en el desayuno",null,null,null,null,"Evaluacion Gen","2018-08-129"]
[833,"2018-08-19","Huesped",null,null,"Piscina-termales","Sería bueno colocar una grada entre la piscina de agua termal de bar las iguana y que lleve al jacuzzi",null,null,null,null,"Evaluacion Gen","2018-08-130"]
[832,"2018-08-19","Huesped",703,null,"Habitación","Mejorar wifi en la habitación",null,null,null,null,"Evaluacion Gen","2018-08-136"]
[831,"2018-08-15","Huesped","414-415",null,"Habitación","Huéspedes se quejan porque la temperatura del agua en las habitaciones no es caliente lo suficiente, además indican que el jacuzzi al momento de llenarse no aguanta la presión del agua y al parecer el tapon se safa y se comienza a drenar el agua.",null,"Se envía a mantenimiento y los mismos indican que mañana lo verán con Jairo para solucionarlo.","Luis Carlos Navarro","Servicio Cliente"]
[830,"2018-08-15","Huesped",405,null,"Habitación","Huésped se queja que en la lista de canales se muestra el canal italiano sin embargo a la hora de buscarlo no está, pide que actualicen la lista de canales ya que están brindando información falsa y engañosa.",null,"Se revisa la lista de canales en Internet con Cabletica y se intenta buscar el canal sin embargo no es posible ya que la compañía cabletica lo quitó. ","Luis Carlos Navarro","Servicio Cliente"]
[829,"2018-04-05","Huesped","Mary Blackport",null,"Restaurante","La comida en los restaurantes estuvo horrible, yo no recomendaria ir a comer ahí",null,null,null,null,"Evaluacion CR Vac"]
[828,"2018-03-30","Huesped","Perry Pawelka",null,"Hotel","la única área para mejorar sería un poco más que hacer en el sitio y / o una forma un poco más fácil de llegar a la ciudad",null,null,null,null,"Evaluacion CR Vac"]
[827,"2018-03-31","Huesped","Heather Burgess",null,"Restaurante","El servicio estuvo mas o menos. Y las opciones de cenas no nos inspiraron por lo que decidimos ir al pueblo a cenar.",null,null,null,null,"Evaluacion CR Vac"]
[826,"2018-06-16","Huesped","Damary Santiago",null,"Restaurante","Las opciones de almuerzo y cena estuvieron muy caras y limitadas.",null,null,null,null,"Evaluacion CR Vac"]
[825,"2018-04-14","Huesped","Sara Parent",null,"Habitación","Horribles e incómodas camas.",null,null,null,null,"Evaluacion CR Vac"]
[824,"2018-06-23","Huesped","Tim Brinkley",null,"Restaurante","La variedad y selección de la comida estuvo muy por debajo del promedio",null,null,null,null,"Evaluacion CR Vac"]
[823,"2018-08-14","Huesped",601,null,"Hotel","Los brazaletes son algo ridículo y ademas incomodos, me sentí como si fuera un ganado que etiquetan.",null,null,null,null,"Evaluacion Gen",116]
[822,"2018-08-14","Huesped",904,null,"Restaurante","Necesita variedad en las opciones de comidas y un menú mas barato en el bar.",null,null,null,null,"Evaluacion Gen",322]
[821,"2018-08-14","Huesped",401,null,"Habitación","El baño debería tener una superficie no resbaloso como algún tipo de alfombra de hule.",null,null,null,null,"Evaluacion Gen",38]
[820,"2018-08-12","Huesped","414-415",null,"Habitación","Huésped se queja por el funcionamiento del aire y porque en la 415 si hay agua caliente y en la 414 no.",null,"Se envía a mantenimiento y se arregla problema del aire, el señor no queda conforme con la situación del agua porque según indica el la quiere más caliente y eso es lo mas caliente que ofrecemos.","Maria Nela Sancho ","Recepción"]
[819,"2018-08-12","Huesped",203,null,"Hotel","Necesitan actividades para huéspedes como música, bailes.",null,null,null,null,"Evaluacion Gen",99]
[818,"2018-08-12","Huesped",711,null,"Habitación","El aire acondicionado esta descompuesto y se cambia de temperatura solo, además en la ducha había un tornillo del techo.",null,null,null,null,"Evaluacion Gen",144]
[817,"2018-08-12","Huesped",704,null,"SPA","Spa tiene precios muy elevados.",null,null,null,null,"Evaluacion Gen",6]
[816,"2018-08-12","Huesped",704,null,"Restaurante","Restaurantes tiene precios muy elevados.",null,null,null,null,"Evaluacion Gen",6]
[815,"2018-08-11","Huesped",504,null,"Restaurante","La comida es muy cara, por favor tener opciones mas cómodas.",null,null,null,null,"Evaluacion Gen",411]
[814,"2018-08-12","Huesped",null,null,"Restaurante","Huésped se queja de los precios excesivos en el Sushi e Italiano.",null,null,null,null,"Tripadvisor"]
[813,"2018-08-11","Huesped",406,null,"Habitación","Huésped reporta que piensan que el colchon tiene bichillos porque al despertar tenían picaduras en todo el cuerpo",null,null,"Erika Vanegas","Recepción"]
[812,"2018-08-11","Huesped",406,null,"Habitación","Huésped se queja al check out, que los tomas no funcionan bien",null,null,"Erika Vanegas","Recepción"]
[811,"2018-08-06","Huesped",109,null,"Restaurante","Necesitan Mayor variedad en frutas y dulces en el desayuno como pastelitos.",null,null,null,null,"Tripadvisor"]
[810,"2018-08-06","Huesped",null,null,"Hotel","El hotel requiere actualización en el area de piscinas y en las habitaciones.",null,null,null,null,"Tripadvisor"]
[809,"2018-08-07","Huesped",508,null,"Restaurante","Cambien los menus en ambos restaurantes",null,null,null,null,"Evaluacion Gen",143]
[808,"2018-08-07","Huesped",508,null,"Habitación","Se necesita ás espacio para almacenar cosas en la habitación y también sillas. Además no había suficientes ganchos.",null,null,null,null,"Evaluacion Gen",143]
[807,"2018-08-05","Huesped",103,null,"Hotel","Se queja porque no hay clases de yoga en la tarde y porque el gimnasio es muy pequeño",null,null,null,null,"Evaluacion Gen",86]
[806,"2018-08-03","Huesped",210,null,"Habitación","Sería muy bueno tener menus en la habitación.",null,null,null,null,"Evaluacion Gen",44]
[805,"2018-08-03","Huesped",210,null,"Restaurante","Precios elevados.",null,null,null,null,"Evaluacion Gen",44]
[804,"2018-08-05","Huesped",307,null,"hotel","Mejorar el Wi-fi ya que es muy inconsistente",null,null,null,null,"Evaluacion Gen",16]
[803,"2018-08-06","Huesped",611,null,"Habitación","No tenían agua caliente",null,null,"Maria Nela Sancho ","Recepción"]
[802,"2018-08-06","Huesped",610,null,"Habitación","No tenían agua caliente",null,"Se envió a mantenimiento  se reparó","Maria Nela Sancho ","Recepción"]
[801,"2018-08-05","Huesped",108,null,"Habitación","Teléfono no sirve",null,null,"Deyvin Aguirre","Recepción"]
[800,"2018-08-05","Huesped",202,null,"Habitación","Teléfono no sirve",null,null,"Cesar Morales C.","Servicio Cliente"]
[799,"2018-08-05","Huesped",102,null,"Habitación","Teléfono no sirve",null,null,"Cesar Morales C.","Servicio Cliente"]
[798,"2018-08-05","Huesped",101,null,"Habitación","Teléfono no sirve",null,null,"Cesar Morales C.","Servicio Cliente"]
[797,"2018-08-05","Huesped",706,null,"Habitación","Teléfono no sirve",null,null,"Jean Pierre Brenes","Recepción"]
[796,"2018-08-05","Huesped",106,null,"Habitación","Teléfono no sirve",null,null,"Deyvin Aguirre","Recepción"]
[795,"2018-08-05","Huesped",110,null,"Habitación","Teléfono no sirve"]
[794,"2018-08-04","Huesped",null,null,"Restaurante","Se queja de la comida de los restaurantes los cuales fueron una estafa, muy baja calidad en las comidas. La pizza fue la peor que ha comido, muy mala. Además precios sumamente caros por nada especial a cambio.",null,null,null,null,"Tripadvisor"]
[793,"2018-08-04","Huesped",null,null,"Hotel","Huésped se queja del uso de brazaletes y de los tiquetes para intercambiar toallas y paraguas indicando que le recuerda a los hoteles baratos de Cancún. Además no les gustó escuchar a los vecinos ni tampoco los colchones los cuales consideraron raros e incómodos. ",null,null,null,null,"Tripadvisor"]
[792,"2018-08-02","Huesped",null,null,"Restaurante","Precios del restaurante y de los bares muy elevados"]
[791,"2018-08-01","Huesped",null,null,"Hotel","El hotel parece estar expandiendose y sino estas en algún tour es sumamente molesto el ruido de la construcción mientras estas en la habitación",null,null,null,null,"Tripadvisor"]
[790,"2018-08-01","Huesped",109,"C1","Restaurante","Porciones ridiculamente pequeñas y el sushi estaba mediocre, mas arroz que pescado. ","Necesitan precios mas convenientes.",null,null,null,"Evaluacion Gen",109]
[789,"2018-08-02","Huesped","609-610","C1","Restaurante","Bastante caro el Italiano.",null,null,null,null,"Evaluacion Gen",75]
[788,"2018-08-03","Huesped","201-202","C1","Habitación","Ruidos extraños en el techo ( pájaros o ratas) que nos mantuvo despiertos en la noche.",null,null,null,null,"Evaluacion Gen",37]
[787,"2018-08-03","Huesped","201-202","C1","Counter","Huésped sugiere que el hotel no promueva Natura Park como una opción ya que es una experiencia mediocre y muy cara.",null,null,null,null,"Evaluacion Gen",37]
[786,"2018-08-04","Huesped",511,"C1","Restaurante","Variedad limitada en opciones de glutten, problemas con inocuidad.",null,null,null,null,"Evaluacion Gen","2018--08-13"]
[785,"2018-08-04","Huesped",512,"C1","Restaurante","Más opciones libres de glutten son muy necesarias",null,null,null,null,"Evaluacion Gen","2018--08-12"]
[784,"2018-08-04","Huesped",401,"C1","Restaurante","La comida en el Italiano muy cara.",null,null,null,null,"Evaluacion Gen","2018--08-11"]
[783,"2018-08-04","Huesped",703,"C1","Habitación","Huéspedes se quejan de la inconsistencia del agua caliente.",null,null,null,null,"Evaluacion Gen",1]
[782,"2018-08-02","Huesped",801,"C1","Restaurante","Huéspedes se quejan que las porciones del restaurante italiano son pequeñas y muy caras.",null,null,null,null,"Evaluacion Gen",71]
[781,"2018-08-02","Huesped",204,"C1","Restaurante","Huéspedes se quejan de los precios, reclaman mejores precios.",null,null,null,null,"Evaluacion Gen",41]
[780,"2018-08-03","Huesped","701-904","C1","Habitación","Huéspedes reclaman que no tiene agua en las habitaciones.",null,"Se contacta a mantenimiento para verificar que es lo que pasa y los mismos indican que posiblemente la bomba del agua tiene algún problema, los compañeros proceden con el arreglo.","Luis Carlos Navarro","Servicio Cliente"]
[779,"2018-08-02","Huesped",708,"C1","Hotel","Huéspedes molestos porque se les indicó que al llegar al hotel a las 3:30pm todas las habitaciones de su grupo iban a estar listas, sin embargo la hab 707 presentó problemas con el aire que al final no pudo ser reparado a pesar de que los huéspedes habian decidio esperar a que se reparara con tal de estar en la habitación junto a su familia,  procedimos a cambiarlos de hab sin embargo ellos se enojaron porque no les gustó la situación ni tampoco como fue manejada. El guía Cesar me dice que ellos ya llamaron a Swiss Travel a dar las quejas y que esta agencia quiere respuesta dado que son muy amigos de los dueños de Swiss Travel.",null,"Se conversa con el guía de la situación para llegar a una solución, huéspedes estaban muy molestos porque estan acostumbrados a un muy alto nivel de atención y no les gustó llegar y que estuviera el aire malo. ellos estaban en Tabacon por lo que no aceptaron cena de cortesía sin embargo querían un vino frontera rojo como compensación y se les ofreció frutas y vino para el día siguiente a las restantes 3 habitaciones de su familia.","Luis Carlos Navarro","Servicio Cliente"]
[778,"2018-08-02","Huesped",503,"C1","Lavandería","Huéspedes molestos porque desde las 7 am entregaron lavandería y llegaron a las 7:00pm a preguntar a recepción y aún no estaba lista.",null,"Se llama a lavandería y proceden a traer la bolsa de la hab 503 indicando que las del cambio de turno no les informaron nada y que al llegar a las 2pm simplemente encontraron la ropa ahí sin darle prioridad.","Luis Carlos Navarro","Servicio Cliente"]
[777,"2018-08-01","Huesped",411,"C1","Habitación","Huésped se queja que la lista de canales no coincide con los canales que se proyectan en el televisor, molesto primero porque indicá que un hotel en San José si pudo cambiar el audio a Inglés y aquí no.",null,null,"Ulises ","Botones"]
[776,"2018-07-31","Huesped",609,null,"Habitación","Agua caliente del baño sale demasiado caliente al instante además las paredes parecen hechas de papel ya que se escucha absolutamente todo de los vecinos.",null,null,null,null,"Evaluacion Gen",171]
[775,"2018-07-30","Huesped",107,null,"Restaurante","Tortillas del bar húmedo que sirvieron tenían  moho. Además deberían tener opciones para personas alergicas a la lactosa.",null,null,null,null,"Evaluacion Gen",116]
[774,"2018-07-30","Huesped",303,null,"Habitación","La habitación es inferior a una junior suite.",null,"Cliente realizó a queja al check-out","Maria Nela Sancho ","Recepción"]
[773,"2018-07-30","Huesped",303,null,"Restaurante","Precios muy elevados en las comidas.",null,"Cliente realizó a queja al check-out","Maria Nela Sancho ","Recepción"]
[772,"2018-07-29","Huesped",604,null,"Habitación","No había agua caliente y el control deo aire no funcionó.",null,"Cliente realizó a queja al check-out","Maria Nela Sancho ","Recepción"]
[771,"2018-07-26","Huesped",null,null,"Restaurante","La comida del restaurante italiano fue deficiente",null,null,null,null,"Tripadvisor"]
[770,"2018-07-17","Huesped",null,null,"Restaurante","El restaurante principal de la cena en sí es bastante caro y nada especial. No había nada de malo en ello, pero nos habíamos acostumbrado a grandes porciones de Costa Rica, y nuestra cena aquí era mucho más pequeña y no estuvo a la altura de la comida que tuvimos en otro lugar en nuestro viaje.",null,null,null,null,"Tripadvisor"]
[769,"2018-07-13","Huesped",null,null,"Habitación","El aire acondicionado no funcionó bien la última noche",null,null,null,null,"Tripadvisor"]
[768,"2018-07-04","Huesped",null,null,"Restaurante","EN el desayuno vimos varias moscas sobre los alimentos, incluso habían 2 ahogadas en el yogurt por lo que evitamos esos alimentos",null,null,null,null,"Tripadvisor"]
[767,"2018-07-04","Huesped",null,null,"Habitación",". Además ojala y pudieran brindar juegos para la habitación o algo para que se entretengan los niños.",null,null,null,null,"Tripadvisor"]
[766,"2018-07-04","Huesped",null,null,null,"LA caja de seguridad es muy pequeña y vieja ( no pude guardar mi laptop)"]
[765,"2018-07-02","Huesped",null,null,"Restaurante"," la selección de los alimentos en el desayuno es pobre, mi esposo quería salchicha o tocino y no fue posible. Además las cenas son muy caras y las porciones muy pequeñas.",null,null,null,null,"Tripadvisor"]
[764,"2018-07-01","Huesped",null,null,"Restaurante","Como otros comentarios de otros huéspedes también terminamos decepcionados de la cena,  los precios son demasiado elevados y la calidad de la comida en relación a otros hoteles quedó debiendo",null,null,null,null,"Tripadvisor"]
[763,"2018-07-27","Huesped",112,null,"Habitación","Limpieza en términos de insectos debe mejorar con algún spray en el closet o baño para eliminar insectos.",null,null,null,null,"Evaluacion Gen",48]
[762,"2018-07-28","Huesped",109,null,"Hotel","Un Cajero Automático en Recepción sería muy útil ",null,null,null,null,"Evaluacion Gen",50]
[761,"2018-07-28","Huesped",710,null,"Habitación","Cambiar las cajas de seguridad por cajas modernas y fáciles de utilizar. Las que hay son complejas de operar.",null,null,null,null,"Evaluacion Gen",10]
[760,"2018-07-28","Huesped",308,null,"Habitación","La conexión a Internet debería ser mejor y más estable. Conexión buena es lo que falta",null,null,null,null,"Evaluacion Gen",29]
[759,"2018-07-28","Huesped",307,null,"Habitación","Internet no funcionó bien en la habitación.",null,null,null,null,"Evaluacion Gen",28]
[758,"2018-07-27","Huesped",801,null,"Restaurante","Poner precios mas bajos en los restaurantes ya que son muy caros.",null,null,null,null,"Evaluacion Gen",192]
[757,"2018-07-28","Huesped",404,null,"Habitación","la limpieza de la habitación el día de ayer no las satisfizo, me muestran que no les reemplazaron los vasos sucios, las camas no fueron bien acomodadas, que no se les agrego más bolsitas de té, y que no se les hizo tampoco ninguna decoración con las toallas como sí se les hizo a las otras habitaciones (405-406) que vienen con ellos",null,"Se les dio de cortesía 3 bebidas en el bar húmedo","Cesar Morales C.","Servicio Cliente"]
[756,"2018-07-27","Huesped",801,null,"Habitación","  también que existe un gran espacio entre el marco y la puerta misma que permite ingresar mosquitos y demás insectos","Cambiar de habitación el día de mañana 28-7-18","Se les muestra otras habitaciones, pero el huésped no queda satisfecho, por lo que se les va a cambiar mañana 28-7-18 a la 902/ se les ofrece una cena en el italiano, boleta de cortesía 0240","Cesar Morales C.","Servicio Cliente"]
[755,null,"Huesped",801,null,null," además del teléfono que no funciona, "]
[754,null,"Huesped",801,null,null,"los huéspedes expresaron su disconformidad y molestia debido a los problemas ocasionados por el aire acondicionado de la habitación"]
[753,"2018-07-25","Huesped",904,null,"Habitación","Baño huele muy mal como a cañería, además habían insectos, hormigas y lagartijas en la habitación",null,null,null,null,"Evaluacion Gen",75]
[752,"2018-07-23","Huesped",409,null,"Restaurante","Huésped se queja que durante el buffet del sábado vió muy poca etiquetas en las comidas y hace falta rotulación.",null,null,null,null,"Evaluacion Gen",156]
[751,"2018-07-22","Huesped",411,null,"Habitación","En las habitaciones hay polvo, mejorar la limpieza",null,null,null,null,"Evaluacion Gen",150]
[750,"2018-07-23","Huesped",312,null,"Habitación","Huésped se queja de gotera en la ventana.",null,"Mantenimiento ","Deyvin Aguirre","Recepción"]
[749,"2018-07-24","Colaborador",null,null,"Servicio al Cliente","La impresora de comandas da problemas porque no imprime de manera correcta las amenidades que se comandan a cocina, presenta un error al parecer que provoca que se imprima en blanco gran cantidad de papel en blanco.",null,null,"Cesar Morales C.","Servicio Cliente"]
[748,"2018-07-23","Huesped","403-211",null,"Habitaciones","El siguiente correo es para notificar acerca de una misma situación en la cual se  vieron afectadas 2 habitaciones, las mismas serian 403 – 211 , alrededor de las 6 pm se recibe el informe de ambas habitaciones en el cual los huéspedes informan que desde sus baños provienen olores muy fuertes y desagradables y ambos lo describen como un olor a cloaca y humedad y que les perturba su estadía en el hotel, inmediatamente se coordina con las compañeras de áreas públicas para verificar el estado de la situación, ellas nos informan que dichos olores efectivamente provienen del desagüe del baño de las duchas, ellas hacen la limpieza respectiva y de igual forma dejan fragancias en las habitaciones para disminuir dichos olores, se esperan alrededor de 30 min y mi persona juntamente con la compañera nos dirigimos para corroborar que todo se encuentre en orden, la hab 211 no posee ningún inconveniente, sin embargo la hab 403 aun contaba con un poco de olor. A los huéspedes se les ofrece el traslado de habitaciones pero ellos desean permanecer en sus habitaciones respectivas e indican que si el problema persiste aceptarán dichos cambios. Quiero hacer la connotación de que dichas situaciones al parecer es producto de las constantes lluvias y por este motivo los desagües se rebalsan emitiendo dichos olores. Favor darle el seguimiento respectivo a la situación ocurrida, cualquier consulta estoy para servirles.",null,null,"Jean Pierre Brenes","Recepción"]
[747,"2018-07-22","Huesped","209-210","C1","Hotel","fuerte reclamo de su parte por el hecho de que se les dieron habitaciones diferentes a las que se les prometió cuando reservaron. Cuando se les realizó el check-in los huéspedes daban por hecho que se les iban a otorgar las habitaciones 311 y 312 debido a que en frente de estas habitaciones hay jardines y zonas verdes que básicamente a lo que nos dicen fue por esa la razón principal de su visita. A la hora de abordar la queja, a la señora se le explica que las habitaciones 209-210 tienen exactamente las mismas características ( Puertas Conectadas, 1 cama King y 2 camas Queen), sin embargo ella muy decepcionada y molesta nos insiste en un explicación del porque se le está entregando algo diferente si eso no fue lo acordado. Por más que se le intentó explicar la similitud de las habitaciones ella solicitó hablar con los encargados de las reservas, pero esto no fue posible debido a que no se encontraban. Les expliqué que no podríamos cumplir su solicitud ni hoy ni mañana porque no podíamos sacar a los huéspedes de las habitaciones 311-312 y que estos salían hasta el día 24/07/2018. La opción más viable fue compensarles con la cena carta paquete cortesía. Quisiera resaltar que fue necesario hablar con ellos en dos ocasiones frente a frente y una por teléfono para poder llegar a un acuerdo y que aceptaran la compensación. Me di a la tarea de ofrecerles las disculpas porque no se pudo cumplir lo que solicitaron e indiqué que nos hacíamos responsables de la situación y que esperábamos pudieran pasar una muy buena estadía . ",null,null,"Luis Carlos Navarro","Servicio Cliente"]
[746,"2018-07-22","Huesped",511,"C1","Habitación","Huéspedes se quejan de gotera justo arriba de su cama, debido a esto se les mojó su ropa de cama.",null,"Se precedió a mover la cama para que la gotera no continuara mojando la cama, se solicitó a mucamas secar piso, y se les pidió disculpas . Al siguiente día a primera hora la gotera va ser reparada ya que la gotera es reincidente.","Luis Carlos Navarro","Servicio Cliente"]
[745,"2018-07-22","Huesped","Grupo Patty Searcy","C1","Hotel","Señoras se quejan de la oscuridad y peligro que existe cuando los huéspedes caminan de noche por el hotel, una de las señoras del grupo sufrió una caída doblandose uno de sus tobillos y cayendo estrepitosamente en unos de los caños, el problema que ellas me indican es el desnivel que existe entre el pavimento y el caño. La caída se dió por las habitaciones 501-502 donde se confirma que la visibilidad es casi nula y no es posible apreciar el desnivel que causó caída.",null,"Asistencia y ayuda a la señora que sufrió la caída y a la vez se le indicó cada vez que necesite trasladarse con mucho gusto disponemos de carritos de golf. ","Luis Carlos Navarro","Servicio Cliente"]
[744,"2018-07-22","Huesped","Recepción",null,null,"Buenos días compañeros\nEspero se encuentren bien, quiero hacer de su conocimiento un problema que hemos tenido en reiteradas ocasiones y ha estado entorpeciendo nuestra labor al momento de realizar un cobro:\nEn primera instancia el datafono de Credomatic de recepción comenzó a duplicar montos y solo podemos usarlo para tarjetas American Express dado que es la única a la que no duplica, está mañana también comenzamos a tener problemas con los 2 datafonos del banco nacional, tuvimos que hacer uso del datafono del departamento de reservas, esto provoca que nuestro servicio sea lento y mediocre, dado que tenemos que pedirle a los huéspedes pasar a la oficina de reservas cuando la  tarjeta necesita un código pin para poder realizar un cargo, les solicitamos que por favor nos ayuden los más pronto posible con el tema para poder brindar un mejor y más rápido servicio, muchas gracias.\n",null,null,"Fernando Sandoval","Recepción"]
[743,"2018-07-21","Huesped",902,"C1","Habitación","Huésped reporta un fuerte olor en la habitación que los mantiene inconformes","Cambiar la habitación","Se le cambia la habitación y se les sugiere invitarlos a la noche del buffet típico, sin embargo ellos dicen que están bien así.","Deyvin Aguirre","Recepción"]
[742,"2018-07-19","Huesped",705,"C1","Habitación","Huésped no pudo dormir durante dos horas a partir de las 3 am, debido a que se había ido la electricidad y el generador producía mucho ruido.","Apagar la planta",null,"Deyvin Aguirre","Recepción"]
[741,"2018-07-19","Huesped","207-208","C1","Habitación","Telefonos no funcionan y huéspedes no pudieron recibir el wake up call",null,null,"Luis Carlos Navarro","Servicio Cliente"]
[740,"2018-07-18","Huesped",208,"C1","Habitación","Mal olor en habitación","Poner aromatizador",null,"Liz Aguilar U.","Super Visora Recep"]
[739,"2018-07-21","Huesped","204-210-304,,,",null,"Habitación","Las puertas principales en estos días, seguramente por el clima, han estado presentando fallas a la hora de cerrar, esto de dos formas, la primera cuesta queda como baja y cuesta mucho abrirla, y la segunda es que cuesta que cierre bien.",null,null,"Cesar Morales C.","Servicio Cliente"]
[738,"2018-07-21","Huesped",302,"C1","Hotel","Al realizar la llamada de bienvenida el huésped molesto reporta su malestar por que se duró mucho tiempo en entregarle la habitación","Huésped no permitió que se le hablará, colgó inmediatamente después de haber dicho esto",null,"Cesar Morales C.","Servicio Cliente"]
[737,"2018-07-21","Huesped",708,"C1","Habitación","Huésped reporta hormigas en la habitación","Limpieza inmediata ",null,"Cesar Morales C.","Servicio Cliente"]
[736,"2018-07-20","Huesped",706,"C1","Hotel","Huésped se queja del ruido generado en la construcción, nos comenta que el problema es que inicia muy temprano a realizar los trabajos.","Revisar lo comentado para evitar problemas con los huéspedes futuros","Se le pide disculpas y además se le ofrece un descuento en el spa del 15%","Cesar Morales C.","Servicio Cliente"]
[735,"2018-07-18","Huesped",null,null,null,"Buen día Jefa!\nEs para informarte que la noche de hoy al check-in de 5 personas (Habitaciones 101 y 102) no se les entrego coctel de bienvenida pues no habían disponibles.\nNo hizo mucha falta a decir verdad dado que los clientes venían muy cansados sin embargo, si me manifestaron que tenían mucha hambre.\nHoy en particular venía muy lleno por lo que les ofrecí mi cena. Estaba un poco “seca” entonces le agregue un poco de chimichurri y aguacate que fue lo que encontré en el restaurante italiano. Además les di  5 manzanas que tome de la cámara del barril.\nPasado el tiempo me llamo la cliente diciendo que si podía tener agua, que no había en la habitación a lo q le respondí que en el mini-bar debía tener pero me dijo que no vio ninguna.\nPor esta razón tome 5 botellas de la bodega de los botones y las envié pero una vez entregadas me dijo que la disculpara. Que ya había encontrado las botellas de agua.\nComo vez es un reporte informativo más que cualquier otra cosa, no sé por el tema de control de inventarios si debe esto ser del conocimiento de alguien más pero lo dejo a tu criterio.\nAdemás de la oportunidad de mejorar en algunos detalles sin embargo los clientes muy contentos y agradecidos con la empatía y el servicio.\nCualquier consulta estoy para servirte!\nGelipe",null,null,"Liz Aguilar U.","Super Visora Recep"]
[734,"2018-07-18","Huesped",null,null,"Cocina","Buenos Días Diego,\n\nEspero se encuentre bien. \nLe escribo para solicitarle ayuda con algo que a mi parecer se ha vuelto reiterado y hasta desgastante para recepción, botones, ama de llaves y servicio al cliente. \nEl tema aquí tiene que ver con las amenidades y los detalles especiales que Servicio al Cliente se encarga de solicitar a cocina con un día de anticipación por dos medios ( correo y en físico ). Yo mismo he sido testigo que existe un claro desorden de comunicación o de asignación de funciones ya que unos días si se le da seguimiento al reporte de detalles especiales y otros al parecer nadie se quiere hacer cargo. En este sentido yo me apego al procedimiento que mi superior Liz Aguilar nos ha solicitado, sin embargo mi duda es si el 100% de su departamento conoce el procedimiento? \nHablando con los botones ellos me indican que los han devuelto varias veces diciendo que nadie les ha pedido amenidades, y ellos ante esta respuesta acuden a mi persona en donde yo he tenido que llamar y solicitar que por favor revisen la hoja que se deja pegada en la pizarra de cocina. Muchas veces he tenido que acudir a Don Gerardo Meléndez el cual muy amablemente ha tratado de que se mejore en este aspecto, de hecho cuando se encuentra en el hotel, es el único que responde los correos en donde me hace ver que ya conocen de las amenidades requeridas y que le darán seguimiento, él hasta me ha sugerido que yo pida una firma de entregado pero creo que esto no es necesario cuando existe un compromiso por el trabajo.  La intención de compartirle todo esto es con el único fin de mejorar siempre pensando en nuestros huéspedes, hablando con Melissa ella me sugiere la posibilidad de dejar las bolsas de frutas listas la noche antes o que exista una hora de la mañana en donde se tengan listas siempre y cuando sea temprano.  Como usted puede ver es algo que está afectando a más de un departamento y como se lo pedí al inicio me gustaría contar con su ayuda para mejorar estos detalles que aunque parezcan simples tienen peso a la hora de que no se prepara un queque, de que no mandamos las bolsas de frutas correctamente, entre otras cosas que han pasado. \nMuchas gracias de antemano y cualquier consulta estoy a la orden.\nSaludos!\n",null,null,"Luis Carlos Navarro","Servicio Cliente"]
[733,"2018-07-18","Huesped",403,null,"Hotel","Muy señores nuestros, \nMi nombre es Naresh Lakhwani y estuvimos alojados en la habitacion 403 de su hotel del 13 al 15 de este mes (Julio) junto a mi esposa Juliana Sánchez a cuyo nombre estaba la reserva , al check out del hotel tuvimos la desgracia de dejar olvidado una carpeta con nuestra documentación, itinerario de viaje y 950 euros en efectivo.\nAl llegar a nuestro hotel en Monteverde llamamos a vuestro hotel y nos dijeron que estaba allí, supuestamente intacta, y que la mandarian por empresa de transporte al nuevo destino. Hoy día 16 hemos recibido el envío que nos han entregado en un sobre cerrado y al abrirlo nos hemos dado cuenta que han sustraído 200 euros del efectivo además de haber cambiado el dinero de compartimento (sabíamos exactamente la cantidad que había y donde estaba guardado porque era exactamente el importe de algo que íbamos a comprar)\nHe llamado personalmente y hablado con atención al cliente de ustedes y me comentan que entregaron a la empresa de transporte el paquete ya cerrado con lo cual en algún momento se ha sustraído ese dinero.\nEl motivo de ponerme en contacto con ustedes es hacerles saber que no tanto por la cuantía económica, que también, sino más por el agravio, hemos decidido denunciar lo ocurrido a la policía y postear todo lo ocurrido y la denuncia en todos los medios a nuestro alcance. Seguramente no recuperemos nada puesto que solo nos quedamos en el pais 4 dias mas, pero por lo menos daremos a conocer lo ocurrido a la mayor cantidad de gente posible nombrandolos tanto a ustedes como a la empresa de transporte.\nLo ocurrido ha sido la única mancha en nuestra luna de miel ya que su país tanto como la mayor parte de su gente son encantadores pero no nos parece justo lo sucedido!!\n\nSin otro particular, le saluda atentamente: \n\nNaresh Lakhwani \n",null,null,"Luis Carlos Navarro","Servicio Cliente"]
[732,"2018-07-18","Huesped",208,"C1","Habitación","Huéspedes se quejan por mal olor.",null,null,"Liz Aguilar U.","Super Visora Recep"]
[731,"2018-07-18","Huesped",512,"C1","Habitación","Gotera justo encima de la cama",null,null,"Luis Carlos Navarro","Servicio Cliente"]
[730,"2018-07-17","Huesped",201,"C1","Habitación","Huésped se queja de fuerte ruido en el techo del lado del panel",null,null,"Deyvin Aguirre","Recepción"]
[729,"2018-07-18","Huesped",null,null,"Habitaciones","Teléfonos de las habitaciones no funcionan correctamente ni tampoco el de caseta",null,null,"Liz Aguilar U.","Super Visora Recep"]
[728,"2018-07-16","Huesped",901,"C1","Habitación","Canoa en el balcón tiene fuga, y por esto se mete mucha agua al balcón.",null,null,null,null,"Evaluacion Gen","2018-07-69"]
[727,"2018-07-16","Huesped",901,"C1","Habitación","Fuerto olor a agua estancada en el baño",null,null,null,null,"Evaluacion Gen","2018-07-69"]
[726,"2018-07-13","Huesped",904,"C2","Hotel","Huéspedes muy molestos por transfer contratado con nosotros que no llegó a recogerlos a la hora y el día acordado, por lo que los huéspedes pagaron una transfer privado hasta el hotel.","Utilizar el dinero que ya pre-pagaron para nosotros brindarles el transporte cuando se vayan el día 17/07 solo que indican que quieren que otra empresa de transporte les de el servicio ya que la otra les pareció irresponsable y poco seria. ",null,"Luis Carlos Navarro","Servicio Cliente"]
[725,"2018-07-13","Huesped",406,"C1","Restaurante","NO hay variedad en menú para niños.",null,null,null,null,"Evaluacion Gen","2018-07-72"]
[724,"2018-07-10","Huesped",107,"C1","Habitación","Las instrucciones del coffee maker no están claras, es para hervir agua o solo calentarla? Si no lo dice no lo sabran los huéspedes. Además las instrucciones de como encender el ventilador de techo no se ven.",null,null,null,null,"Evaluacion Gen","2018-07-71"]
[723,"2018-07-10","Huesped",107,"C1","Hotel","Caminos cruzando por el pasto muy húmedos y resbalosos que podrían causar una caída, talvez colocar piedras para facilitar caminar por ahí.",null,null,null,null,"Evaluacion Gen","2018-07-71"]
[722,"2018-07-13","Huesped",502,"C1","Habitación","Poner espejo fuera del baño.",null,null,null,null,"Evaluacion Gen","2018-07-70"]
[721,"2018-07-14","Huesped",509,"C1","Spa","Huespedes molestos tuvieron que cancelar masaje de luna de miel por jacuzzi en mal estado (tapon dañado)",null,null,"Liz Aguilar U.","Super Visora Recep"]
[720,"2018-07-13","Huesped",202,"C1","Habitación","Habitación sin agua caliente",null,null,"Fernando Sandoval","Recepción"]
[719,"2018-07-12","Huesped",302,null,"Lobby","Colocar rotulación llamativa o colorida que indique por ejemplo cual es el Souvenir, cual es el Tour Operador, cual es Servicio al cliente, cual es la recepción, etc. ",null,null,null,null,"Evaluacion Gen","2018-07-69"]
[718,"2018-07-12","Huesped",302,null,"Hotel","Renovar la recepción que es anticuada, fea y no va acorde con el hotel.",null,null,null,null,"Evaluacion Gen","2018--07-69"]
[717,"2018-07-11","Huesped",312,null,"Habitación","En la Habitación hay una gotera",null,null,null,null,"Evaluacion Gen","2018-07-73"]
[716,"2018-07-11","Huesped",309,null,"Hotel","Huéspedes se quejan de las computadoras del lobby las cuales no les funciona la unidad de CD-Room y no fue posible leer un disco de fotos que necesitaban compartir entre ellos.",null,"Se les prestó la computadora de Guest Service para que pudieran ver las fotos y compartirlas entre ellos.","Luis Carlos Navarro","Servicio Cliente"]
[715,"2018-09-09","Huesped",null,null,"Ama de llaves ","Por este medio le comunico que hoy tuve una situación con Katia debido a un cambio que se hizo a última hora. \nTeníamos una reserva del señor Oscar Molina quien es un cliente frecuente en la 104 y él dijo que si la habitación 105 estaba disponible le gustaría esa en vez de la 104. \nAl venir todos los años se le hizo un arreglo el cual teníamos que mover a la 105 – esta habitación ya estaba lista- era solo de mover las cosas. Solicite un 21 a Katia ya que el cliente estaba en frente de mí, pero la compañera se alteró de una manera muy inadecuada diciendo que la habitación estaba lista y que como la íbamos a poner a correr “estamos en el agua”, y que además no le estaba dando una explicación de por qué moverlos. Y de la misma manera molesta me dijo que iba a estar en 20 minutos, le dije que porque si ya estaba lista, y era solo de pasar las cosas, ella me repitió lo mismo muy alterada y que si quería que fuera adentro para que viera como estaban ellas. \nSimplemente le dije que no había razón para que me alzara la voz de esta manera, y decidí colgar el teléfono. \nLuego a los 5 minutos me pasó la habitación lista el compañero Oscar, me dijo que él fue y movió las cosas ya que era lo único que había que hacer.","Por más ocupados que estemos no hay razón para enojarnos y alzar la voz hacia otra persona. \r\nLo menos que necesitamos es problemas personales dentro del ambiente laboral y por este motivo hago de su conocimiento lo sucedido. \r\n",null,"Deyvin Aguirre","Recepción"]
[714,"2018-07-10","Huesped",null,null,"Restaurante","Le informo que le día de hoy , durante3 el desayuno, pudimos detectar a tiempo la presencia de una cucaracha.\nEn realidad una huésped de la habitación 402, fue quien alerto al compañero José Quirós. M la misma se encontraba sobre la mesa y esta estaba desocupada. El compañero la retiro rápida y discretamente.\nPuedo decir que dicho evento, no causo mayor relevancia, nadie más se dio cuenta y no tuvo mayor repercusión.\n\n\n","Si sería bueno , programar una fumigada y chequeo más profundo, para evitar futuros inconvenientes.",null,"Gerardo Melendez","Capitan"]
[713,"2018-07-10","Huesped",107,"C1","Habitación","Cajas fuertes más grandes, que puedan caber laptops"]
[712,"2018-07-09","Huesped",401,"C1","Hotel","Promover actividades para adolescentes donde se reúnan, compartan y se conozcan."]
[711,"2018-07-10","Huesped",null,"C1","Restaurante","Debería haber más variedad de opciones en el desayuno "]
[710,"2018-07-10","Huesped",707,"C1","Recepción","Deberían haber ganchos para poder colgar las capas"]
[709,"2018-07-10","Huesped",707,"C1","Habitación","Deben haber más ganchos para poder colgar las toallas en el baño"]
[708,"2018-07-10","Huesped",405,"C1","Habitación","El refrigerador de la habitación tiene un ruido muy fuerte"]
[707,"2018-07-09","Huesped","103-502","C1","Habitación","Habitaciones fumigadas con el piso resbaloso y fuerte olor. Al parecer no hubo comunicación entre los compañeros de fumigación y las mucamas por lo que en recepción se nos informó que estas habitaciones estaban listas para entregar lo cual fue vergonzoso ya que al llevar a los huéspedes a las habitaciones se toparon con la sorpresa de que las habitaciones no estaban aptas debido al humo y olor.",null,null,"Luis Carlos Navarro","Servicio Cliente"]
[706,"2018-07-09","Huesped",201,"c3","habitación ","Cliente llama para informar que no tienen agua caliente en la habitacion, y que son 5 personas en la habitación. ","Solicita hablar con gerencia o alguien encargado ya que estan pagando bastante dinero por su estadia. ","Se le pasa el reporte a servico al cliente, se le comunica a mantenimiento y el compañero indica que tanque provee agua a varias habitaciones por ese motivo se quedó sin suficiente suministro para ellos, aparte que son 5 pax en una sola habitación. Seguidamente se le otorga una cortesia en restaurante a la cliente ya que se muestra molesta por lo sucedido/ se le dió una cena como cortesía en el restaurante ti-caín.","Deyvin Aguirre","Recepción"]
[705,"2018-07-09","Huesped",609,"C1","Habitacion ","Cliente de caravan comunica que no tiene electricidad en la habitación, al parecer no estaba sirviendo el tarjetero. ",null,"Se cambio a la habitación 309, ya que no se sabia si se iba a solucionar la situacion con el switch. ","Deyvin Aguirre","Recepción"]
[704,"2018-07-09","Huesped",306,"C1","Hotel","Huésped se queja de la hoja de evaluación que se deja en las habitaciones para que los huéspedes la llenen antes de irse, el mismo indica que tiene errores gramaticales tanto en Inglés como en Alemán y que eso es mal visto ya que el hotel debería de ser profesional en ese aspecto. ","El huésped nos entrega la hoja con los errores corregidos para que la diseñemos como debe ser."]
[703,"2018-07-07","Huesped",104,"C1","Habitación","aiRE ACONDICIONADO nunca funcionó."]
[702,"2018-07-07","Huesped",110,"C1","Habitación","Red WiFi funcionaba bien en restaurantes pero en el cuarto nunca funcionó bien"]
[701,"2018-07-07","Huesped",110,"C1","Gimnasio","Por favor modernizar instalaciones del gimnasio. Como pueden ver, todo fue calificado como excelente pero las maquinas del gimnasio no estan acordes con la calidad del hotel."]
[700,"2018-07-07","Huesped",505,"C1","Habitación","Espejo frente al inodoro es raro y además las sabanas no son cómodas."]
[699,"2018-07-08","Huesped","205-206","C1","Bar Húmedo","Huésped se queja de la mala actitud de uno de nuestros empleados llamado Marco del bar húmedo, el mismo indica que no le gustó la manera en que lo atendió y que cuando le pidió le cambiara un vaso caliente por uno frío la solución no fue la que esperaba además de que ni empatía le mostró, lo cual indica el señor debe ser indispensable en esa área. Se le ofrecieron disculpas al señor y se le agradeció por la retroalimentación, que iba ser tomada en cuenta para mejorar.",null,null,"Luis Carlos Navarro","Servicio Cliente"]
[698,"2018-07-05","Huesped",602,"C1","Habitación","El espejo del baño debe ser mas grande ya que no me gusta sentarme en el sanitario para mirarme en el espejo."]
[697,"2018-07-05","Huesped",505,"C2","Habitacion ","El internet está muy mal, no sirve en la habitación",null,"Fuimos a la habitacion a validar lo que el cliente decía, y efectivamente era así. Arnaldo vino pero tampoco lo pudo resolver.","Liz Aguilar U.","Super Visora Recep"]
[696,"2018-07-05","Huesped",902,"C1","Hotel","Mejorar el internet"]
[695,"2018-07-04","Huesped",405,"C1",null,"Se activa el panel de la 403, indican que las alarma se activó en la habitacion  405  procedemos a llamar a la habitacion para consultarle a los clientes si todo estaba bien, los mismos nos indican que todo está en orden, una vez verificado el estado de las habitaciones con los huéspedes  el compañero Kenneth procede a  apagar el panel",null,null,"Jose Hernandez ","Recepción"]
[694,"2018-07-04","Huesped",207,"C1",null,"Al ser las 6:45pm de hoy 04/07/2018 el compañero Kenneth de seguridad reporta que se activaron las alarmas, específicamente  los paneles de las habitaciones  203 y 403, estos indican que las alarmas se activaron en las habitaciones 207 y 405 respectivamente, procedemos a llamar a las habitaciones para consultarle a los clientes si todo estaba bien en las habitaciones, los mismos nos indican que todo está en orden, una vez verificado el estado de las habitaciones con los huéspedes  el compañero Kenneth procede a  desactivar las alarmas.",null,null,"Jose Hernandez ","Recepción"]
[693,"2018-07-04","Huesped",904,"C1","Habitación","Poner alfombra a la entrada de las escaleras, ya que el piso es resbaloso"]
[692,"2018-07-04","Huesped",202,"C1","Habitación","Al ser las 8:15pm los huéspedes llaman indicando que hay una víbora en su habitación y que por favor les ayuden ya que no quieren que los niños se den cuenta.",null,"Inmediatamente se contacta a mantenimiento y nos dirigimos a la habitación primeramente a hablar con el señor y ofrecerle las disculpas del caso porque esto es muy poco común, procedemos a mover a los huéspedes a la hab 312 solo para que pasen la noche y ante el posible escape de la serpiente nos vimos en la obligacion por seguridad de los huéspedes de matar a la serpiente.","Luis Carlos Navarro","Servicio Cliente"]
[691,"2018-07-04","Huesped",null,null,"Restaurante","Huéspedes se quejan que en el desayuno habían moscas dentro del yogurt y además en algunas otras comidas que estaban en el buffet, dicen que nunca habían sido testigos de esto en los paseos que han realizado.",null,null,null,null,"Tripadvisor"]
[690,"2018-07-04","Huesped",201,"C1","Habitación","Huésped se queja que durante la noche de ayer 03-07-18, hubo un ruido que los pertubó, el ruido al parecer venía del techo","Revisar la situación","Se le dió cortesía la factura BH-00090521.","Cesar Morales C.","Servicio Cliente"]
[689,"2018-07-03","Huesped",312,"C1","Hotel","Huésped se encuentra enfermo según ellos esto les pasó después de almorzar en el hotel unos fetuccini di mari, ","Que los atendiera un médico, y que se les proporcionara algo para rehidratarse y unos sandwiches de igual forma.","Primeramente se le explica al huésped sobre los estandares de manipulación presentes en el hotel, además se le explica que los virus que afectan el sistema digestivo se incuban primero desde 48 a 72 horas, y que por ende es muy dificil que esto haya sido por la ingesta del almuerzo en el hotel. Se le envía luego unos powerades para que se rehidraten y unos sandwiches, también unas frutas. Luego se envián a sanar y ahí el doctor Sergio les realiza los examenes y les explica nuevamente la situación con los virus que afectan al sistema digestivo.","Cesar Morales C.","Servicio Cliente"]
[688,"2018-07-03","Huesped",null,"C1","Restaurante","Precios de la cena muy elevados",null,"TripAdvisor"]
[687,"2018-07-03","Huesped",null,null,"Hotel","Al ser las 10:15 am aproximadamente el servicio de Internet del hotel se cae imposibilitando realizar cobros con el datafono, entre otras cosas. Varios huéspedes se vieron afectados tanto haciendo check-out como otros que llamaban preguntando por el Wi-Fi del hotel ya que no les servía.",null,"Se intentó contactar a Arnaldo pero no fue posible por lo que Jairo e Ivan intentaron solucionar el inconveniente en el cuarto de comunicaciones habilitando una línea directa para conectar el datafono y poder hacer los cobros.","Luis Carlos Navarro","Servicio Cliente"]
[686,"2018-07-03","Huesped",504,"C1","Recepción","Huéspedes se quejan ya que el documento que le envió la agencia a recepción para ser entregado a los huéspedes no se les dió, los señores no pudieron ir a un tour ya que no fueron informados y se encontraban inconformes con el error que se dió en recepción al enviar un documento en español que no correspondía con el que envió la agencia.",null,"Se les dió cena de cortesía como compensación al error y los huéspedes quedaron satisfechos.","Luis Carlos Navarro","Servicio Cliente"]
[685,"2018-07-02","Huesped",512,"C1","Habitación","Cliente indica el agua del baño apenas es tibia incluso abriendola toda. Y necesitaban tomar un baño. ",null,"Se envio a mantenimiento a chequear y lo que nos indica el compañero es que hay 4 habitaciones conectadas al mismo tanque y que probablemente se habia gastado el agua del tanque. por lo cual los clientes deben esperar 30 minutos o más. Se le indico al huésped y amablemente dijo que no importaba esperar entonces. ","Deyvin Aguirre","Recepción"]
[684,"2018-07-02","Huesped",107,"C1","Habitación","Cuando se le aborda al huésped mediante la llamada de bienvenida reporta un olor desagradable y muy fuerte.","Huésped solicita que se revise la situación","Decidó cambiarlos a la hab 207","Cesar Morales C.","Servicio Cliente"]
[683,"2018-07-01","Huesped",606,"C1","Hotel","Huésped molesto porque no hay servicio de desayuno a la habitación.",null,null,null,null,"Evaluacion Gen","2018--07-06"]
[682,"2018-06-30","Huesped",515,"C1","Habitación","Todos los días que estuvimos hospedados tuvimos problemas con cucarachas grandes y pequeñas, el veneno hizo que salieran cada día más, por las noches la situación era peor.",null,null,null,null,"Evaluacion Gen","2018--07-10"]
[681,"2018-06-29","Huesped",411,"C1","Restaurante","Mejor selección en calidad de las comidas.",null,null,null,null,"Evaluacion Gen","2018--07-12"]
[680,"2018-06-30","Huesped",203,"C1","Habitación","La refrigeradora hace mucho ruido",null,null,null,null,"Evaluacion Gen","2018--07-14"]
[679,"2018-07-02","Huesped",null,"C1","Restaurante","Cena muy limitada y con precio elevado.",null,null,null,null,"Tripadvisor"]
[678,"2018-07-02","Huesped",null,"C1","Restaurante","La selección de opciones de desayuno no es buena, no hay tocino. ",null,null,null,null,"Tripadvisor"]
[677,"2018-07-01","Huesped",null,"C1","Restaurante","Muy decepcionados con la cena, precios muy caros y calidad de la comida no es equivalente a los que cobran en comparación con otros hoteles de la zona.",null,null,null,null,"Tripadvisor"]
[676,"2018-06-19","Huesped",null,"C1","Restaurante","El costo de las comidas es muy caro y es mejor ir a alguna soda en el pueblo.",null,null,null,null,"Tripadvisor"]
[675,"2018-06-16","Huesped",null,"C1","Restaurante","Cenas y bar de la piscina con precios muy elevados.",null,null,null,null,"Tripadvisor"]
[674,"2018-06-13","Huesped",null,"C1","Restaurante","El sushi es pésimo, la calidad de los ingredientes es terrible (cero frescos), las combinaciones de sabor fatal, el arroz no tiene la textura adecuada y tampoco buena presentación. \r\nNo entiendo como un hotel tan bello puede ofrecer un sushi tan terrible :(\r\n",null,null,null,null,"Tripadvisor"]
[673,"2018-06-29","Huesped",710,"C1","Habitación","Huésped reporta que hay cucarachas en la habitación",null,null,"Jose Hernandez ","Recepción"]
[672,"2018-06-29","Huesped","111-112","C1","Hotel","Huéspedes se quejan que se les hizo entrega de l acajaita de desayuno y no incluía cucharas o tenedores para comer. Tuvieron que bajarse del carro y venir a recepción porque se les había indicado que si llevaban cucharas de acuerdo a lo que se indicó de parte de los compañeros de salón a recepción.",null,null,"Luis Carlos Navarro","Servicio Cliente"]
[671,"2018-06-28","Huesped","514-515","C1","Habitación","Huésped bastante decepcionado y molesto ya que en su habitación no dejan de salir cucarachas principalmente del lado del mueble cerca del televisor, el muchacho se acercó a recepción indicando que está cansado de esto y que jamás pensó que el hotel fuera un cucarachero, se fumigó horas antes y debido a eso salen las cucarachas atontadas y esto molestó más al huésped. El dice que va estar 2 noches más en el hotel y que no esperaba vivir esto.","Revisar mueble cerca del televisor porque ahí es donde creé que hay un gran criadero de cucarachas.","Se comunica a mantenimiento y áreas públicas para la fumigación y revisión de la habitación en la parte donde el huésped indica están las cucarachas. ","Luis Carlos Navarro","Servicio Cliente"]
[670,"2018-06-28","Huesped",105,"C1","Restaurante","Precios sumamente caros en las comidas, deberían poner un transporte a la fortuna donde se pueda ir y comer y que ofrezcan precios razonables",null,null,null,null,"Evaluacion Gen","2018--06-228"]
[669,"2018-06-28","Huesped",105,"C1","Habitación","Huéspedes se quejan que el servicio de internet no les funciona y aunque aparecen conectados no es posible usar el internet.",null,"Arnaldo procede a abrir la red ","Luis Carlos Navarro","Servicio Cliente"]
[668,"2018-06-28","Huesped",801,"C1","Encuesta de satisfacción","Las instrucciones en alemán están mal redactadas y con mala ortografía también.","Editar y corregir el idioma para mejorar el servicio",null,null,null,"Evaluacion Gen","2018-06-219"]
[667,"2018-06-24","Huesped",504,"C1","Habitación","El baño de la habitación expide un olor desagradable",null,null,null,null,"Evaluacion Gen","2018-06-221"]
[666,"2018-06-27","Huesped",301,"C1","Restaurante","Tener productos que sean organicos",null,null,null,null,"Evaluacion Gen","2018-06-223"]
[665,"2018-06-27","Huesped",301,"C1","Restaurante","Menú para niños",null,null,null,null,"Evaluacion Gen","2018-06-223"]
[664,"2018-06-27","Huesped",602,"C1","Restaurante","El restaurante nacional debería de tener más decoración costarricense, más musica típica para el desayuno e instrumental para la noche",null,null,null,null,"Evaluacion Gen","2018-06-225"]
[663,"2018-06-27","Huesped",515,"C1","Habitación","Cucarachas en la habitación ","Limpieza inmediata ","Se envió a mantenimiento y mucamas.","Maria Nela Sancho ","Recepción"]
[662,"2018-06-25","Huesped",408,"C1","Restaurante","Más opciones en las comidas y mejorar servicio en el bar de psicinas.",null,null,null,null,"Evaluacion Gen","2018-06-199"]
[661,"2018-06-25","Huesped",304,"C1","Habitación","Solo hay una mesa de noche y deberían haber dos para poner cosas.",null,null,null,null,"Evaluacion Gen","2018-06-203"]
[660,"2018-06-24","Huesped",304,"C1","Hotel","Alrededor del hotel deberían haber mas senderos o areas para ver aves y flores.",null,null,null,null,"Evaluacion Gen","2018-06-203"]
[659,"2018-04-24","Huesped",211,"C1","Restaurante","Es necesario tener mas opciones para personas diabéticas.",null,null,null,null,"Evaluacion Gen","2018-06-194"]
[658,"2018-06-24","Huesped",407,"C1","Habitación","El espejo con aumento en el baño esta muy alto.",null,null,null,null,"Evaluacion Gen","2018-06-185"]
[657,"2018-06-23","Huesped",705,"C1","Habitación","Sería bueno tener un espejo grande en la habitación fuera del baño",null,null,null,null,"Evaluacion Gen","2018-06-186"]
[656,"2018-06-23","Huesped",111,"C1","Restaurante","El huésped menciona que el día miercoles 20 al ser las 9 de la mañana cuando fueron al desayuno, los muchachos del restaurante se veían más apurado por limpiar y terminar que por servir al huésped",null,null,null,null,"Evaluacion Gen","2018-06-193"]
[655,"2018-06-22","Huesped",612,"C1","recepción ","Tienen muchos bichos en la habitación, "]
[654,"2018-06-22","Huesped","309-310","C1","Recepcion","Tienen muchas hormigas y bichos en la habitación. Es el segundo reporte durante la estadía. ","Solicita que revisen y pongan spray en la habitacion mientras ellos van para tour. ","Se envio a mantenimiento y ama de llaves a chequear la habitacion nuevamente para tratar de manternerle limpia y sin bichos la habitación al huesped. ","Deyvin Aguirre","Recepción"]
[653,"2018-06-20","Huesped",502,"C1","Hotel","Huésped muy decepcionado del servicio de Internet que le ofrecemos, el mismo no puede utilizar un celular que usa para negocios ya que a pesar de que le sale conectado no es posible hacer uso del internet.","Eliminar poner una contraseña para así poder conectarse directo sin tener que esperar por una pagina o link que nunca le apareción en donde poder ingresar password.","Me dirigí a la hab a revisar la conexión y a resetear el celular pero nunca fue posible accesar al link donde se ingresa la contraseña. Se le tuvo que decir al señor que el problema era su teléfono lo cual fue vergonzoso ya que me indicó que en otros hoteles y paises no le había ocurrido eso y que su telefono era moderno.","Luis Carlos Navarro","Servicio Cliente"]
[652,"2018-06-20","Huesped",602,"C1","Gimnasio","Equipo del gym no funciona apropiadamente.",null,null,null,null,"Evaluacion Gen","2018--06-178"]
[651,"2018-06-19","Huesped",512,"C1","Habitación","El jacuzzi de la habitación no le funciona el agua termal",null,null,null,null,"Evaluacion Gen","2018-06-172"]
[650,"2018-06-19","Huesped",103,"C1","Habitación","El basurero del servicio de la habitación debería tener tapa",null,null,null,null,"Evaluacion Gen","218-06-173"]
[649,"2018-06-20","Huesped",104,"C1","Habitación","Sería bueno tener gavetas más amplias en el baño",null,null,null,null,"Evaluacion Gen","2018-06-174"]
[648,"2018-06-20","Huesped",407,"C1","Habitación","Algunos insectos en la habitación",null,null,null,null,"Evaluacion Gen","2018-06-175"]
[647,"2018-06-17","Huesped",603,"C1","Habitación","Muchas Hormigas en la habitación.",null,null,null,null,"Evaluacion Gen","2018--06-155"]
[646,"2018-06-17","Huesped",403,"C1","Restaurante","Huésped se queja de que a la hora de reservar en el hotel acordó una cena romántica especial  cual le vendieron y prometieron y no se cumplió, el señor estaba bastante molesto porque pagó más de 100 dólares por la cena y el menú que le brindaron era el mismo menú que se le ofrece a todos los clientes, el señor argumenta que  no hay nada especial en lo que se le ofreció y lo que le molesta es que le hayan mentido, el mismo prefirió que se le reintegrara el dinero y que iba a pagar lo que consumiera como otro huésped más común y corriente. ",null,"Se procedió a reintegrar el dinero y se le dió cena de cortesía.","Luis Carlos Navarro","Servicio Cliente"]
[645,"2018-06-17","Huesped",503,"C1","Habitación","Huésped se queja que el internet le funciona en la hab 503 pero en la de la par no le sirve del todo lo cual le parece bastante extraño.",null,"Se coloca en los pendientes para que Arnaldo se encargue de probar la intensidad de la señal en ambas habitaciones.","Luis Carlos Navarro","Servicio Cliente"]
[644,"2018-06-17","Huesped","Grupo de la Mora","C1","Restaurante","A continuación hacemos de su conocimiento una situación que se presentó en el restaurante Ti-Cain durante la cena del “Grupo de La Mora”.\nAl ser las 9:20pm se aproximó a recepción  el encargado del Grupo de La Mora, el mismo nos preguntó si se encontraba Miguel Munera en el hotel, ya que deseaba externarle el malestar por la mala atención que recibieron a la hora de la cena, nos comenta que el servicio fue lento y que la comida simplemente no estuvo bien, también nos hace saber que la tour leader le pidió por favor para la cena de mañana buscar un restaurante en el centro en el cual les brinden un buen servicio rápido y oportuno.\n",null,"Se les ofrecio bebidas de cortesía a los adultos","Jean Pierre Brenes","Recepción"]
[643,"2018-06-13","Huesped",607,"C1","Restaurante","\"Una cuchara pequeña que utilicé para endulzar mi café, no me di cuenta pero estaba sucia con huevo\" huésped nos recomienda entonces tener más cuidado con esto",null,null,null,null,"Evaluacion Gen","2018-06-135"]
[642,"2018-06-13","Huesped",709,"C1","Habitación","El baño necesita mejor iluminación // Coordinar poner dos bombillos por lámpara",null,null,null,null,"Evaluacion Gen","2018-06-132"]
[641,"2018-06-16","Huesped",109,"C1","HAbitación","Hormigas en la habitacion",null,"Se envió a las mucamas a limpiar","Cesar Morales C.","Servicio Cliente"]
[640,"2018-06-16","Huesped",504,"C1","Habitación","Huesped  se queja de hormigas en la habitación.",null,null,null,null,"Evaluacion Gen","2018-06-126"]
[639,"2018-06-15","Huesped","111-112","C1","Habitación","Huesped  se queja de hormigas en la habitación.","Solicitó que se le cambiara de habitación.","Se en"]
[638,"2018-06-14","Huesped",302,"C1","Habitación","Huesped se queja de hormigas en toda la habitación.","Solicitó que se le cambiara de ha bitación ","Se envió a la mucama a limpiar pero ella nos informa que la cantidad de hormigas es mucha, entonces se procede a cambiarlos a la habotación 304.","Maria Nela Sancho ","Recepción"]
[637,"2018-06-13","Huesped",307,"C1","Habitación","Se queja de la altura de la cama ya que es de baja estatura y le fue muy dificil bajarse.",null,null,null,null,"Evaluacion Gen","2018--06-110"]
[636,"2018-06-14","Huesped",902,"C1","Habitación","Huésped se queja que ellos nunca pusieron letrero de no molestar en la habitación, y que alguien lo hizo, lo cual esto provocó que no les hicieran la limpieza.",null,null,null,null,"Evaluacion Gen","2018--06-123"]
[635,"2018-06-14","Huesped",303,"C1","Habitación","Huésped se queja que su teléfono no conecta a internet de ninguna manera.",null,"Se localiza a Arnaldo que se encontraba en el hotel y él mismo intenta ver cual es el problema sin embargo no pudo hayar la solución, le indicó al huésped que el problema era su celular. Yo le pedí al huésped acercarse a recepción para que probaramos la señal en el lobby y tratar de ver como concetaba, el huésped claramente necesita el internet por lo que agradeció la ayuda y quedó pendiente Arnaldo de investigar xq nos pasa esto en varios dispositivos ya.","Luis Carlos Navarro","Servicio Cliente"]
[634,"2018-06-11","Huesped",202,"C1","Restaurante","Promover una noche para bailar, o bien tener más buena música.",null,null,null,null,"Evaluacion Gen","2018-06-99"]
[633,"2018-06-11","Huesped",202,"C1","Habitación","Más botellas de agua en la habitación sería un buen detalle",null,null,null,null,"Evaluacion Gen","2018-06-99"]
[632,"2018-06-11","Huesped",202,"C1","Habitación","Sería genial tener una silla en la habitación",null,null,null,null,"Evaluacion Gen","2018-06-99"]
[631,"2018-06-11","Huesped",202,"C1","Habitación","El shampoo podría ser mejor",null,null,null,null,"Evaluacion Gen","2018-06-99"]
[630,"2018-06-11","Huesped",null,null,"Restaurante","Más comida tradicional de Costa Rica en los menú, ya que cuando estuvimos hospedados solo estaba abierto el restaurante italiano y japones.",null,null,null,null,"Tripadvisor"]
[629,"2018-06-11","Huesped",403,"C1","Habitación","Huésped se queja de un ruido constante como un pito justo detrás de su habitación que no le permite dormir.",null,"Se revisa atrás de la habitación, la caja de las alarmas se encuentra con un \"Beep\" cada diez segundos, mantenimiento procede a desconectar las alarmas y los mismos indican que mañana se encargaran de reparar la avería.","Luis Carlos Navarro","Servicio Cliente"]
[628,"2018-06-11","Huesped",610,"C1","Habitación","Huéspedes se quejan de hormigas y cucarachas en la habitación.",null,"Se envía a la mucama con el veneno a revisar y eliminar los insectos.","Luis Carlos Navarro","Servicio Cliente"]
[627,"2018-06-09","Huesped",510,"C1","Habitación","Al bañarse la segunda persona el agua era muy fria. El agua caliete solo dura dos minutos"]
[626,"2018-06-09","Huesped",510,"C1","Habitación","El wifi o es muy lento o no funciona en la habitación",null,null,null,null,"Evaluacion Gen","2018-06-74"]
[625,"2018-06-09","Huesped",509,"C1","Habitación","El agua caliente a veces no funciona bien.",null,null,null,null,"Evaluacion Gen","2018-06-73"]
[624,"2018-06-09","Huesped",509,"C1","Hotel","El wifi no funciona bien",null,null,null,null,"Evaluacion Gen","2018-06-73"]
[623,"2018-06-09","Huesped",312,"C1","Piscinas","El jacuzzi debería tener rotulos para saber donde se debe presionar para obtener las burbujas",null,null,null,null,"Evaluacion Gen","2018-06-69"]
[622,"2018-06-05","Huesped",712,"C1","Habitación","Unos cuantos insectos en la habitación",null,null,null,null,"Evaluacion Gen","2018-06-65"]
[621,"2018-06-07","Huesped",610,"C1","Restaurante","Las porciones de comida no están acorde con el precio",null,null,null,null,"Evaluacion Gen","2018-06-62"]
[620,"2018-06-07","Huesped",705,"C1","Restaurante","Más opciones de comida vegetariana en el restaurante principal.",null,null,null,null,"Evaluacion Gen","2018--06-56"]
[619,"2018-06-08","Huesped",712,"C1","Habitación","El internet no funcionó bien, muy lento cuando pudimos recibir algo de señal.",null,null,null,null,"Evaluacion Gen","2018--06-57"]
[618,"2018-06-08","Huesped",712,"C1","Habitación","El refrigerador produce demasiado ruido",null,null,null,null,"Evaluacion Gen","2018--06-57"]
[617,"2018-06-07","Huesped","414-415","C1","Habitación","Cliente indica que no puede conectarse al Wifi, y luego cuando logró la conexion, la misma es muy debil y no le permite accesar correctamente. ",null,"Se llama a Arnaldo para que venga a revisar si hay algun problema con la red. ","Deyvin Aguirre","Recepción"]
[616,"2018-06-05","Huesped",305,"C1","Restaurante","Huésped se queja de los precios de los restaurantes, muy altos ",null,null,null,null,"Evaluacion Gen","2018--06-33"]
[615,"2018-06-05","Huesped",305,"C1","Hotel","Huésped se queja que reservó 22 días antes y solicitó una hab para adulta mayor y cerca a todas las areas comunes, sin embargo no tuvo respuesta.",null,null,null,null,"Evaluacion Gen","2018--06-33"]
[614,"2018-06-02","Huesped",206,"C1","Restaurante","Huésped se queja de las limitadas opciones en las comidas del bar de la piscina, le gustaria como hamburguesas. Además se queja del mal servicio recibido especialmente en el Italiano.",null,null,null,null,"Evaluacion Gen","2018--06-32"]
[613,"2018-06-05","Huesped",504,"C1","Habitación","Hubieramos podido usar los vasos, si estos estuviesen limpios.",null,null,null,null,"Evaluacion Gen","´2018-06--31"]
[612,"2018-06-05","Huesped",504,"C1","Habitación","Huesped se queja de hormigas en el area del baño.",null,null,null,null,"Evaluacion Gen","´2018-06--31"]
[611,"2018-06-04","Huesped",111,"C1","habitación","Huesped se queja de hormigas dentro de la  habitación y fuera. ",null,"Se procede a echar spray y limpiar. ","Deyvin Aguirre","Recepción"]
[610,"2018-06-04","Huesped",608,"C1","Habitación","NO hay silla en la habitación y es necesaria",null,null,null,null,"Evaluacion Gen","2018--06-24"]
[609,"2018-06-04","Huesped",605,"C1","Restaurante","Se quejan porque no hay coca cola zero ni tampoco menú para celiacos.",null,null,null,null,"Evaluacion Gen","2018--06-23"]
[608,"2018-06-02","Huesped",309,"C1","Restaurante","Huésped se queja del restaurante Italiano el cual en ese momento se encontraba trabajando como el restaurante principal debido al cierre del Ti-Cain, se queja de que no hay en realidad opciones de comida costarricense, los precios muy altos en comparación con la cantidad y calidad de la comida.",null,null,null,null,"Evaluacion Gen","2018--06-19"]
[607,"2018-06-03","Huesped",211,"C1","Restaurante","Probamos dos rollos de sushi y un sashimi y la calidad fue muy mala, el pescado no estaba fresco y la combinación de sabores no era la mejor, además la presentación de los rollos deficiente y la calidad del arroz no estaba al nivel de un restaurante aceptable de sushi. Y precios sumamente elevados en relación a la calidad.",null,null,null,null,"Evaluacion Gen","2018--06-18"]
[606,"2018-05-31","Huesped",104,"C1","Habitación","Muchas hormigas pequeñas en el baño y el  teléfono no funcionaba.",null,null,null,null,"Evaluacion Gen","2018--06-15"]
[605,"2018-06-03","Huesped",406,"C1","Hotel","Huésped indica que sería muy bueno tener sombrillas en la habitación.",null,null,null,null,"Evaluacion Gen","2018--06-14"]
[604,"2018-06-02","Huesped",108,"C1","Habitación","Hormigas en la habitación, hormigas en el coffee maker, hormigas en la cama.",null,null,null,null,"Evaluacion Gen","2018--06-13"]
[603,"2018-06-03","Huesped",510,"C1","Bar Húmedo","Huésped comenta a modo de recomendación que los compañeros de los bares en la piscina, deberían utilizar siempre guantes al realizar las distintas labores que realizan ahí, dado que muchas veces se limpian las manos en sus camisas y por el tipo de camisas y el calor que se produce ahí, pasan sudando por lo que es anti higienico","Revisar la recomendación",null,"Cesar Morales C.","Servicio Cliente"]
[602,"2018-06-03","Huesped",103,"C1","Habitación","Huesped reporta que tiene cucarachas en la habitación en la noche. ","Revisar la habitación, y echar algo para que salgan y no molesten. ",null,"Deyvin Aguirre","Recepción"]
[601,"2018-06-03","Huesped",107,"C1","habitacion ","Huesped reporta hormigas en la habitación. ","Spray y un poco de limpieza en la habitación . ",null,"Deyvin Aguirre","Recepción"]
[600,"2018-06-02","Huesped",205,"C2","Habitación","Huésped reporta que tenía una pizza en la habitación, y que la compañera mucama al realizar la limpieza la tiró a la basura.","Que hablemos con la mucama para ver que sucedió y ver como las podemos compensar también.","Se habla con la compañera mucama, ella nos comenta que la botó porque la misma tenía hormigas y que por eso la tiró a la basura. Se les da como cortesía otra pizza","Cesar Morales C.","Servicio Cliente"]
[599,"2018-05-31","Huesped",601,"C1","Hotel","El hotel debería de tener un area designada para juegos de mesa con sillas y mesas para juegos mientras llueve."]
[598,"2018-05-30","Huesped",505,"C1","Hotel","La señal de Internet es mala y débil especialmente en las habitaciones."]
[597,"2018-05-31","Huesped",310,"C1","Hotel","En la noche debería haber alguna actividad nocturna de entretenimiento."]
[596,"2018-05-31","Huesped",111,"C1","Hotel","No hay paraguas en la habitación."]
[595,"2018-05-31","Huesped",305,"C1","Restaurante","No hay opciones en el desayuno libres de glutten y el restaurante Italiano muy bajo en servicio."]
[594,"2018-05-31","Huesped",506,"C1","Habitación","Una silla en la habitación es necesaria"]
[593,"2018-05-31","Huesped",506,"C1","Restaurante","Pan fresco todas las mañanas."]
[592,"2018-05-30","Huesped",null,null,"Restaurante","Menú limitado en el Italiano",null,null,null,null,"Tripadvisor"]
[591,"2018-05-30","Huesped",303,"C1","Hotel","Huespedes se quejan que ante el mal clima y que desde las 2:30pm comenzó a llover el hotel debería tener alguna opcion de entretenimiento como sala de peliculas, bingo, karaoke, juegos de trivia ya que es aburrido estar en la habitación encerrados."]
[590,"2018-05-30","Huesped",309,"C1","Habitación","Hormigas e insectos en la habitción."]
[589,"2018-05-30","Huesped",104,"C1","Restaurantes","Reduzcan los precios de los los bares y restaurantes porque son muy elevados."]
[588,"2018-05-30","Huesped",709,"C1","Habitación","Una silla en la habitación para ponerse zapatos y pantalon, la cama es muy alta."]
[587,"2018-05-29","Huesped",515,"C1","Restaurante","Huésped comenta que dos veces han solicitado room service y al entregarlo no les llevan platos ni cubertería.",null,null,"Cesar Morales C.","Servicio Cliente"]
[586,"2018-05-28","Huesped",410,null,"Gym","Sería bueno tener una banca en el gimnasio para poder hacer las pesas"]
[585,"2018-05-28","Huesped",410,null,"Yoga","Yoga sería mejor si las clases fueran avanzadas"]
[584,"2018-05-26","Huesped",null,null,"Restaurante","Menu limitado especialmente si el restaurante principal está cerrado,  no hay variedad de comida costarricense.",null,null,null,null,"Tripadvisor"]
[583,"2018-05-23","Huesped",null,null,"Restaurante","Opciones limitadas en los restaurantes.",null,null,null,null,"Tripadvisor"]
[582,"2018-05-23","Huesped",null,null,"Restaurante","Comidas limitadas y menú de ensaladas no es amplio.",null,null,null,null,"Tripadvisor"]
[581,"2018-05-22","Huesped",null,null,"Habitación","Habitación pequeña y con pequeños insectos , las paredes son delgadas y se escucha todo además durante la noche había un ruido extraño en el techo que interrumpía el sueño.",null,null,null,null,"Tripadvisor"]
[580,"2018-05-22","Huesped",null,null,"Restaurante","Precios increiblemente elevados ",null,null,null,null,"Tripadvisor"]
[579,"2018-05-14","Huesped",null,null,"Restaurante","Precio elevado de los restaurantes",null,null,null,null,"Tripadvisor"]
[578,"2018-05-14","Huesped",null,null,"Restaurante","El desayuno puede mejorar, Costa Rica tiene muchas frutas y deberían incluirse en el desayuno ya que solamente había piña y banano como únicas opciones.",null,null,null,null,"Tripadvisor"]
[577,"2018-05-12","Huesped",null,null,"Restaurante","Variedad de opciones en el desayuno no es muy amplia.",null,null,null,null,"Tripadvisor"]
[576,"2018-05-09","Huesped",null,null,"Restaurante","El costo de las bebidas de los bares y las cmoidas en restaurantes es elevado.",null,null,null,null,"Tripadvisor"]
[575,"2018-05-08","Huesped",null,null,"Restaurante","Los precios de los restaurantes son un poco caros.",null,null,null,null,"Tripadvisor"]
[574,"2018-05-08","Huesped",null,null,"Habitación","El ventilador no se puede apagar a menos que se desactive la electricidad de toda la habitación.",null,null,null,null,"Tripadvisor"]
[573,"2018-05-08","Huesped",null,null,"Hotel","El hotel es bueno excepto por la comida (de regular a mediocre) y algunos empleados, como por ejemplo la persona en recepción que no quiso cambiar dólares. ",null,null,null,null,"Tripadvisor"]
[572,"2018-05-08","Huesped",null,null,"Hotel","Comida y servicios no se comparan con precio, esperaba más para el dinero que cuesta el hospedaje.",null,null,null,null,"Tripadvisor"]
[571,"2018-05-07","Huesped",null,null,"Restaurante","Opciones en las comidas de los restaurantes son muy limitadas.",null,null,null,null,"Tripadvisor"]
[570,"2018-05-07","Huesped",null,null,"Piscinas","Limitadas y pequeñas areas de piscina",null,null,null,null,"Tripadvisor"]
[569,"2018-05-07","Huesped",null,null,"Restaurante","Los alimentos no son de buena calidad y muy básicos, el desayuno es muy rutinario y es necesario tener mas variedad de opciones.  Además el precio no se compara con el servicio y calidad.",null,null,null,null,"Tripadvisor"]
[568,"2018-05-03","Huesped",null,null,"Restaurantes","Opciones de almuerzo y cena muy limitadas",null,null,null,null,"Tripadvisor"]
[567,"2018-05-26","Huesped",504,"C1","Habitación","Hab necesita mejor luz"]
[566,"2018-05-26","Huesped",504,"C1","Restaurante","Muy mala experiencia en el restaurante con un salonero, el cual no fue atento, con un mal servicio.",null,null,null,null,"Evaluacion Gen","2018-05-263"]
[565,"2018-05-27","Huesped",512,"C1","Restaurante","No hay carne en el desayuno, la variedad de la comida es limitada, y el tamaño de las sopas no es el ideal",null,null,null,null,"Evaluacion Gen","2018-05-262"]
[564,"2018-05-27","Huesped",903,"C1","Restaurante","necesitamos mejor comida en los restaurantes",null,null,null,null,"Evaluacion Gen","2018-05-258"]
[563,"2018-05-26","Huesped",205,"C1","Restaurante","Huespedes se quejan de la poca variedad en las comidas ",null,null,null,null,"Evaluacion Gen","2018-05-248"]
[562,"2018-05-26","Colaborador",404,null,"Habitación","Él botones llega a la habitación a dejar el check in y encuentran una cerveza por la mitad en la refri ","Checquear bien las habitaciones ",null,"Liz Aguilar U.","Super Visora Recep"]
[561,"2018-05-26","Huesped",306,"C1","Habitación","huespedes nos informan de foma traquila que la alarma los despertó la noche anterior mas no se encontraban molestos al respecto ",null,"nos disculpamos debidamente con ellos mas no mostraron molestia alguna, la unica solución solicitada fue que trataramos que no ocurra de nuevo","Fernando Sandoval","Recepción"]
[560,"2018-05-26","Huesped","207-208","c3","Habitación","huespedes se apersonaron muy molestos al area de recepción para quejarse por que no pudieron dormir debido a que la alarma de incendios se activó la noche anterior, se activó a las 2am y de nuevo 5am, no dieron chance a ninguna solución mas que hablar con el gerente. ",null,null,"Fernando Sandoval","Recepción"]
[559,"2018-05-26","Huesped",206,"c3","Habitación","huespedes se apersonaron muy molestos al area de recepción para quejarse por que no pudieron dormir debido a que la alarma de incendios se activó la noche anterior, se activó a las 2am y de nuevo 5am, no dieron chance a ninguna solución mas que hablar con el gerente. ",null,"se ofrecieron las disculpas debidas y se les dijo que el encargado hablaria con ellos (en este caso César de Guest service) él les ofreció una cena de cortesia a lo que los huespedes se mostraron agradecidos y contentos.","Fernando Sandoval","Recepción"]
[558,"2018-05-25","Huesped",null,"C1","Botones","La huésped comenta que al haber pedido algo en el sushi cuando se lo entregaron el botones no fue amable.",null,null,null,null,"Evaluacion Gen","2018-05-245"]
[557,"2018-05-25","Huesped",null,"C1","Restaurante","La relación precio calidad de los restaurantes es mala, como ejemplo dice que la ultima noche pidió comida en el sushi bar y esto fue según ella una desgracia.",null,null,null,null,"Evaluacion Gen","2018-05-245"]
[556,"2018-05-25","Huesped",null,"C1","Habitación","Huésped recomienda que se deberia cambiar el nombre de las habitaciones, ya que según su opinión el nombre Junior Suite no va con las características que tienen nuestras habitaciones, de hecho comenta que la habitación le pareció estupenda y da como ejemplo de nombre Premium",null,null,null,null,"Evaluacion Gen","2018-05-245"]
[555,"2018-05-25","Huesped",901,"C1","Habitación","Huésped reporta que encontró muchos insectos  incluyendo 2 cucarachas .",null,null,null,null,"Evaluacion Gen","2018-05-244"]
[554,"2018-05-25","Huesped",210,"C1","Restaurante","Restaurantes muy caros, mejor si hubiera mas comida tipica y con precios mas bajos.",null,null,null,null,"Evaluacion Gen","2018-05-242"]
[553,"2018-05-25","Huesped",null,null,"Lockers ","aL ser las 11:30am el encargado de lockers Javier reporta que el area del gimnasio, lockers y hamacas  presenta un acceso complicado debido a que los compañeros de restaurantes estaban lavando el piso del Ti Cain, la caída de jabón y agua era constante impidiendo el acceso de una cosiderable cantidad de huespedes presentes en las piscinas, era complicado entrar por el área principal de lockers. El jabón estaba en las aceras lo cuál pudo provocar que algun huesped sufriera una caída. ",null,"Mientras se fue a chequear se le pidió disculpas a dos huéspedes y se les orientó para ingresar por el lado del consultorio donde no había agua y jabón cayendo de la parte de arriba.","Luis Carlos Navarro","Servicio Cliente"]
[552,"2018-05-25","Huesped",304,"C1","Habitación","Huéspedes se quejan del tamaño de la habitación e indican que es muy ajustada para 3 o 4 personas, además dicen que se ocupan 2 sanitarios y 2 lavatorios especialmente cuando hay 4 personas en la misma habitación.","2 lavatorios por habitación.",null,null,null,"Evaluacion Gen","2018-05-239"]
[551,"2018-05-24","Huesped",411,"C1","Hotel","Huesped indica que el hotel debería tener un poco de baile por la tarde o noche, como un salón de baile con algún entretenimiento.",null,null,null,null,"Evaluacion Gen","2018-05-233"]
[550,"2018-05-22","Huesped",112,"C1","Habitación","\"El único problema fue que habían pequeños ciempies en el baño\"",null,null,null,null,"Evaluacion Gen","2018-05-220"]
[549,"2018-05-22","Huesped",507,"C2","Habitación","La huésped se mostró muy molesta poe que no tenia un maletero extra , el cual había solicitado varias veces.","Entregaramos el maletero","Se entregó el maletero y además se le proporcionó dos bebidas de cortesía.","Cesar Morales C.","Servicio Cliente"]
[548,"2018-05-21","Huesped",609,"C1","Restaurante","Huéspedes de Caravan les salió una cucaracha de la mesa mientras se encontraban comiendo.",null,"Se les cambió de mesa y se pidieron las disculpas del caso.","Luis Carlos Navarro","Servicio Cliente"]
[547,"2018-05-21","Huesped",207,"C1","Hotel","Huéspedes se quejan porque no es permitido ingresar invitados o amigos de otros hoteles, indican que parece un hospital o una carcel.",null,null,null,null,"Evaluacion Gen","2018--05-210"]
[546,"2018-05-21","Huesped",207,"C1","Hotel","Huéspedes se quejan de los brazaletes, solicitan que se eliminen ya que eso es barato y se ve mal.",null,null,null,null,"Evaluacion Gen","2018--05-210"]
[545,"2018-05-21","Huesped",207,"C1","Piscinas","Mejores camas de bronceado y más sombra en el area de piscinas.",null,null,null,null,"Evaluacion Gen","2018--05-210"]
[544,"2018-05-21","Huesped",207,"C1","Habitación","Se quejan de que no hay espejo en la habitación.",null,null,null,null,"Evaluacion Gen","2018--05-210"]
[543,"2018-05-21","Huesped",601,"C1","Habitación","Huéspedes se quejan de que el baño huele a cigarro como si hubieran fumado, además se queja que el agua caliente es muy caliente y es peligrosa.",null,null,null,null,"Evaluacion Gen","2018--05-206"]
[542,"2018-05-21","Huesped",204,null,"Habitación","Cuando el botones está entregando la hab al check-in, encuentra en el mini bar una botellita pequeña de vino rosa a la mitad posiblemente de los huéspedes anteriores.",null,"Se retira la botella en el momento.","Luis Carlos Navarro","Servicio Cliente"]
[541,"2018-05-20","Colaborador",509,null,"Habitación","Cuando el botones está entregando la habitación al check in, encuantra en la refri un a botella grade metálica de los clientes que estuvieron anteriormente ahí ",null,"Se retira la botella","Liz Aguilar U.","Super Visora Recep"]
[540,"2018-05-20","Huesped",903,"C1","Restaurante","Huéspedes se quejan porque no hay ventiladores en los restaurantes y porque no hay gran variedad de opciones.",null,null,null,null,"Evaluacion Gen","2018--05-198"]
[539,"2018-05-20","Huesped",604,"C1","Piscina","Huésped reporta que encontró un raton muerto en la parte alta de las termales.",null,"Pedir disculpas por el incidente y revisar el area reportada","Cesar Morales C.","Servicio Cliente"]
[538,"2018-05-20","Huesped",604,"C1","Restaurante","Huésped reporta que durante el desayuno una cucaracha apareción en su mesa.",null,"Pedir disculpas por el incidente y revisar el area","Cesar Morales C.","Servicio Cliente"]
[537,"2018-05-19","Huesped",207,"C2","Hotel ","Cliente está molesta por que quiere traer amigos a cenar con ella y las políticas del hotel no lo permiten y tampoco hay información sobre esto en ningún lado ","Que se agregue  la informción de la restricción  en la página y en el hotel ","Se le permitió ingresar las visitas ","Liz Aguilar U.","Super Visora Recep"]
[536,"2018-05-18","Huesped",408,"C1","Piscinas","Necesidad de mas sombras en el area de piscinas",null,null,null,null,"Evaluacion Gen","2018-05-182"]
[535,"2018-05-18","Huesped",405,"C1","Restaurante","Vino muy caro en comparación con otros hoteles en los que hemos estado en costa rica",null,null,null,null,"Evaluacion Gen","2018-05-181"]
[534,"2018-05-17","Huesped",308,"C1","Habitación","Paraguas en la habitación",null,null,null,null,"Evaluacion Gen","2018-05-175"]
[533,"2018-05-18","Huesped",203,"C1","Restaurante","En el bar las bebidas no siempre son servidas de igual forma, una vez nos dieron el coctel tipo frozen y otra a las rocas",null,null,null,null,"Evaluacion Gen","2018-05-173"]
[532,"2018-05-17","Huesped",202,"C1","Restaurante","Sería delicioso poder tener aguacate en el desayuno",null,null,null,null,"Evaluacion Gen","2018-05-164"]
[531,"2018-05-09","Huesped",304,"C1","Habitación","No habia lugar en el armario, solo los percheros",null,null,null,null,"Evaluacion Gen","2018-05-88"]
[530,"2018-05-05","Huesped",304,"C1","Habitación","Huespedes se quejan de la falta de gavetas para la ropa.",null,null,null,null,"Evaluacion Gen","2018--05-18"]
[529,"2018-05-04","Huesped",606,"C1","Restaurante","Se quejan del estaurante italiano e indican que debería cambiarse y tener un restaurante de mariscos.",null,null,null,null,"Evaluacion Gen","2018--05-23"]
[528,null,"Huesped",null,"Tipo de ciente ( C1, C2, C3)",null,null,null,"Acción Inmediata ","Nombre",null,"Evaluacion Gen","Código de evaluación "]
[527,"2018-05-17","Huesped",212,"C1","Habitación","Huesped se queja de la presencia de hormigas en la habitación, se encuentra disgustada y quiere que le eliminen los insectos.",null,"Se verifica con ama de llaves y se procede a colocar el veneno.","Luis Carlos Navarro","Servicio Cliente"]
[526,"2018-05-17","Huesped",201,"C1","Habitación","Huespedes se quejan de ruidos en el techo durante toda la noche, indican que son animales y que provocan mucho ruido.",null,"Se cambian de habitación a la 104 y se les ofrece disculpas.","Luis Carlos Navarro","Servicio Cliente"]
[525,"2018-05-15","Huesped",403,"C1","Hotel","Se podría tener una maquina de hielo más cerca a la habitacion",null,null,null,null,"Evaluacion Gen","2018-05-152"]
[524,"2018-05-15","Huesped",108,"C1","Restaurante","Falta una cafeteria para el almuerzo ligero, por ejemplo ensaladas sandwiches",null,null,null,null,"Evaluacion Gen","2018-05-155"]
[523,"2018-05-15","Huesped",108,"C1","Restaurante","Relación precio-calidad muy costoso por lo que es.",null,null,null,null,"Evaluacion Gen","2018-05-155"]
[522,"2018-05-15","Huesped","201-304","C1","Hotel","Huéspedes llaman indicando que no hay agua en las habitaciones.",null,"Se envía a mantenimiento a verificar el paso del agua debido a que no hay presión de agua, no solo las habitaciones sino también el área de recepción esta viendose afectada. Mantenimiento abrió la llave del agua que no se sabe porque se encontraba cerrada.","Luis Carlos Navarro","Servicio Cliente"]
[521,"2018-05-15","Colaborador",null,null,"Restaurante Italiano","La noche del 14/05/18 mientras varios huéspedes se encontraban cenando se presentaron varias goteras con una cantidad importante de agua ingresando la cual no pudo ser controlada sin que los huéspedes se enteraran ante el aguacero tan fuerte. El agua mojó un poco unos sillones y unas mesas cerca.",null,"Se llamó a areas públicas y a mantenimiento para controlar el agua con baldes y trapos.","Luis Carlos Navarro","Servicio Cliente"]
[520,"2018-05-14","Huesped",303,"C1","Restaurante","El pescado que sirvieron en el sushi no estaba fresco y no fue una buena experiencia.",null,null,null,null,"Evaluacion Gen","2018--05-139"]
[519,"2018-05-14","Huesped",904,"C1","Habitación","Huéspedes se quejan de gritos y ruidos fuertes en hab 903, al parecer discutiendo","Verificar que pasa, huéspedes preocupados.","Se llama a la hab 903 preguntando si todo se encuentra bien debido a un reporte de mucho ruido. Huésped indica que está todo bien.","Luis Carlos Navarro","Servicio Cliente"]
[518,"2018-05-13","Huesped",201,"C1","Habitación","Los paneles solares para calentar agua parece que estan flojos en el techo y causan mucho ruido especialmente en las noches.",null,null,null,null,"Evaluacion Gen","2018--05-136"]
[517,"2018-05-03","Huesped",801,"C1","Habitación ","Se quejan de que hace falta un basurero en la habitación para residuos NO reciclables, ya que únicamente hay para reciclaje aunque no se indica que tipo de desechos reciclables se pueden depositar.",null,null,null,null,"Evaluacion Gen","2018--05-131"]
[516,"2018-05-10","Huesped",702,"C1","Habitación","La ducha tiene una fuga que cae fuera del baño",null,null,null,null,"Evaluacion Gen","2018-05-111"]
[515,"2018-05-12","Huesped",801,"C1","Restaurante","El desayuno esta bien, pero podría beneficiarse con frutas y jugos mas frescos",null,null,null,null,"Evaluacion Gen","2018-05-114"]
[514,"2018-05-10","Huesped",603,"C1","Hotel","Huéspedes se quejan de las clases de yoga,  los mismos indican que debería ser solo para adultos,  que el niño que se encontraba haciendo yoga con ellos de otra habitación solo los interrumpía y no permitía que las clases fueran tranquilas.","Aconsejan indicar en recepcion a la hora del check-in que las clases de yoga no son para niños.",null,null,null,"Evaluacion Gen","2018--05-93"]
[513,"2018-05-10","Huesped",603,"C1","Restaurantes","Huespedes se quejan que solamente en el desayuno se ofrecen frutas, los señores me explican que en Europa ellos acostumbran a comer frutas tambíen al almuerzo y a la cena por lo que indican tengamos en cuenta este aspecto para un futuro tener mas huéspedes satisfechos.",null,null,"Luis Carlos Navarro","Servicio Cliente"]
[512,"2018-05-08","Huesped","109 (Inspector de agencia)",null,"Habitación ","La única crítica constructiva seria el cambiar las láminas de el techo de luz, ya que estan bastante tostadas por el sol y con un poco de moho, esto al menos en la habitación en la cual estuve."]
[511,"2018-05-09","Colaborador",null,null,"Bano de mujeres  lockers ","El servicio está dañado, el tanque no se llena y el  agua queda directa. Tiene muchisimo tiempo de estar así y se le ha dicho infinitas veces a mantemiento",null,null,"Javier Arias","Locker"]
[510,"2018-05-09","Huesped",107,"C1","Habitación","Poner una silla en la habitacion sería util",null,null,null,null,"Evaluacion Gen","2018-05-92"]
[509,"2018-05-09","Huesped",304,"C1","Habitación","Camas muy altas",null,null,null,null,"Evaluacion Gen","2018-05-88"]
[508,"2018-05-09","Huesped",405,"C1","Habitación","A veces los empleados no entienden lo que uno pregunta,pura barrera del lenguaje",null,null,null,null,"Evaluacion Gen","2018-05-87"]
[507,"2018-05-09","Huesped",null,null,null,"A veces los empleados no entienden lo que uno pregunta,pura barrera del lenguaje"]
[506,"2018-05-09","Huesped",305,"C1","Habitacion","Habia comida vieja en la refri de las personas que estuvieron antes que nosotros",null,null,null,null,"Evaluacion Gen","2018-05-83"]
[505,"2018-05-09","Huesped",606,"C1","Spa","Ayer solicité un masaje en el Spa, más alla de haber sido una experiencia relajante, quede toda adolorida e inflamada del mal uso de la tecnica , recomiendo para futuros clientes que supervisen el entrenamiento del personal."]
[504,"2018-05-07","Huesped",706,"C1","Restaurantes","Huesped se queja de la poca variedad en comidas y pide mayor variedad en las opciones.",null,null,null,null,"Evaluacion Gen","2018--05-78"]
[503,"2018-05-08","Huesped",510,"C1","Habitación","El sol de la tarde pega directo a la habitación, deberia haber una pantalla que cubra esto"]
[502,"2018-05-08","Huesped",510,"C1","Habitación","La tapa de coffee maker esta rota"]
[501,"2018-05-07","Huesped",503,"C1","Restaurante","Más vegetales con la carne",null,null,null,null,"Evaluacion Gen","2018-05-58"]
[500,"2018-05-07","Huesped",212,"C1","Habitación","Cuando uno esta esperando un huésped, sería genial tener una habitación fria, toma un tiempo para que esta se enfrie",null,null,null,null,"Evaluacion Gen","2018-05-57"]
[499,"2018-05-07","Huesped",509,"C1","Restaurante","Más variedad de frutas y cereales calientes como avena",null,null,null,null,"Evaluacion Gen","2018-05-56"]
[498,"2018-05-06","Huesped",709,"C1","Hotel","La música del restaurante muy alta, al final del día necesitamos descansar y cenar en una tranquila y silenciosa atmosfera",null,null,null,null,"Evaluacion Gen","2018-05-40"]
[497,"2018-05-06","Huesped",410,"C1","Habitación","A/C bajo rendimiento, sería recomendable tenerlos encendidos antes que los huéspedes lleguen a la habitación.",null,null,null,null,"Evaluacion Gen","2018--05-34"]
[496,"2018-05-06","Huesped",612,"C1","Habitación","Un basurero con tapa sería mejor para el baño, especialmente porque este contiene papel higienico usado",null,null,null,null,"Evaluacion Gen","2018--0535"]
[495,"2018-05-04","Huesped",109,"C1","Habitación","La caja fuerte no funcionó en toda la estadía, huespedes reclaman que se quedó cerrada los 2 días y no permitía ingresar un código.",null,null,null,null,"Evaluacion Gen","2018--05-28"]
[494,"2018-05-04","Huesped",204,"C1","Habitación","Huesped se queja de la iluminación de la habitación, indica que es pobre y no es suficiente. Además se queja de que no hay una silla  y que el control del TV solo funciona desde una cama y no de las 2.",null,null,null,null,"Evaluacion Gen","2018--05-29"]
[493,"2018-05-04","Huesped",107,"C1","Restaurante","Huesped se queja de lo limitado del menú con opciones vegetarianas y reclama por mas opciones.",null,null,null,null,"Evaluacion Gen","2018--05-30"]
[492,"2018-05-06","Huesped",609,"C1","Hotel","Huesped se queja de que el hotel no dispone de un area de juegos para los niños, la señora me indica que quedaron encantados con el lugar pero debido a que su familia tiene varios niños pues consideran que es necesario tener un area con pequeño playground.",null,null,"Luis Carlos Navarro","Servicio Cliente"]
[491,"2018-05-05","Huesped",304,"C1","Habitación","Huesped se queja que el detector de humo se encendió a las 12:30am y comenzó a hacer beep, el mismo se queja que tuvo que llamar a la mañana siguiente para que el staff se diera cuenta.",null,"Se llamó a mantenimiento y procedieron a cambiar baterias.",null,null,"Evaluacion Gen","2018--05-18"]
[490,"2018-05-04","Huesped",601,"C1","Hotel","Huespedes se quejan porque el hotel deberia considerar tener menus de los restaurantes en las habitaciones y así facilitar el servicio a la habitación.",null,null,null,null,"Evaluacion Gen","2018--05-25"]
[489,"2018-05-05","Huesped",702,"C1","Habitación","Huesped indica que talvez un spray´insecticida pequeño sería útil para los insectos que aparezcan durante la estadía.",null,null,null,null,"Evaluacion Gen","2018--05-27"]
[488,"2018-05-05","Huesped",702,"C1","Restaurante","Huesped se queja de que el hotel debería de tener mas opciones de ensaladas.",null,null,null,null,"Evaluacion Gen","2018--05-27"]
[487,"2018-05-04","Huesped",701,"C1","Habitación","Pequeñas hormigas en el baño, en el area de la caja de manicure",null,null,null,null,"Evaluacion Gen","2018--05-11"]
[486,"2018-05-03","Huesped",111,"C2","Spa","Huespedes se quejan de tratamiento recibido en el SPA, se muestran molestos y decepcionados porque no quedaron satisfechos con el trabajo que se llevó a cabo en un pedicure, se quejaron de la silla que es muy incómoda, de que no les masajearon los pies mas de 4 minutos a  pesar de que el tratamiento duraba 60 minutos y además  aclaran que no se le tenía agua caliente para colocar los pies y sentirse relajada. ","Silla cómoda y relajante, mejorar el procedimiento en donde involucre masajes y tina con agua caliente para los pies.","Se procedió a remover el monto del tratamiento y los huespdes quedaron satisfechos.","Luis Carlos Navarro","Servicio Cliente"]
[485,"2018-05-03","Huesped",101,"C1","Habitación ","Cliente reporta que se metieron a la habitacion y extrajeron dinero en efectivo y un celular, mientras ellos estaban en la cena. ",null,"Se procedio a ir a chequear la habitación con el cliente, y se llamó a la policia para que dieran asistencia y levantaran un reporte respectivo de lo sucedido. ","Jose Hernandez ","Recepción"]
[484,"2018-05-02","Huesped",411,"C1","Hotel","Huesped se queja debido a que el hotel no cuenta con una acera o camino especial para personas discapacitadas desde las habitaciones hasta las areas comunes, piscinas y restaurantes. Además se queja que en la noche no hay señalización iluminada y que cuando se transita los carritos de golf pasan muy cerca de los peatones.",null,null,null,null,"Evaluacion Gen","2018--05-01"]
[483,"2018-05-01","Huesped",604,"C1","Habitación","El té de la habitación de manzanilla tiene sabor a tierra",null,null,null,null,"Evaluacion Gen","2018-04-315"]
[482,"2018-05-01","Huesped",410,"C1","Restaurante","Hacer que uno se sirva el café",null,null,null,null,"Evaluacion Gen","2018-04-314"]
[481,"2018-05-01","Huesped",509,"C1","Restaurante","La comida es muy cara y regular, la comida de las sodas de afuera es mucho mejor y menos cara",null,null,null,null,"Evaluacion Gen","2018-04-313"]
[480,"2018-05-01","Huesped",208,"C1","Restaurante","El chef de la piscina fue muy descortés al no dejar que los niños jueguen en la piscina.",null,null,null,null,"Evaluacion Gen","2018-04-312"]
[479,"2018-04-30","Huesped",708,"C1","Habitación","Las camas son un poco duras",null,null,null,null,"Evaluacion Gen","2018-04-311"]
[478,"2018-04-29","Huesped",302,"C1","Habitación","Un basurero cerrado en el baño, sería bueno",null,null,null,null,"Evaluacion Gen","2018-04-310"]
[477,"2018-04-29","Huesped",302,"C1","Restaurante","El jugo de naranja podrá ser hecho con frutas a mano ",null,null,null,null,"Evaluacion Gen","2018-04-310"]
[476,"2018-05-01","Huesped",402,"C1","Habitación","Mejorar la calidad del champú-gel manzana",null,null,null,null,"Evaluacion Gen","2018-04-309"]
[475,"2018-05-01","Huesped",402,"C1","Restaurante","Mejorar la calidad del café en el desayuno",null,null,null,null,"Evaluacion Gen","2018-04-309"]
[474,"2018-04-30","Huesped",110,"C1","Restaurante","Los cocteles y bebidas en general muy caros y con mejoras pendientes en calidad",null,null,null,null,"Evaluacion Gen","2018-04-308"]
[473,"2018-05-01","Huesped",307,"C2","Recepción","Huesped se acerca a recepcion disgustado acerca de una situacion acontecida en el Rest Italiano, indica que solicitó una pizza cuya cual venia con un pedazo de plastico y nos informa que al expresar su disgusto con el compañero presente hizo caso omiso a su reclamo, el nos expresa que firmó la factura inconforme por lo tanto vino a Recepcion a mostrar su descontento, solicitando una solucipon al respecto. (huesped vino resintiendo su malestar, cubriendo su abdomen con su mano)","Alguna pronta respuesta dado que considera inexplicable que mostrara su descontento y lo ignoraran.","Pido las disculpas del caso por lo acontecido, le informo que tomaremos la cartas en el asunto para darle una solucion. Se habla con el huésped se le pide disculpas por el problema presentado, se le indica que se va retirar la pizza de la factura y que vamos a brindarles unas bebidas de cortesía para el y su familia.","Jean Pierre Brenes","Recepción"]
[472,"2018-04-30","Huesped",409,"C1","Restaurante","Sería bueno que tuvieran sangría en todos los bares",null,null,null,null,"Evaluacion Gen","2018-04-305"]
[471,"2018-04-30","Huesped",305,"C1","Spa","\"Mi esposo queria un masaje de envoltura o exfoliación com decía que cerraban a las 8 pm, esperabamos que nos pudieran atender después de las 3 pm, pero nos dijeron que no porque las muchachas salian a las 6 pm, además no había recepcionista para buscar la info tuvimos que interrumpir una sesión.",null,null,null,null,"Evaluacion Gen","2018-04-307"]
[470,"2018-04-29","Huesped",201,"C1","Hotel","Huesped indica que deberían agregar mas espacios en la piscina para descansar, ejemplo: camitas de piedra en el agua y no solo asientos.",null,null,null,null,"Evaluacion Gen","2018--04-293"]
[469,"2018-04-29","Huesped",311,"C1","Restaurante","El mojito estaba horrible y muy caro",null,null,null,null,"Evaluacion Gen","2018--04-292"]
[468,"2018-04-29","Huesped",306,"C1","Habitación","Huesped sequeja del sonido que se percibe desde las otras habitaciones ",null,null,null,null,"Evaluacion Gen","2018--04-291"]
[467,"2018-04-29","Huesped",106,"C1","Habitación","Puerta del baño se encuentra mala y caída.",null,null,null,null,"Evaluacion Gen","2018--04-288"]
[466,"2018-04-29","Huesped",111,"C1","Restaurante","Huesped solicita mejor la calidad del pepperoni de las pizzas.",null,null,null,null,"Evaluacion Gen","2018--04-287"]
[465,"2018-04-29","Huesped",901,"C1","Habitación","Huesped al hacer check-out se queja del funcionamiento del Aire Acondicionado, indica que no enfría y que nunca pudieron refrescar la habitación como lo deseaban.","Solicita revisar los filtros",null,"Luis Carlos Navarro","Servicio Cliente"]
[464,"2018-04-28","Huesped",106,"C1","Hotel","Huesped indica que la música del bar húmedo podría mejorar y no ser aburrida y desactualizada.","Mejor música atrae mas personas y por ende mas ventas de comida y bebidas",null,null,null,"Evaluacion Gen","2018--04-276"]
[463,"2018-04-28","Huesped",402,"C1","Gimnasio","Huesped se queja que el gimnasio necesita mejor equipo.",null,null,null,null,"Evaluacion Gen","2018--04-280"]
[462,"2018-04-27","Colaborador",null,null,null,"Ayer note que hay falta de iluminación en el jacuzzi, les pregunte a mantenimiento y me dijeron que están esperando unas lámparas. Solamente para que tomen nota de esto, asi nos evitamos un accidente.",null,null,"Javier Arias","Locker"]
[461,"2018-04-26","Huesped",104,"C1","Habitación","La ceramica de la hab es muy resbalosa y cuando esta mojada es muy dificl caminar para las personas que tenemos problemas caminando",null,null,null,null,"Evaluacion Gen","2018-04-268"]
[460,"2018-04-27","Huesped",103,"C1","Restaurante","Mas opciones para el menu de desayuno, todos los días lo mismo no nos hace felices",null,null,null,null,"Evaluacion Gen","2018-04-267"]
[459,"2018-04-27","Huesped",510,"C1","Habitación","Huespedes se acercan molestos arecepción para reclamar que como puede ser posible que no haya ni una sola silla en la habitación, ellos son una pareja de baja estatura y solicitan se les dé una silla a la habitación.","Colocar silla en Habitación",null,"Luis Carlos Navarro","Servicio Cliente"]
[458,"2018-04-27","Huesped",406,"C3","Hotel","demasiado ruido causado por el generador","No se quiere cambiar de habitación y no acepta ninguna explicación o disculpa","A la hora de hacer check-out se le explica a la huésped lo ocurrido y el porque del ruido del generador, en principio la señora viene molesta y nos muestra un video donde se evidencia el ruido en la madrugada, sin embargo se le ofrecen disculpas, se le compensa eliminando 3 facturas por un total de 156 dólares, la huesped se va contenta y nos aclara que le gustó mucho el hotel. Queja cerrada satisfactoriamente. (Luis Carlos Navarro R.)","Cesar Morales C.","Servicio Cliente"]
[457,"2018-04-27","Huesped",502,"C2-C3","Hotel","demasiado ruido causado por el generador","Cambiarse de habitación y ver como vamos a compensarlos","Cambiarlos a la hab 301","Cesar Morales C.","Servicio Cliente"]
[456,"2018-04-26","Huesped",509,"C1","Restaurante","Huesped indica que se necesita mas variedad en el desayuno.",null,null,null,null,"Evaluacion Gen","2018--04-256"]
[455,"2018-04-25","Huesped",401,"C1","Habitación","Huesped se queja que habían insectos viniendo atraves de las paredes.",null,null,null,null,"Evaluacion Gen","2018--04-252"]
[454,"2018-04-25","Huesped",415,"C1","Habitación","La pared donde esta el aire acondicionado va tener problemas a futuro debido a que el condensador gotea"]
[453,"2018-04-25","Huesped",415,"C1","Hotel","Deberiamos de pensar en quitar las lineas amarillas de la calle, no hay necesidad de ellas porque los carros no van a altas velocidades y a su vez estas lineas afean la belleza de las instalaciones en conjunto con la naturaleza"]
[452,"2018-04-24","Huesped",602,"C1","Habitación","Una sola cama y un sillón sería mucho mejor que dos camas y ningún sitio donde sentarse",null,null,null,null,"Evaluacion Gen","2018-04-240"]
[451,"2018-04-24","Huesped",602,"C1","Habitación","Una sombrilla por habitación, reduciría el uso de los carritos de golf",null,null,null,null,"Evaluacion Gen","2018-04-240"]
[450,"2018-04-24","Huesped",602,"C1","Habitación","Huésped encontró una piedrita en el piso al majarla y escribe que fue un verdadero Ouch! Y además dice que el resto de la habitación no parecia que estuviera bien limpia",null,null,null,null,"Evaluacion Gen","2018-04-240"]
[449,"2018-04-24","Huesped",106,"C1","Hotel ","Huésped comenta que los grupos de niños son muy ruidosos y si el hotel vende tranquilidad debería de cumplirse, se sintío inconforme en areas comunes e incluso en la habitación. ","-","-","Maria Nela Sancho ","Recepción"]
[448,"2018-04-24","Huesped",308,"C1",null,"Huesped solicitó transporte para 2 personas dado la lluvia sin embargo ningun compañero fue por ellos, ella muy molesta se vino caminando desde su habitacion."]
[447,"2018-04-22","Huesped",201,"C1","Habitación","Pusimos el rotulo de no cambiar las toallas pero si las cambiaron.",null,null,null,null,"Evaluacion Gen","2018-04-233"]
[446,"2018-04-23","Huesped",211,"C1","Hotel","Hay muchos niños, no esperabamos tener que hacer fila para poder conseguir omelets, pancakes o frutas.",null,null,null,null,"Evaluacion Gen","2018-04-232"]
[445,"2018-04-23","Huesped",211,"C1","Hotel","Para un hotel como este uno espera que haya batas de baño en la habitación",null,null,null,null,"Evaluacion Gen","2018-04-232"]
[444,"2018-04-21","Huesped",210,"C1","Restaurante","Huesped se queja que las opciones vegetarianas son muy limitadas para la epoca en la que nos encontramos, el mismo indica que al haber muchas personas vegetarianas, el hotel debería mejorar.",null,null,null,null,"Evaluacion Gen","2018--.04--226"]
[443,"2018-04-21","Huesped",310,"C1","Habitación","Huesped indica que debería haber un tomacorriente especial cerca de la mesa para cargar la computadora",null,null,null,null,"Evaluacion Gen","2018--04-230"]
[442,"2018-04-22","Huesped",408,"C2","Hotel","Huesped se acerca a Recepción muy molesto debido a que llamó para solicitar hielo y nunca lo recibió, el señor no permite ni que le ayudemos, se queja muy fuerte por el mal servicio, tambien se queja por que en la maquina de hielo no hay bolsas y solo pide una bolsa para seguidamente indicarnos que no quiere ningún carrito de golf y que se irá caminando apesar de la lluvia. ","Colocar hieleras plasticas o bolsas en el mismo lugar donde se encuentra la máquina de hielo, dice que como es posible llevar hielo sino ofrecen algo donde llevarlo.","Huésped no permite ni ofrecer disculpas, se va inmediantamente y enfurecido apenas se le da la bolsa. Actualización 23-4-18 6:10 pm. Al huésped se la ha solicitada las disculpas por el incoveniente y se le han otorgado dos bebidas de cortesía en el bar barril, la boleta tiene el consecutivo #0148.","Luis Carlos Navarro","Servicio Cliente"]
[441,"2018-04-21","Huesped",702,"C1","Habitación","Si se etiquetaran las apagadores de la habitación sería mas funcional, ya que no se sabe cual es para cada cosa.",null,null,null,null,"Evaluacion Gen","2018-04-216"]
[440,"2018-04-21","Huesped",702,"C1","Habitación","Una linea para tender la ropa fuera de la habitación sería util",null,null,null,null,"Evaluacion Gen","2018-04-216"]
[439,"2018-04-21","Huesped",702,"C1","Habitación","La ducha podría usar menos agua si estuviera mejor calibrada ",null,null,null,null,"Evaluacion Gen","2018-04-216"]
[438,"2018-04-21","Huesped",702,"C1","Habitación","Las lamparas que hay en la habitación no sirven para leer",null,null,null,null,"Evaluacion Gen","2018-04-216"]
[437,"2018-04-21","Huesped",702,"C1","Habitación","Podría haber una o dos sillas en la habitación, incluso pueden estar guardadas en el closet",null,null,null,null,"Evaluacion Gen","2018-04-216"]
[436,"2018-04-21","Huesped",901,"C1","Habitación","Hay un fuerte olor que sale del baño",null,null,null,null,"Evaluacion Gen","2018-04-215"]
[435,"2018-04-21","Huesped",901,"C1","Habitación","La puerta del baño no se cierra o abre bien.",null,null,null,null,"Evaluacion Gen","2018-04-215"]
[434,"2018-04-20","Huesped",309,"C1","Habitación","Sería bueno tener al menos una sombrilla por habitación",null,null,null,null,"Evaluacion Gen","2018-04-206"]
[433,"2018-04-20","Huesped",108,"C2","Habitación","Después de haberlos cambiado de la 601 a la habitación 108, la señora Brandi reporta que hay una cucaracha dentro de la habitación y por este motivo estaba muy molesta","Que se le dé la mejor habitación que haya en el Hotel y que además se le brinde la cena como cortesía","La señora y las niñas ya habían solicitado comida para room service, por lo que esto fue retirado como cortesía. Además se les dió las habitaciones 414 y 415.","Cesar Morales C.","Servicio Cliente"]
[432,"2018-04-20","Huesped",601,"C1","Habitación","Huésped reporta que tiene muchas hormigas dentro de la habitación, que hasta están en las maletas.","Cambiarlos de habitación, y que se les lave la maleta y la ropa porque esta llena de hormigas","Se les cambia a la hab 108, y se llevó la maleta con la ropa a lavandería para lavarse y además se revisó para ver si habia restos de comida o algo dulce que provocará que llegarán las hormigas dentro de las prendas y la maleta pero no se encontró nada.","Cesar Morales C.","Servicio Cliente"]
[431,"2018-04-20","Huesped",601,null,"Transporte","Huésped solicitó transporte para venir al parqueo para irse a tour, pero el carrito de golf no llegó por ellos, debieron venirse caminando entonces",null,null,"Jean Pierre Brenes","Recepción"]
[430,"2018-04-19","Huesped",706,"C1","Habitación","Huesped se queja porque no hay silla en la habitación, las camas son muy altas y ellos huespedes de baja estatura.",null,null,null,null,"Evaluacion Gen","2018--04-191"]
[429,"2018-04-19","Huesped",904,"C1","Recepcion","Huesped reporta que ocasionalmente el lavatorio desprendia fuertes olores a alcantarilla y cloaca.","tomarlo en consideracion dado que podria afectar a futuros huespedes","Disculparme por el incoveniente y contactarme con los respectivos compañeros para cersorarnos de que no siga sucediendo","Jean Pierre Brenes","Recepción"]
[428,"2018-04-18","Huesped",710,"C1","Habitación","Huesped llama quejandose por hormigas en el lavatorio y en el area del baño.",null,"Se envía a la mucama a verificar y se se encontraron hormigas y cucarachas, por lo que se fumigó el baño. Se le llama a la huesped para ofrecer disculpas y la misma se encuentra agradecida por la ayuda.","Luis Carlos Navarro","Servicio Cliente"]
[427,"2018-04-17","Huesped",706,"C1","Restaurante","Huesped se queja porque no hay pan libre de gluten en el desayuno.",null,null,null,null,"Evaluacion Gen","2018--04-186"]
[426,"2018-04-18","Huesped",111,"C1","Bar Humedo","Huesped se queja que entre las 5 y 7 pm deberían haber mas bartenders ya que hay que esperar mucho para ser atendido y mas tiempo para que le hagan un cocktail. ","Huesped sugiere tener 3 bartenders para asi vender mas y tener mejor servicio.",null,null,null,"Evaluacion Gen","2018--04-182"]
[425,"2018-04-18","Huesped",112,"C1","Habitación","Huesped indica que se necesita un espejo afuera del baño.",null,null,null,null,"Evaluacion Gen","2018--04-181"]
[424,"2018-04-18","Huesped",601,"C1","Habitación","Huesped se queja de hormigas en el area del baño.",null,"Se manda a  la mucama a revisar el baño.","Luis Carlos Navarro","Servicio Cliente"]

{"sheet":"Historico Valoracion Quejas ","index":3,"n_rows":717,"n_cols":23,"rows_kept":717,"cut":false,"hidden":false,"merged":[]}
[]
["# Queja","Fecha2","Puesta","Habitación","Tipo Cliente","Área de la queja ","Descripción ","Solucion Solicitada por el Cliente:","Gestion Realizada:","Recibida Por:","Puesto","Capturada","# Documento:","SEMANA DE\nEVALUACIÓN","Valoración","ACCIÓN POR REALIZAR","DEPARTAMENTO","SEGUIMIENTO COMITÉ","SUGERENCIA / QUEJA","RESUELTO","DUPLICADO","PAYASO","Columna1"]
[1138,"2018-12-24","Huésped",803,"C1","Habitaciones","Huésped se queja que la caja fuerte no tiene instrucciones y es difícil de usar.","N/A","Se envió al X1 para verificar el funcionamiento de la caja fuerte nueva ya que se desconocía como usarlas, nos damos cuenta que algunos pasos cambian y que el botón de reseteo se encuentra detrás de una tapa que es dificil de quitar, el compañero botones Ulises junto con Oscar de servicio al cliente dieron seguimiento y crearon una manera de solucionarle al cliente.","Luis Carlos Navarro ","Servicio Cliente","Servicio al Cliente","N/A",52.142857142857146,"Roja","Asignar Roberto Escoto","Ama de Llaves","Si","Queja","NO","SI","Habitaciones"]
[1137,"2018-12-24","Huésped",906,"C1","Habitaciones","Huéspedes se quejan de la presión de agua en sus habitaciones, los mismos indican que es muy baja y que dificilmente les llega agua.","N/A","Se envía a los compañeros de mantenimiento los cuales resuelven el problema y reportan como solucionada la queja.","Luis Carlos Navarro ","Servicio Cliente","Servicio al Cliente","N/A",52.142857142857146,"Roja","Asignar Jairo Garcia","Mantenimientos","SI","Queja","NO","SI","Agua potable"]
[1136,"2018-12-22","Huésped",902,"C2","Habitaciones","EL presente correo tiene como fin informarles por escrito de la situación que vivieron los huéspedes Braden Coffin y Robin Boddy la noche de ayer,  ellos nos reportaron que alguien ingresó a su habitación en el momento en que salieron a cenar y cuando llegaron las gavetas estaban desordenadas y había un faltante de dinero, este dinero que según dicen los huéspedes era equivalente a 1300 dólares se encontraba en la caja fuerte de la habitación que por cierto ellos mismos dicen habían dejado sin cerrar, indican además que dejaron la puerta del balcón sin cerradura y por ahí fue precisamente por donde hicieron ingreso los sospechosos y sustrajeron el dinero. Ante esta situación nosotros como hotel hemos decidido tomar responsabilidad de lo sucedido y se les ha hecho efectiva la devolución total de los 1300 dólares y además se han eliminado los cargos de la habitación buscando de alguna manera generar satisfacción. Esto con la idea de que nuestros huéspedes no se lleven con ellos una mala experiencia o un sabor amargo a pesar de haber tenido una muy agradable estadía. \n","N/A","N/A","Luis Carlos Navarro ","Servicio Cliente","Servicio al Cliente","N/A",52.142857142857146,"Roja","Asignar Luis Carlos ","Recpción","Si","Queja",null,"Si","Robo en habitaciones"]
[1135,"2018-12-22","Huésped",801,"C2","Habitaciones","Buenas noches compañeros \nLa siguiente es para hacer de su conocimiento, que hoy 21/12/2018 al ser las 8:50pm los clientes de las habitaciones 801 y 802 bajo el nombre de GUINN ROBERT de la agencia Travel Excellence, se aproximaron a la recepción y nos reportan que al regresar de la cena a sus respectivas habitaciones, se percataron de que tanto   una  laptop con su respectivo cargador y también  unos regalos que tenían dentro de una de las maletas habían  sido sustraídos de la habitación 801, procedemos a revisar la habitación junto a los clientes para verificar que  no los hubieran guardado en alguna otra maleta, al llegar la habitación tanto las ventanas como la puerta principal no presentan  signos de  haber sido forzadas, por protocolo de la empresa procedemos a llamar a la Policía Turística quien es el ente encargado de levantar el acta de lo sucedido y nos comentan que mañana a las 7 am se pueden aproximar a confeccionar el acta, esto debido a que en este momento se encuentran atendiendo otro incidente. \n","N/A","a los huéspedes se les ayudó de principio a fin y se logró que al finalizar la estadía se mostraran agradecidos. Eliminamos cargos en la habitación de aproximadamente $400, los llevamos a la policía turística para hacer la respectiva denuncia, y además les pagamos un transfer privado hasta Monteverde debido a su atraso por la gestión en la policía. Ellos estaban tranquilos porque sus pertenencias estaban aseguradas y lo que necesitaban era el reporte policial para que el seguro les cubriera lo ocurrido, se les ofrecieron disculpas de parte del hotel.","Luis Carlos Navarro ","Servicio Cliente","Servicio al Cliente","N/A",52.142857142857146,"Roja","Asignar Don Minor Castro","Gerente","SI","Queja",null,null,"Robo en habitaciones"]
[1134,"2018-12-23","Huésped",108,"C1","Habitaciones","Huéspedes llaman a recepción quejandose del ruido ocasionado por los vecinos en  la hab 107.","N/A","Para el siguiente día se bloqueó la hab 107 y que así no hubiera mas problemas de ruido.","Luis Carlos Navarro ","Servicio Cliente","Servicio al Cliente","N/A",52.142857142857146,"Roja","Asignar Luis Carlos ","Recpción","Si","Queja","No","Si","Ruido habitación"]
[1133,"2018-12-24","Huésped",805,"C1","Habitaciones","Huésped se queja del sonido se las habitaciones de arriba, les molesta bastante el sonido que produce la gente al caminar, dicen que suena como elefantes andantes.","N/A","N/A","Jean Pierre Brenes","Recepción","Recepción","N/A",52.142857142857146,"Roja","Asignar Don Minor Castro","Gerente","Si","Queja","No","Si","Ruido habitación"]
[1132,"2018-12-23","Huésped",807,"C1","Habitaciones","Huéspedes se quejan porque la habitación no tiene caja fuerte.","N/A","Se reportó a mantenimiento de la queja ya que ese mismo día a las 8am llegaron las cajas fuertes, sin embargo ellos dijeron que se encontraban ocupados y que no podían colocarla aún. Se colocó hasta el siguiente día.","Luis Carlos Navarro ","Servicio Cliente","Servicio al Cliente","N/A",52.142857142857146,"Roja","Asignar Dariel Miranda","Compras","Si","Queja","Si","NO","N/A"]
[1131,"2018-12-21","Huésped",803,"C1","Habitaciones","Los huéspedes reportan que no tienen agua caliente, se le reporta a mantenimiento pero nos indican que por parte de ellos hacen lo posible por solucionarlo pero que la falla es de Mario Lezama, los huéspedes llevaban dos días sin agua caliente.","N/A","Se llamo a Mario para que mandara a uno de sus empleados y al llegar vieron que las tuberias estaban mal instaladas. Cuando los huépedes llegaron de Tour ya tenian agua caliente, y además se les ofreció las disculpas del caso.","Oscar Retana","Servicio Cliente","Servicio al Cliente","N/A",52.142857142857146,"Roja","Asignar Jairo Garcia","Mantenimientos","Si","Queja","No","Si","Habitaciones"]
[1130,"2018-12-21","Huésped",904,"C1","Habitaciones","Huéspedes que anteriormente estaban en la 703 se tuvieron que cambiar porque la señora era alergica a las plantas y aromatizantes, los huéspedes vieron que desde las 11am ya los huéspedes de la 904 habian hecho check-out por lo tanto se acercaron a recepción a las 12:30pm solicitando si su hab estaba lista, al volver a consultar a las mucamas las mismas nos indican que va estar lista hasta las 2pm y eso molestó mucho a los huéspedes los cuales pidieron una solución mas eficiente a su movimiento de habitación.","N/A","Se habló con Mérita y se explicó la situación y la necesidad del huésped de tener la hab lista lo mas pronto posible, las mucamas nos ayudaron y en 20 min la reportaron como lista, los huéspedes agradecieron el gesto y se dio la queja por cerrada.","Luis Carlos Navarro ","Servicio Cliente","Servicio al Cliente","N/A",52.142857142857146,"Roja","Asignar Roberto Escoto","Ama de Llaves","Si","Queja","NO","Si","Servicio cliente mucamas"]
[1129,"2018-12-21","Huésped",508,"C1","Habitaciones","Huésped reporta caída en el baño por accidente y el mismo quebró el espejo de cuerpo, nos indicó que los espejos tienen un espacio entre la pared y el espejo que con solo apoyarse o tocarlo se quiebra y eso fue lo que ocurrió cuando se cayó. ","Colocar los espejos correctamente.","Se limpió la habitación y quedó de momento sin espejo. Además se verificó que la huésped se encontrara bien y que no tuviera cortadas o algún golpe de consideración.","Luis Carlos Navarro ","Servicio Cliente","Servicio al Cliente","N/A",52.142857142857146,"Roja","Asignar Jairo Garcia","Mantenimientos","Si","Queja","No","Si","Habitaciones"]
[1128,"2018-12-20","Huésped",515,"C1","Habitaciones","Huésped molesto indica que el A/C de su habitación tiene una fuga la cual causó un gran charco de agua y nos dice que no piensa perder el tiempo soportando estas situaciones si recién viene llegando al hotel.","N/A","Se movieron a la 906-907 sin embargo huéspedes no les gustó el cambio, se les brindó las disculpas del caso y como compensación se tuvo que dar una cena para 4 pax sin bebidas alcholicas.","Luis Carlos Navarro ","Servicio Cliente","Servicio al Cliente","N/A",52.142857142857146,"Roja","Asignar Jairo Garcia","Mantenimientos","Si","Queja","No","Si","A/C"]
[1127,"2018-12-20","Huésped",202,"C1","Habitaciones","Huésped se queja al momento del check-out indicando que la ducha de la habitación debe revisarse porque no distribuye el agua bien, en la medida de lo posible colocar una de mejor calidad.","N/A","N/A","Luis Carlos Navarro ","Servicio Cliente","Check-out","N/A",52.142857142857146,"Roja","Asignar Jairo Garcia","Mantenimientos","Si","Queja","NO","si","Habitaciones"]
[1126,"2018-12-20","Huésped",212,"C1","Hotel","Huésped se acercó a recepción indicando que le gustaría que tuvieramos la bandera de reino unido, que como era posible que no la tuvieramos si a Costa Rica la visitaba mucho turista de Europa.","Pide colocar la bandera de Reino Unido, se encontraba tomando fotos y no pudo tomarle a su bandera.","Se colocó la bandera de Reino Unido que teníamos en recepción ( no esn tan buen estado) para que el señor tomara su foto y viera su bandera junto a las otras.","Luis Carlos Navarro ","Servicio Cliente","Recepción","N/A",52.142857142857146,"Amarilla","Oscar Retana Muñoz","Recpción","SI","Queja","NO","NO","Servicio al cliente "]
[1125,"2018-12-19","Huésped",902,"C1","Habitaciones","Huésped se queja porque su aire acondicionado no funciona correctamente.","N/a","Se envía a mantenimiento y ellos nos indican que la reparación no puede ser inmediata debido a que están con las master nuevas, por lo que sugieren mover a los 44 a otra hab, se movieron a la 903 donde se probó el A/C antes de moverlos para que no tuvieran ningún problema similar.","Luis Carlos Navarro ","Servicio Cliente","Recepción","N/A",52.142857142857146,"Roja","Asignar Jairo Garcia","Mantenimientos","Si","Queja","No","Si","A/C"]
[1124,"2018-12-15","Huésped",110,"C1","Italiano","Huésped se queja por el tiempo de la estación de café, pide que se extienda a más tiempo.","N/A","N/A","Luis Carlos Navarro ","Servicio Cliente","Hj Evaluacion Gen",1169,51.142857142857146,"Verde","Asignar Diego Cambronero","A&B","SI","Sugerencia","NO","No","Servicio cliente restaurante "]
[1123,"2018-12-15","Huésped",110,"C1","Italiano","Calidad no es buena en comparación con el valor.","N/A","N/A","Luis Carlos Navarro ","Servicio Cliente","Hj Evaluacion Gen",1169,51.142857142857146,"Roja","Asignar Diego Cambronero","A&B","Si","Queja","NO","SI","Precios Comidas Italiano"]
[1122,"2018-12-16","Huésped",305,"C1","Habitaciones","Huésped se queja debido a que su baño tiene muchas hormigas y eso no ocurre en las habitaciones del resto de su familia.","N/A","Se procede a envíar a mantenimiento para fumigar el baño aprovechando que los huéspedes salieron y nos dieron autorización, además se coordina con mucama para limpiar y dejar todo en orden.","Luis Carlos Navarro ","Servicio Cliente","Servicio al Cliente","N/A",51.142857142857146,"Roja","Asignar Jairo Garcia","Mantenimientos","Si","Queja","NO","Si","Plagas Habitaciones"]
[1121,"2018-12-16","Colaborador",102,"C1","Habitaciones","Colaboradora  nos reporta que durante su estadía en el hotel notó que la cama se encontraba con polilla, huecos y en mal estado. Consultó a una mucama y la misma le dijo que eso llevaba meses así. ","N/A","N/A","Liz Aguilar ","Supervisora Recep","Llamada a Recepción","N/A",51.142857142857146,"Roja","Asignar Gilberth Mejías","Mantenimientos","Si","Queja","NO","Si","Chequeo habitaciones"]
[1120,"2018-12-15","Huésped",104,"C1","Habitaciones","Huésped se queja porque las instrucciones del pulsador BOSH no estan en español.","N/A","N/A","Luis Carlos Navarro ","Servicio Cliente","Hj Evaluacion Gen",881,51.142857142857146,"Roja","Asignar Luis Carlos ","Recpción","Si","Queja","NO","No","Habitaciones"]
[1119,"2018-12-15","Huésped",104,"C1","Hotel","Huésped se queja porque la caminadora del gimnasio la cual es demasiado básica y carece de mantenimiento al igual que el resto de equipos.","N/A","N/A","Luis Carlos Navarro ","Servicio Cliente","Hj Evaluacion Gen",881,51.142857142857146,"Roja","Asignar Greivin Arredondo","Sostenibilidad","Si","Queja","NO","SI","Gimnasio"]
[1118,"2018-12-15","Huésped",104,"C1","Recepción","Huésped se queja porque en el check-out no le entregaron el voucher manual de garantía.","N/A","N/A","Luis Carlos Navarro ","Servicio Cliente","Hj Evaluacion Gen",881,51.142857142857146,"Roja","Asignar Luis Carlos ","Recpción","Si","Queja","NO","NO","Servicio cliente recepción"]
[1117,"2018-12-15","Huésped",104,"C1","Hotel","Huésped indica que es necesaria información en el hotel de que hacer en caso de emergencia ( fuego, terremoto, etc).","N/A","N/A","Luis Carlos Navarro ","Servicio Cliente","Hj Evaluacion Gen",881,51.142857142857146,"Amarilla","Asignar Don Minor Castro","Gerente","SI","Queja","NO","No","Habitaciones"]
[1116,"2018-12-14","Huésped",504,"C1","Bar Húmedo","Huésped se queja de las copas plasticas que se entregan en el aréa del bar húmedo, hace que el lugar se sienta como barato.","N/A","N/A","Luis Carlos Navarro ","Servicio Cliente","Hj Evaluacion Gen",1686,51.142857142857146,"Desestimada","N/A","N/A","N/A","N/A","N/A","N/A","Servicio cliente bar humedo"]
[1115,"2018-12-14","Huésped",504,"C1","Italiano","Restaurante demasiado caro.","N/A","N/A","Luis Carlos Navarro ","Servicio Cliente","Hj Evaluacion Gen",1686,51.142857142857146,"Roja","Asignar Diego Cambronero","A&B","Si","Queja","NO","SI","Precios Comidas Italiano"]
[1114,"2018-12-14","Huésped",611,"C1","Souvenir","Parece como que el personal disfruta estar hablando juntos aquí. Además la tienda necesita expandirse.","N/A","N/A","Luis Carlos Navarro ","Servicio Cliente","Hj Evaluacion Gen",1149,51.142857142857146,"Roja","Asignar Diego Cambronero","A&B","SI","Queja","SI","No","Servicio C. Tienda"]
[1113,"2018-12-16","Huésped",503,"C1","Hotel","Puerta del baño en recepción se encuentra en mal estado, pega en el piso y hace ruido.","N/A","N/A","Luis Carlos Navarro ","Servicio Cliente","Hj Evaluacion Gen",1688,51.142857142857146,"Roja","Asignar Jairo Garcia","Mantenimientos","Si","Queja","NO","NO","Infraestructura "]
[1112,"2018-12-16","Huésped",503,"C1","Italiano","Huésped se queja del precio del churrasco en el restaurante Italiano.","N/A","N/A","Luis Carlos Navarro ","Servicio Cliente","Hj Evaluacion Gen",1688,51.142857142857146,"Roja","Asignar Diego Cambronero","A&B","SI","Queja","NO","SI","Precios Comidas Italiano"]
[1111,"2018-12-16","Huésped",503,"C1","Souvenir","Huésped se queja porque en el souvenir no hay tantos objetos alusivos al volcán Arenal, sugiere mas souvenirs con el nombre del volcán impreso.","N/A","N/A","Luis Carlos Navarro ","Servicio Cliente","Hj Evaluacion Gen",1688,51.142857142857146,"Verde","Asignar Diego Cambronero","A&B","Si","Sugerencia","NO","NO","Servicio C. Tienda"]
[1110,"2018-12-13","Huésped",104,"C1","Habitaciones","Huésped se queja que en su habitación el café y las tazas son exclusivamente para dos personas sin embargo ellos pagaron por 3 personas y consideran debe haber tazas y café para cada huésped que paga.","N/A","N/A","Luis Carlos Navarro ","Servicio Cliente","Recepción","N/A",51.142857142857146,"Roja","Asignar Luis Carlos ","Recpción","Si","Queja","NO","NO","Minibar habitaciones"]
[1109,"2018-12-12","Huésped",515,"C1","Habitaciones","Huéspedes de la master suite se quejan por el mal funcionamiento del jacuzzi en su habitación.","Solicita reparar el jacuzzi","Huéspedes se encuentran en tour, al momento de llegar se les va ofrecer la posibilidad de moverse a la otra master suite, además de las disculpas del caso.","Luis Carlos Navarro ","Servicio Cliente","Servicio al Cliente","N/A",50.285714285714285,"Roja","Asignar Jairo Garcia","Mantenimientos","Si","Queja","NO","NO","Jacuzzi"]
[1108,"2018-12-11","Huésped",410,"C1","Habitaciones","Huésped se queja del ruido entre habitaciones, el aislante es muy pobre y se escucha hasta cuando hablan o toman una ducha.","N/A","N/A","Luis Carlos Navarro ","Servicio Cliente","Hj Evaluacion Gen",1196,50.285714285714285,"Roja","Asignar Don Minor Castro","Gerente","Si","Queja","NO","SI","Ruido habitación"]
[1107,"2018-12-10","Huésped",105,"C1","Habitaciones","Huésped se queja porque al colocar la llave en el tarjetero de la habitación no se activa la electricidad.","N/A","Se reporta a mantenimiento y los mismos indican que en esa habitación el tarjetero no funciona y la electricidad esta directa. Huéspedes no quieren pasarse a otra room y aceptan tener la electricidad fija.","Luis Carlos Navarro ","Servicio Cliente","Recepción","N/A",50.285714285714285,"Roja","Asignar Roberto Escoto","Ama de Llaves","Si","Queja","NO","SI","Chequeo habitaciones"]
[1106,"2018-12-09","Huésped",211,"C1","Aguas Termales","Cambiar filtro de la piscina grande, cuando el agua fluye trae objetos flotando.","N/A","N/A","Luis Carlos Navarro ","Servicio Cliente","Hj Evaluacion Gen",972,50.285714285714285,"Roja","Asignar Jairo Garcia","Mantenimientos","Si","Queja","NO","NO","Piscinas termal"]
[1105,"2018-12-09","Huésped",211,"C1","Habitaciones","Iluminación de la habitación es deficiente, no es buena para leer, las luces no son ajustables.","N/A","N/A","Luis Carlos Navarro ","Servicio Cliente","Hj Evaluacion Gen",972,50.285714285714285,"Roja","Asignar Don Minor Castro","Gerente","Si","Queja","NO","SI","Lampara de lectura"]
[1104,"2018-12-08","Huésped",515,"C1","Recepción","Huésped se queja que el trato en recepción no fue amigable.","Personal mas amigable","N/A","Luis Carlos Navarro ","Servicio Cliente","Hj Evaluacion Gen",801,50.285714285714285,"Roja","Asignar Estibaliz Aguilar","Recpción","Si","Queja","NO","Si","Servicio cliente recepción"]
[1103,"2018-12-08","Huésped",308,"C1","Italiano","Para el precio de este hotel la expectativa era encontrar todos los restaurantes abiertos.","N/A","N/A","Luis Carlos Navarro ","Servicio Cliente","Hj Evaluacion Gen",952,50.285714285714285,"Roja","Asignar Dayana Miranda","A&B","Si","Queja","NO","SI","Servicio cliente restaurante "]
[1102,"2018-12-09","Huésped",108,"C1","Habitaciones","Huésped se queja porque el refrigerador de la hab no se encuentra frío cuando el huésped ingresa.","N/A","N/A","Luis Carlos Navarro ","Servicio Cliente","Hj Evaluacion Gen",662,50.285714285714285,"Roja","Asignar Roberto Escoto","Ama de Llaves","Si","Queja","NO","NO","Chequeo habitaciones"]
[1101,"2018-12-06","Huésped",402,"C1","Ti-Cain","Se necesita café o té a la llegada en el desayuno, se tiene que esperar demasiado para que le ofrezcan alguna de las opciones. Cuando se pidió fue servido pero debería de haber ya café y té.","N/A","N/A","Luis Carlos Navarro ","Servicio Cliente","Hj Evaluacion Gen",1249,50.285714285714285,"Roja","Asignar Diego Cambronero","A&B","Si","Queja","NO","Si","Servicio cliente restaurante "]
[1100,"2018-12-08","Huésped",303,"C1","Ti-Cain","Huésped se queja por calidad en desayuno. Los zumos en el desayuno deberían ser naturales.","N/A","N/A","Luis Carlos Navarro ","Servicio Cliente","Hj Evaluacion Gen",1002,50.285714285714285,"Roja","Asignar Diego Cambronero","A&B","Si","Queja","NO","SI","Calida Desayuno"]
[1099,"2018-12-06","Huésped",601,"C1","Bar Húmedo","Precios muy altos para una copa de vino.","N/A","N/A","Luis Carlos Navarro ","Servicio Cliente","Hj Evaluacion Gen",1233,50.285714285714285,"Roja","Asignar Diego Cambronero","A&B","Si","Queja","NO","SI","Precios vino"]
[1098,"2018-12-07","Huésped",506,"C1","Hotel","Huésped se queja porque el hotel no tiene suficientes tiendas.","N/A","N/A","Luis Carlos Navarro ","Servicio Cliente","Hj Evaluacion Gen",1114,50.285714285714285,"Desestimada","N/A","N/A","N/A","N/A","N/A","NO","N/A"]
[1097,"2018-12-07","Guía","N/A","N/A","Spa","El Guía de Collette el señor Ricardo Howell se acercó a Recepción muy molesto quejándose por una confirmación que recibió de 3 masajes correspondientes a su grupo y que al momento de llegar al SPA no estaban en el sistema, al guía un día antes de ingresar al hotel se le confirmó las reservas que estaban ya en el sistema y fueron chequeadas por el recepcionista Ignacio, el propio Ricardo solicitó le pasaran una llamada al SPA y minutos después recepción llamó al SPA para ver si todo estaba bien y si se le había ayudado al guía con lo que solicitaba, Ignacio indica que hasta se le reservó mas espacio porque siempre se sabía que Ricardo enviaba mas personas al SPA y fue por este motivo que se dió todo por acordado. Cuando los huéspedes llegaron al SPA, no estaban en el sistema porque más temprano otros  huéspedes de collete que NO habían reservado con Howell  los confundieron y asumieron que esos huéspedes eran los de la reserva ya hecha, pero resulta que eran otros huéspedes que venían a reservar directamente. Esto ocasionó que no se les diera el servicio esperado y como consecuencia el guía a cargo demostró mucho enojo y descontento con el SPA y la reacción del recepcionista ante lo que sucedió.","N/A","EL Gerente Minor Castro habló con Ricardo Howell.","Luis Carlos Navarro ","Servicio Cliente","Servicio al Cliente","N/A",50.285714285714285,"Roja","Asignar Yeimy Miranda",null,"Si","Queja","NO","SI","Servicio cliente spa"]
[1096,"2018-12-08","Huésped",902,"C1","Habitaciones","Huéspedes muy molestos por el ruido ocasionado por la construcción, al momento del check-out comparten su disgusto.","N/A","Se le retiraron dos facturas como compensación ya que no pudieron estar tranquilos debido al ruido.","Marianela Sancho ","Recepción","Recepción","N/A",50.285714285714285,"Roja","Asignar Don Minor Castro","Gerente","Si","Queja","NO","SI","Construcción"]
[1095,"2018-12-08","Colaborador",506,"N/A","Habitaciones","Colaboradora mucama nos reporta que el murito de afuera de la hab se encuentra en muy mal estado ( pieza de madera podrida ). Tiene aspecto de que no se le da mantenimiento a las instalaciones.","N/A","N/A","Luis Carlos Navarro ","Servicio Cliente","Servicio al Cliente","N/A",50.285714285714285,"Roja","Asignar Roberto Escoto","Ama de Llaves","Si","Queja","NO","No","Habitaciones"]
[1094,"2018-11-22","Huésped",405,"C1","Ti-Cain","Huéspedes solicitan se mejore la calidad de las frutas.","N/A","N/A","Luis Carlos Navarro ","Servicio Cliente","Hj Evaluacion Gen",1184,50.285714285714285,"Roja","Asignar Diego Cambronero","A&B","SI","Queja","NO","SI","Variedad desayuno"]
[1093,"2018-11-22","Huésped",405,"C1","Hotel","Huésped se queja porque no haybun trato igualitario entre turistas extranjeros y nacionales","N/A","N/A","Luis Carlos Navarro ","Servicio Cliente","Hj Evaluacion Gen",1184,50.285714285714285,"Roja","Asignar Luis Carlos ","Recpción","SI","Queja","NO","SI","Servicio al cliente "]
[1092,"2018-12-03","Huésped",702,"C1","Hotel","Huésped molesto se queja del àrea de fumado, y solicita un lugar cercano para poder fumar.","N/A","N/A","Luis Carlos Navarro ","Servicio Cliente","Hj Evaluacion Gen",823,50.285714285714285,"Roja","Asignar Don Minor Castro","Gerente","SI","Queja","NO","SI","Fumadores "]
[1091,"2018-12-04","Huésped",307,"C1","Bar Húmedo","No más pajillas de plastico, usen de otro tipo de material.","N/A","N/A","Luis Carlos Navarro ","Servicio Cliente","Hj Evaluacion Gen",1003,50.285714285714285,"Verde","Asignar Diego Cambronero","A&B","SI","Sugerencia","SI","Si","Suministros Bares"]
[1090,"2018-12-04","Huésped",604,"C1","Habitaciones","Huésped se queja de que en la habitación una silla no es suficiente.","N/A","N/A","Luis Carlos Navarro ","Servicio Cliente","Hj Evaluacion Gen",1263,50.285714285714285,"Desestimada","N/A","N/A","N/A","N/A","SI","NO","Silla en habitación"]
[1089,"2018-12-05","Huésped",301,"C1","Habitaciones","Aire acondicionado no funciona ni tampoco ventilador de techo.","N/A","N/A","Luis Carlos Navarro ","Servicio Cliente","Recepción","N/A",50.285714285714285,"Roja","Asignar Jairo Garcia","Mantenimientos","Si","Queja","NO","SI","A/C"]
[1088,"2018-12-01","Huésped",503,"C1","Recepción","Llegamos en la noche y nuestra primera interacción fue con el recepcionista quien fue muy impersonal y poco cálido.","N/A",0,"Liz Aguilar ","Supervisora Recep","Hj Evaluacion Gen","N/A",49.285714285714285,"Roja","Asignar Estibaliz Aguilar","Recpción","Si","Queja","NO","Si","Servicio cliente recepción"]
[1087,"2018-12-04","Huésped",205,"C1","Hotel","Se que tienen una ley que prohibe fumar en lugares públicos , pero no entiendo que un hotel grande no disponga de una zona interna para fumar, el camino hacia la entrada en la noche debido a los animales de la zona es peligroso.",0,0,0,0,0,0,49.285714285714285,"Roja","Asignar Don Minor Castro","Gerente","Si","Queja","NO","Si","Fumadores "]
[1086,"2018-12-02","Huésped",105,"C1","Hotel","La comida a nivel general del hotel esta sobrevalorada y no es buena en lo absoluto.","N/A","N/A","Luis Carlos Navarro ","Servicio Cliente","Llamada a Recepción","N/A",49.285714285714285,"Roja","Asignar Greivin Salazar ","A&B","Si","Queja","NO","Si","Calidad comida"]
[1085,"2018-12-01","Huésped",111,"C1","Ti-Cain","Huésped se queja del desayuno e indica que puede mejorar teniendo mejores opciones en panes y queques.","N/A","N/A","Luis Carlos Navarro ","Servicio Cliente","Llamada a Recepción","N/A",49.285714285714285,"Roja","Asignar Greivin Salazar ","A&B","Si","Queja","NO","Si","Variedad desayuno"]
[1084,"2018-12-03","Huésped",611,"C1","Habitaciones","Huéspedes se quejan fuertemente porque al llegar su Internet no funciona y piden tener ese servicio habilitado lo mas pronto posible.","N/A","Arnaldo reparó el daño en unas de las areas afectadas, se reestableció el servicio a eso de las 8pm","Luis Carlos Navarro ","Servicio Cliente","Llamada a Recepción","N/A",49.285714285714285,"Roja","Asignar Arnaldo Moreira","Mantenimientos","Si","Queja","Si","Si","Wifi"]
[1083,"2018-12-03","Huésped",606,"C1","Habitaciones","No funciona el Internet, huésped llama quejandose por el mal servicio de Internet que tiene el hotel.","N/A","Se contactó a Arnaldo, se reparó el daño ya que uno de los switch estaba apagado y quedó funcionando bien el internet.","Luis Carlos Navarro ","Servicio Cliente","Llamada de bienvenida","N/A",49.285714285714285,"Roja","Asignar Arnaldo Moreira","Mantenimientos","Si","Queja","SI","Si","Wifi"]
[1082,"2018-12-03","Huésped",712,"C1","Habitaciones","Huéspedes se quejan por el mal funcionamiento del Internet, a su llegada reportan que no tienen señal de Wi-Fi.","N/A","Se contactó a Arnaldo el cual nos dijo que uno de los switch se había apagado y fue necesario reiniciarlo y establecer todo luego de casi 3 horas con el problema.","Luis Carlos Navarro ","Servicio Cliente","Llamada a Recepción","N/A",49.285714285714285,"Roja","Asignar Arnaldo Moreira","Mantenimientos","Si","Queja","SI","Si","Wifi"]
[1081,"2018-12-01","Huésped",310,"C1","Hotel","Huéspedes se quejan porque la acera de la habitación es muy oscura y no hay oluminación adecuada lo cual hace peligroso el caminar por ahí.","N/A","N/A","Luis Carlos Navarro ","Servicio Cliente","Servicio al Cliente","N/A",49.285714285714285,"Roja","Asignar Jairo Garcia","Mantenimientos","Si","Queja","NO","SI","Iluminación Jardines"]
[1080,"2018-12-01","Huésped",606,"C1","Habitaciones","Huésped se queja porque el hotel no dispone de jabón en gel, no le gusta el jabón de barra.","N/A","N/A","Luis Carlos Navarro ","Servicio Cliente","Hj Evaluacion Gen",737,49.285714285714285,"Desestimada","N/A","N/A","N/A","N/A","N/A","Si","N/A"]
[1079,"2018-11-30","Huésped",210,"C1","Habitaciones","Huésped se queja de la manera en que se maneja el cambio de toallas en las habitaciones, él mismo indica que sería muy bueno si seguimos el procedimiento que aparece en la información que se brinda ( solo las toallas en el suelo serán cambiadas, las que se mantienen colgando que se dejen ahi) El huésped se queja porque a pesar de no dejar ninguna toalla en el suelo, todas sus toallas fueron cambiadas.","N/A","N/A","Luis Carlos Navarro ","Servicio Cliente","Hj Evaluacion Gen",1275,49.285714285714285,"Roja","Asignar Roberto Escoto","Lavaderia","Si","Queja","NO","No","Limpieza en habitación"]
[1078,"2018-11-30","Huésped",503,"C1","Ti-Cain","Huésped se queja de que durante su estadía el restaurante principal nunca estuvo abierto.","N/A","N/A","Luis Carlos Navarro ","Servicio Cliente","Hj Evaluacion Gen",1131,49.285714285714285,"Roja","Asignar Diego Cambronero","A&B","Si","Queja","NO","Si","Servicio cliente restaurante "]
[1077,"2018-11-29","Huésped",401,"C1","Habitaciones","Huésped se queja del Shampoo y acondicionador en botellas plasticas, sugiere un dispensador.","N/A","N/A","Luis Carlos Navarro ","Servicio Cliente","Hj Evaluacion Gen",1250,49.285714285714285,"Desestimada","N/A","N/A","N/A","N/A","N/A","N/A","N/A"]
[1076,"2018-11-28","Huésped",410,"C1","Italiano","Restaurante muy pobre en calidad y demasiado caro. La pasta fue de bja calidad.","N/A","N/A","Luis Carlos Navarro ","Servicio Cliente","Hj Evaluacion Gen",504,49.285714285714285,"Roja","Asignar Greivin Salazar ","A&B","Si","Queja","NO","Si","Calidad comida Italiano"]
[1075,"2018-11-27","Huésped",801,"C1","Habitaciones","La puerta del baño no cierra bien, se encuentra desmontada y no calza con el marco.","Reparar la puerta ","N/A","Luis Carlos Navarro ","Servicio Cliente","Hj Evaluacion Gen",1229,49.285714285714285,"Roja","Asignar Jairo Garcia","Mantenimientos","Si","Queja","NO","No","Habitaciones"]
[1073,"2018-11-26","Huésped",509,"C1","Hotel","Huéspedes se quejan porque al momento de que se les recibió se les entregó toallas y bebida pero no les dieron tiempo de disfrutar de la bebida y poder sentarse tranquilos cuando venían con equipaje y cosas, ellos dicen que los obligaron a ir a recepcion inmediatamente y hacer el check-in a pesar de que venían cansados, alegan que no se debe recibir a un huésped de esa manera.","Mejorar en el recibimiento, incorporando unos sillones o sillas en el lugar donde dan las bebidas de bienvenida y toallas. Y a la vez dar al huésped su espacio y que decida cuando ir a a recepción.","N/A","Luis Carlos Navarro ","Servicio Cliente","Servicio al Cliente","N/A",49.285714285714285,"Roja","Asignar Estibaliz Aguilar","Recepción","Si","Queja","NO","Si","Servicio cliente botones"]
[1073,"2018-11-26","Huésped",509,"C1","Hotel","Huéspedes se quejan porque al momento de que se les recibió se les entregó toallas y bebida pero no les dieron tiempo de disfrutar de la bebida y poder sentarse tranquilos cuando venían con equipaje y cosas, ellos dicen que los obligaron a ir a recepcion inmediatamente y hacer el check-in a pesar de que venían cansados, alegan que no se debe recibir a un huésped de esa manera.","Mejorar en el recibimiento, incorporando unos sillones o sillas en el lugar donde dan las bebidas de bienvenida y toallas. Y a la vez dar al huésped su espacio y que decida cuando ir a a recepción.","N/A","Luis Carlos Navarro ","Servicio Cliente","Servicio al Cliente","N/A",48,"Amarilla","Asignar Estibaliz Aguilar","Recepción","Si","Queja","No","Si","Servicio cliente recepción"]
[1074,"2018-11-26","Huésped",307,"C1","Habitaciones","Huésped en llamada de bienvenida indica que su aire no funciona como debería y que no enfría.","Colocar un instructivo del control del A/C, explicando que significa cada símbolo.","Se envía a mantenimiento y los mismos indican que el control estaba desconfigurado, procedieron a configurarlo y quedo enfriando bien.","Luis Carlos Navarro ","Servicio Cliente","Llamada de bienvenida","N/A",48,"Amarilla","Asignar Estibaliz Aguilar","Recepción","Si","Queja","No","Si","Servicio cliente recepción"]
[1071,"2018-11-26","Huésped",509,"C1","Habitaciones","A/C no enfría bien y huésped muy molesto indica a recepción que esta decepcionado del hotel.","Actualizar los aires ya que no funciona  bien.","Se envía a mantenimiento y botones los cuales confirman que el control del aire estaba desconfigurado y esto provocó que el huésped no pudiera hacer uso del aire adecuadamente.","Luis Carlos Navarro ","Servicio Cliente","Recepción","N/A",48,"Roja","Asignar Estibaliz Aguilar","Recepción","Si","Queja","No","Si","Servicio cliente recepción"]
[1072,"2018-11-26","Colaborador","N/A","N/A","Parqueo","Colaboradores botones reportan que constantemente escuchan a los huéspedes hablar que el área del parqueo es oscura y que necesita una mejor iluminación. Ellos coinciden en que se necesita colocar bombillos mas fuertes y un par de lámparas adicionales.","N/A","N/A","Luis Carlos Navarro ","Servicio Cliente","Servicio al Cliente","N/A",48,"Amarilla","Asignar Jairo Garcia","Mantenimiento","si","Sugerencia","No","Si","Iluminación Jardines"]
[1069,"2018-11-25","Huésped",404,"C1","Habitaciones","Huésped se acerca a recepción indicando que el A/C no funciona y no enfría nada, nos pide que se revise mañana porque tiene a sus hijas durmiendo ahora mismo.","N/A","Se le presta ventilador de recepción para que puedan usarlo durante la noche, mañana se revisará el ventilador.","Luis Carlos Navarro ","Servicio Cliente","Recepción","N/A",48,"Roja","Asignar Jairo Garcia","Mantenimineto","si","Queja","No","Si","A/C"]
[1070,"2018-11-26","Huésped",509,"C1","Habitaciones","Huéspedes disconformes en general desde su llegada se acercan a recepción informando de una queja más, esta vez alegan que el TV es pésimo y que la señal no es buena.","Mejorar las condiciones del hotel.","Se envía a mantenimiento y nos confirman que el cable estaba dañado y esto no permitía una buena señal, reparan el daño y colocan el cable nuevo, imagen clara y de buena calidad. Cuando huéspedes lleguen de tour se le dará la solución.","Luis Carlos Navarro ","Servicio Cliente","Recepción","N/A",48,"Roja","Asignar Roberto Escoto","Ama de llaves","si","Queja","No","si","Chequeo habitaciones"]
[1067,"2018-11-25","Huésped",102,"C1","Recepción","La recepción debe de tener un mejor botiquín equipado con lo bàsico y necesario para los huéspedes en caso de algún incidente. A la hora de solicitarlo estaba muy escaso.","N/A","N/A","Luis Carlos Navarro ","Servicio Cliente","Hj Evaluacion Gen",1208,48,"Roja","Asignar Estibaliz Aguilar","Recepción","Si","Queja","No","si","Servicio cliente recepción"]
[1068,"2018-11-25","Huésped",205,"C1","Habitaciones","Huéspedes de Inglaterra decepcionados de la habitación con la que se fueron a encontrar, ellos reclaman que no es una juniro suite y que el espacio es muy reducido, llaman a recepción quejandose porque no es lo que esperaban y que adicional al lado de su habitación hay mucho ruido de otros huéspedes que hace aún más decepcionante su estadía.","Solicitan alguna otra habitación diferente.","Se conversa con los huéspedes para conocer su necesidad y resulta que ellos estan en total desacuerdo con las habitaciones y su diseño, reclaman que no es una junior suite y que la decoración no es nada a lo que se esperaban ya que han viajado alrededor del mundo, amablemente voy a su habitación y los busco para hablar y explicarles que todas las habitaciones de Arenal Springs tienen una misma idea y que en su interior la decoración es la misma, los llevo a la 304 donde el baño es distinto y me dicen que no ven ninguna diferencia y que es el mismo cuadrante con 2 camas que la anterior, seguidamente los llevo a la hab 509 donde hay cama king y también me dicen que no ven ninguna diferencia y que el hotel es desactualizado y poco moderno, les menciono que existen master suite y que son mas grandes pero tienen un valor mayor, ellos me dicen que quieren verlas pero al verlas indican que no les agrada la manera en que son diseñadas las habitaciones, con amabilidad les indico que me gustaría tener lo que ellos quieren para que esten cómodos, pero que el hotel lo que ofrece es lo que han visto y no hay mas allá. Al final deciden moverse a la 509 porque encontraron las espacio al solo haber una cama king.  ","Luis Carlos Navarro ","Servicio Cliente","Servicio al Cliente","N/A",48,"Desestimada","N/A","N/A","no","N/A","N/A","N/A","N/A"]
[1065,"2018-11-24","Huésped",404,"C1","Habitaciones","Huéspedes se quejan del acceso a la habitación 404, indica que como pueden llamar a esa habitación una habitación para discapacitados si no se puede accesar con silla de ruedas por si solo, el muchacho utiliza silla para movilizarse todo el tiempo pero no es posible pasar de la calle a la habitación sin sufrir una caída.","Adaptar los accesos de manera que una persona discapacitada pueda salir de la hab a las termales o restaurantes, es muy peligroso lo que tienen como accesos.","Se colocó temporalmente una tapa de cañeria para que el huésped pudiera pasar.","Luis Carlos Navarro ","Servicio Cliente","Servicio al Cliente","N/A",48,"Roja","Asignar Greivin Arredondo","Sostenivilidad","Si","Queja","No","si","Sillas Discapacitados "]
[1064,"2018-11-23","Huésped",904,"C1","Habitaciones","Huésped se queja debido a que no encontró información de los precios del mini bar en la habitación. Nadie le informó nada al respecto.","N/A","N/A","Luis Carlos Navarro ","Servicio Cliente","Hj Evaluacion Gen",1257,48,"Roja","Asignar Estibaliz Aguilar","Recepción","Si","Queja","No","si","Servicio cliente recepción"]
[1063,"2018-11-24","Huésped",410,"C1","Italiano","Precios de los vinos demasiado caros.","N/A","N/A","Luis Carlos Navarro ","Servicio Cliente","Hj Evaluacion Gen",1238,48,"Roja","Asignar Diego Cambronero","A&B","Si","Queja","2018-12-11","Si","Precios vino"]
[1062,"2018-11-24","Huésped",606,"C1","Habitaciones","Huespédes se quejan porque el telefono de la habitacion no sirve para hablar a restaurantes o transferir sus llamadas.","N/A","Bloqueadas las habitaciones para reparación de Randall.","Luis Carlos Navarro ","Servicio Cliente","Recepción","N/A",48,"Roja","Asignar Don Minor Castro","Gerencia","Si","Queja","No","SI","Central telefonica"]
[1061,"2018-11-24","Huésped",102,"C1","Habitaciones","Huéspedes se quejan porque no es posible transferir sus llamadas a restaurantes u otros puntos de venta.","Arreglar el problema del teléfono.","Habitacion bloqueada a la espera de Randall para reparación.","Luis Carlos Navarro ","Servicio Cliente","Recepción","N/A",48,"Roja","Asignar Don Minor Castro","Gerencia","Si","Queja","No","Si","Central telefonica"]
[1060,"2018-11-24","Huésped",208,"C1","Habitaciones","Huéspedes se quejan porque desde sus habitaciones no se pueden transferir las llamadas, no es posible contactarlos con restaurantes u otros puntos de venta. ","Arreglar problema de teléfono.","N/A","Luis Carlos Navarro ","Servicio Cliente","Recepción","N/A",48,"Roja","Asignar Don Minor Castro","Gerencia","Si","Queja","No","Si","Central telefonica"]
[1059,"2018-11-24","Huésped",703,"C1","Habitaciones","Huésped molesta llama a recepción por segunda vez indicando que anteriormente llamó solicitando el room service para retirar los platos y nunca llegaron por ellos a pesar que le indicaron que iban para allà, su primera llamada fue a las 7pm y luego volvió a llamar a las 9pm porque no le habían retirado sus platos.","Solicita inmediatamente le retiren los platos sucios.","Se contacta al restaurante y los mismos informan que olvidaron el número de habitación y por esa razón no cumplieron la solicitud del huésped.","Luis Carlos Navarro ","Servicio Cliente","Llamada a Recepción","N/A",48,"Roja","Asignar Antonio Ferreto ","A&B","Si","Queja","No","Si","Servicio cliente restaurante "]
[1058,"2018-11-22","Colaborador",102,"C1","Habitaciones","Colaborador Fernando reporta que al momento de cambiar a los huéspedes de la 110 a la 102 a eso de las 9:30pm, al mostrar la hab la misma no tenía paños en ninguna parte.","N/A","N/A","Luis Carlos Navarro ","Servicio Cliente","Recepción","N/A",48,"Roja","Asignar Roberto Escoto","Ama de llaves","Si","Queja","No","No","Limpieza en habitación"]
[1057,"2018-11-22","Huésped",110,"C1","Habitaciones","Huésped se queja porque en su hab no hay agua caliente.","N/A","Tanque de agua reventado, se cambia de habitación a los huéspedes debido a que la reparación no se puede hacer inmediata. Se ofrecen disculpas y huésped queda contento en hab 102.","Luis Carlos Navarro ","Servicio Cliente","Servicio al Cliente","N/A",48,"Roja","Asignar Jairo Garcia","Mantenimiento","Si","Queja","No","Si","Agua caliente"]
[1056,"2018-11-22","Huésped",514,"C1","Habitaciones","Aire acondicionado no funciona correctamente, la primera noche huéspedes informan de la situación ya que no enfría bien. La segunda noche llaman de nuevo porque a pesar de que les dijeron que estaba reparado, nuevamente no enfría.","Solicitan reparar el A/C","Mantenimiento la mañana siguiente realiza la revisión y nos informan que ya el aire ha sido recargado y que funciona bien, sin embargo al otro día vuelve a fallar y determinan que la instalación se reventó por lo que necesitaran 3 horas dentro de la hab para bajar el aire y colocar toda la instalación nueva. Se conversa con el huésped y él muy amable nos da permiso para reparar el aire aprovechando que su familia anda en tour.","Luis Carlos Navarro ","Servicio Cliente","Servicio al Cliente","N/A",48,"Roja","Asignar Jairo Garcia","Mantenimiento","No","Queja","No","Si","A/C"]
[1055,"2018-11-22","Huésped",514,"C1","Habitaciones","Huéspedes minutos después del check-in e ingreso de habitación reclaman porque se encuentran varios bombillos de la habitación quemados.","Solicitan reemplazar los bombillos por nuevos para tener luz","Se cambiaron los bombillos y quedó funcionando la iluminación de manera correcta.","Luis Carlos Navarro ","Servicio Cliente","Recepción","N/A",48,"Roja","Asignar Roberto Escoto","Ama de llaves","Si","Queja","No","si","Limpieza en habitación"]
[1054,"2018-11-21","Huésped",110,"C1","Hotel","Huésped se queja porque considera que el hotel debería tener mejor y completa información en la habitación, por ejemplo horarios de restaurantes, menús, servicios del hotel,etc.","N/A","N/A","Luis Carlos Navarro ","Servicio Cliente","Hj Evaluacion Gen",1051,48,"Roja","Asignar Don Minor Castro","Gerencia","si","Queja","No","no","Publicidad doc Informativo"]
[1053,"2018-11-21","Huésped",415,"C1","Ti-Cain","Favor cambiar el piso del restaurante ya que es muy resbaloso y peligroso.","N/A","N/A","Luis Carlos Navarro ","Servicio Cliente","Hj Evaluacion Gen","N/A",48,"Roja","Asignar Roberto Escoto","Areas publicas","si","Queja","No","si","Restaurante"]
[1052,"2018-11-20","Huésped",205,"C1","Habitaciones","Huésped se queja porque en el sanitario el agua sale constantemente y no hay alguna tapon que detenga el agua, esto le molesta porque en realidad el hotel no preserva el agua.","N/A","N/A","Luis Carlos Navarro ","Servicio Cliente","Hj Evaluacion Gen",1085,48,"Roja","Asignar Roberto Escoto","Ama de llaves","Si","Queja","No","No","Limpieza en habitación"]
[1051,"2018-11-20","Huésped",205,"C1","Italiano","Restaurante con precios muy elevados.","N/A","N/A","Luis Carlos Navarro ","Servicio Cliente","Hj Evaluacion Gen",1085,48,"Roja","Asignar Diego Cambronero","A&B","Si","Queja","2018-12-11","Si","Precios Comidas Italiano"]
[1050,"2018-11-20","Huésped",205,"C1","Habitaciones","Máquina de café y copas de la habitación se encontraban sucias.","N/A","N/A","Luis Carlos Navarro ","Servicio Cliente","Hj Evaluacion Gen",1085,48,"Roja","Asignar Roberto Escoto","Ama de llaves","Si","Queja","No","Si","Limpieza en habitación"]
[1049,"2018-11-20","Huésped",710,"C1","Hotel","Huéspedes extremadamente molestos al momento de llegar a la habitación se percatan del fuerte ruido de la construcción y deciden no bajarse de su auto hasta que se les dé otra habitación donde puedan estar tranquilos.","Desean otra habitación lejos.","Se mueven a la 406 inmediatamente donde quedan satisfechos.","Luis Carlos Navarro ","Servicio Cliente","Servicio al Cliente","N/A",48,"Roja","Asignar Don Minor Castro","Gerencia","Si","Queja","No","Si","Ruido habitación"]
[1048,"2018-11-19","Huésped",708,"C1","Hotel","Huéspedes se quejan por ruido ocasionado por la construcción, llaman molestos indicando que así no es posible descansar ni vacacionar.","Solicitan cambio de habitación.","Se mueven a la hab 612 y se les ofrecen disculpas. ","Luis Carlos Navarro ","Servicio Cliente","Servicio al Cliente","N/A",48,"Roja","Asignar Don Minor Castro","Gerencia","Si","Queja","No","Si","Ruido habitación"]
[1047,"2018-11-19","Huésped",512,"C1","Habitaciones","Huésped molesto porque el agua del jacuzzi no es caliente, practicamente lo que calienta es nulo y no se encuentra a gusto. Solicita revisar el funcionamiento del jacuzzi.","N/A","N/A","Luis Carlos Navarro ","Servicio Cliente","Servicio al Cliente","N/A",48,"Roja","Asignar Jairo Garcia","Mantenimientos","Si","Queja","No","Si","Jacuzzi"]
[1046,"2018-11-19","Huésped",601,"C1","Habitaciones","Huésped se queja del reloj alarma de las habitaciones, una vez que el botones va y lo configura todo bien pero al momento de que los huéspedes salen de su habitación se vuelve a desconfigurar, cuestionan como un reloj va estar parado y como pretenden que se use un reloj así.","N/A","N/A","Luis Carlos Navarro ","Servicio Cliente","Servicio al Cliente","N/A",47,"Roja","Asignar Roberto Escoto","Lavaderia","Si","Queja","Si",null,"Habitaciones"]
[1045,"2018-11-18","Huésped",710,"C1","Habitaciones","Huésped se queja de recepción, ya que faltó que les informaran que debían abrir crédito antes de usar las instalaciones.","N/A","N/A","Luis Carlos Navarro ","Servicio Cliente","Hj Evaluacion Gen",1081,47,"Desestimada","N/A","N/A","NO","N/A","N/A","No","N/A"]
[1044,"2018-11-17","Huésped",703,"C1","Habitaciones","Para las habitaciones de discapacitados poner la altura de la cama adecuada ya que es muy alta para una persona con discapacidad, debe de quedar al nivel de la silla de ruedas para poder llamarse una habitación de discapacitados.","N/A","N/A","Luis Carlos Navarro ","Servicio Cliente","Hj Evaluacion Gen",1130,47,"Roja","Asignar Don Minor Castro","Gerente","Si","Queja","No","Si","Habitaciones"]
[1043,"2018-11-18","Huésped",205,"C1","Habitaciones","Huésped llama muy enojado a Recepción porque en la habitación no hay un tapón para el lavatorio, el nos dice que necesita afeitarse y que es necesario para él llenar el lavatorio hasta arriba, pide que le solucionen inmediatamente y solicita al siguiente día una cita con el gerente.",0,"Mantenimiento y Mucamas nos indican que no pueden ayudarnos debido a que no tienen tapones y no saben donde pueden obtenerlos. A la hora de indicarle al cliente que no podemos solucionar inmediatamente se molesta aún más y grita al teléfono. Minutos después vamos a chequear en una master en busqueda de un tapón y con suerte lo encontramos, se removió ese tapón y se probó en otra junior suite sin embargo el tipo de lavatorio era distinto y no se logro solucionar la queja. El señor espera al día siguiente un tapón ya que no puede creer que en todo el hotel no exista uno.","Luis Carlos Navarro ","Servicio Cliente","Servicio al Cliente","N/A",47,"Roja","Asignar Dariel Miranda","Compras","Si","Queja","No","No","Habitaciones"]
[1042,"2018-11-18","Huésped",901,"C2","Habitaciones","Huésped extremadamente molesto reclama que viene desde Florida y que el A/C de la habitación no enfría, a pesar de reportarlo en la mañana para la noche el aire seguía igual y eso lo tenía muy decepcionado, él comenta que no tiene porque pagar los errores del hotel ya que al momento de llegar mantenimiento le dijeron que el A/C así era como trabajaba ya que no era un aire moderno.","Nos solicita que le brindemos una solución inmediata ya que no piensan dormir con tanto calor.","Debido a que no hay más habitaciones con cama king se le ofrece al huésped la posibilidad de cambiarse a otra habitación con 2 camas queen, el mismo no le parece y se molesta más, luego de conversar y escuchar su molestia, se le piden disculpas y se le ofrece como compensación una cena gratis la noche de hoy, acepta y agradece por la intención de hacerlo sentir mejor a pesar de pasar todo el día con un A/C que no enfría bien. Termina aceptando moverse a la hab 201.","Luis Carlos Navarro ","Servicio Cliente",0,0,47,"Roja","Asignar Jairo Garcia","Mantenimientos","SI","Queja","No","Si","A/C"]
[1041,"2018-11-17","Colaborador",711,"N/A","Habitaciones","Compañero botones reporta que la hab al ser entregada tenía un fuerte olor a pintura y que esto incomodó un poco a los huéspedes cuando estaban entrando a la hab.","N/A","N/A","Luis Carlos Navarro ","Servicio Cliente","Recepción","N/A",47,"Roja","Asignar Roberto Escoto","Lavaderia","SI","Queja","No","Si","Habitaciones"]
[1040,"2018-11-18","Colaborador",111,"N/A","Habitaciones","Botones Jason reporta que la hab 111 al momento de ser entregada se encontraba con varias partes del baño mojadas y con extractos de jabón en una de las paredes, esto fue percibido por los huéspedes los cuales inmediatamente se mostraron molestos alegando que querían una hab que estuviera en condiciones y que no pareciera sucia.","Cambiar la habitación a una que no parezca usada.","Se realizó el cambio inmediato a la hab 205 y se le ofrecieron disculpas a los huéspedes.","Luis Carlos Navarro ","Servicio Cliente","Recepción","N/A",47,"Roja","Asignar Roberto Escoto","Lavaderia","Si","Queja","No","Si","Habitaciones"]
[1039,"2018-11-18",0,0,0,"00:00:00","00:00:00",0,0,0,0,0,0,47,"Desestimada",null,null,null,null,null,null,"N/A"]
[1038,"2018-11-16","Huésped",602,"C1","Recepción","Huésped se queja debido a que considera debemos mejorar a la hora de brindar información, otros huéspedes tuvieron que decirme como funcionaba el servicio de lavandería, me dí cuenta de las clases de yoga muy tarde, quería usar el SPA pero nunca me dieron información de los precios o como reservar.","N/A","N/A","Luis Carlos Navarro ","Servicio Cliente","Hj Evaluacion Gen",1226,47,"Roja","Asignar Estibaliz Aguilar","Recpción","Si","Queja","No","No","Servicio cliente recepción"]
[1037,"2018-11-17","Huésped",504,"C1","Italiano","Precios de los vinos cuestan el doble de lo que hemos pagado en todo lado, y son de calidad inferior.","N/A","N/A","Luis Carlos Navarro ","Servicio Cliente","Hj Evaluacion Gen",1129,47,"Desestimada","N/A","N/A","NO","N/A","N/A","NO","N/A"]
[1036,"2018-11-17","Huésped",301,"C1","Habitaciones","Huésped se queja por la secadora de pelo, no calienta correctamente.","N/A","N/A","Luis Carlos Navarro ","Servicio Cliente","Hj Evaluacion Gen",926,47,"Amarilla","Asignar Roberto Escoto","Lavaderia","SI","Queja","No","No","Habitaciones"]
[1035,"2018-11-10","Huésped",305,"C1","Hotel","Huésped sugiere que el hotel podría mejorar si tuviera la opción de TODO INCLUIDO.","N/A","N/A","Luis Carlos Navarro ","Servicio Cliente","Hj Evaluacion Gen",1274,47,"Desestimada","N/A","N/A","NO","N/A","N/A","NO","N/A"]
[1034,"2018-11-17","Huésped",606,"C1","Habitaciones","Huésped se queja porque considera que el espejo grande en frente del sanitario debe de estar en la habitación y que ademas hacen falta mas ganchos para colocar la ropa.","N/A","N/A","Luis Carlos Navarro ","Servicio Cliente","Hj Evaluacion Gen",274,47,"Roja","Asignar Roberto Escoto","Lavaderia","Si","Queja","No","Si","Habitaciones"]
[1033,"2018-11-16","Huésped",207,"C1","Habitaciones","Las cajas fuertes de las habitaciones 201,207,209 y 205 necesitan ser reparadas.","N/A","N/A","Luis Carlos Navarro ","Servicio Cliente","Hj Evaluacion Gen",1041,47,"Amarilla","Asignar Roberto Escoto","Lavaderia","SI","Queja","No","No","Habitaciones"]
[1032,"2018-11-16","Huésped",201,"C1","Italiano","Huésped se queja de la atención y el mismo dice que tuvo problemas para que las ordenes individuales estuvieran correctas.","N/A","N/A","Luis Carlos Navarro ","Servicio Cliente","Hj Evaluacion Gen",787,47,"Roja","Asignar Antonio Ferreto ","A&B","SI","Queja","NO","SI","Servicio cliente restaurante "]
[1031,"2018-11-15","Huésped",708,"C1","Habitaciones","Aire acondicionado no enfriaba en lo absoluto.","N/A","Se envió a mantenimiento a revisar el A/C antes que ingresara otra reserva y que se viera afectada.","Luis Carlos Navarro ","Servicio Cliente","Hj Evaluacion Gen",1089,47,"Roja","Asignar Jairo Garcia","Mantenimientos","Si","Queja","No","Si","A/C"]
[1030,"2018-11-15","Huésped",802,"C1","Bar Húmedo","Huésped se queja debido a que el bartender en el  bar húmedo fue muy rápido para aumentar las ventas y eso se malinterpreta.","N/A","N/A","Luis Carlos Navarro ","Servicio Cliente","Hj Evaluacion Gen",417,47,"Roja","Asignar Diego Cambronero","A&B","SI","Queja","NO","Si","Servicio cliente bar humedo"]
[1029,"2018-11-15","Huésped",802,"C1","Habitaciones","Wifi no funcionó en la habitación.","N/A","Se envió a Arnaldo a revisar y el mismo indicó que se encontraba funcionando bien el Internet.","Luis Carlos Navarro ","Servicio Cliente","Hj Evaluacion Gen",417,47,"Desestimada","N/A","N/A","NO","N/A","N/A","SI","Wifi"]
[1028,"2018-11-15","Huésped",801,"C1","Bar Húmedo","El personal del bar húmedo fue muy insistente y presionaba para que comparamos más, ante cada oportunidad querían aumentar la venta.","N/A","N/A","Luis Carlos Navarro ","Servicio Cliente","Hj Evaluacion Gen",1225,47,"Roja","Asignar Diego Cambronero","A&B","Si","Queja","SI ","No","Servicio cliente bar humedo"]
[1027,"2018-11-15","Huésped",601,"C1","Recepción","Las llaves de la habitación no funcionaban, tuve que ir a recepción a resetearlas.","N/A","N/A","Luis Carlos Navarro ","Servicio Cliente","Hj Evaluacion Gen",1231,47,"Roja","Asignar Estibaliz Aguilar","Recpción","Si","Queja","Si","No","Servicio cliente recepción"]
[1026,"2018-11-13","Huésped",408,"C1","Habitaciones","Huésped se queja por el mal funcionamiento del telefono, èl necesitaba una wake-up call y tambien llamar a recepción y a pesar de que se le dijo que lo estaban arreglando al llegar de tour no se encontraba reparado.","Repara teléfono","Se le ofreció moverse a otra habitación por la noche que le quedaba, sin embargo no aceptaron, se les ofreció disculpas y se les dió la opcion de ir a despertarlos en la mañana. EL guarda nos ayudó a las 5:30 am para despertarlos.","Luis Carlos Navarro ","Servicio Cliente","Llamada a Recepción","N/A",47,"Roja","Asignar Jairo Garcia","Mantenimientos","Si","Queja","NO","Si","Central telefonica"]
[1025,"2018-11-14","Colaborador",415,"N/A","Habitaciones","Colaborador Oscar nos reporta que en varias ocasiones los huéspedes han comentado acerca del estado de la llave para drenar el jacuzzi la cual se encuentra afuera de la habitación. ( llave herrumbrada y en un mal estado)","N/A","N/A","Luis Carlos Navarro ","Servicio Cliente","Servicio al Cliente","N/A",47,"Roja","Asignar Don Minor Castro","Gerente","Si","Queja","no","Si","Jacuzzi"]
[1024,"2018-11-12","Huésped",709,"C1","Souvenir","precios muy caros a nuestra opinión.","Mejorar los precios.","N/A","Luis Carlos Navarro ","Servicio Cliente","Hj Evaluacion Gen",1088,46,"Roja","Asignar Diego Cambronero","A&B","Si","Queja","NO","Si","Precios Souvenir"]
[1023,"2018-11-12","Huésped","N/A","C1","Italiano","En el italiano las pizzas son grandes pero las ensaladas vienen pequeñas. Hacer hincapié en eso.","N/A","N/A","Luis Carlos Navarro ","Servicio Cliente","Tripadvisor","N/A",46,"Roja","Asignar Greivin Salazar ","A&B","Si","Queja","2018-12-11","Si","Precios"]
[1022,"2018-11-12","Huésped","N/A","C1","Bar Húmedo","El bar de pileta nos pareció con precios un poco elevados y poca variedad","N/A","N/A","Luis Carlos Navarro ","Servicio Cliente","Tripadvisor","N/A",46,"Roja","Asignar Greivin Salazar ","A&B","Si","Queja","2018-12-11","Si","Precios"]
[1021,"2018-11-11","Huésped",903,"C3","Italiano","El cliente dice que el salonero le vendió a la fuerza una botella de vino de $145 , dice que lo presionó cuando él llegó a cenar ya le tenía esa botella fría en lugar de mostrarle el menú.","No pagó la botella ",0,"Liz Aguilar ","Supervisora Recep","Servicio al Cliente",0,46,"Roja","Asignar Antonio Ferreto ","A&B","Si","Queja","NO","Si","Servicio cliente restaurante "]
[1020,"2018-11-11","Huésped",208,"C2-C3","Habitaciones","NO HAY SEÑAL DE CABLE ",0,"Se reporta a mantenimiento, pero hay que esperar hasta el lunes ","Liz Aguilar ","Supervisora Recep","Llamada de bienvenida",0,46,"Roja","Asignar Jairo Garcia","Mantenimientos","Si","Queja","NO",null,"Señal TV"]
[1019,"2018-11-08","Huésped",609,"C1","Habitaciones","Señal de televisión muy mala.","Solicita que cambien de compañía proveedora de cable debido a la pésima señal.","Se envío a mantenimiento sin embargo los compañeros indican que la señal es igual en todas las habitaciones y que cabletica ha visitado el hotel varias veces pero nunca lo solucionan.","Luis Carlos Navarro ","Servicio Cliente","Llamada a Recepción","N/A",46,"Roja","Asignar Jairo Garcia","Mantenimientos","Si","Queja","No","Si","Señal TV"]
[1018,"2018-11-08","Huésped",212,"C1","Habitaciones","Huéspedes se quejan por el pésimo servicio de cable, la imagen se ve fatal y estan muy decepcionados de un hotel 4 estrellas con televisión por cable tan mala.","N/A","N/A","Luis Carlos Navarro ","Servicio Cliente","Llamada a Recepción","N/A",46,"Roja","Asignar Jairo Garcia","Mantenimientos","Si","Queja","No ","Si","Señal TV"]
[1017,"2018-11-07","Huésped",701,"C1","Habitaciones","Huésped se queja porque no hay silla en la habitación y porque el lavatorio es muy pequeño.","N/A","N/A","Luis Carlos Navarro ","Servicio Cliente","Hj Evaluacion Gen",814,46,"Roja","Asignar Greivin Arredondo","Sostenibilidad","Si","Queja","Si","Si","Silla en habitación"]
[1016,"2018-11-04","Huésped",205,"C1","Italiano","Huésped se queja porque no encontró menu libre de gluten en los restaurantes y además expresa que debe existir una preparacion y capacitación del personal para atender personas celiacas.","N/A","N/A","Luis Carlos Navarro ","Servicio Cliente","Hj Evaluacion Gen",1042,46,"Roja","Asignar Diego Cambronero","A&B","Si","Queja","2018-12-11","Si","Menú Celiacos"]
[1015,"2018-11-06","Huésped",415,"C1","Habitaciones","Huésped se queja porque considera que el hotel debería rellenar el mini bar diariamente.","N/A","N/A","Luis Carlos Navarro ","Servicio Cliente","Hj Evaluacion Gen",278,46,"Desestimada","N/A","N/A","No","N/A","Alto costo","No","N/A"]
[1014,"2018-11-06","Huésped",414,"C1","Habitaciones","Huésped se queja por el tamaño de las barras de jabón, solicita sean mas grandes.","N/A","N/A","Luis Carlos Navarro ","Servicio Cliente","Hj Evaluacion Gen",278,46,"Desestimada","N/A","N/A","No","N/A","N/A","No","N/A"]
[1013,"2018-11-04","Huésped",403,"C1","Lockers","Huésped se queja porque la persona encargada de entregar toallas no se encontraba cuando llegó por su toalla.","N/A","N/A","Luis Carlos Navarro ","Servicio Cliente","Hj Evaluacion Gen",1026,45,"Roja","Asignar Estibaliz Aguilar","Recpción","Si","Queja","NO","No","Lockers"]
[1012,"2018-11-05","Huésped",209,"C1","Habitaciones","El aire acondicionado de la habitación no estaba configurado cuando llegamos, necesita reemplazarse por uno moderno ya que es ruidoso y la caracteristica de moverse para que aire vaya a diferentes direcciones no funcionó nunca.","N/A","N/A","Luis Carlos Navarro ","Servicio Cliente","Hj Evaluacion Gen",1038,45,"Roja","Asignar Jairo Garcia","Mantenimientos","Si","Queja","NO","Si","A/C"]
[1011,"2018-11-03","Huésped",109,"C1","Bar Húmedo","Huésped se queja por el uso de pajillas.","N/A","N/A","Luis Carlos Navarro ","Servicio Cliente","Hj Evaluacion Gen",778,45,"Roja","Asignar Antonio Ferreto ","A&B","Si","Queja","NO","Si","Servicio cliente restaurante "]
[1010,"2018-11-04","Huésped",507,"C1","Recepción","Huésped se queja por la poca felxibilidad en cuanto a la hora de entrada y salida.","Ser mas flexibles en cuanto a la hora de entrada y salida","N/A","Luis Carlos Navarro ","Servicio Cliente","Hj Evaluacion Gen",888,45,"Desestimada","N/A","N/A","N/A","Sugerencia","N/A","Si","N/A"]
[1009,"2018-11-04","Huésped",903,"C1","Habitaciones","Huésped se acerca a recepción molesta indicando que hoy por la mañana su habitación y la de sus familiares a la par (904) despues de 3 minutos en la ducha solamente sale agua fría, nos pide revisar las duchas de las habitaciones para poder ducharse con agua caliente ya que tienen a su hija y es necesario que les brindemos una solución.","N/A","Se envía a mantenimiento a revisar la hab, y los mismos explican que la capacidad de los tanques no da abasto para tantos, se le ofrecen disculpas a los huéspedes y como compensación por el poco abastecimiento de agua caliente se les brinda 1 bebida de cortesía, agradecen el gesto.","Luis Carlos Navarro ","Servicio Cliente","Recepción","N/A",45,"Roja","Asignar Jairo Garcia","Mantenimientos","Si","Queja","NO","Si","Agua caliente"]
[1008,"2018-11-04","Huésped",304,"C1","Hotel","Podrìan mejorar con algún tipo de entretenimiento nocturno como música en vivo o algun show similar.","N/A","N/A","Luis Carlos Navarro ","Servicio Cliente","Hj Evaluacion Gen",1015,45,"Roja","Asignar Don Mainor Castro","Gerente","Si","Queja","NO","Si","Entretenimiento"]
[1007,"2018-04-11","Huésped",207,"C1","Recepción","Huésped se queja por la mala experiencia con la cual finalizó su estancia en el hotel, ellos tenían 2 habitaciones juntas y solicitaron un late check-out a las 2:00pm, sin embargo al estar lleno el hotel no fue posible y se les dio la posibilidad de utilizar las instalaciones y bañarse en los lockers. Al parecer esto ocasionó una gran molestia, porque los huèspedes indican que el área donde los enviaron a bañarse no es apta y que ahí tuvieron una experiencia muy triste y decepcionante.","N/A","N/A","Luis Carlos Navarro ","Servicio Cliente","Recepción","N/A",45,"Roja","Asignar Don Mainor Castro","Gerente","Si","Queja","N/A","N/A","Lockers"]
[1006,"2018-11-01","Huésped",608,"C1","Habitaciones","Huésped se queja porque no hay una buena iluminación a los lados de la cama para poder leer, y además reclama por no haber una silla en la habitación.","N/A","N/A","Luis Carlos Navarro ","Servicio Cliente","Hj Evaluacion Gen",606,45,"Roja","Asignar Gilberth Mejías","Mantenimientos","Si","Queja","NO","Si","Iluminación hab closet"]
[1005,"2018-11-01","Huésped",404,"C1","Bar Húmedo","Huésped se queja que los precios deberian de ser mas bajos en el sushi y en el bar de la piscina, es inclusive mas caro que una bebida en europa.","N/A","N/A","Luis Carlos Navarro ","Servicio Cliente","Hj Evaluacion Gen",614,45,"Roja","Asignar Diego Cambronero","A&B","Si","Queja","NO","Si","Precios"]
[1004,"2018-10-27","Huésped",902,"C1","Souvenir","NO vender el agua a un precio tan elevado.","N/A","N/A","Luis Carlos Navarro ","Servicio Cliente","Hj Evaluacion Gen",720,45,"Desestimada","N/A","N/A","N/A","N/A","N/A","N/A","Precios Souvenir"]
[1003,"2018-10-30","Huésped",208,"C1","Souvenir","Expandir el souvenir ya que es muy pequeño y que puedan proveer un lugar conveniente con bebidas y comida.","N/A","N/A","Luis Carlos Navarro ","Servicio Cliente","Hj Evaluacion Gen",532,44.285714285714285,"Roja","Asignar Don Mainor Castro","Gerente","Si","Queja","NO","Si","Servicio C. Tienda"]
[1002,"2018-10-30","Huésped",208,"C1","Habitaciones","Poner ventiladores o ventilación en los baños","N/A","N/A","Luis Carlos Navarro ","Servicio Cliente","Hj Evaluacion Gen",532,44.285714285714285,"Desestimada","N/A","N/A","N/A","N/A","N/A","N/A","N/A"]
[1001,"2018-10-30","Huésped",301,"C1","Habitaciones","Huésped llama a recepción porque su A/C no funciona correctamente.","Revisar A/C.","Se envía al botones para revisar primeramente si es algun problema del control, el botones  indica que mantenimiento debe revisar el aire por lo tanto se envía a mantenimiento. Ellos cargaron el aire de refrigerante ya que no tenía.","Luis Carlos Navarro ","Servicio Cliente","Servicio al Cliente","N/A",44.285714285714285,"Roja","Asignar Mainor Castro","Mantenimientos","Si","Queja","NO","Si","A/C"]
[1000,"2018-10-29","Huésped",506,"C1","Italiano","los precios de la comida y especialmente las bebidas son muy altos.","N/A","N/A","Luis Carlos Navarro ","Servicio Cliente","Hj Evaluacion Gen",887,44.285714285714285,"Roja","Asignar Greivin Salazar ","A&B","Si","Queja","NO","Si","Precios Comidas Italiano"]
[999,"2018-10-29","Huésped",106,"C1","Habitaciones","Huèsped se queja porque no hay sombrillas en las habitaciones.","N/A","N/A","Luis Carlos Navarro ","Servicio Cliente","Hj Evaluacion Gen",909,44.285714285714285,"Desestimada","N/A","N/A","N/A","N/A","Alto costo, procedimiento ya establecido","N/A","Servicio cliente restaurante "]
[998,"2018-10-28","Huésped",211,"C1","Habitaciones","La cafetera de la habitación no tiene filtros.","Poner capsulas en lugar de café molido.","N/A","Luis Carlos Navarro ","Servicio Cliente","Hj Evaluacion Gen",710,44.285714285714285,"Desestimada","N/A","N/A","N/A","N/A","N/A","N/A","N/A"]
[997,"2018-10-29","Huésped",503,"C1","Sushi","Precios excesivamente caros.","Precios mas competitivos en la zona.","N/A","Luis Carlos Navarro ","Servicio Cliente","Hj Evaluacion Gen",1022,44.285714285714285,"Roja","Asignar Diego Cambronero","A&B","Si","Queja","No","Si","Precios Sushi"]
[996,"2018-10-29","Huésped",205,"C1","Italiano","Huésped se queja por no haber mayor oferta gastronomica en el hotel ni mejores opciones libres de gluten.","N/A","N/A","Luis Carlos Navarro ","Servicio Cliente","Hj Evaluacion Gen",138,44.285714285714285,"Roja","Asignar Greivin Salazar ","A&B","Si","Queja","NO","Si","Menú Celiacos"]
[995,"2018-10-26","Huésped",411,"C1","Hotel","Huèsped se queja por la poca iluminaciòn en las esquinas de cada callejòn, menciona que le encantarìa ver mejor iluminaciòn con los nùmeros de las habitaciones alumbrando.","N/A","N/A","Luis Carlos Navarro ","Servicio Cliente","Hj Evaluacion Gen",719,44.285714285714285,"Roja","Asignar Don Mainor Castro","Gerente","Si","Queja","No","Si","Iluminación Jardines"]
[994,"2018-10-25","Huésped",209,"C1","Ti-Cain","Bueno el desayuno pero terminè decepcionado porque estuvo cerrado nuestra estadìa entera, no tuve oportunidad de experimentar de la cultura tica porque siempre estuvo cerrado.La comida estuvo mas o menos en general, lo digo porque las porciones eran pequeñas.","N/A","N/A","Luis Carlos Navarro ","Servicio Cliente","Hj Evaluacion Gen",837,44.285714285714285,"Roja","Asignar Greivin Salazar ","A&B","Si","Queja","No","Si","Menú típico"]
[993,"2018-10-27","Huésped",208,"C1","Italiano","Como visitante de temporada baja me gustarìa ver mas y mejores opciones de almuerzo y cena.","N/A","N/A","Luis Carlos Navarro ","Servicio Cliente","Hj Evaluacion Gen",1034,44.285714285714285,"Roja","Asignar Greivin Salazar ","A&B","Si","Queja","NO","Si","Variedad platos"]
[992,"2018-10-27","Huésped",208,"C1","Souvenir","Insectos en los helados. No fue una buena opciòn comprar ahì.","N/A","N/A","Luis Carlos Navarro ","Servicio Cliente","Hj Evaluacion Gen",1034,44.285714285714285,"Roja","Asignar Diego Cambronero","A&B","Si","Queja","NO","No","Servicio C. Tienda"]
[991,"2018-10-27","Huésped",208,"C1","Italiano","Menù muy limitado y extremadamente caro","N/A","N/A","Luis Carlos Navarro ","Servicio Cliente","Hj Evaluacion Gen",1034,44.285714285714285,"Roja","Asignar Greivin Salazar ","A&B","Si","Queja","NO","Si","Calidad precio"]
[990,"2018-10-24","Huésped",904,"C1","Recepción","Pueden mejorar su servicio con una mejor ayuda con la conversión de dinero. Me dijeron que un taxi cuesta 12 dolares a la Fortuna pero la \"maria\" marca 5000 colones, se supone que son 10 dòlares. No entendì porque.","N/A","N/A","Luis Carlos Navarro ","Servicio Cliente","Hj Evaluacion Gen",768,44.285714285714285,"Roja","Asignar Estibaliz Aguilar","Recpción","Si","Queja","NO","No","Precios"]
[989,"2018-10-25","Huésped",108,"C1","Recepción","Deberìan entregar un brochure con informaciòn del hotel para futuras visitas.","N/A","N/A","Luis Carlos Navarro ","Servicio Cliente","Hj Evaluacion Gen",849,44.285714285714285,"Desestimada","N/A","N/A","N/A","N/A","N/A","N/A","N/A"]
[988,"2018-10-25","Huésped",108,"C1","Italiano","El servicio muy bueno pero el sabor del arroz con camarones no era el mejor.","N/A","N/a","Luis Carlos Navarro ","Servicio Cliente","Hj Evaluacion Gen",849,44.285714285714285,"Roja","Asignar Greivin Salazar ","A&B","Si","Queja","NO","Si","Calidad comida Italiano"]
[987,"2018-10-23","Huésped",504,"C1","Hotel","Podrìan mejorar en tener en el hotel servicio de alquiler de carros y un supermercado mas cerca.","N/A","N/A","Luis Carlos Navarro ","Servicio Cliente","Hj Evaluacion Gen",1028,44.285714285714285,"Desestimada","N/A","N/A","No","Sugerencia","N/A","N/A","N/A"]
[986,"2018-10-23","Huésped",504,"C1","Bar Húmedo","muy caro, por una cerveza de lata 5 dòlares.","N/A","N/A","Luis Carlos Navarro ","Servicio Cliente","Hj Evaluacion Gen",1028,44.285714285714285,"Desestimada","N/A","N/A","No","Sugerencia","N/A","Si","Precios"]
[985,"2018-10-28","Colaborador",202,"C1","Habitaciones","Cama nido que se colocò a peticiòn de huèsped se encontraba en muy mal estado, quebrada y no en las mejores condiciones.","N/A","N/A","Liz Aguilar ","Supervisora Recep","Recepción","N/A",44.285714285714285,"Roja","Asignar Greivin Arredondo","Sostenibilidad","Si","Queja","No","No","Camas nidos"]
[984,"2018-10-28","Colaborador","N/A","N/A","Ti-Cain","Buenos días Compañeros \n\nTengan muy buen día todas y todos.\n\nLes comparto el siguiente  incidente , durante el desayuno de hoy.\n\nLa mañana de hoy la compañera Karen Núñez se acercó a mi persona y me indico , que aparentemente estaban cayendo del cielo raso, excremento de ratas.\n\nEstaba en espera de  terminar el desayuno , para informar al señor Jairo.\n\nLamentablemente, ella no se equivocaba.\n\nMinutos después , cayó muy cerca de una de las mesas, una rata.  La compañera Hazel y el señor Ariel, pudieron recogerla y disponer de ella, pero lamentablemente los huéspedes    , en el salón B , se dieron cuenta.\n\nLas habitaciones a nombre de la familia LAINES, son 603-703-903.\n\nMi recomendación seria , entrar lo más pronto posible en un programa de exterminio y/o previsión a l asunto.\n\nEspero que la información sea de ayuda.\n","N/A","N/A","Luis Carlos Navarro ","Servicio Cliente","Servicio al Cliente","N/A",44.285714285714285,"Roja","Asignar Jairo Garcia","Mantenimientos","Si","Queja","No","Si","Plagas en restaurante"]
[983,"2018-10-21","Huésped",111,"C1","Ti-Cain","Huésped se queja por no haber ventiladores en los restaurantes que permitan un mejor flujo de aire.","N/A","N/A","Luis Carlos Navarro ","Servicio Cliente","Hj Evaluacion Gen",845,44.285714285714285,"Verde","Asignar Don Mainor Castro","Gerente","Si","Queja","No","No","Ventilación Restaurantes"]
[982,"2018-10-20","Huésped",701,"C1","Habitaciones","Huésped se queja porque el hotel no tiene NETFLIX con costo agregado en las habitaciones para el hospedaje.","N/A","N/A","Luis Carlos Navarro ","Servicio Cliente","Hj Evaluacion Gen",844,43,"Amarilla","Asignar Greivin Arredondo","Sostenibilidad","Si","Sugerencia","NO","NO","NETFLIX"]
[981,"2018-10-17","Huésped",505,"C1","Souvenir","Precios muy altos.","N/A","N/A","Luis Carlos Navarro ","Servicio Cliente","Hj Evaluacion Gen",480,43,"Amarilla","Asignar Diego Cambronero","Galería ",null,"Queja","NO","NO","Precios tienda"]
[980,"2018-10-17","Huésped",505,"C1","Italiano","Comida buena pero sobrevalorada.","N/A","N/A","Luis Carlos Navarro ","Servicio Cliente","Hj Evaluacion Gen",480,43,"Roja","Asignar Diego Cambronero","A&B","SI","Queja","NO","SI","Precios Comidas Italiano"]
[979,"2018-10-19","Huésped",705,"C1","Hotel","Los trabajos de construcción detrás de nosotros comenzaron muy temprano a las 7am y eran demasiado ruidosos. No fue muy gratificante ni tranquila la estadía por ese motivo.","N/A","N/A","Luis Carlos Navarro ","Servicio Cliente","Hj Evaluacion Gen",231,43,"Desestimada",null,"N/A","N/A","N/A","N/A","SI","Ruido habitación"]
[978,"2018-10-21","Huésped",512,"C2","Habitaciones","Huésped al momento del check-out nos comparte la queja que el día 20 de octubre ( día de su boda) se había coordinado la limpieza y decoración respectiva para que cuando llegaran de su boda encontraran la sorpresa, sin embargo cuando la mucama llegó a hacer lo solicitado ellos se encontraban alistandose y preparando todo para la boda por lo que pidieron a la mucama venir más tarde ya cuando se hubieran marchado. La situación que molestó a la huésped fue que cuando llegaron de su boda a celebrar la luna de miel la habitación era un desastre y no había ninguna decoración. Ella nos expresó que habían hecho un esfuerzo muy grande para conseguir disfrutar de su luna de miel en esa habitación y que al final lo que recibieron fue una decepción en lugar de una grata sorpresa. ","N/a","Se le removió una factura de $25 la cual era la única que tenían como consumo y se les ofreció disculpas por tan vergonzoso error. ","Liz Aguilar ","Supervisora Recep","Check-out","N/A",43,"Roja","Asignar Greivin Arredondo","Compras","Si","Queja","NO","NO","Chequeo habitaciones"]
[977,"2018-10-18","Colaborador","N/A","N/A","Lockers","Locker #18 de los hombres posee número erroneo en su llavero. Revisar estado y números de los llaveros.","N/A","N/A","Jean Pierre Brenes","Recepción","Recepción","N/A",43,"Amarilla","Asignar Estibaliz Aguilar","Recpción","Si","Queja","NO","NO","Lockers"]
[976,"2018-10-18","Huésped",402,"C1","Aguas Termales","Los botones del jacuzzi no funcionaban bien a ciertas horas.","N/A","N/A","Luis Carlos Navarro ","Servicio Cliente","Hj Evaluacion Gen",753,43,"Roja","Asignar Jairo Garcia","Mantenimientos","SI","Queja","NO","SI","Jacuzzi"]
[975,"2018-10-17","Huésped",608,"C1","Italiano","NO ofrezcan pajillas para las bebidas a la hora de servir una comida, son muy malas para el medio ambiente.","N/A","N/A","Luis Carlos Navarro ","Servicio Cliente","Hj Evaluacion Gen",804,43,"Desestimada",null,"N/A","N/A","N/A","N/A","NO","Servicio cliente restaurante "]
[974,"2018-10-18","Huésped",306,"C1","Souvenir","Huésped se queja que en el souvenir  las tallas de ropa se encontraban todas mezcladas y en desorden y fue difícil encontrar la ropa.","N/A","N/A","Luis Carlos Navarro ","Servicio Cliente","Hj Evaluacion Gen",538,43,"Amarilla","Asignar Diego Cambronero","Galería ","Si","Queja","NO","NO","Servicio C. Tienda"]
[973,"2018-10-17","Huésped",312,"C1","Sushi","Las bebidas estuvieron ok pero no fueron algo grandioso.","Mejorar las bebidas y su calidad.","N/A","Luis Carlos Navarro ","Servicio Cliente","Hj Evaluacion Gen",520,43,"Roja","Asignar Antonio Ferreto ","A&B","Si","Queja","NO","SI","Cockteles bares"]
[972,"2018-10-17","Huésped",109,"C1","Habitaciones","Solamente teníamos shampoo y acondicionador pero nunca tuvimos gel de baño lo cual sería una muy buena idea.","Incorporar gel de baño.","N/A","Luis Carlos Navarro ","Servicio Cliente","Hj Evaluacion Gen",901,43,"Desestimada",null,"N/A",null,"N/A","N/A","NO","Amenidades"]
[971,"2018-10-17","Huésped",109,"C1","Ti-Cain","Huésped se queja que al desayuno una sola waflera no es suficiente para el número de personas presentes, se necesita demasiado tiempo para un waffle y no le gustó esperar tanto.","una maquina de hacer waffles extra.","N/A","Luis Carlos Navarro ","Servicio Cliente","Hj Evaluacion Gen",901,43,"Roja","Asignar Greivin Salazar ","A&B","Si","Queja","NO","SI","Calida Desayuno"]
[970,"2018-10-17","Huésped",103,"C1","Habitaciones","Huésped se queja del ruido ocasionado durante las dos noches de su estadía por el televisor de la habitación adyacente. Indica que pudo escuchar de todo y que hasta se sorprendió de lo que escuchó.","N/A","N/A","Luis Carlos Navarro ","Servicio Cliente","Hj Evaluacion Gen",841,43,"Desestimada",null,"N/A","N/A","N/A","N/A","N/A","Ruido habitación"]
[969,"2018-10-17","Huésped",501,"C1","Habitaciones","Huésped se queja por no haber una silla en la habitación, dice que es muy difícil ponerse la ropa en una cama alta.","Una silla es necesaria en la habitación.","N/A","Luis Carlos Navarro ","Servicio Cliente","Hj Evaluacion Gen",290,43,"Roja","Asignar Greivin Arredondo","Compras","Si","Queja","NO","SI","Silla en habitación"]
[968,"2018-10-18","Guía",125,"N/A","Habitaciones","Habitaciones 125-126 reportadas por el chofer y guía con cucarachas entre el aire acondicionado, se quejan de una posible plaga la cual intentaron matar con insecticidad pero aún así salieron más en la noche.","Revisar y fumigar esas habitaciones.","La compañera Ericka fue y fumigó por encima pero es necesario una aplicación del producto más a fondo.","Erika Vanegas","Recepción","Recepción","N/A",43,"Roja","Asignar Jairo Garcia","Mantenimientos","Si","Queja","NO","SI","Plagas Habitaciones"]
[967,"2018-10-18","Huésped",605,"C1","Habitaciones","Huésped luego de llegar del check-in llama molesto a recepción porque su aire acondicionado no funciona bien, él mismo pide que le den un tiempo para descansar y que más tarde le intenten solucionar el problema.","Repara A/C","Mantenimiento fue a chequear tiempo después y reparó el aire sin embargo el señor no estaba muy contento desde el inicio de su estadía.","Luis Carlos Navarro ","Servicio Cliente","Llamada a Recepción","N/A",43,"Roja","Asignar Roberto Escoto","Ama de Llaves","si","QUEJA","NO","SI","Chequeo habitaciones"]
[966,"2018-10-16","Guía",602,"C1","Salón Manantial","Cable HDMI en muy mal estado, no permitió llevar a cabo una charla de chocolate planeada para el grupo ROAD SCHOLAR ( Arenal Manoa).","Reemplazar cable.","N/A","Luis Carlos Navarro ","Servicio Cliente","Servicio al Cliente","N/A",42.285714285714285,"Roja","Asignar Greivin Arredondo","Sostenibilidad","Si","Queja","NO","NO","Proyector Manantial "]
[965,"2018-10-15","Huésped",611,"C1","Sushi","Restaurante del Sushi malo. Además el bar de la piscina debería de dar también al agua fría ","N/A","N/A","Luis Carlos Navarro ","Servicio Cliente","Hj Evaluacion Gen",603,42.285714285714285,"Roja","Asignar Greivin Salazar ","A&B","Si","Queja","NO","Si","Calidad Sushi"]
[964,"2018-10-15","Huésped",507,"C1","Ti-Cain","Mejorar la variedad de los desayunos especialmente cuando se viene varios días.","N/A","N/A","Luis Carlos Navarro ","Servicio Cliente","Hj Evaluacion Gen",483,42.285714285714285,"Roja","Asignar Greivin Salazar ","A&B","Si","Queja","NO","SI","Calida Desayuno"]
[963,"2018-10-13","Huésped",204,"C1","Recepción","Televisor de Recepción es horrible. Esto es algo que deberían mejorar","N/A","N/A","Luis Carlos Navarro ","Servicio Cliente","Hj Evaluacion Gen",282,42.285714285714285,"Roja","Asignar Luis Carlos ","Recpción","Si","Queja","NO","No","Servicio cliente recepción"]
[962,"2018-10-13","Huésped",206,"C1","Habitaciones","Caja de seguridad no funciona","N/A","N/A","Luis Carlos Navarro ","Servicio Cliente","Hj Evaluacion Gen",897,42.285714285714285,"Roja","Asignar Roberto Escoto","Ama de Llaves","Si","Queja","NO","SI","Habitaciones"]
[961,"2018-10-14","Huésped",107,"C1","Italiano","Huésped se queja de precios. Crema de hongos cuesta igual que una pizza hawaiana","N/A","N/A","Luis Carlos Navarro ","Servicio Cliente","Hj Evaluacion Gen",848,42.285714285714285,"Roja","Asignar Diego Cambronero","A&B","Si","Queja","NO","Si","Calidad comida Italiano"]
[960,"2018-10-14","Huésped",107,"C1","Aguas Termales","Toallas de piscina ya son beige y no azules como lo dice los rótulos en el área de las termales. Ver rotulación y renovarla.","N/A","N/A","Luis Carlos Navarro ","Servicio Cliente","Hj Evaluacion Gen",848,42.285714285714285,"Amarilla","Asignar Greivin Arredondo","Sostenibilidad","Si","Sugerencia","NO","NO","Piscinas "]
[959,"2018-10-14","Huésped",107,"C1","Hotel","Huésped se queja de los brazaletes, sugieren que no sean de plástico.","N/A","N/A","Luis Carlos Navarro ","Servicio Cliente","Hj Evaluacion Gen",848,42.285714285714285,"Roja","Asignar Estibaliz Aguilar","Recpción","Si","Queja","NO ","SI","Brazaletes"]
[958,"2018-10-14","Huésped",701,"C1","Sushi","Pedí papas a las 11 y no me las dieron porque el aceite estaba frío.","N/A","N/A","Luis Carlos Navarro ","Servicio Cliente","Hj Evaluacion Gen",418,42.285714285714285,"Roja","Asignar Greivin Salazar ","A&B","SI","Queja","SI","SI","Calidad Sushi"]
[957,"2018-10-14","Huésped",409,"C1","Italiano","Huésped se queja de los precios de los restaurantes, 40 000 un almuerzo? ","N/A","N/A","Luis Carlos Navarro ","Servicio Cliente","Hj Evaluacion Gen",534,42.285714285714285,"Roja","Asignar Diego Cambronero","A&B","Si","Queja","NO","SI","Precios Comidas Italiano"]
[956,"2018-10-14","Huésped",204,"C1","Habitaciones","Huésped se queja indicando que hay una necesidad de enmasillar el area entre el techo y el cielo raso en el baño.","N/A","N/A","Luis Carlos Navarro ","Servicio Cliente","Hj Evaluacion Gen",900,42.285714285714285,"Verde","Asignar Mainor Castro","Ama de Llaves","Si","Sugerencia","NO","NO","Habitaciones"]
[955,"2018-10-14","Huésped",403,"C1","Habitaciones","Huésped se queja de las camas e indica que el hotel debe mejorar teniendo camas más suaves.","N/A","N/A","Luis Carlos Navarro ","Servicio Cliente","Hj Evaluacion Gen",717,42.285714285714285,"Roja","Asignar Roberto Escoto","Ama de Llaves","Si","Queja","NO","SI","Colchon duro"]
[954,"2018-10-14","Huésped",403,"C1","Italiano","Huésped se queja de las opciones de comida, pide mejores opciones ya que para él la comida fue solo buena y no encontró nada especial en ella.","Incorporar mejores opciones de comida","N/A","Luis Carlos Navarro ","Servicio Cliente","Hj Evaluacion Gen",717,42.285714285714285,"Roja","Asignar Diego Cambronero","A&B","Si","Queja","NO","SI","Calidad comida Italiano"]
[953,"2018-10-15","Colaborador",305,"N/A","Habitaciones","Mientras se iba a chequear una habitación con una ducha apta para lo que nos solicitaba un cliente se encontró que la ducha de la hab 305 no esta pegada y que al abrir toda la presión es muy vulonerable a safarse y caer en la cabeza de un huésped.","N/A","Se informó a Mantenimiento y a Roberto Escoto de la situación. La hab se bloqueó para proceder con la reparación.","Luis Carlos Navarro ","Servicio Cliente","Servicio al Cliente","N/A",42.285714285714285,"Roja","Asignar Roberto Escoto","Ama de Llaves","Si","Queja","NO","SI","Chequeo habitaciones"]
[952,"2018-10-15","Huésped",602,"C1","Habitaciones","Señora Kristine dueña de la agencia LatinEscapes se queja fuertemente indicando que ella conoce este hotel y que lo ha visitado en varias ocasiones pero que esta vez le han dado la peor habitación, ella se queja que la ducha no es regulable y que al momento de abrirla el agua sale disparada por todo lado sin poder bañarse o lavarse el pelo como ella quiere, además ella reclama por el ruido del ventilador del techo que se encuentra mal pegado y no los deja dormir. Ella nos hace ver que si pudiera irse se iría ahora mismo porque no se encuentra a gusto.","Arreglar los problemas que presenta la habitación por la cual ella esta pagando.","Se va directamente a la habitación para conversar con la huésped, chequear con mantenimiento y ofrecer las disculpas del caso, después de revisar nos damos cuenta que el ventilador necesita estar colocado de una manera que no produzca ese sonido incómodo. La ducha se intentó regular sin embargo en busqueda de la satisfacción de la huésped se le dió como solución moverse a la habitación 307 donde se revisó previamente que la ducha, ventilador y A/C funcionaran correctamente y así solucionar la queja. La señora agradeció la ayuda y quedó contenta. ","Luis Carlos Navarro ","Servicio Cliente","Llamada a Recepción","N/A",42.285714285714285,"Roja","Asignar Roberto Escoto","Ama de Llaves","Si","Queja","NO","SI","Ruido habitación"]
[951,"2018-10-14","Guía",121,"C1","Italiano","El guía de Collete el señor Ricardo Howell presentó la queja con respecto al menú que se le ofreció luego de traer a su grupo a cenar a nuestro restaurante, él mismo quedó disconforme ya que en otras ocasiones se le ha ofrecido menú abierto y esta vez tanto en el Rest Italiano como en el Ti-cain se le dió un menú carta paquete el cual no le agrado. Nos mencionó que la próxima vez su grupo iría a cenar afuera y se encontraba molesto por el accionar del hotel.","N/A","N/A","Liz Aguilar ","Supervisora Recep","Recepción","N/A",42.285714285714285,"Roja","Asignar Diego Cambronero","A&B","Si","Queja","NO","NO","Servicio cliente restaurante "]
[950,"2018-10-15","Huésped",503,"C1","Habitaciones","503  La señora se queja de que el A/C no le sirvió en toda la noche, se revisa y efectivamente le falta refrigerante ","N/A","Se reparó el A/C","Luis Carlos Navarro ","Servicio Cliente","Recepción","N/A",42.285714285714285,"Roja","Asignar Jairo Garcia","Mantenimientos","Si","Queja","NO","SI","A/C"]
[949,"2018-10-13","Huésped",410,"C1","Habitaciones","se queja ahora de que el A/C no sirve, efectivamente estaba sin refrigerante ","N/A","se les terminó otorgándola cena de cortesía","Luis Carlos Navarro ","Servicio Cliente","Recepción","N/A",42.285714285714285,"Roja","Asignar Jairo Garcia","Mantenimientos","Si","Queja","NO","SI","A/C"]
[948,"2018-10-13","Huésped",705,"C1","Hotel","Huéspedes molestos por ruido ocasionado por la construcción.","N/A","Se movieron de hab a la 410","Luis Carlos Navarro ","Servicio Cliente","Recepción","N/A",42.285714285714285,"Desestimada","Asignar Mario Lezama","Mantenimientos","No","N/A","N/A","N/A","Construcción"]
[947,"2018-10-14","Huésped",602,"C1","Habitaciones","A/C en mal estado, huésped se se queja porque no funciona como debería.","Reparar el A/C","Se movieron a la hab 101","Luis Carlos Navarro ","Servicio Cliente","Recepción","N/A",42.285714285714285,"Roja","Asignar Jairo Garcia","Mantenimientos","SI","Queja","NO","SI","A/C"]
[946,"2018-10-14","Huésped",903,"C2","Ti-Cain","BUENAS NOCHES COMPAÑEROS\n\nLes describo el incidente que sucedió al final de la cena, con los huéspedes de la habitación 903 :\n\nDichos señores son personas muy amables, cenaron por segunda ocasión en este RESTAURANTE.\n\nEllos pidieron un  salmón, el cual viene acompañado de brócoli y coliflor.\n\nAl parecer ; lamentablemente, les salió un pequeño gusano.\n\nLa señora ya había terminado la cena casi por completo.\nEl señor Jhon Pinnel me indica del problema, reviso el plato y efectivamente lo tenía.\nMe aproximo a los huéspedes, quienes se manifestaron al respecto, muy respetuosos, comprensivos, pero me indicaron que la señora era fóbica a estos animalitos.\n\n\n","N/A","Procedí a disculparme y a retirar el producto de la factura, y a la vez les hice saber que mañana, el personero del Guest Service, se iba a comunicar con ellos.\r\n","Gerardo Melendez","Capitán","Servicio al Cliente","N/A",42.285714285714285,"Roja","Asignar Greivin Salazar ","A&B","Si","Queja","NO","NO","Objetos en la comida"]
[945,"2018-10-12","Huésped",205,"C2","Recepción","Buenos días compañeros, \nMe gustaría comunicarles una situación que se dio hoy con el señor Eduardo Otero de la habitación 205 durante el check out. \nSe le comunico el monto a pagar por cargos extras, él dijo que iba a pagar en efectivo y en euros. Y bueno ya que se está dando la opción de que lo hagan procedimos a aceptar la moneda. Sin embargo, no aceptó el monto que se le dijo y mencionó que ese no era el tipo de cambio; además agregó que ayer se lo habían cambiado a 650 y que aun así salió perdiendo dinero. \nLe explique que 620 era el tipo de cambio que estaba autorizado a dar y no podía hacer ningún cambio al mismo. El señor ya en un tono más fuerte dijo que entonces estábamos ganando dinero extra  “a costas de su dinero”, pero le mencione que de hecho no se aceptan euros, pero que los recibimos para hacerles un favor ya que sabemos que quizás no tienen tiempo para ir al banco y nuevamente le mencioné que 620 era el cambio establecido por contabilidad. \n\nAl final, el señor pagó sus cargos y el tipo de cambio que se le estaba dando, pero no estaba contento. De mi parte no puedo hacer alguna alteración a lo que ya está esta por los compañeros de contabilidad, pero aun así les hice la consulta pero me dijeron lo mismo que ya le había mencionado al señor Otero. \n\nEstamos ofreciendo una pequeña ayuda a ellos aceptando los euros, pero no me parece respetuoso que ellos vengan a imponer lo que ellos desean cuando ya tenemos las cosas establecidas por los compañeros de contabilidad. Si vamos a otro país nos tenemos que apegar a las normas que rigen al mismo, incluyéndose en esto el tipo de moneda… Estamos siendo flexible al ayudarle a los clientes aceptando Euros, pero hasta cuando quieren cambiar dinero y no se les puede cambiar el monto que desean se enojan con nosotros. \n","N/A","N/A","Deyvin Aguirre ","Recepción","Check-out","N/A",42.285714285714285,"Roja","Asignar Estibaliz Aguilar","Recpción","Si","Queja","NO","NO","Servicio cliente recepción"]
[944,"2018-10-08","Huésped",901,"C1","Habitaciones","Huéspedes se quejan de las camas que son duras.","Mejorar las camas para que sean mas suaves y confortables.","N/A","Luis Carlos Navarro ","Servicio Cliente","Hj Evaluacion Gen",723,41.285714285714285,"Roja","Asignar Greivin Arredondo","Sostenibilidad","Si","Queja","No","Si","Colchon duro"]
[943,"2018-10-08","Huésped",405,"C1","Italiano","Huésped se queja porque habían muchas moscas durante el desayuno.","N/A","N/A","Luis Carlos Navarro ","Servicio Cliente","Hj Evaluacion Gen",507,41.285714285714285,"Roja","Asignar Greivin Arredondo","Sostenibilidad","Si","Queja","No","Si","Plagas en restaurante"]
[942,"2018-10-06","Huésped",206,"C1","Habitaciones","El frigorifico hace mucho ruido y es bastante molesto en la noche.","N/A","N/A","Luis Carlos Navarro ","Servicio Cliente","Hj Evaluacion Gen",496,41.285714285714285,"Roja","Asignar Dariel Miranda","Compras","Si","Queja","No","Si","Ruido Refri"]
[941,"2018-09-29","Mayorista",201,"C1","Habitaciones","pensamos que la habitación 201 es un poquito pequeña si los clientes son 4 adultos tomando en cuenta que casi todos nuestros clientes tienen cada uno una maleta grande y una maleta pequeña durante su viaje. Entonces, prestaremos atención a la categoría de habitación que reservamos por respecto a la composición de los grupos de clientes. ","N/A","N/A","Luis Carlos Navarro ","Servicio Cliente","Retroalimentación Inspección","N/A",41.285714285714285,"Desestimada","N/A","N/A","No","N/A","N/A","No","N/A"]
[940,"2018-09-29","Mayorista",201,"C1","Bar Húmedo","Primero, el hotel Arenal Springs nos parece ser una muy buena opción para nuestros clientes que quieren relajación y confort. Las aguas termales incluidas en el hotel son un valor agregado enorme. Además, esta zona termal está muy bien pensada con los dos bares, los jardines y las diferentes categorías de « piscinas » que hay. Solamente pensamos que el segundo bar (el que propone solamente bebidas y no el Sushi bar) merecería un poquito más de decoración para ser más acogedor todavía. ","N/A","N/A","Luis Carlos Navarro ","Servicio Cliente","Retroalimentación Inspección","N/A",41.285714285714285,"Amarilla","Asignar Mainor Castro","Gerente","Si","Sugerencia","No","No","Remodelación"]
[939,"2018-10-08","Huésped",211,"C1","Habitaciones","Huésped se acerca a recepción indicando que anoche al abrir su closet y sacar la cobija, la misma se encontraba mojada y no la pudo utilizar en toda la noche.","Nos pide revisar qe fue lo que ocurrió y porque razón estaba mojada.","Se contacta a melissa para que revise la habitación, coloque cobijas nuevas y se asegure que no vuelva a suceder.","Luis Carlos Navarro ","Servicio Cliente","Servicio al Cliente","N/A",41.285714285714285,"Roja","Asignar Roberto Escoto","Lavaderia","Si","Queja","No","No","Lavanderia"]
[938,"2018-10-07","Huésped",201,"C1","Habitaciones","Huésped se queja de la mala señal de TV","mejorar la señal","N/A","Luis Carlos Navarro ","Servicio Cliente","Hj Evaluacion Gen",761,41.285714285714285,"Roja","Asignar Roberto Escoto","Ama de Llaves","Si","Queja","No","Si","Señal TV"]
[937,"2018-10-05","Huésped",101,"C1","Habitaciones","Huésped no cuenta con internet ","Proceder a revisar lo reportado","Se cambió el plato de la 301 a la 101, y Arnaldo debe revisar los enlaces","Fernando Sandoval","Recepción","Recepción","n/a",41.285714285714285,"Roja","Asignar Arnaldo Moreira","Mantenimientos","Si","Queja","No","Si","Wifi"]
[936,"2018-10-03","Huésped",409,"C1","Italiano","Huésped indica que las sillas del italiano se resbalan facilmente, deberían de tener algo en las \"patas\" que no permita que se deslicen.","Revisar lo comentado.","N/A","Luis César Morales Campos","Servicio Cliente","Servicio al Cliente","N/A",41.285714285714285,"Roja","Asignar Antonio Ferreto ","A&B","Si","Queja","No","No","Sillas Italiano"]
[935,"2018-10-03","Huésped",410,"C1","Habitaciones","Huésped se queja debido a que los tomacorrientes de la habitación no funcionan correctamente, se encontraba molesta porque colocó su teléfono a cargar creyendo que iba a cargarse y luego se percató que no funcionaba, además cuando solicitó mover las camas y poner las dos mesas de noche juntas para poner ambas lamparas de noche, no fue posible conectar las dos debido a que el tomacorriente estaba sin electricidad.","Reparar el tomacorriente ya que necesita conectar más cosas.","Se contactó a mantenimiento y nos dijeron que eso pasaba en todo ese bloque de habitaciones y que no podían repararlo ya que era algo que Don Mario había hecho, por lo tanto se les prestó la regleta que tenemos en recepción para que pudiera conectar las lámparas y sus cargadores sin problema. Se le pidió disculpas y quedó satisfecha por la rápida solución.","Luis Carlos Navarro ","Servicio Cliente","Llamada a Recepción","N/A",40.285714285714285,"Roja","Asignar Jairo Garcia","Mantenimientos","Si","Queja","NO","NO","Habitaciones"]
[934,"2018-10-02","Guía",121,"C2-C3","Italiano","Chofer del grupo Grand Tour#47 se acerca sumamente molesto a recepción porque estuvo 20 minutos esperando que lo atendieran para cenar y nunca recibió la atención que esperaba, se retira molesto diciendo que ya no piensa cenar y que no puede ser posible que solo por no ser un huésped no le brinden un trato de calidad, si él igual iba a pagar la cena que se iba a comer.","N/A","N/A","Luis Carlos Navarro ","Servicio Cliente","Recepción","N/A",40.285714285714285,"Roja","Asignar Diego Cambronero","A&B","Si","Queja","NO","No","Servicio cliente restaurante "]
[933,"2018-09-23","Huésped",207,"C1","Habitaciones","Sería bueno tener una silla baja dentro de la habitación, ayuda a los adultos mayores","N/A","N/A","Luis César Morales Campos","Servicio Cliente","Hj Evaluacion Gen",546,40.285714285714285,"Roja","Asignar Greivin Arredondo","Sostenibilidad","Si","Queja","2018-10-18","Si","Silla en habitación"]
[932,"2018-09-26","Huésped",102,"C1","Habitaciones","Huésped indica que el área de la ducha en la habitación tiene poca privacidad","n/a","n/a","Luis César Morales Campos","Servicio Cliente","Hj Evaluacion Gen",460,40.285714285714285,"Desestimada","N/A","N/A","N/A","N/A","N/A","N/A","Habitaciones"]
[931,"2018-09-26","Huésped",102,"C1","Hotel","Huésped indica que sería bueno mejorar el área de fumado.","Revisar lo descrito anteriormente","N/A","Luis César Morales Campos","Servicio Cliente","Hj Evaluacion Gen",460,40.285714285714285,"Desestimada","N/A","N/A",null,"N/A",null,"N/A","Fumadores "]
[930,"2018-09-25","Huésped",104,"C1","Recepción","El huésped hace la observación de que si a ud como huésped al llegar al Hotel en Caseta le preguntan los datos sobre la reservación, debería entonces al llegar al parqueo las personas llamarlos por el nombre y mucho menos que en Recepción vuelvan a preguntarles por el dato de la reserva.","Revisar lo descrito arriba","N/A","Luis César Morales Campos","Servicio Cliente","Hj Evaluacion Gen",573,40.285714285714285,"Roja","Asignar Estibaliz Aguilar","Recpción","Si","Queja","NO","No","Servicio cliente recepción"]
[929,"2018-09-25","Huésped",104,"C1","Habitaciones","Huésped indica que el aire acondicionado no enfrió correctamente, a veces estaba bien y por ratos no","Revisar aire acondicionado","N/A","Luis César Morales Campos","Servicio Cliente","Hj Evaluacion Gen",573,40.285714285714285,"Roja","Asignar Jairo Garcia","Mantenimientos","Si","Queja","NO","Si","A/C"]
[928,"2018-09-24","Huésped",101,"C1","Habitaciones","Huéspedes reportan un olor como a cigarro en su habitación y creen que podría provenir de la hab de la par.","Revisar de donde viene el olor que les molesta.","Se envió a la mucama y minutos después servicio al cliente llegó a la habitación para hablar con los huéspedes e indicarles que nos ibamos a encargar de informar a los vecinos sobre la prohibición del fumado en las habitaciones, se hizo un 21 a las 102 pero ellos dijeron que no habían fumado. La 101 no aceptó cambiarse a otra habitación porque estaban todos acostados ya. Se les dará seguimiento al día siguiente.","Luis Carlos Navarro ","Servicio Cliente","Llamada a Recepción","N/A",40.285714285714285,"Desestimada","N/A","N/A","N/A","N/A","SI","N/A","Mal olor habitación"]
[927,"2018-09-22","Huésped",304,"C1","Habitaciones","El control del aire tenía problemas y no funcionaba bien.","N/A","N/A","Luis Carlos Navarro ","Servicio Cliente","Hj Evaluacion Gen",539,40.285714285714285,"Roja","Asignar Roberto Escoto","Ama de Llaves","Si","Queja","NO","SI","A/C"]
[926,"2018-09-23","Huésped",204,"C1","Habitaciones","El baño está mal diseñado, el servicio sanitario debe de estar por lo menos 50cm de la pared lateral, la ducha debe de tener un piso antideslizante. EN el cuarto los adornos laterales de la cama sobran, no se puede accesar a ese lado de la cama y además son peligrosos para niños.","N/A","N/A","Luis Carlos Navarro ","Servicio Cliente","Hj Evaluacion Gen",245,40.285714285714285,"Roja","Asignar Roberto Escoto","Ama de Llaves","Si","Queja","NO","SI","Habitaciones"]
[925,"2018-09-23","Huésped",308,"C1","Habitaciones","Requiere remodelar los muebles, se necesita más espacio para colgar ropa, además en sí la habitación es muy básica","N/A","Por definir","Luis César Morales Campos","Servicio Cliente","Hj Evaluacion Gen",544,40.285714285714285,"Desestimada","N/A","N/A","No","N/A",null,"N/A","Habitaciones"]
[924,"2018-09-21","Huesped",312,"C2-C3","Habitaciones","Huéspedes extremadamente molestos se acercan a recepción porque durante la noche fueron picados por piojos o chinches que según indican invadieron el colchón, ellos se encontraban con toda su espalda y brazos irritados y comentaron que han estado en todo tipo de hoteles baratos y que nunca pensaron que en un hotel bueno donde celebraban su luna de miel hubieran tenido que llegar a los extremos de revisar los colchones hasta encontrar estos piojos. Muy disconformes nos dicen que esta situación ha afectado sus vacaciones y que van para la clínica a revisarse. Ellos tenían fotos de los piojos que según indican usaran para poner una reclamación.","Revisar la habitación","Se fue inmediatamente a la hab para revisar y efectivamente bajo el colchón y entre las tablas habían gran cantidad de piojos, por lo tanto se les ofrecieron las disculpas por tan embarazosa situación, se le hizo la devolución de las 2 noches de hospedaje, se les dió una crema para la alergía y se explicó que esto no suele pasar debido a planes de fumigación constantes, a nombre del hotel tomamos toda la responsabilidad y ellos aceptan la solución brindada.","Luis Carlos Navarro ","Servicio Cliente","Servicio al Cliente","N/A",40.285714285714285,"Roja","Asignar Roberto Escoto","Lavaderia","Si","Queja","NO","NO","Plagas Habitaciones"]
[923,"2018-09-19","Huesped",410,"C1","Italiano","El personal en el desayuno el primer día fue bueno y amable pero en el segundo día no fue bueno, deben estar atentos a las necesidades individuales para no hacerte sentir como un huésped irritante.","N/A","N/A","Luis Carlos Navarro ","Servicio Cliente","Hj Evaluacion Gen",292,40.285714285714285,"Roja","Asignar Diego Cambronero","A&B","Si","Queja","NO","SI","Servicio cliente restaurante "]
[922,"2018-09-18","Huesped","N/A","C1","Italiano","Mejorar con un entrenamiento del personal encargado del desayuno, en la evaluación califico con un 2 la experiencia.","Entrenar al personal.","N/A","Luis Carlos Navarro ","Servicio Cliente","Hj Evaluacion Gen",512,39.857142857142854,"Roja","Asignar Antonio Ferreto ","A&B","Si","Queja","NO","Si","Servicio cliente restaurante "]
[921,"2018-09-18","Huesped",403,"C1","Italiano","Muy caro y el sabor no es bueno en las comidas","N/A","N/A","Luis Carlos Navarro ","Servicio Cliente","Hj Evaluacion Gen",260,39.857142857142854,"Roja","Asignar Diego Cambronero","A&B","Si","Queja","NO","SI","Calidad precio"]
[920,"2018-09-19","Colaborador","N/A","N/A","Recepción","Fuerte olor a boñiga en toda la recepción y restaurante italiano.","N/A","N/A","Luis Carlos Navarro ","Servicio Cliente","Recepción","N/A",38.285714285714285,"Roja","Asignar Greivin Arredondo","Sostenibilidad","Si","Queja","No","No","Malos olores"]
[919,"2018-09-18","Huesped",802,"C1","Aguas Termales","Huéspedes enfadados por fumigación en el rest Ti Cain que provocó una nube de humo en las termales.","N/A","Se llamó a Jairo y se suspendió la fumigación.","Luis Carlos Navarro ","Servicio Cliente","Servicio al Cliente","N/A",38.285714285714285,"Roja","Asignar Jairo Garcia","Mantenimientos","Si","Queja","No","SI","Fumigación"]
[918,"2018-09-18","Huesped",801,"C1","Aguas Termales","Huésped se acerca a lockers quejandose porque la fumigación que se lleva a cabo en el Ti-Cain provoca que todo el humo se vaya para las termales donde se encuentran sus niños, y eso le molestó mucho. El mismo reclamó que como iban a hacer eso mientras estaban ellos bañandose y disfrutando de las termales.","Detener la fumigación.","Se llamó a Jairo y se detuvo la fumigación.","Luis Carlos Navarro ","Servicio Cliente","Servicio al Cliente","N/A",38.285714285714285,"Roja","Asignar Jairo Garcia","Mantenimientos","Si","Queja","No","No","Fumigación"]
[917,"2018-09-18","Huesped",405,"C2","Tour Desk","Huésped muy molesto se acercó a recepción reclamando que Edward le vendió un Tour de perezosos donde iba ver algunos perezosos y vida silvestre, sin embargo dice que no vió nada más que un tucán muerto. Ël mismo canceló los tour del siguiente día y se encontraba bastante enfadado por lo que le prometieron y no se cumplió.","Cancelar todos sus tours","N/A","Luis Carlos Navarro ","Servicio Cliente","Recepción","N/A",38.285714285714285,"Roja","Asignar Estibaliz Aguilar","Recpción","Si","Queja","No","NO","Servicio cliente tour operador"]
[916,"2018-09-18","Huesped",108,"C1","Hotel","Huesped que estuvo hospedado del 13 al 16 de septiembre con reserva a nombre de Carlos Urrego envió correo a Servicio al Cliente preguntando por un objeto olvidado descrito como un medicamento utilizado para su insulina que estaba dentro de un recipiente azul en el refrigerador de la habitación 108, al momento de recibir la solicitud se consulta a las mucamas para que revisen y a recepción para buscar en lost&found pero ambos indican que no hay nada por lo que se procede a responder que desafortunadamente no se encontró nada, el hecho fue que el señor hizo caso omiso al correo  y se vino manejando desde Guanacaste hasta el hotel donde pidió lo dejaran entrar para hablar con Servicio al Cliente, cuando el señor llega el insiste en que el dejó su objeto ahí por lo que amable y abiertamente le dije que aunque las mucamas no encontraron nada yo mismo iba ir a revisar a esa habitación, a pesar de que estaba fumigada y llena de humo por completo ingresé hasta el refrigerador y busqué hasta encontrar lo que el señor aseguraba había dejado. Debido a esta situación me ví por la pena de pedir disculpas por el correo enviado asegurando que no había nada y por el reporte de las mucamas que no había nada ahí, el señor solicitó fueramos mas cuidadosos con las  cosas olvidadas y me agradeció por ir a buscar minuciosamente.  ","Chequear bien antes de brindar la información a los huéspedes.","Se  ofrecieron disculpas a nombre del hotel, se fue a buscar a la habitación hasta encontrar el objeto y se entregó en buen estado.","Luis Carlos Navarro ","Servicio Cliente","Servicio al Cliente","N/A",38.285714285714285,"Roja","Asignar Roberto Escoto","Ama de Llaves","Si","Queja","No","No","Chequeo habitaciones"]
[915,"2018-09-18","Huesped",312,"C2","Habitaciones","Huésped reporta que no pudieron dormir debido a que en la habitación hay bichos.","Cambio de Habitación","N/A","Deyvin Aguirre ","Recepción","Llamada a Recepción","N/A",38.285714285714285,"Roja","Asignar Jairo Garcia","Mantenimientos","Si","Queja","NO","Si","Plagas Habitaciones"]
[914,"2018-09-18","Huesped",602,"C1","Bar Húmedo","Huésped expresa sentirse incomodo al comer y otras personas estén cerca nadando","N/A","N/A","Cesar Morales ","Servicio Cliente","Hj Evaluacion Gen",430,38.285714285714285,"Desestimada","N/A","N/A","NO","N/A","No, se cuetan con diferentes areas. ","No","N/A"]
[913,"2018-09-17","Huesped",902,"C1","Habitaciones","Aire Acondicionado no funciona","Quieren un A/C en buen estado","Mantenimiento intentó repararlo sin embargo no fue posible, por lo que se procesió a moverlos de hab.","Luis Carlos Navarro ","Servicio Cliente","Llamada a Recepción","N/A",38.285714285714285,"Roja","Asignar Jairo Garcia","Mantenimientos","Si","Queja","No","SI","A/C"]
[912,"2018-09-16","Huesped",801,"C1","Aguas Termales","Me gustaría que el jacuzzi que esta a 39 grados estuviera a una temp mas  baja ya que por estar tan caliente casi no se puede utilizar, no se aguanta el dolor, si fuera de 35 grados podría utilizarse más.","N/A","N/A","Luis Carlos Navarro ","Servicio Cliente","Hj Evaluacion Gen",422,38.285714285714285,"Desestimada","N/A","N/A","No","Sugerencia","No, se cuentan con diferentes temperaturas","No","N/A"]
[911,"2018-09-17","Huesped",307,"C1","Habitaciones","Encender el aire acondicionado antes que lleguen los huéspedes. Así cuando estos lleguen encontrarán la habitación fresca","Encender el aire acondicionado","N/A","Cesar Morales ","Servicio Cliente","Hj Evaluacion Gen",174,38.285714285714285,"Desestimada","N/A","N/A","No","Sugerencia","No, poliliticas ambientales y seguridad, ","No","N/A"]
[910,"2018-09-17","Huesped",104,"C2-C3","Italiano","Huésped se queja de la manera en que no la dejaron ingresar al rest. Italiano, a la señora la mantuvieron esperando en recepción sin indicarle nada mientras iban a preguntar a un superior si podía o no entrar como andaba vestida, ella se molestó porque otra mujer andaba vestida muy parecido y si la dejaron entrar. Ella al hacer check-out nos hizo la observación que se sintió insultada y que fue totalmente inapropiado que la mantuvieran sin entrar durante unos minutos.","Ser más especificos y claros con el código de vestimenta, saber como comunicarlo y que sea de una manera que no insulte al huésped.","N/A","Luis Carlos Navarro ","Servicio Cliente","Check-out","N/A",38.285714285714285,"Roja","Asignar Diego Cambronero","A&B","Si","Queja","No","No","Servicio cliente restaurante "]
[909,"2018-09-16","Huesped",302,"C1","Italiano","Muy mal coordinado el desayuno, nos quejamos del espacio-tiempo en el desayuno.","N/A","N/A","Luis Carlos Navarro ","Servicio Cliente","Hj Evaluacion Gen",457,38.285714285714285,"Roja","Asignar Diego Cambronero","A&B","Si","Queja","No, remodelacion en el TI-cain","No","Servicio cliente restaurante "]
[908,"2018-09-16","Huesped",901,"C1","Hotel","Huéspedes se quejan de que no hay un billar o futbolín para para entretenimiento.","Seria chiva un pool o futbolin.","N/A","Luis Carlos Navarro ","Servicio Cliente","Hj Evaluacion Gen",433,38.285714285714285,"Amarilla","Asignar Mainor Castro","Gerente","Si","Sugerencia","No","Si","Entretenimiento"]
[907,"2018-09-16","Huesped",110,"C1","Italiano","Comida del italiano de poca calidad","Mejorar sustancialmente la calidad de la comida del Restaurante Italiano.","N/A","Luis Carlos Navarro ","Servicio Cliente","Hj Evaluacion Gen",463,38.285714285714285,"Roja","Asignar Diego Cambronero","A&B","Si","Queja","No","Si","Calidad comida Italiano"]
[906,"2018-09-15","Huesped",405,"C1","Italiano","Restaurate italiano lo encontramos con precios un poco caros.","N/A","N/A","Luis Carlos Navarro ","Servicio Cliente","Hj Evaluacion Gen",646,38.285714285714285,"Roja","Asignar Diego Cambronero","A&B","Si","Queja","No","Si","Precios Comidas Italiano"]
[905,"2018-09-15","Huesped",606,"C1","Habitaciones","Huéspedes se quejan por mal funcionamiento del A/C, el mismo no enfría bien y las huéspedes no estan a gusto a pesar que mantenimiento fue a revisar. Según ellas la potencia no es la que debería de tener.","Revisar la potencia del A/C","Se procedió a mover a las huéspedes a la hab 210 en donde se probó el aire 30 minutos antes para verificar que enfríara a como las huéspedes deseaban, esa hab tenía un aire mas moderno por lo que quedaron satisfechas.","Luis Carlos Navarro ","Servicio Cliente","Llamada a Recepción","N/A",38.285714285714285,"Roja","Asignar Jairo Garcia","Mantenimientos","Si","Queja","No","si","A/C"]
[904,"2018-09-16","Huesped",108,"C1","Hotel","Huésped se queja porque considera que a las aguas termales se les debería se sacar mayor provecho creando baños turcos con el vapor o con algún tipo de sauna. Además sugiere que hayan canchas de tennis o volleyball, hasta inclusive mesas de ping pong en alguna área.","N/A","N/A","Luis Carlos Navarro ","Servicio Cliente","Hj Evaluacion Gen",556,38.285714285714285,"Roja","Asignar Mainor Castro","Gerente","Si","Queja","No","Si","Entretenimiento"]
[903,"2018-09-13","Huesped",401,"C1","Bar Húmedo","Precios del bar del Sushi muy elevados","N/A","N/A","Luis Carlos Navarro ","Servicio Cliente","Hj Evaluacion Gen",453,38.285714285714285,"Roja","Asignar Diego Cambronero","A&B","Si","Queja","No","si","Precios Comidas sushi"]
[902,"2018-09-13","Huesped",101,"C1","Italiano","No hay suficientes opciones","Más opciones en vegetales y alimentos libres de glutten.","N/A","Luis Carlos Navarro ","Servicio Cliente","Hj Evaluacion Gen",294,38.285714285714285,"Roja","Asignar Diego Cambronero","A&B","Si","Queja","No","Si","Menú Celiacos"]
[901,"2018-09-12","Huesped",202,"C1","Habitaciones","Solamente había dos copas para una habitación que era de 3 personas.","N/A","N/A","Luis Carlos Navarro ","Servicio Cliente","Hj Evaluacion Gen",688,38.285714285714285,"Desestimada","N/A","N/A","No","Sugerencia","N/A","N/A","N/A"]
[900,"2018-09-12","Huesped",202,"C1","Habitaciones","Huésped se queja porque no hay un espejo afuera del baño en la habitación.","Poner espejo en la habitación.","N/A","Luis Carlos Navarro ","Servicio Cliente","Hj Evaluacion Gen",688,38.285714285714285,"Desestimada","N/A","Ama de Llaves","No","N/A","N/A","Si","Espejo grande fuera del baño"]
[899,"2018-09-11","Huesped",201,"C1","Italiano","Precios muy elevados.","N/A","N/A","Luis Carlos Navarro ","Servicio Cliente","Hj Evaluacion Gen",287,38.285714285714285,"Roja","Asignar Diego Cambronero","A&B","Si","Queja","No","Si","Precios Comidas Italiano"]
[898,"2018-09-05","Huesped",311,"C1","Habitaciones","Un menú en la habitación de los diferentes restaurantes es lo que falta.","N/A","N/A","Luis Carlos Navarro ","Servicio Cliente","Hj Evaluacion Gen",692,37.285714285714285,"Roja","Asignar Diego Cambronero","A&B","Si","Queja","No","Si","Menú room service"]
[897,"2018-09-06","Huesped",303,"C1","Hotel","Se queja porque no hay cajero automatico.","Instalar un cajero automatico para huéspedes.","N/A","Luis Carlos Navarro ","Servicio Cliente","Hj Evaluacion Gen",691,37.285714285714285,"Desestimada","N/A","N/A","N/A","Sugerencia","N/A","SI","N/A"]
[896,"2018-09-06","Huesped",303,"C1","Italiano","Huésped se queja porque no se ofrece comida local. La comida fue mediocre, el esposo pidió un sandwich de pollo que tenía muy poco pollo y mucho pan. Si yo fuera el chef, preferiría ofrecer comida que comen los locales y no comida que se puede conseguir en USA.","N/A","N/A","Luis Carlos Navarro ","Servicio Cliente","Hj Evaluacion Gen",691,37.285714285714285,"Roja","Asignar Diego Cambronero","A&B","Si","Queja","No","Si","Menú típico"]
[895,"2018-09-09","Huesped",707,"C1","Bar Húmedo","Anoche fuimos testigos de una situación en el Bar Sushi acerca de que se acabó el Sushi, nos pareció que son asuntos operativos que los clientes no deben enterarse. Sabemos que son cosas que pasan y que es positivo porque es sinonimo de venta, sin embargo debería de manejarse de una mejor manera.","N/A","N/A","Luis Carlos Navarro ","Servicio Cliente","Hj Evaluacion Gen",216,37.285714285714285,"Roja","Asignar Diego Cambronero","A&B","Si","Queja","No","No","Servicio cliente bar humedo"]
[894,"2018-09-09","Huesped",106,"C1","Souvenir","Se queja porque no venden la crema de miel con vainilla que se ofrece en las habitaciones.","Vender en la tienda la crema que es muy buena.","N/A","Luis Carlos Navarro ","Servicio Cliente","Hj Evaluacion Gen",396,37.285714285714285,"Desestimada","N/A","N/A","Si","Sugerencia","N/A","No","N/A"]
[893,"2018-09-09","Huesped",212,"C1","Bar Húmedo","Se queja por no tener servicio antes de las 10:00am disponible en el sushi y bar húmedo.","N/A","N/A","Luis Carlos Navarro ","Servicio Cliente","Hj Evaluacion Gen",170,37.285714285714285,"Desestimada","N/A","N/A","No","Sugerencia","N/A","Si","N/A"]
[892,"2018-09-09","Huesped",106,"C1","Hotel","No hay actividades recreativas ni entretenimiento en el hotel.","hacer actividades en la tarde/noche como por ejemplo algún show.","N/A","Luis Carlos Navarro ","Servicio Cliente","Hj Evaluacion Gen",396,37.285714285714285,"Amarilla","Asignar Mainor Castro","Gerente","Si","Queja","No","Si","Actividad nocturna"]
[891,"2018-09-10","Huesped",210,"C1","Recepción","Quisimos un day-pass para un familiar que estaba hospedado en otro hotel y nos salieron cobrando 120 dólares. Deberían haber excepciones o deberían tener el pase de un día.","Tener el pase de un día habilitado para ciertas ocasiones.","N/A","Luis Carlos Navarro ","Servicio Cliente","Hj Evaluacion Gen",636,37.285714285714285,"Desestimada","N/A","N/A","No","N/A","N/A","Si","N/A"]
[890,"2018-09-08","Huesped",108,"C1","Italiano","Nos parecio excesivo el precio de las comidas en el Rest. Italiano","N/A","N/A","Luis Carlos Navarro ","Servicio Cliente","Hj Evaluacion Gen",638,37.285714285714285,"Roja","Asignar Diego Cambronero","A&B","Si","Queja","No","Si","Precios Comidas Italiano"]
[889,"2018-09-11","Huesped",212,"C1","Bar Húmedo","Tener servicio antes de las 10:00am disponible","N/A","N/A","Luis Carlos Navarro R","Servicio Cliente","Hj Evaluacion Gen",170,37.285714285714285,"Desestimada","N/A","N/A","No","N/A","N/A","Si","N/A"]
[888,"2018-09-06","Huesped",312,"C1","Restaurante","Cuando hay poca gente en el desayuno los comentarios de los empleados molestan ya que comentan cosas que no son del trabajo, haya poca o mucha gente los empleados deben saber ser profesionales y abtenerse de risas, comentarios, etc.",0,0,0,0,"Evaluacion Gen",693,37.285714285714285,"Roja","Asignar Diego Cambronero","A&B","Si","Queja","No","No","Servicio cliente restaurante "]
[887,"2018-09-06","Huesped","306","C1","Habitación","Huésped molesto por ruido de refrigerador, indica que no lo deja dormir.",0,"Se reemplaza el refrigerador con la ayuda de mantenimiento.","Luis Carlos Navarro","Servicio Cliente",0,0,37.285714285714285,"Roja","Asignar Dariel Miranda","Compras","Si","Queja","No","Si","Ruido Refri"]
[886,"2018-09-04","Huesped",106,"C1","Habitación","Camas muy duras, es lo único que cambiariamos.",0,0,0,0,"Evaluacion Gen",363,37.285714285714285,"Desestimada","N/A","N/A","No","Sugerencia","N/A","Si","Colchon duro"]
[885,"2018-09-02","Huesped",211,"C1","Habitación","Huésped se queja de la no información acerca de los canales de TV, no sabía cuales estaban disponibles ni cuales eran en ingles.",null,null,"Jean Pierre Brenes","Recepción",null,null,36,"Roja","Asignar Greivin Arredondo","Compras","SI","QUEJA","NO","SI","Cable tica "]
[884,"2018-09-03","Huesped",611,"C1","Habitación","Huésped molesto se queja de la capacidad del agua caliente, según indica el agua caliente solamente dura 3 minutos y luego no sale mas caliente. Y esto a perjudicado su estancia ya que todos los días sucedió lo mismo.","él mismo solicita revisar los tanques donde proviene el agua","Se envía a mantenimiento los cuales nos confirman que este baño no cuenta con la rotulación necesaria para darle un correcto uso al agua caliente, todo funciona bien pero el huésped al no tener la explicación le da un mal uso a las llaves de agua fría y caliente. ","Luis Carlos Navarro","Servicio Cliente",null,null,36,"Roja","Asignar Jairo Garcia","Mantenimiento","SI","QUEJA","NO","SI","Agua caliente"]
[883,"2018-08-31","Huesped",302,"C1","Lockers ","Debería de haber una silla plastica para discapacitados en el área de duchas",null,null,null,null,"Evaluacion Gen","2018-08-235",36,"Roja","Asignar Dariel Miranda","Compras","Si","QUEJA","NO","SI","Sillas Discapacitados "]
[882,"2018-08-31","Huesped",308,"C1","Hotel","El precio que se debe pagar por todo el hotel hace pensar que es de muy alta calidad, sin embargo esto no es así",null,null,null,null,"Evaluacion Gen","2018-08-234",36,"Roja","Asignar Diego Cambronero","A&B","Si","QUEJA","NO","SI","Calidad precio"]
[881,"2018-08-31","Huesped",308,"C1","Restaurante","Los precios de los restaurantes son muy caros y la comida muy mediocre",null,null,null,null,"Evaluacion Gen","2018-08-234",36,"Roja","Asignar Diego Cambronero","A&B","Si","QUEJA","NO","SI","Calidad precio"]
[880,"2018-08-31","Huesped",308,"C1","Habitación","El mini bar debería rellenarse diaramente",null,null,null,null,"Evaluacion Gen","2018-08-234",36,"Desestimada",null,"Alto Costo ",null,null,null,null,"N/A"]
[879,"2018-08-31","Huesped",308,"C1","Lavandería","El servicio de lavandería es muy caro",null,null,null,null,"Evaluacion Gen","2018-08-234",36,"Roja","Asignar Mainor Castro","Gerencia","SI","Queja","No","Si","Precios Lavanderia "]
[878,"2018-08-31","Huesped",308,"C1","Restaurante","El chicken gyoza en el bar húmedo es muy malo y los precios son muy caros ",null,null,null,null,"Evaluacion Gen","2018-08-234",36,"Roja","Asignar Diego Cambronero","A&B","SI","Queja","NO","NO","Calidad precio"]
[877,"2018-08-31","Huesped",308,"C1","Hotel","Contar con un servicio de shuttle al pueblo sería algo útil",null,null,null,null,"Evaluacion Gen","2018-08-234",36,"Desestimada",null,"Alto Costo Operación ",null,null,null,null,"N/A"]
[876,"2018-09-01","Huesped",505,"C1","Habitación","Reducir el ruido producido por el aire acondicionado, durante la noche se escucha mucho",null,null,null,null,"Evaluacion Gen","2018-08-233",36,"Roja","Asignar Jairo Garcia","Mantenimiento","SI","QUEJA","No","SI","A/C"]
[875,"2018-09-01","Huesped",901,"C1","Restaurante","Mejores alternativas de alimentación, excepto el desayuno el cual es muy bueno",null,null,null,null,"Evaluacion Gen","2018-08-232",36,"Roja","Asignar Diego Cambronero","A&B","Si","Queja","No","Si","Variedad platos"]
[874,"2018-08-31","Huesped",307,"C1","Restaurante","El vino es muy caro en los restaurantes",null,null,null,null,"Evaluacion Gen","2018-08-223",36,"Roja","Asignar Diego Cambronero","A&B","Si","Queja","No","Si","Precios vino"]
[873,"2018-09-01","Huesped",null,"C1","Area de Piscinas","Al ir a cubrir al compañero de lockers para que pudiera ir a almorzar, un huésped me comenta que deberiamos de tener más basureros al alcance en toda el area de piscinas ya que solo hay unos cerca de lockers, y cuando uno como huésped se encuentra en el area de las pergolas por ejemplo tiene que ir hasta ahí para depositar los desechos que uno tenga, lo que se hace un poco tedioso.",null,null,"Cesar Morales C.","Servicio Cliente",null,null,36,"Amarilla","Asignar Mainor Castro","Gerencia","Si","Queja","No","No","Basurero jardines"]
[872,"2018-08-30","Huesped",308,"C1","Hotel","El brochure de información del hotel necesita ser actualizado, hay muchas cosas con las que ya no se cuenta y otras en las que se ha mejorado.",null,null,"Cesar Morales C.","Servicio Cliente",null,null,36,"Amarilla","Asignar Mainor Castro","Gerencia","Si","Sugerencia  ","No","No","Publicidad doc Informativo"]
[871,"2018-08-30","Huesped",904,"C1","Hotel","La construcción inicia muy temprano sus labores, y eso  imposibilita dormir un poco más.",null,null,null,null,"Evaluacion Gen",222,36,"Roja","Asignar Mario Lezama","Construcción","Si","Queja","No","Si","Construcción"]
[870,"2018-08-30","Huesped",904,"C1","Habitación","Poner etiquetas a todos los tomas, son tantos que uno no sabe cual es cual.",null,null,null,null,"Evaluacion Gen",222,36,"Amarilla","Asignar Mainor Castro","Gerencia","Si","Queja","No","Si","Rotulación ventilador"]
[869,"2018-08-30","Huesped",904,"C1","Restaurante","Los pancakes se secan mucho al estar expuestos al aire libre",null,null,null,null,"Evaluacion Gen",222,36,"Roja","Asignar Diego Cambronero","A&B","Si","Queja","No","Si","Calida Desayuno"]
[868,"2018-08-29","Huesped",302,"C1","Habitación","Mejorar el flujo de agua caliente en el grifo del baño",null,null,null,null,"Evaluacion Gen",217,36,"Roja","Asignar Jairo Garcia","Mantenimiento","Si","Queja","No","Si","Agua caliente"]
[867,"2018-08-26","Huesped",508,"C1","Souvenir","Huésped se queja de los precios que son muy elevados.",null,null,null,null,"Evaluacion Gen",228,36,"Roja","Asignar Diego Cambronero","Galeria","Si","Queja","No","No","Precios Souvenir"]
[866,"2018-08-26","Huesped",508,"C1","Restaurante","La comida en el buffet es escasa y muy repetitiva.",null,null,null,null,"Evaluacion Gen",228,36,"Roja","Asignar Diego Cambronero","A&B","Si","Queja","No","Si","Variedad desayuno"]
[865,"2018-08-24","Huesped",208,"C1","Restaurante","Huésped molesto porque se le sirvió un pollo crudo y él indica que eso es de mucho cuidado porque puede enfermar a una persona, esto provocó que se fueran muy temprano del hotel al check-out porque querían visitar otro restaurante.",null,null,null,null,"Evaluacion Gen",242,36,"Roja","Asignar Diego Cambronero","A&B","Si","Queja","No","Si","Calidad comida"]
[864,"2018-08-26","Huesped",111,"C1","Habitación","Huéspedes se quejan porque el teléfono de su habitación no recibe llamadas, recepción no es capaz de contactarlas y eso a ellas les preocupa. ",null,"Se les cambió a la habitación 104 y se les pidió disculpas por el inconveniente dado que mantenimiento no pudo arreglar el problema y el señor Randall Salazar se le contactó desde las 8am pero nunca hubo respuesta.","Luis Carlos Navarro","Servicio Cliente",null,null,36,"Roja","Asignar Randall Salazar","Comunicaciones","Si","Queja","SI","Si","Teléfonos"]
[863,"2018-08-26","Huesped",512,"C1","SPA","La novia de la boda la señora Yara al momento de hacer check-out se mostró muy molesta cuando se le cobró un factura correspondiente a un manicure y un pedicure del Spa. Ella nos dijo que solamente saliendo del spa el pedicure se le cayó y que fue un trabajo pésimo por el cúal no iba a pagar, ella dijo  que había hablado con un funcionario del Spa ( que no recordaba el nombre) que le dijo que no se preocupara y que no le ibamos a cobrar ese tratamiento, sin embargo nunca se informó nada a recepción ni a servicio al cliente al respecto. ","No pagar por el pedicure y manicure ue recibió debido a que fue uno de los peores que ha tenido.",null,"Maria Nela Sancho ","Recepción",null,null,36,"Roja","Asignar Yeimy Miranda","Spa","Si","Queja","No","NO","Spa"]
[862,"2018-08-25","Huesped",505,"C1","Restaurantes","Huésped indica que debemos mejorar en el tema de alimentos y calidad.",null,null,null,null,"Evaluacion Gen",227,36,"Roja","Asignar Diego Cambronero","A&B","Si","Queja","No","Si","Calidad comida"]
[861,"2018-08-25","Huesped",312,"C1","Habitación","Huéspedes reportan al check out, que la habitación tiene una gotera la cual cae sobre la cama que está más cercana a la puerta principal",null,null,"Fernando Sandoval","Recepción",null,null,36,"Roja","Asignar Jairo Garcia","Mantenimiento","Si","Queja","No","SI","Goteras"]
[860,"2018-08-23","Huesped",506,null,"Restaurante","Tener más opciones de comida nacional",null,null,null,null,"Evaluacion Gen","2018-08-179",36,"Roja","Asignar Diego Cambronero","A&B","Si","Queja","No","Si","Menú típico"]
[859,"2018-08-23","Huesped",504,null,"Hotel","Seguir implementando desarrollo sostenible",null,null,null,null,"Evaluacion Gen","2018-08-181",36,"Verde","Asignar Dariel Miranda","Sostenible","No","Sugerencia  ","Si","No","N/A"]
[858,"2018-08-23","Huesped",305,null,"Restaurante","Falta ofrecer pan libre de glutten como opción. ",null,null,null,null,"Evaluacion Gen",207,36,"Roja","Asignar Diego Cambronero","A&B","Si","Queja","No","Si","Menú Celiacos"]
[857,"2018-08-22","Huesped",508,null,"Hotel","La presentación del hotel en la pagina web y otros es muy pobre en comparación con la realidad. Nos hemos llevado una grata sorpresa.",null,null,null,null,"Evaluacion Gen",151,36,"Amarilla","Asignar Mainor Castro","Gerencia","Si","Queja","No","Si","Publicidad Web"]
[856,"2018-08-22","Huesped",506,null,"Hotel","Hacen falta areas infantiles y zonas de esparcimiento como por ejemplo toboganes y columpios.",null,null,null,null,"Evaluacion Gen",223,36,"Roja","Asignar Mainor Castro","Gerencia","Si","Queja","No","Si","Área  para niños "]
[855,"2018-08-22","Huesped",408,null,"Hotle","Deberían tener ocio nocturno",null,null,null,null,"Evaluacion Gen",354,36,"Roja","Asignar Mainor Castro","Gerencia","Si","QUEJA","No","Si","Actividad nocturna"]
[854,"2018-08-22","Huesped",408,null,"Hotel","Mas variedad en restaurantes.",null,null,null,null,"Evaluacion Gen",354,36,"Roja","Asignar Diego Cambronero","A&B","Si","Queja","No","Si","Variedad desayuno"]
[853,"2018-08-21","Huesped",711,null,"Restaurante","El desayuno es bueno pero estaba muy lleno por lo que sería bueno tener algunas cosas precocinadas como los huevos revueltos.",null,null,null,null,"Evaluacion Gen",140,36,"Roja","Asignar Diego Cambronero","A&B","Si","Queja","No","Si","Calida Desayuno"]
[852,"2018-08-21","Huesped",604,null,"Restaurante","Deberian tener mejores opciones vegetarianas y harinas integrales",null,null,null,null,"Evaluacion Gen",328,32,"ROJA ","Asignar Diego Cambronero",null,"SI","QUEJA","2018-08-23","SI","Menú vegetariano"]
[851,"2018-08-21","Huesped",506,null,"Hotel","El área de recepción es más para restaurantes que para ser utilizada como lobby. NO hay suficiente campo para que las familias se sienten a esperar y cuando llueve no hay donde ponerse.",null,null,null,null,"Evaluacion Gen",null,32,"ROJA ","Asignar Mainor Castro",null,"SI","QUEJA","NO","SI","Lobby"]
[850,"2018-08-21","Huesped",506,null,"Hotel","EL hotel está pensado solo para adultos. NO hay areas infantiles ni salas de juego donde ellos puedan despejarse y divertirse.",null,null,null,null,"Evaluacion Gen",null,32,"ROJA ","Asignar Dariel Miranda",null,"SI","QUEJA","NO","SI","Entretenimiento"]
[849,"2018-08-17","Huesped",null,null,"Lavandería","Los precios de lavandería son una broma. Preferí llevar mi ropa a lavar a la Fortuna.",null,null,null,null,"Tripadvisor",null,32,"ROJA ","Asignar Dariel Miranda",null,"SI","QUEJA","NO","NO","Lavanderia"]
[848,"2018-08-17","Huesped",null,null,"Bar Húmedo","Las bebidas y comida en la piscina son muy caras.",null,null,null,null,"Tripadvisor",null,32,"ROJA ","Asignar Diego Cambronero",null,"SI","QUEJA","2018-08-23","SI","Calidad precio"]
[847,"2018-08-17","Huesped",null,null,"Habitación","La habitación es muy pequeña y no hay suficiente espacio para equipaje.",null,null,null,null,"Tripadvisor",null,32,"Desestimada",null,"Estructura ya elaborada ","NO",null,null,null,"N/A"]
[846,"2018-08-17","Huesped",null,null,"Restaurante","La comida italiana esta sobrevalorada y sin buen sabor, además las porciones son muy pequeñas.",null,null,null,null,"Tripadvisor",null,32,"ROJA ","Asignar Diego Cambronero",null,"SI","QUEJA","2018-08-23","SI","Calidad precio"]
[845,"2018-08-13","Huesped",101,null,"Restaurante","Los restaurantes son muy caros y la comida mas o menos.",null,null,null,null,"Tripadvisor",null,32,"ROJA ","Asignar Diego Cambronero",null,"SI","QUEJA","2018-08-23","SI","Calidad precio"]
[844,"2018-08-20","Huesped",802,null,"Habitación","Huésped se queja del Internet y de la lentitud del mismo.",null,null,"Erika Vanegas","Recepción",null,null,32,"ROJA ","Asignar Arnaldo Moreira",null,"SI","Queja","SI","SI","Wifi"]
[843,"2018-08-16","Huesped",306,null,"Habitación","No se podía transferir llamadas de recepción a la hab, huésped tenía una emergencia y estaba molesto por mal funcionamiento e ineficiencia de los teléfonos del hotel.",null,"Se envió a guest service con teléfono de recepción para ayudar al cliente.","Maria Nela Sancho ","Recepción",null,null,32,"ROJA ","Asignar Mainor Castro",null,"SI","QUEJA","NO","NO","Central telefonica"]
[842,"2018-08-16","Huesped",102,null,"Habitación","Teléfono no funciona",null,null,null,null,null,null,32,"ROJA ","Asignar Mainor Castro",null,"SI","QUEJA","NO","NO","Central telefonica"]
[841,"2018-08-16","Huesped","205-206",null,"Habitación","Teléfonos no funcionan",null,null,"Erika Vanegas","Recepción",null,null,32,"ROJA ","Asignar Mainor Castro",null,"SI","QUEJA","NO","NO","Central telefonica"]
[840,"2018-08-16","Huesped",110,null,"Habitación","Teléfono no sirve",null,null,"Jean Pierre Brenes","Recepción",null,null,32,"ROJA ","Asignar Mainor Castro",null,"SI","QUEJA","NO","NO","Central telefonica"]
[839,"2018-08-15","Huesped",102,null,"Habitación","Teléfono no sirve",null,null,"Jean Pierre Brenes","Recepción",null,null,32,"ROJA ","Asignar Mainor Castro",null,"SI","QUEJA","NO","NO","Central telefonica"]
[838,"2018-08-20","Huesped",105,null,"Hotel","Un mejor rotulo en la carretera que muestre bien la dirección del Hotel",null,null,null,null,"Evaluacion Gen","2018-08-146",32,"VERDE","Asignar Mainor Castro",null,"SI","QUEJA","NO","NO","Rotulación Carretera"]
[837,"2018-08-20","Huesped",504,null,"Restaurante","Se puede mejorar el desayuno",null,null,null,null,"Evaluacion Gen","2018-08-147",32,"ROJA ","Asignar Diego Cambronero",null,"SI","QUEJA","2018-08-23","SI","Calida Desayuno"]
[836,"2018-08-19","Huesped",301,null,"Restaurante Italiano","Servicio muy lento",null,null,null,null,"Evaluacion Gen","2018-08-140",32,"ROJA ","Asignar Diego Cambronero",null,"SI","QUEJA","NO","NO","Servicio cliente restaurante "]
[835,"2018-08-19","Huesped",401,null,"Hotel","Necesita más basureros alrededor del hotel",null,null,null,null,"Evaluacion Gen","2018-08-139",32,"Desestimada",null,null,"NO","SUGERENCIA ","SI","NO","Basurero jardines"]
[834,"2018-08-18","Huesped",506,null,"Restaurante","Muchas moscas en el desayuno",null,null,null,null,"Evaluacion Gen","2018-08-129",32,"ROJA ","Asignar Greivin Arredondo",null,"SI","QUEJA","NO","SI","Plagas Habitaciones"]
[833,"2018-08-19","Huesped",null,null,"Piscina-termales","Sería bueno colocar una grada entre la piscina de agua termal de bar las iguana y que lleve al jacuzzi",null,null,null,null,"Evaluacion Gen","2018-08-130",32,"VERDE","Asignar Mainor Castro",null,"SI","SUGERENCIA ","NO","NO","Piscinas "]
[832,"2018-08-19","Huesped",703,null,"Habitación","Mejorar wifi en la habitación",null,null,null,null,"Evaluacion Gen","2018-08-136",32,"ROJA ","Asignar Arnaldo Moreira",null,"Si","QUEJA","SI",null,"Wifi"]
[831,"2018-08-15","Huesped","414-415",null,"Habitación","Huéspedes se quejan porque la temperatura del agua en las habitaciones no es caliente lo suficiente, además indican que el jacuzzi al momento de llenarse no aguanta la presión del agua y al parecer el tapon se safa y se comienza a drenar el agua.",null,"Se envía a mantenimiento y los mismos indican que mañana lo verán con Jairo para solucionarlo.","Luis Carlos Navarro","Servicio Cliente",null,null,31,"ROJA ","Asignar Jairo Garcia",null,"SI","QUEJA","NO","NO","Habitaciones"]
[830,"2018-08-15","Huesped",405,null,"Habitación","Huésped se queja que en la lista de canales se muestra el canal italiano sin embargo a la hora de buscarlo no está, pide que actualicen la lista de canales ya que están brindando información falsa y engañosa.",null,"Se revisa la lista de canales en Internet con Cabletica y se intenta buscar el canal sin embargo no es posible ya que la compañía cabletica lo quitó. ","Luis Carlos Navarro","Servicio Cliente",null,null,31,"ROJA ","Asignar Greivin Arredondo",null,"Si","Queja","NO","Si","Cable tica "]
[829,"2018-04-05","Huesped","Mary Blackport",null,"Restaurante","La comida en los restaurantes estuvo horrible, yo no recomendaria ir a comer ahí",null,null,null,null,"Evaluacion CR Vac",null,31,"ROJA ","Asignar Diego Cambronero",null,"Si","Queja","NO ","Si","Calidad comida"]
[828,"2018-03-30","Huesped","Perry Pawelka",null,"Hotel","la única área para mejorar sería un poco más que hacer en el sitio y / o una forma un poco más fácil de llegar a la ciudad",null,null,null,null,"Evaluacion CR Vac",null,31,"ROJA ","Asignar Mainor Castro",null,"SI","Sugerencia  ","NO ","SI","Entretenimiento"]
[827,"2018-03-31","Huesped","Heather Burgess",null,"Restaurante","El servicio estuvo mas o menos. Y las opciones de cenas no nos inspiraron por lo que decidimos ir al pueblo a cenar.",null,null,null,null,"Evaluacion CR Vac",null,31,"ROJA ","Asignar Diego Cambronero",null,"SI","QUEJA","NO ","SI","Calidad comida"]
[826,"2018-06-16","Huesped","Damary Santiago",null,"Restaurante","Las opciones de almuerzo y cena estuvieron muy caras y limitadas.",null,null,null,null,"Evaluacion CR Vac",null,31,"ROJA ","Asignar Diego Cambronero",null,"SI","QUEJA","NO ","SI","Calidad comida"]
[825,"2018-04-14","Huesped","Sara Parent",null,"Habitación","Horribles e incómodas camas.",null,null,null,null,"Evaluacion CR Vac",null,31,"Desestimada",null,"Se cambiaron los colchones","NO","Queja","SI","NO","Colchon duro"]
[824,"2018-06-23","Huesped","Tim Brinkley",null,"Restaurante","La variedad y selección de la comida estuvo muy por debajo del promedio",null,null,null,null,"Evaluacion CR Vac",null,31,"ROJA ","Asignar Diego Cambronero",null,"SI","QUEJA","NO ","SI","Calidad comida"]
[823,"2018-08-14","Huesped",601,null,"Hotel","Los brazaletes son algo ridículo y ademas incomodos, me sentí como si fuera un ganado que etiquetan.",null,null,null,null,"Evaluacion Gen",116,31,"ROJA ","Asignar Mainor Castro",null,"SI","Queja","NO ","Si","Brazaletes"]
[822,"2018-08-14","Huesped",904,null,"Restaurante","Necesita variedad en las opciones de comidas y un menú mas barato en el bar.",null,null,null,null,"Evaluacion Gen",322,31,"ROJA ","Asignar Diego Cambronero",null,"SI","Queja","NO ","SI","Calidad comida"]
[821,"2018-08-14","Huesped",401,null,"Habitación","El baño debería tener una superficie no resbaloso como algún tipo de alfombra de hule.",null,null,null,null,"Evaluacion Gen",38,31,"ROJA ","Asignar Jairo Garcia",null,"SI","Queja","NO ","Si","Baño resbalozo "]
[820,"2018-08-12","Huesped","414-415",null,"Habitación","Huésped se queja por el funcionamiento del aire y porque en la 415 si hay agua caliente y en la 414 no.",null,"Se envía a mantenimiento y se arregla problema del aire, el señor no queda conforme con la situación del agua porque según indica el la quiere más caliente y eso es lo mas caliente que ofrecemos.","Maria Nela Sancho ","Recepción",null,null,31,"ROJA ","Asignar Jairo Garcia",null,"SI","Queja","NO ","SI","Habitaciones"]
[819,"2018-08-12","Huesped",203,null,"Hotel","Necesitan actividades para huéspedes como música, bailes.",null,null,null,null,"Evaluacion Gen",99,31,"ROJA ","Asignar Mainor Castro",null,"Seguimiento Comité","Sugerencia  ","NO ","SI","Entretenimiento"]
[818,"2018-08-12","Huesped",711,null,"Habitación","El aire acondicionado esta descompuesto y se cambia de temperatura solo, además en la ducha había un tornillo del techo.",null,null,null,null,"Evaluacion Gen",144,31,"ROJA ","Asignar Jairo Garcia",null,"SI","Queja","NO ","SI","Habitaciones"]
[817,"2018-08-12","Huesped",704,null,"SPA","Spa tiene precios muy elevados.",null,null,null,null,"Evaluacion Gen",6,31,"ROJA ","Asignar Yeimy Miranda",null,"SI","Queja","NO ","NO","Spa"]
[816,"2018-08-12","Huesped",704,null,"Restaurante","Restaurantes tiene precios muy elevados.",null,null,null,null,"Evaluacion Gen",6,31,"ROJA ","Asignar Diego Cambronero",null,"SI","Queja","NO ","SI","Calidad comida"]
[815,"2018-08-11","Huesped",504,null,"Restaurante","La comida es muy cara, por favor tener opciones mas cómodas.",null,null,null,null,"Evaluacion Gen",411,31,"ROJA ","Asignar Diego Cambronero",null,"SI","Queja","NO ","SI","Calidad comida"]
[814,"2018-08-12","Huesped",null,null,"Restaurante","Huésped se queja de los precios excesivos en el Sushi e Italiano.",null,null,null,null,"Tripadvisor",null,31,"ROJA ","Asignar Diego Cambronero",null,"SI","Queja","NO ","SI","Calidad Sushi"]
[813,"2018-08-11","Huesped",406,null,"Habitación","Huésped reporta que piensan que el colchon tiene bichillos porque al despertar tenían picaduras en todo el cuerpo",null,null,"Erika Vanegas","Recepción",null,null,31,"Desestimada",null,"SE REVISÓ Y ESTÁ BIEN","NO","Queja","SI","NO","Plagas Habitaciones"]
[812,"2018-08-11","Huesped",406,null,"Habitación","Huésped se queja al check out, que los tomas no funcionan bien",null,null,"Erika Vanegas","Recepción",null,null,31,"ROJA ","Asignar Jairo Garcia",null,null,"Queja","NO ","NO","Habitaciones"]
[811,"2018-08-06","Huesped",109,null,"Restaurante","Necesitan Mayor variedad en frutas y dulces en el desayuno como pastelitos.",null,null,null,null,"Tripadvisor",null,31,"ROJA ","Asignar Diego Cambronero",null,null,"Queja","SI","SI","Calidad comida"]
[810,"2018-08-06","Huesped",null,null,"Hotel","El hotel requiere actualización en el area de piscinas y en las habitaciones.",null,null,null,null,"Tripadvisor",null,31,"Desestimada",null,"Falta Información","NO","Sugerencia  ","SI","NO","Piscinas "]
[809,"2018-08-07","Huesped",508,null,"Restaurante","Cambien los menus en ambos restaurantes",null,null,null,null,"Evaluacion Gen",143,30,"ROJA ","Asignar Diego Cambronero",null,"SI","Queja","2018-08-23","SI","Calidad comida"]
[808,"2018-08-07","Huesped",508,null,"Habitación","Se necesita ás espacio para almacenar cosas en la habitación y también sillas. Además no había suficientes ganchos.",null,null,null,null,"Evaluacion Gen",143,30,"VERDE","Asignar Roberto Escoto","Revisar si están los ganchos completos","SI","QUEJA","SI","NO","Habitaciones"]
[807,"2018-08-05","Huesped",103,null,"Hotel","Se queja porque no hay clases de yoga en la tarde y porque el gimnasio es muy pequeño",null,null,null,null,"Evaluacion Gen",86,30,"Desestimada",null,null,null,null,null,null,"N/A"]
[806,"2018-08-03","Huesped",210,null,"Habitación","Sería muy bueno tener menus en la habitación.",null,null,null,null,"Evaluacion Gen",44,30,"ROJA ","Asignar Diego Cambronero",null,"SI","QUEJA","2018-08-23","SI","Calidad comida"]
[805,"2018-08-03","Huesped",210,null,"Restaurante","Precios elevados.",null,null,null,null,"Evaluacion Gen",44,30,"ROJA ","Asignar Diego Cambronero",null,"SI","QUEJA","2018-08-23","SI","Calidad comida"]
[804,"2018-08-05","Huesped",307,null,"hotel","Mejorar el Wi-fi ya que es muy inconsistente",null,null,null,null,"Evaluacion Gen",16,30,"ROJA ","Asignar Arnaldo Moreira",null,"SI","QUEJA","SI","SI","Wifi"]
[803,"2018-08-06","Huesped",611,null,"Habitación","No tenían agua caliente",null,null,"Maria Nela Sancho ","Recepción",null,null,30,"ROJA ","Asignar Jairo Garcia","Llave cerrada por averia","NO","QUEJA","SI","SI","Agua caliente"]
[802,"2018-08-06","Huesped",610,null,"Habitación","No tenían agua caliente",null,"Se envió a mantenimiento  se reparó","Maria Nela Sancho ","Recepción",null,null,30,"ROJA ","Asignar Jairo Garcia","Llave cerrada por averia","NO","QUEJA","SI","SI","Agua caliente"]
[801,"2018-08-05","Huesped",108,null,"Habitación","Teléfono no sirve",null,null,"Deyvin Aguirre","Recepción",null,null,30,"ROJA ","Asignar Mainor Castro",null,"SI","QUEJA","NO","SI","Central telefonica"]
[800,"2018-08-05","Huesped",202,null,"Habitación","Teléfono no sirve",null,null,"Cesar Morales C.","Servicio Cliente",null,null,30,"ROJA ","Asignar Mainor Castro",null,"SI","QUEJA","NO","SI","Central telefonica"]
[799,"2018-08-05","Huesped",102,null,"Habitación","Teléfono no sirve",null,null,"Cesar Morales C.","Servicio Cliente",null,null,30,"ROJA ","Asignar Mainor Castro",null,"SI","QUEJA","NO","SI","Central telefonica"]
[798,"2018-08-05","Huesped",101,null,"Habitación","Teléfono no sirve",null,null,"Cesar Morales C.","Servicio Cliente",null,null,30,"ROJA ","Asignar Mainor Castro",null,"SI","QUEJA","NO","SI","Central telefonica"]
[797,"2018-08-05","Huesped",706,null,"Habitación","Teléfono no sirve",null,null,"Jean Pierre Brenes","Recepción",null,null,30,"ROJA ","Asignar Mainor Castro",null,"SI","QUEJA","NO","SI","Central telefonica"]
[796,"2018-08-05","Huesped",106,null,"Habitación","Teléfono no sirve",null,null,"Deyvin Aguirre","Recepción",null,null,30,"ROJA ","Asignar Mainor Castro",null,"SI","QUEJA","NO","SI","Central telefonica"]
[795,"2018-08-05","Huesped",110,null,"Habitación","Teléfono no sirve",null,null,null,null,null,null,30,"ROJA ","Asignar Mainor Castro",null,"SI","QUEJA","NO","SI","Central telefonica"]
[794,"2018-08-04","Huesped",null,null,"Restaurante","Se queja de la comida de los restaurantes los cuales fueron una estafa, muy baja calidad en las comidas. La pizza fue la peor que ha comido, muy mala. Además precios sumamente caros por nada especial a cambio.",null,null,null,null,"Tripadvisor",null,30,"ROJA ","Asignar Diego Cambronero",null,"SI","QUEJA","2018-08-22","SI","Calidad comida"]
[793,"2018-08-04","Huesped",null,null,"Hotel","Huésped se queja del uso de brazaletes y de los tiquetes para intercambiar toallas y paraguas indicando que le recuerda a los hoteles baratos de Cancún. Además no les gustó escuchar a los vecinos ni tampoco los colchones los cuales consideraron raros e incómodos. ",null,null,null,null,"Tripadvisor",null,30,"Desestimada",null,"ASUNTOS YA ESTABLECIDOS NO NEGOCIABLES","NO","QUEJA","SI","NO","Brazaletes"]
[792,"2018-08-02","Huesped",null,null,"Restaurante","Precios del restaurante y de los bares muy elevados",null,null,null,null,null,null,30,"ROJA ","Asignar Diego Cambronero",null,"SI","QUEJA","2018-08-23","SI","Calidad comida"]
[791,"2018-08-01","Huesped",null,null,"Hotel","El hotel parece estar expandiendose y sino estas en algún tour es sumamente molesto el ruido de la construcción mientras estas en la habitación",null,null,null,null,"Tripadvisor",null,30,"ROJA ","Asignar Mainor Castro",null,"SI","QUEJA","NO","SI","Ruido habitación"]
[790,"2018-08-01","Huesped",109,"C1","Restaurante","Porciones ridiculamente pequeñas y el sushi estaba mediocre, mas arroz que pescado. ","Necesitan precios mas convenientes.",null,null,null,"Evaluacion Gen",109,30,"ROJA ","Asignar Mainor Castro",null,"SI","QUEJA","NO","SI","Calidad Sushi"]
[789,"2018-08-02","Huesped","609-610","C1","Restaurante","Bastante caro el Italiano.",null,null,null,null,"Evaluacion Gen",75,30,"ROJA ","Asignar Diego Cambronero",null,"SI","QUEJA","2018-08-23","SI","Calidad comida"]
[788,"2018-08-03","Huesped","201-202","C1","Habitación","Ruidos extraños en el techo ( pájaros o ratas) que nos mantuvo despiertos en la noche.",null,null,null,null,"Evaluacion Gen",37,30,"ROJA ","Asignar Jairo Garcia","Echarle polvo","SI","QUEJA","SI","SI","Plagas Habitaciones"]
[787,"2018-08-03","Huesped","201-202","C1","Counter","Huésped sugiere que el hotel no promueva Natura Park como una opción ya que es una experiencia mediocre y muy cara.",null,null,null,null,"Evaluacion Gen",37,30,"Desestimada",null,"Percepcion subjetiva ",null,null,null,null,"N/A"]
[786,"2018-08-04","Huesped",511,"C1","Restaurante","Variedad limitada en opciones de glutten, problemas con inocuidad.",null,null,null,null,"Evaluacion Gen","2018--08-13",30,"ROJA ","Asignar Diego Cambronero",null,"SI","QUEJA","2018-08-23","SI","Menú Celiacos"]
[785,"2018-08-04","Huesped",512,"C1","Restaurante","Más opciones libres de glutten son muy necesarias",null,null,null,null,"Evaluacion Gen","2018--08-12",30,"ROJA ","Asignar Diego Cambronero",null,"SI","QUEJA","2018-08-23","SI","Menú Celiacos"]
[784,"2018-08-04","Huesped",401,"C1","Restaurante","La comida en el Italiano muy cara.",null,null,null,null,"Evaluacion Gen","2018--08-11",30,"ROJA ","Asignar Diego Cambronero",null,"SI","QUEJA","2018-08-23","SI","Calidad comida"]
[783,"2018-08-04","Huesped",703,"C1","Habitación","Huéspedes se quejan de la inconsistencia del agua caliente.",null,null,null,null,"Evaluacion Gen",1,30,"ROJA ","Asignar Jairo Garcia","La bomba ya se reparó","NO","QUEJA","SI","si","Agua caliente"]
[782,"2018-08-02","Huesped",801,"C1","Restaurante","Huéspedes se quejan que las porciones del restaurante italiano son pequeñas y muy caras.",null,null,null,null,"Evaluacion Gen",71,30,"ROJA ","Asignar Diego Cambronero",null,"SI","QUEJA","2018-08-23","SI","Calidad comida"]
[781,"2018-08-02","Huesped",204,"C1","Restaurante","Huéspedes se quejan de los precios, reclaman mejores precios.",null,null,null,null,"Evaluacion Gen",41,30,"ROJA ","Asignar Diego Cambronero",null,"SI","QUEJA","2018-08-23","SI","Calidad comida"]
[780,"2018-08-03","Huesped","701-904","C1","Habitación","Huéspedes reclaman que no tiene agua en las habitaciones.",null,"Se contacta a mantenimiento para verificar que es lo que pasa y los mismos indican que posiblemente la bomba del agua tiene algún problema, los compañeros proceden con el arreglo.","Luis Carlos Navarro","Servicio Cliente",null,null,30,"ROJA ","Asignar Jairo Garcia",null,"NO","QUEJA","SI","SI","Agua caliente"]
[779,"2018-08-02","Huesped",708,"C1","Hotel","Huéspedes molestos porque se les indicó que al llegar al hotel a las 3:30pm todas las habitaciones de su grupo iban a estar listas, sin embargo la hab 707 presentó problemas con el aire que al final no pudo ser reparado a pesar de que los huéspedes habian decidio esperar a que se reparara con tal de estar en la habitación junto a su familia,  procedimos a cambiarlos de hab sin embargo ellos se enojaron porque no les gustó la situación ni tampoco como fue manejada. El guía Cesar me dice que ellos ya llamaron a Swiss Travel a dar las quejas y que esta agencia quiere respuesta dado que son muy amigos de los dueños de Swiss Travel.",null,"Se conversa con el guía de la situación para llegar a una solución, huéspedes estaban muy molestos porque estan acostumbrados a un muy alto nivel de atención y no les gustó llegar y que estuviera el aire malo. ellos estaban en Tabacon por lo que no aceptaron cena de cortesía sin embargo querían un vino frontera rojo como compensación y se les ofreció frutas y vino para el día siguiente a las restantes 3 habitaciones de su familia.","Luis Carlos Navarro","Servicio Cliente",null,null,30,"ROJA ","Asignar Jairo Garcia",null,"NO","QUEJA","SI","SI","A/C"]
[778,"2018-08-02","Huesped",503,"C1","Lavandería","Huéspedes molestos porque desde las 7 am entregaron lavandería y llegaron a las 7:00pm a preguntar a recepción y aún no estaba lista.",null,"Se llama a lavandería y proceden a traer la bolsa de la hab 503 indicando que las del cambio de turno no les informaron nada y que al llegar a las 2pm simplemente encontraron la ropa ahí sin darle prioridad.","Luis Carlos Navarro","Servicio Cliente",null,null,30,"ROJA ","Asignar Roberto Escoto",null,"SI","QUEJA","NO","NO","Lavanderia"]
[777,"2018-08-01","Huesped",411,"C1","Habitación","Huésped se queja que la lista de canales no coincide con los canales que se proyectan en el televisor, molesto primero porque indicá que un hotel en San José si pudo cambiar el audio a Inglés y aquí no.",null,null,"Ulises ","Botones",null,null,30,"ROJA ","Asignar Roberto Escoto","Revisar canales con la guia que está en las habitaciones","SI","QUEJA","SI","SI","Habitaciones"]
[776,"2018-07-31","Huesped",609,null,"Habitación","Agua caliente del baño sale demasiado caliente al instante además las paredes parecen hechas de papel ya que se escucha absolutamente todo de los vecinos.",null,null,null,null,"Evaluacion Gen",171,30,"Desestimada",null,"Estructura ya elaborada ","NO","QUEJA","NO","SI","Habitaciones"]
[775,"2018-07-30","Huesped",107,null,"Restaurante","Tortillas del bar húmedo que sirvieron tenían  moho. Además deberían tener opciones para personas alergicas a la lactosa.",null,null,null,null,"Evaluacion Gen",116,30,"ROJA ","Asignar Diego Cambronero",null,"SI","QUEJA","SI","NO","Calidad comida"]
[774,"2018-07-30","Huesped",303,null,"Habitación","La habitación es inferior a una junior suite.",null,"Cliente realizó a queja al check-out","Maria Nela Sancho ","Recepción",null,null,30,"Desestimada",null,"Estructura ya elaborada ","no","QUEJA",null,null,"Habitaciones"]
[773,"2018-07-30","Huesped",303,null,"Restaurante","Precios muy elevados en las comidas.",null,"Cliente realizó a queja al check-out","Maria Nela Sancho ","Recepción",null,null,30,"ROJA ","Asignar Diego Cambronero",null,"SI","QUEJA","2018-08-23","SI","Calidad comida"]
[772,"2018-07-29","Huesped",604,null,"Habitación","No había agua caliente y el control deo aire no funcionó.",null,"Cliente realizó a queja al check-out","Maria Nela Sancho ","Recepción",null,null,30,"ROJA ","Asignar Jairo Garcia","Revisar","SI","QUEJA","SI","SI","A/C"]
[771,"2018-07-26","Huesped",null,null,"Restaurante","La comida del restaurante italiano fue deficiente",null,null,null,null,"Tripadvisor",null,30,"ROJA ","Asignar Diego Cambronero",null,"SI","QUEJA","2018-08-23","SI","Calidad comida"]
[770,"2018-07-17","Huesped",null,null,"Restaurante","El restaurante principal de la cena en sí es bastante caro y nada especial. No había nada de malo en ello, pero nos habíamos acostumbrado a grandes porciones de Costa Rica, y nuestra cena aquí era mucho más pequeña y no estuvo a la altura de la comida que tuvimos en otro lugar en nuestro viaje.",null,null,null,null,"Tripadvisor",null,30,"ROJA ","Asignar Diego Cambronero",null,"SI","QUEJA","2018-08-23","SI","Calidad comida"]
[769,"2018-07-13","Huesped",null,null,"Habitación","El aire acondicionado no funcionó bien la última noche",null,null,null,null,"Tripadvisor",null,30,"Desestimada",null,"Desestimado por falta de info","NO","QUEJA","SI","SI","A/C"]
[768,"2018-07-04","Huesped",null,null,"Restaurante","EN el desayuno vimos varias moscas sobre los alimentos, incluso habían 2 ahogadas en el yogurt por lo que evitamos esos alimentos",null,null,null,null,"Tripadvisor",null,30,"Roja","Asignar Mainor Castro","Esperar aprobación compara de dispensadores","SI","QUEJA","NO","SI","Calida Desayuno"]
[767,"2018-07-04","Huesped",null,null,"Habitación",". Además ojala y pudieran brindar juegos para la habitación o algo para que se entretengan los niños.",null,null,null,null,"Tripadvisor",null,30,"Amarilla","Asignar Mainor Castro",null,"SI","SUGERENCIA","NO","SI","Área  para niños "]
[766,"2018-07-04","Huesped",null,null,null,"LA caja de seguridad es muy pequeña y vieja ( no pude guardar mi laptop)",null,null,null,null,null,null,30,"Desestimada",null,null,null,null,null,null,"N/A"]
[765,"2018-07-02","Huesped",null,null,"Restaurante"," la selección de los alimentos en el desayuno es pobre, mi esposo quería salchicha o tocino y no fue posible. Además las cenas son muy caras y las porciones muy pequeñas.",null,null,null,null,"Tripadvisor",null,30,"ROJA ","Asignar Diego Cambronero",null,"SI","QUEJA","2018-08-23","SI","Calidad comida"]
[764,"2018-07-01","Huesped",null,null,"Restaurante","Como otros comentarios de otros huéspedes también terminamos decepcionados de la cena,  los precios son demasiado elevados y la calidad de la comida en relación a otros hoteles quedó debiendo",null,null,null,null,"Tripadvisor",null,30,"ROJA ","Asignar Diego Cambronero",null,"SI","QUEJA","2018-08-23","SI","Calidad comida"]
[763,"2018-07-27","Huesped",112,null,"Habitación","Limpieza en términos de insectos debe mejorar con algún spray en el closet o baño para eliminar insectos.",null,null,null,null,"Evaluacion Gen",48,30,"ROJA ","Asignar Jairo Garcia",null,"SI","QUEJA","2018-08-21","SI","Plagas Habitaciones"]
[762,"2018-07-28","Huesped",109,null,"Hotel","Un Cajero Automático en Recepción sería muy útil ",null,null,null,null,"Evaluacion Gen",50,30,"Desestimada",null,"Alto riesgo",null,null,null,null,"N/A"]
[761,"2018-07-28","Huesped",710,null,"Habitación","Cambiar las cajas de seguridad por cajas modernas y fáciles de utilizar. Las que hay son complejas de operar.",null,null,null,null,"Evaluacion Gen",10,30,"Desestimada",null,"Alto costo cambiar cajas ",null,null,null,null,"N/A"]
[760,"2018-07-28","Huesped",308,null,"Habitación","La conexión a Internet debería ser mejor y más estable. Conexión buena es lo que falta",null,null,null,null,"Evaluacion Gen",29,30,"ROJA ","Asignar Arnaldo Moreira",null,"SI","QUEJA","SI","SI","Wifi"]
[759,"2018-07-28","Huesped",307,null,"Habitación","Internet no funcionó bien en la habitación.",null,null,null,null,"Evaluacion Gen",28,30,"ROJA ","Asignar Arnaldo Moreira",null,"SI","QUEJA","SI","SI","Wifi"]
[758,"2018-07-27","Huesped",801,null,"Restaurante","Poner precios mas bajos en los restaurantes ya que son muy caros.",null,null,null,null,"Evaluacion Gen",192,30,"ROJA ","Asignar Diego Cambronero",null,"SI","QUEJA","2018-08-23","SI","Calidad comida"]
[757,"2018-07-28","Huesped",404,null,"Habitación","la limpieza de la habitación el día de ayer no las satisfizo, me muestran que no les reemplazaron los vasos sucios, las camas no fueron bien acomodadas, que no se les agrego más bolsitas de té, y que no se les hizo tampoco ninguna decoración con las toallas como sí se les hizo a las otras habitaciones (405-406) que vienen con ellos",null,"Se les dio de cortesía 3 bebidas en el bar húmedo","Cesar Morales C.","Servicio Cliente",null,null,30,"ROJA ","Asignar Roberto Escoto",null,"SI","QUEJA","SI","NO","Limpieza en habitación"]
[756,"2018-07-27","Huesped",801,null,"Habitación","  también que existe un gran espacio entre el marco y la puerta misma que permite ingresar mosquitos y demás insectos","Cambiar de habitación el día de mañana 28-7-18","Se les muestra otras habitaciones, pero el huésped no queda satisfecho, por lo que se les va a cambiar mañana 28-7-18 a la 902/ se les ofrece una cena en el italiano, boleta de cortesía 0240","Cesar Morales C.","Servicio Cliente",null,null,30,"ROJA ","Asignar Jairo Garcia",null,"SI ","QUEJA ","SI","SI","Plagas Habitaciones"]
[755,"2018-07-26","Huesped",801,null,null," además del teléfono que no funciona, ",null,null,null,null,null,null,30,"ROJA ","Asignar Mainor Castro",null,"SI ","QUEJA ","NO","SI","Teléfonos"]
[754,"2018-07-26","Huesped",801,null,null,"los huéspedes expresaron su disconformidad y molestia debido a los problemas ocasionados por el aire acondicionado de la habitación",null,null,null,null,null,null,30,"Roja","Asignar Jairo Garcia",null,"SI","QUEJA","SI","SI","A/C"]
[753,"2018-07-25","Huesped",904,null,"Habitación","Baño huele muy mal como a cañería, además habían insectos, hormigas y lagartijas en la habitación",null,null,null,null,"Evaluacion Gen",75,28,"ROJA","Asignar Jairo Garcia",null,"SI","QUEJA","SI","SI","Plagas Habitaciones"]
[752,"2018-07-23","Huesped",409,null,"Restaurante","Huésped se queja que durante el buffet del sábado vió muy poca etiquetas en las comidas y hace falta rotulación.",null,null,null,null,"Evaluacion Gen",156,28,"ROJA","Asignar Diego Cambronero",null,"SI","QUEJA","SI","SI","Rotulación cena"]
[751,"2018-07-22","Huesped",411,null,"Habitación","En las habitaciones hay polvo, mejorar la limpieza",null,null,null,null,"Evaluacion Gen",150,28,"ROJA","Asignar Roberto Escoto","Por favor aplicar lista de chequeo","SI","QUEJA","NO","SI","Aseo en habitación"]
[750,"2018-07-23","Huesped",312,null,"Habitación","Huésped se queja de gotera en la ventana.",null,"Mantenimiento ","Deyvin Aguirre","Recepción",null,null,28,"ROJA","Asignar Jairo Garcia",null,"SI","QUEJA","SI","SI","Goteras"]
[749,"2018-07-24","Colaborador",null,null,"Servicio al Cliente","La impresora de comandas da problemas porque no imprime de manera correcta las amenidades que se comandan a cocina, presenta un error al parecer que provoca que se imprima en blanco gran cantidad de papel en blanco.",null,null,"Cesar Morales C.","Servicio Cliente",null,null,28,"Desestimada",null,null,"NO","N/A","N/A","N/A","Desestimado"]
[748,"2018-07-23","Huesped","403-211",null,"Habitaciones","El siguiente correo es para notificar acerca de una misma situación en la cual se  vieron afectadas 2 habitaciones, las mismas serian 403 – 211 , alrededor de las 6 pm se recibe el informe de ambas habitaciones en el cual los huéspedes informan que desde sus baños provienen olores muy fuertes y desagradables y ambos lo describen como un olor a cloaca y humedad y que les perturba su estadía en el hotel, inmediatamente se coordina con las compañeras de áreas públicas para verificar el estado de la situación, ellas nos informan que dichos olores efectivamente provienen del desagüe del baño de las duchas, ellas hacen la limpieza respectiva y de igual forma dejan fragancias en las habitaciones para disminuir dichos olores, se esperan alrededor de 30 min y mi persona juntamente con la compañera nos dirigimos para corroborar que todo se encuentre en orden, la hab 211 no posee ningún inconveniente, sin embargo la hab 403 aun contaba con un poco de olor. A los huéspedes se les ofrece el traslado de habitaciones pero ellos desean permanecer en sus habitaciones respectivas e indican que si el problema persiste aceptarán dichos cambios. Quiero hacer la connotación de que dichas situaciones al parecer es producto de las constantes lluvias y por este motivo los desagües se rebalsan emitiendo dichos olores. Favor darle el seguimiento respectivo a la situación ocurrida, cualquier consulta estoy para servirles.",null,null,"Jean Pierre Brenes","Recepción",null,null,28,"ROJA","Asignar Mario Lezama",null,"SI","QUEJA","NO","SI","Mal olor habitación"]
[747,"2018-07-22","Huesped","209-210","C1","Hotel","fuerte reclamo de su parte por el hecho de que se les dieron habitaciones diferentes a las que se les prometió cuando reservaron. Cuando se les realizó el check-in los huéspedes daban por hecho que se les iban a otorgar las habitaciones 311 y 312 debido a que en frente de estas habitaciones hay jardines y zonas verdes que básicamente a lo que nos dicen fue por esa la razón principal de su visita. A la hora de abordar la queja, a la señora se le explica que las habitaciones 209-210 tienen exactamente las mismas características ( Puertas Conectadas, 1 cama King y 2 camas Queen), sin embargo ella muy decepcionada y molesta nos insiste en un explicación del porque se le está entregando algo diferente si eso no fue lo acordado. Por más que se le intentó explicar la similitud de las habitaciones ella solicitó hablar con los encargados de las reservas, pero esto no fue posible debido a que no se encontraban. Les expliqué que no podríamos cumplir su solicitud ni hoy ni mañana porque no podíamos sacar a los huéspedes de las habitaciones 311-312 y que estos salían hasta el día 24/07/2018. La opción más viable fue compensarles con la cena carta paquete cortesía. Quisiera resaltar que fue necesario hablar con ellos en dos ocasiones frente a frente y una por teléfono para poder llegar a un acuerdo y que aceptaran la compensación. Me di a la tarea de ofrecerles las disculpas porque no se pudo cumplir lo que solicitaron e indiqué que nos hacíamos responsables de la situación y que esperábamos pudieran pasar una muy buena estadía . ",null,null,"Luis Carlos Navarro","Servicio Cliente",null,null,28,"ROJA","Asignar Mainor Castro","Definir el tipo de respuesta que se le de a los clientes","SI","QUEJA","NO","NO","Proceso de reservas"]
[746,"2018-07-22","Huesped",511,"C1","Habitación","Huéspedes se quejan de gotera justo arriba de su cama, debido a esto se les mojó su ropa de cama.",null,"Se precedió a mover la cama para que la gotera no continuara mojando la cama, se solicitó a mucamas secar piso, y se les pidió disculpas . Al siguiente día a primera hora la gotera va ser reparada ya que la gotera es reincidente.","Luis Carlos Navarro","Servicio Cliente",null,null,28,"ROJA","Asignar Jairo Garcia",null,"SI","QUEJA","SI","SI","Goteras"]
[745,"2018-07-22","Huesped","Grupo Patty Searcy","C1","Hotel","Señoras se quejan de la oscuridad y peligro que existe cuando los huéspedes caminan de noche por el hotel, una de las señoras del grupo sufrió una caída doblandose uno de sus tobillos y cayendo estrepitosamente en unos de los caños, el problema que ellas me indican es el desnivel que existe entre el pavimento y el caño. La caída se dió por las habitaciones 501-502 donde se confirma que la visibilidad es casi nula y no es posible apreciar el desnivel que causó caída.",null,"Asistencia y ayuda a la señora que sufrió la caída y a la vez se le indicó cada vez que necesite trasladarse con mucho gusto disponemos de carritos de golf. ","Luis Carlos Navarro","Servicio Cliente",null,null,28,"ROJA","Asignar Mainor Castro",null,"SI","QUEJA","NO","NO","Acera para transitar "]
[744,"2018-07-22","Huesped","Recepción",null,null,"Buenos días compañeros\nEspero se encuentren bien, quiero hacer de su conocimiento un problema que hemos tenido en reiteradas ocasiones y ha estado entorpeciendo nuestra labor al momento de realizar un cobro:\nEn primera instancia el datafono de Credomatic de recepción comenzó a duplicar montos y solo podemos usarlo para tarjetas American Express dado que es la única a la que no duplica, está mañana también comenzamos a tener problemas con los 2 datafonos del banco nacional, tuvimos que hacer uso del datafono del departamento de reservas, esto provoca que nuestro servicio sea lento y mediocre, dado que tenemos que pedirle a los huéspedes pasar a la oficina de reservas cuando la  tarjeta necesita un código pin para poder realizar un cargo, les solicitamos que por favor nos ayuden los más pronto posible con el tema para poder brindar un mejor y más rápido servicio, muchas gracias.\n",null,null,"Fernando Sandoval","Recepción",null,null,28,"ROJA","Asignar Iván Ramírez",null,"SI","QUEJA","NO","NO","Datafonos"]
[743,"2018-07-21","Huesped",902,"C1","Habitación","Huésped reporta un fuerte olor en la habitación que los mantiene inconformes","Cambiar la habitación","Se le cambia la habitación y se les sugiere invitarlos a la noche del buffet típico, sin embargo ellos dicen que están bien así.","Deyvin Aguirre","Recepción",null,null,28,"ROJA","Asignar Mario Lezama",null,"SI","QUEJA","NO","SI","Mal olor habitación"]
[742,"2018-07-19","Huesped",705,"C1","Habitación","Huésped no pudo dormir durante dos horas a partir de las 3 am, debido a que se había ido la electricidad y el generador producía mucho ruido.","Apagar la planta",null,"Deyvin Aguirre","Recepción",null,null,28,"ROJA","Asignar Jairo Garcia",null,"SI","QUEJA","SI","SI","Ruido generadores"]
[741,"2018-07-19","Huesped","207-208","C1","Habitación","Telefonos no funcionan y huéspedes no pudieron recibir el wake up call",null,null,"Luis Carlos Navarro","Servicio Cliente",null,null,28,"ROJA","Asignar Randall Salazar",null,"SI","QUEJA","SI","SI","Teléfonos"]
[740,"2018-07-18","Huesped",208,"C1","Habitación","Mal olor en habitación","Poner aromatizador",null,"Liz Aguilar U.","Super Visora Recep",null,null,28,"ROJA","Asignar Mario Lezama",null,"SI","QUEJA","NO","SI","Mal olor habitación"]
[739,"2018-07-21","Huesped","204-210-304,,,",null,"Habitación","Las puertas principales en estos días, seguramente por el clima, han estado presentando fallas a la hora de cerrar, esto de dos formas, la primera cuesta queda como baja y cuesta mucho abrirla, y la segunda es que cuesta que cierre bien.",null,null,"Cesar Morales C.","Servicio Cliente",null,null,28,"Desestimada","Asignar Jairo Garcia","Ya no se puede modificar la estructura","NO","QUEJA","SI","NO","Puerta de habitación"]
[738,"2018-07-21","Huesped",302,"C1","Hotel","Al realizar la llamada de bienvenida el huésped molesto reporta su malestar por que se duró mucho tiempo en entregarle la habitación","Huésped no permitió que se le hablará, colgó inmediatamente después de haber dicho esto",null,"Cesar Morales C.","Servicio Cliente",null,null,28,"ROJA","Asignar Roberto Escoto","Se cambio horario de las mucamas","SI","QUEJA","SI","NO","Room service"]
[737,"2018-07-21","Huesped",708,"C1","Habitación","Huésped reporta hormigas en la habitación","Limpieza inmediata ",null,"Cesar Morales C.","Servicio Cliente",null,null,28,"ROJA","Asignar Jairo Garcia",null,"SI","QUEJA","SI","SI","Plagas Habitaciones"]
[736,"2018-07-20","Huesped",706,"C1","Hotel","Huésped se queja del ruido generado en la construcción, nos comenta que el problema es que inicia muy temprano a realizar los trabajos.","Revisar lo comentado para evitar problemas con los huéspedes futuros","Se le pide disculpas y además se le ofrece un descuento en el spa del 15%","Cesar Morales C.","Servicio Cliente",null,null,28,"ROJA","Asignar Mario Lezama",null,"SI","QUEJA","NO","SI","Construcción"]
[735,"2018-07-18","Huesped",null,null,null,"Buen día Jefa!\nEs para informarte que la noche de hoy al check-in de 5 personas (Habitaciones 101 y 102) no se les entrego coctel de bienvenida pues no habían disponibles.\nNo hizo mucha falta a decir verdad dado que los clientes venían muy cansados sin embargo, si me manifestaron que tenían mucha hambre.\nHoy en particular venía muy lleno por lo que les ofrecí mi cena. Estaba un poco “seca” entonces le agregue un poco de chimichurri y aguacate que fue lo que encontré en el restaurante italiano. Además les di  5 manzanas que tome de la cámara del barril.\nPasado el tiempo me llamo la cliente diciendo que si podía tener agua, que no había en la habitación a lo q le respondí que en el mini-bar debía tener pero me dijo que no vio ninguna.\nPor esta razón tome 5 botellas de la bodega de los botones y las envié pero una vez entregadas me dijo que la disculpara. Que ya había encontrado las botellas de agua.\nComo vez es un reporte informativo más que cualquier otra cosa, no sé por el tema de control de inventarios si debe esto ser del conocimiento de alguien más pero lo dejo a tu criterio.\nAdemás de la oportunidad de mejorar en algunos detalles sin embargo los clientes muy contentos y agradecidos con la empatía y el servicio.\nCualquier consulta estoy para servirte!\nGelipe",null,null,"Liz Aguilar U.","Super Visora Recep",null,null,27,"ROJA","Asignar Diego Cambronero",null,"SI","SUGERENCIA","SI","NO","Refrigerio nocturno"]
[734,"2018-07-18","Huesped",null,null,"Cocina","Buenos Días Diego,\n\nEspero se encuentre bien. \nLe escribo para solicitarle ayuda con algo que a mi parecer se ha vuelto reiterado y hasta desgastante para recepción, botones, ama de llaves y servicio al cliente. \nEl tema aquí tiene que ver con las amenidades y los detalles especiales que Servicio al Cliente se encarga de solicitar a cocina con un día de anticipación por dos medios ( correo y en físico ). Yo mismo he sido testigo que existe un claro desorden de comunicación o de asignación de funciones ya que unos días si se le da seguimiento al reporte de detalles especiales y otros al parecer nadie se quiere hacer cargo. En este sentido yo me apego al procedimiento que mi superior Liz Aguilar nos ha solicitado, sin embargo mi duda es si el 100% de su departamento conoce el procedimiento? \nHablando con los botones ellos me indican que los han devuelto varias veces diciendo que nadie les ha pedido amenidades, y ellos ante esta respuesta acuden a mi persona en donde yo he tenido que llamar y solicitar que por favor revisen la hoja que se deja pegada en la pizarra de cocina. Muchas veces he tenido que acudir a Don Gerardo Meléndez el cual muy amablemente ha tratado de que se mejore en este aspecto, de hecho cuando se encuentra en el hotel, es el único que responde los correos en donde me hace ver que ya conocen de las amenidades requeridas y que le darán seguimiento, él hasta me ha sugerido que yo pida una firma de entregado pero creo que esto no es necesario cuando existe un compromiso por el trabajo.  La intención de compartirle todo esto es con el único fin de mejorar siempre pensando en nuestros huéspedes, hablando con Melissa ella me sugiere la posibilidad de dejar las bolsas de frutas listas la noche antes o que exista una hora de la mañana en donde se tengan listas siempre y cuando sea temprano.  Como usted puede ver es algo que está afectando a más de un departamento y como se lo pedí al inicio me gustaría contar con su ayuda para mejorar estos detalles que aunque parezcan simples tienen peso a la hora de que no se prepara un queque, de que no mandamos las bolsas de frutas correctamente, entre otras cosas que han pasado. \nMuchas gracias de antemano y cualquier consulta estoy a la orden.\nSaludos!\n",null,null,"Luis Carlos Navarro","Servicio Cliente",null,null,27,"ROJA",null,null,"SI","QUEJA","NO","SI","Servicio cliente cocina"]
[733,"2018-07-18","Huesped",403,null,"Hotel","Muy señores nuestros, \nMi nombre es Naresh Lakhwani y estuvimos alojados en la habitacion 403 de su hotel del 13 al 15 de este mes (Julio) junto a mi esposa Juliana Sánchez a cuyo nombre estaba la reserva , al check out del hotel tuvimos la desgracia de dejar olvidado una carpeta con nuestra documentación, itinerario de viaje y 950 euros en efectivo.\nAl llegar a nuestro hotel en Monteverde llamamos a vuestro hotel y nos dijeron que estaba allí, supuestamente intacta, y que la mandarian por empresa de transporte al nuevo destino. Hoy día 16 hemos recibido el envío que nos han entregado en un sobre cerrado y al abrirlo nos hemos dado cuenta que han sustraído 200 euros del efectivo además de haber cambiado el dinero de compartimento (sabíamos exactamente la cantidad que había y donde estaba guardado porque era exactamente el importe de algo que íbamos a comprar)\nHe llamado personalmente y hablado con atención al cliente de ustedes y me comentan que entregaron a la empresa de transporte el paquete ya cerrado con lo cual en algún momento se ha sustraído ese dinero.\nEl motivo de ponerme en contacto con ustedes es hacerles saber que no tanto por la cuantía económica, que también, sino más por el agravio, hemos decidido denunciar lo ocurrido a la policía y postear todo lo ocurrido y la denuncia en todos los medios a nuestro alcance. Seguramente no recuperemos nada puesto que solo nos quedamos en el pais 4 dias mas, pero por lo menos daremos a conocer lo ocurrido a la mayor cantidad de gente posible nombrandolos tanto a ustedes como a la empresa de transporte.\nLo ocurrido ha sido la única mancha en nuestra luna de miel ya que su país tanto como la mayor parte de su gente son encantadores pero no nos parece justo lo sucedido!!\n\nSin otro particular, le saluda atentamente: \n\nNaresh Lakhwani \n",null,null,"Luis Carlos Navarro","Servicio Cliente",null,null,27,"ROJA","Asignar Estibaliz Aguilar","Todo objeto de valor manipularlo en frente  de la cámara ","SI","QUEJA","SI","SI","Servicio cliente recepción"]
[732,"2018-07-18","Huesped",208,"C1","Habitación","Huéspedes se quejan por mal olor.",null,null,"Liz Aguilar U.","Super Visora Recep",null,null,27,"ROJA","Asignar Jairo Garcia","SE APLICÓ UN PRODUCTO","SI","QUEJA","SI","SI","Mal olor habitación"]
[731,"2018-07-18","Huesped",512,"C1","Habitación","Gotera justo encima de la cama",null,null,"Luis Carlos Navarro","Servicio Cliente",null,null,27,"ROJA","Asignar Jairo Garcia","SE APLICÓ DURETAN EN LIMAHOYA","SI","QUEJA","SI","SI","Goteras"]
[730,"2018-07-17","Huesped",201,"C1","Habitación","Huésped se queja de fuerte ruido en el techo del lado del panel",null,null,"Deyvin Aguirre","Recepción",null,null,27,"ROJA","Asignar Jairo Garcia","SE CAMBIARON LOS CHECK","SI","QUEJA","SI","SI","Alarmas "]
[729,"2018-07-18","Huesped",null,null,"Habitaciones","Teléfonos de las habitaciones no funcionan correctamente ni tampoco el de caseta",null,null,"Liz Aguilar U.","Super Visora Recep",null,null,27,"ROJA","Asignar Randall Salazar",null,"SI","QUEJA","SI","SI","Teléfonos"]
[728,"2018-07-16","Huesped",901,"C1","Habitación","Canoa en el balcón tiene fuga, y por esto se mete mucha agua al balcón.",null,null,null,null,"Evaluacion Gen","2018-07-69",27,"ROJA","Asignar Jairo Garcia","SE LIMPIARON LAS CANOAS","SI","QUEJA","SI","SI","Goteras"]
[727,"2018-07-16","Huesped",901,"C1","Habitación","Fuerto olor a agua estancada en el baño",null,null,null,null,"Evaluacion Gen","2018-07-69",27,"ROJA","Asignar Jairo Garcia",null,"SI","QUEJA","SI","SI","Mal olor habitación"]
[726,"2018-07-13","Huesped",904,"C2","Hotel","Huéspedes muy molestos por transfer contratado con nosotros que no llegó a recogerlos a la hora y el día acordado, por lo que los huéspedes pagaron una transfer privado hasta el hotel.","Utilizar el dinero que ya pre-pagaron para nosotros brindarles el transporte cuando se vayan el día 17/07 solo que indican que quieren que otra empresa de transporte les de el servicio ya que la otra les pareció irresponsable y poco seria. ",null,"Luis Carlos Navarro","Servicio Cliente",null,null,27,"ROJA","Asignar Mainor Castro",null,"SI","QUEJA","NO","SI","Transfer"]
[725,"2018-07-13","Huesped",406,"C1","Restaurante","NO hay variedad en menú para niños.",null,null,null,null,"Evaluacion Gen","2018-07-72",27,"ROJA","Asignar Diego Cambronero",null,"SI","SUGERENCIA","2018-08-23","SI","Menú niños"]
[724,"2018-07-10","Huesped",107,"C1","Habitación","Las instrucciones del coffee maker no están claras, es para hervir agua o solo calentarla? Si no lo dice no lo sabran los huéspedes. Además las instrucciones de como encender el ventilador de techo no se ven.",null,null,null,null,"Evaluacion Gen","2018-07-71",27,"ROJA","Asignar Greivin Arredondo",null,"SI","SUGERENCIA","2018-09-15","SI","Rotulación ventilador"]
[723,"2018-07-10","Huesped",107,"C1","Hotel","Caminos cruzando por el pasto muy húmedos y resbalosos que podrían causar una caída, talvez colocar piedras para facilitar caminar por ahí.",null,null,null,null,"Evaluacion Gen","2018-07-71",27,"Desestimada",null,null,"NO","QUEJA","NO","NO","Desestimado"]
[722,"2018-07-13","Huesped",502,"C1","Habitación","Poner espejo fuera del baño.",null,null,null,null,"Evaluacion Gen","2018-07-70",27,"Desestimada",null,null,"NO","QUEJA","NO","NO","Desestimado"]
[721,"2018-07-14","Huesped",509,"C1","Spa","Huespedes molestos tuvieron que cancelar masaje de luna de miel por jacuzzi en mal estado (tapon dañado)",null,null,"Liz Aguilar U.","Super Visora Recep",null,null,27,"ROJA",null,null,"NO","QUEJA","SI","SI","Rotulación Jacuzzi"]
[720,"2018-07-13","Huesped",202,"C1","Habitación","Habitación sin agua caliente",null,null,"Fernando Sandoval","Recepción",null,null,27,"ROJA","Asignar Jairo Garcia","LLAVE DE LOS TANQUES SUPERIORES ESTABAN CERRADOS, SE PROCEDIÓ A ABRIRLOS","SI","QUEJA","SI","SI","Agua caliente"]
[719,"2018-07-12","Huesped",302,null,"Lobby","Colocar rotulación llamativa o colorida que indique por ejemplo cual es el Souvenir, cual es el Tour Operador, cual es Servicio al cliente, cual es la recepción, etc. ",null,null,null,null,"Evaluacion Gen","2018-07-69",27,"VERDE","Asignar Mainor Castro",null,null,null,null,null,"N/A"]
[718,"2018-07-12","Huesped",302,null,"Hotel","Renovar la recepción que es anticuada, fea y no va acorde con el hotel.",null,null,null,null,"Evaluacion Gen","2018--07-69",27,"VERDE","Asignar Mainor Castro",null,"SI","SUGERENCIA",null,null,"N/A"]
[717,"2018-07-11","Huesped",312,null,"Habitación","En la Habitación hay una gotera",null,null,null,null,"Evaluacion Gen","2018-07-73",27,"ROJA","Asignar Jairo Garcia","SE DESPEGARON LAS CINTAS QUE TAPA LA ENTRADA DE MURCIÉLAGOS Y SE DRENÓ","SI","QUEJA","SI","SI","Goteras"]
[716,"2018-07-11","Huesped",309,null,"Hotel","Huéspedes se quejan de las computadoras del lobby las cuales no les funciona la unidad de CD-Room y no fue posible leer un disco de fotos que necesitaban compartir entre ellos.",null,"Se les prestó la computadora de Guest Service para que pudieran ver las fotos y compartirlas entre ellos.","Luis Carlos Navarro","Servicio Cliente",null,null,26,"ROJA","Asignar Arnaldo Moreira",null,"SI","QUEJA","SI","SI","Computadoras de recepción"]
[715,"2018-09-09","Huesped",null,null,"Ama de llaves ","Por este medio le comunico que hoy tuve una situación con Katia debido a un cambio que se hizo a última hora. \nTeníamos una reserva del señor Oscar Molina quien es un cliente frecuente en la 104 y él dijo que si la habitación 105 estaba disponible le gustaría esa en vez de la 104. \nAl venir todos los años se le hizo un arreglo el cual teníamos que mover a la 105 – esta habitación ya estaba lista- era solo de mover las cosas. Solicite un 21 a Katia ya que el cliente estaba en frente de mí, pero la compañera se alteró de una manera muy inadecuada diciendo que la habitación estaba lista y que como la íbamos a poner a correr “estamos en el agua”, y que además no le estaba dando una explicación de por qué moverlos. Y de la misma manera molesta me dijo que iba a estar en 20 minutos, le dije que porque si ya estaba lista, y era solo de pasar las cosas, ella me repitió lo mismo muy alterada y que si quería que fuera adentro para que viera como estaban ellas. \nSimplemente le dije que no había razón para que me alzara la voz de esta manera, y decidí colgar el teléfono. \nLuego a los 5 minutos me pasó la habitación lista el compañero Oscar, me dijo que él fue y movió las cosas ya que era lo único que había que hacer.","Por más ocupados que estemos no hay razón para enojarnos y alzar la voz hacia otra persona. \r\nLo menos que necesitamos es problemas personales dentro del ambiente laboral y por este motivo hago de su conocimiento lo sucedido. \r\n",null,"Deyvin Aguirre","Recepción",null,null,26,"ROJA","Asignar Roberto Escoto",null,"SI","QUEJA","SI","SI","Servicio cliente mucamas"]
[714,"2018-07-10","Huesped",null,null,"Restaurante","Le informo que le día de hoy , durante3 el desayuno, pudimos detectar a tiempo la presencia de una cucaracha.\nEn realidad una huésped de la habitación 402, fue quien alerto al compañero José Quirós. M la misma se encontraba sobre la mesa y esta estaba desocupada. El compañero la retiro rápida y discretamente.\nPuedo decir que dicho evento, no causo mayor relevancia, nadie más se dio cuenta y no tuvo mayor repercusión.\n\n\n","Si sería bueno , programar una fumigada y chequeo más profundo, para evitar futuros inconvenientes.",null,"Gerardo Melendez","Capitan",null,null,26,"ROJA","Asignar Jairo Garcia","PLAN DE FUMIGACIÓN COMPLETADO","SI","QUEJA","SI","SI","Habitaciones"]
[713,"2018-07-10","Huesped",107,"C1","Habitación","Cajas fuertes más grandes, que puedan caber laptops",null,null,null,null,null,null,26,"Desestimada",null,null,"NO","N/A","N/A","N/A","Desestimado"]
[712,"2018-07-09","Huesped",401,"C1","Hotel","Promover actividades para adolescentes donde se reúnan, compartan y se conozcan.",null,null,null,null,null,null,26,"ROJA","Asignar Mainor Castro",null,"SI","SUGERENCIA","NO","SI","Sala de juegos"]
[711,"2018-07-10","Huesped",null,"C1","Restaurante","Debería haber más variedad de opciones en el desayuno ",null,null,null,null,null,null,26,"ROJA","Asignar Diego Cambronero","SE HA MEJORADO EL SERVICIO DE FRUTAS Y SE MUEVEN SECTORES PARA COMIDA TÍPICA","SI","QUEJA","SI","SI","Calida Desayuno"]
[710,"2018-07-10","Huesped",707,"C1","Recepción","Deberían haber ganchos para poder colgar las capas",null,null,null,null,null,null,26,"Desestimada",null,null,"NO","N/A","N/A","N/A","Desestimado"]
[709,"2018-07-10","Huesped",707,"C1","Habitación","Deben haber más ganchos para poder colgar las toallas en el baño",null,null,null,null,null,null,26,"Desestimada",null,null,"NO","N/A","N/A","N/A","Desestimado"]
[708,"2018-07-10","Huesped",405,"C1","Habitación","El refrigerador de la habitación tiene un ruido muy fuerte",null,null,null,null,null,null,26,"ROJA","Asignar Roberto Escoto","SE CAMBIÓ LA REFRIGERADORA","SI","QUEJA","SI","SI","Ruido habitación"]
[707,"2018-07-09","Huesped","103-502","C1","Habitación","Habitaciones fumigadas con el piso resbaloso y fuerte olor. Al parecer no hubo comunicación entre los compañeros de fumigación y las mucamas por lo que en recepción se nos informó que estas habitaciones estaban listas para entregar lo cual fue vergonzoso ya que al llevar a los huéspedes a las habitaciones se toparon con la sorpresa de que las habitaciones no estaban aptas debido al humo y olor.",null,null,"Luis Carlos Navarro","Servicio Cliente",null,null,26,"ROJA","Asignar Roberto Escoto","SE PUSIERON DE ACUERDO LAS AREAS DE MANTENIMIENTO Y AMA DE LLAVES, SE SEGUIRÁ FUMIGANDO EN LAS MAÑANAS","SI","QUEJA","SI","SI","Plagas Habitaciones"]
[706,"2018-07-09","Huesped",201,"c3","habitación ","Cliente llama para informar que no tienen agua caliente en la habitacion, y que son 5 personas en la habitación. ","Solicita hablar con gerencia o alguien encargado ya que estan pagando bastante dinero por su estadia. ","Se le pasa el reporte a servico al cliente, se le comunica a mantenimiento y el compañero indica que tanque provee agua a varias habitaciones por ese motivo se quedó sin suficiente suministro para ellos, aparte que son 5 pax en una sola habitación. Seguidamente se le otorga una cortesia en restaurante a la cliente ya que se muestra molesta por lo sucedido/ se le dió una cena como cortesía en el restaurante ti-caín.","Deyvin Aguirre","Recepción",null,null,26,"ROJA","Asignar Jairo Garcia","LLAVE DE LOS TANQUES SUPERIORES ESTABAN CERRADOS, SE PROCEDIÓ A ABRIRLOS","SI","QUEJA","SI","SI","Agua caliente"]
[705,"2018-07-09","Huesped",609,"C1","Habitacion ","Cliente de caravan comunica que no tiene electricidad en la habitación, al parecer no estaba sirviendo el tarjetero. ",null,"Se cambio a la habitación 309, ya que no se sabia si se iba a solucionar la situacion con el switch. ","Deyvin Aguirre","Recepción",null,null,26,"ROJA","Asignar Jairo Garcia","SE CAMBIÓ TARJETERO","SI","QUEJA","SI","SI","Habitaciones"]
[704,"2018-07-09","Huesped",306,"C1","Hotel","Huésped se queja de la hoja de evaluación que se deja en las habitaciones para que los huéspedes la llenen antes de irse, el mismo indica que tiene errores gramaticales tanto en Inglés como en Alemán y que eso es mal visto ya que el hotel debería de ser profesional en ese aspecto. ","El huésped nos entrega la hoja con los errores corregidos para que la diseñemos como debe ser.",null,null,null,null,null,26,"ROJA","Asignar Iván Ramírez",null,"SI","QUEJA","NO","SI","Hojas de evaluación"]
[703,"2018-07-07","Huesped",104,"C1","Habitación","aiRE ACONDICIONADO nunca funcionó.",null,null,null,null,null,null,26,"ROJA","Asignar Roberto Escoto","SE LIMPIO Y CARGO DE GAS EL COMPRESOR, YA FUNCIONA","SI","QUEJA","SI","SI","A/C"]
[702,"2018-07-07","Huesped",110,"C1","Habitación","Red WiFi funcionaba bien en restaurantes pero en el cuarto nunca funcionó bien",null,null,null,null,null,null,26,"ROJA","Asignar Arnaldo Moreira","REVISADO Y EN FUNCIONAMIENTO","SI","QUEJA","SI","SI","Wifi"]
[701,"2018-07-07","Huesped",110,"C1","Gimnasio","Por favor modernizar instalaciones del gimnasio. Como pueden ver, todo fue calificado como excelente pero las maquinas del gimnasio no estan acordes con la calidad del hotel.",null,null,null,null,null,null,26,"ROJA","Asignar Mainor Castro",null,"SI","QUEJA","NO","SI","Gimnasio"]
[700,"2018-07-07","Huesped",505,"C1","Habitación","Espejo frente al inodoro es raro y además las sabanas no son cómodas.",null,null,null,null,null,null,26,"ROJA","Asignar Iván Ramírez",null,"SI","QUEJA","NO","SI","Espejo grande fuera del baño"]
[699,"2018-07-08","Huesped","205-206","C1","Bar Húmedo","Huésped se queja de la mala actitud de uno de nuestros empleados llamado Marco del bar húmedo, el mismo indica que no le gustó la manera en que lo atendió y que cuando le pidió le cambiara un vaso caliente por uno frío la solución no fue la que esperaba además de que ni empatía le mostró, lo cual indica el señor debe ser indispensable en esa área. Se le ofrecieron disculpas al señor y se le agradeció por la retroalimentación, que iba ser tomada en cuenta para mejorar.",null,null,"Luis Carlos Navarro","Servicio Cliente",null,null,26,"ROJA","Asignar Diego Cambronero","SE HABLÓ CON EL COLABORADOR","SI","QUEJA","SI","SI","Servicio cliente restaurante "]
[698,"2018-07-05","Huesped",602,"C1","Habitación","El espejo del baño debe ser mas grande ya que no me gusta sentarme en el sanitario para mirarme en el espejo.",null,null,null,null,null,null,26,"ROJA","Asignar Iván Ramírez",null,"SI","QUEJA","NO","SI","Espejo grande fuera del baño"]
[697,"2018-07-05","Huesped",505,"C2","Habitacion ","El internet está muy mal, no sirve en la habitación",null,"Fuimos a la habitacion a validar lo que el cliente decía, y efectivamente era así. Arnaldo vino pero tampoco lo pudo resolver.","Liz Aguilar U.","Super Visora Recep",null,null,26,"ROJA",null,null,"NO","QUEJA","SI","SI","Wifi"]
[696,"2018-07-05","Huesped",902,"C1","Hotel","Mejorar el internet",null,null,null,null,null,null,26,"ROJA","Asignar Arnaldo Moreira",null,"SI","QUEJA","SI","SI","Wifi"]
[695,"2018-07-04","Huesped",405,"C1",null,"Se activa el panel de la 403, indican que las alarma se activó en la habitacion  405  procedemos a llamar a la habitacion para consultarle a los clientes si todo estaba bien, los mismos nos indican que todo está en orden, una vez verificado el estado de las habitaciones con los huéspedes  el compañero Kenneth procede a  apagar el panel",null,null,"Jose Hernandez ","Recepción",null,null,26,"Desestimada",null,null,"NO","N/A","N/A","N/A","Desestimado"]
[694,"2018-07-04","Huesped",207,"C1",null,"Al ser las 6:45pm de hoy 04/07/2018 el compañero Kenneth de seguridad reporta que se activaron las alarmas, específicamente  los paneles de las habitaciones  203 y 403, estos indican que las alarmas se activaron en las habitaciones 207 y 405 respectivamente, procedemos a llamar a las habitaciones para consultarle a los clientes si todo estaba bien en las habitaciones, los mismos nos indican que todo está en orden, una vez verificado el estado de las habitaciones con los huéspedes  el compañero Kenneth procede a  desactivar las alarmas.",null,null,"Jose Hernandez ","Recepción",null,null,26,"Desestimada",null,null,"NO","N/A","N/A","N/A","Desestimado"]
[693,"2018-07-04","Huesped",904,"C1","Habitación","Poner alfombra a la entrada de las escaleras, ya que el piso es resbaloso",null,null,null,null,null,null,26,"ROJA","Asignar Roberto Escoto","SE UBICÓ UN ALFOMBRA TEMPORAL PARA SOLUCIONAR EL PROBLEMA, EN ESPERA DE LA ALFOMBRA PERMANENTE","SI","SUGERENCIA","SI","NO","Alfombra en escaleras"]
[692,"2018-07-04","Huesped",202,"C1","Habitación","Al ser las 8:15pm los huéspedes llaman indicando que hay una víbora en su habitación y que por favor les ayuden ya que no quieren que los niños se den cuenta.",null,"Inmediatamente se contacta a mantenimiento y nos dirigimos a la habitación primeramente a hablar con el señor y ofrecerle las disculpas del caso porque esto es muy poco común, procedemos a mover a los huéspedes a la hab 312 solo para que pasen la noche y ante el posible escape de la serpiente nos vimos en la obligacion por seguridad de los huéspedes de matar a la serpiente.","Luis Carlos Navarro","Servicio Cliente",null,null,26,"Desestimada",null,null,"NO","N/A","N/A","N/A","Desestimado"]
[691,"2018-07-04","Huesped",null,null,"Restaurante","Huéspedes se quejan que en el desayuno habían moscas dentro del yogurt y además en algunas otras comidas que estaban en el buffet, dicen que nunca habían sido testigos de esto en los paseos que han realizado.",null,null,null,null,"Tripadvisor",null,26,"ROJA","Asignar Jairo Garcia","COMPRA DE RECIPIENTES CON TAPA Y TRAMPA WISH","SI","QUEJA","SI","SI","Plagas Habitaciones"]
[690,"2018-07-04","Huesped",201,"C1","Habitación","Huésped se queja que durante la noche de ayer 03-07-18, hubo un ruido que los pertubó, el ruido al parecer venía del techo","Revisar la situación","Se le dió cortesía la factura BH-00090521.","Cesar Morales C.","Servicio Cliente",null,null,26,"ROJA","Asignar Jairo Garcia","MURICELAGOS, FUMIGAR CON POLVO","SI","QUEJA","SI","SI","Ruido habitación"]
[689,"2018-07-03","Huesped",312,"C1","Hotel","Huésped se encuentra enfermo según ellos esto les pasó después de almorzar en el hotel unos fetuccini di mari, ","Que los atendiera un médico, y que se les proporcionara algo para rehidratarse y unos sandwiches de igual forma.","Primeramente se le explica al huésped sobre los estandares de manipulación presentes en el hotel, además se le explica que los virus que afectan el sistema digestivo se incuban primero desde 48 a 72 horas, y que por ende es muy dificil que esto haya sido por la ingesta del almuerzo en el hotel. Se le envía luego unos powerades para que se rehidraten y unos sandwiches, también unas frutas. Luego se envián a sanar y ahí el doctor Sergio les realiza los examenes y les explica nuevamente la situación con los virus que afectan al sistema digestivo.","Cesar Morales C.","Servicio Cliente",null,null,25,"Desestimada",null,null,"NO","N/A","N/A","N/A","Desestimado"]
[688,"2018-07-03","Huesped",null,"C1","Restaurante","Precios de la cena muy elevados",null,"TripAdvisor",null,null,null,null,25,"ROJA","Asignar Diego Cambronero",null,"SI","QUEJA","2018-08-23","SI","Calidad comida"]
[687,"2018-07-03","Huesped",null,null,"Hotel","Al ser las 10:15 am aproximadamente el servicio de Internet del hotel se cae imposibilitando realizar cobros con el datafono, entre otras cosas. Varios huéspedes se vieron afectados tanto haciendo check-out como otros que llamaban preguntando por el Wi-Fi del hotel ya que no les servía.",null,"Se intentó contactar a Arnaldo pero no fue posible por lo que Jairo e Ivan intentaron solucionar el inconveniente en el cuarto de comunicaciones habilitando una línea directa para conectar el datafono y poder hacer los cobros.","Luis Carlos Navarro","Servicio Cliente",null,null,25,"ROJA","Asignar Arnaldo Moreira","SE CAMBIÓ EL FIREWALL Y EL ROUTER","SI","QUEJA","SI","SI","Wifi"]
[686,"2018-07-03","Huesped",504,"C1","Recepción","Huéspedes se quejan ya que el documento que le envió la agencia a recepción para ser entregado a los huéspedes no se les dió, los señores no pudieron ir a un tour ya que no fueron informados y se encontraban inconformes con el error que se dió en recepción al enviar un documento en español que no correspondía con el que envió la agencia.",null,"Se les dió cena de cortesía como compensación al error y los huéspedes quedaron satisfechos.","Luis Carlos Navarro","Servicio Cliente",null,null,25,"ROJA","Asignar Estibaliz Aguilar",null,"NO","QUEJA","SI","NO","Servicio al cliente "]
[685,"2018-07-02","Huesped",512,"C1","Habitación","Cliente indica el agua del baño apenas es tibia incluso abriendola toda. Y necesitaban tomar un baño. ",null,"Se envio a mantenimiento a chequear y lo que nos indica el compañero es que hay 4 habitaciones conectadas al mismo tanque y que probablemente se habia gastado el agua del tanque. por lo cual los clientes deben esperar 30 minutos o más. Se le indico al huésped y amablemente dijo que no importaba esperar entonces. ","Deyvin Aguirre","Recepción",null,null,25,"ROJA","Asignar Jairo Garcia","PROBABLE FALTA DE INFORMACIÓN PARA OPERAR LA DUCHA, YA SE INSTALÓ EL HABLADOR","SI","QUEJA","SI","SI","Agua caliente"]
[684,"2018-07-02","Huesped",107,"C1","Habitación","Cuando se le aborda al huésped mediante la llamada de bienvenida reporta un olor desagradable y muy fuerte.","Huésped solicita que se revise la situación","Decidó cambiarlos a la hab 207","Cesar Morales C.","Servicio Cliente",null,null,25,"ROJA","Asignar Jairo Garcia",null,"SI","QUEJA","SI","SI","Malos olores"]
[683,"2018-07-01","Huesped",606,"C1","Hotel","Huésped molesto porque no hay servicio de desayuno a la habitación.",null,null,null,null,"Evaluacion Gen","2018--07-06",25,"Desestimada","Asignar Diego Cambronero",null,"NO","N/A","N/A","N/A","Desestimado"]
[682,"2018-06-30","Huesped",515,"C1","Habitación","Todos los días que estuvimos hospedados tuvimos problemas con cucarachas grandes y pequeñas, el veneno hizo que salieran cada día más, por las noches la situación era peor.",null,null,null,null,"Evaluacion Gen","2018--07-10",25,"ROJA","Asignar Jairo Garcia","PLAN DE FUMIGACIÓN COMPLETADO","SI","QUEJA","SI","SI","Plagas Habitaciones"]
[681,"2018-06-29","Huesped",411,"C1","Restaurante","Mejor selección en calidad de las comidas.",null,null,null,null,"Evaluacion Gen","2018--07-12",25,"ROJA","Asignar Diego Cambronero",null,"SI","QUEJA","2018-08-23","SI","Calidad comida"]
[680,"2018-06-30","Huesped",203,"C1","Habitación","La refrigeradora hace mucho ruido",null,null,null,null,"Evaluacion Gen","2018--07-14",25,"ROJA","Asignar Dariel Miranda",null,"SI","QUEJA","2018-08-09","SI","Habitaciones"]
[679,"2018-07-02","Huesped",null,"C1","Restaurante","Cena muy limitada y con precio elevado.",null,null,null,null,"Tripadvisor",null,25,"ROJA","Asignar Diego Cambronero",null,"SI","QUEJA","2018-08-23","SI","Calidad comida"]
[678,"2018-07-02","Huesped",null,"C1","Restaurante","La selección de opciones de desayuno no es buena, no hay tocino. ",null,null,null,null,"Tripadvisor",null,25,"Desestimada","Asignar Diego Cambronero",null,"NO","N/A","N/A","N/A","Desestimado"]
[677,"2018-07-01","Huesped",null,"C1","Restaurante","Muy decepcionados con la cena, precios muy caros y calidad de la comida no es equivalente a los que cobran en comparación con otros hoteles de la zona.",null,null,null,null,"Tripadvisor",null,25,"ROJA","Asignar Diego Cambronero",null,"SI","QUEJA","2018-08-23","SI","Calidad comida"]
[676,"2018-06-19","Huesped",null,"C1","Restaurante","El costo de las comidas es muy caro y es mejor ir a alguna soda en el pueblo.",null,null,null,null,"Tripadvisor",null,25,"ROJA","Asignar Diego Cambronero",null,"SI","QUEJA","2018-08-23","SI","Calidad comida"]
[675,"2018-06-16","Huesped",null,"C1","Restaurante","Cenas y bar de la piscina con precios muy elevados.",null,null,null,null,"Tripadvisor",null,25,"ROJA","Asignar Diego Cambronero",null,"SI","QUEJA","2018-08-23","SI","Calidad comida"]
[674,"2018-06-13","Huesped",null,"C1","Restaurante","El sushi es pésimo, la calidad de los ingredientes es terrible (cero frescos), las combinaciones de sabor fatal, el arroz no tiene la textura adecuada y tampoco buena presentación. \r\nNo entiendo como un hotel tan bello puede ofrecer un sushi tan terrible :(\r\n",null,null,null,null,"Tripadvisor",null,25,"ROJA","Asignar Mainor Castro",null,"SI","QUEJA","NO","SI","Calidad Sushi"]
[673,"2018-06-29","Huesped",710,"C1","Habitación","Huésped reporta que hay cucarachas en la habitación",null,null,"Jose Hernandez ","Recepción",null,null,25,"ROJA","Asignar Jairo Garcia","PLAN DE FUMIGACIÓN COMPLETADO","SI","QUEJA","SI","SI","Plagas Habitaciones"]
[672,"2018-06-29","Huesped","111-112","C1","Hotel","Huéspedes se quejan que se les hizo entrega de l acajaita de desayuno y no incluía cucharas o tenedores para comer. Tuvieron que bajarse del carro y venir a recepción porque se les había indicado que si llevaban cucharas de acuerdo a lo que se indicó de parte de los compañeros de salón a recepción.",null,null,"Luis Carlos Navarro","Servicio Cliente",null,null,25,"ROJA","Asignar Diego Cambronero",null,"SI","QUEJA","SI","SI","Calida Desayuno"]
[671,"2018-06-28","Huesped","514-515","C1","Habitación","Huésped bastante decepcionado y molesto ya que en su habitación no dejan de salir cucarachas principalmente del lado del mueble cerca del televisor, el muchacho se acercó a recepción indicando que está cansado de esto y que jamás pensó que el hotel fuera un cucarachero, se fumigó horas antes y debido a eso salen las cucarachas atontadas y esto molestó más al huésped. El dice que va estar 2 noches más en el hotel y que no esperaba vivir esto.","Revisar mueble cerca del televisor porque ahí es donde creé que hay un gran criadero de cucarachas.","Se comunica a mantenimiento y áreas públicas para la fumigación y revisión de la habitación en la parte donde el huésped indica están las cucarachas. ","Luis Carlos Navarro","Servicio Cliente",null,null,25,"ROJA","Asignar Jairo Garcia","PLAN DE FUMIGACIÓN COMPLETADO","SI","QUEJA","SI","SI","Plagas Habitaciones"]
[670,"2018-06-28","Huesped",105,"C1","Restaurante","Precios sumamente caros en las comidas, deberían poner un transporte a la fortuna donde se pueda ir y comer y que ofrezcan precios razonables",null,null,null,null,"Evaluacion Gen","2018--06-228",25,"ROJA","Asignar Diego Cambronero",null,"SI","QUEJA","2018-08-23","SI","Calidad comida"]
[669,"2018-06-28","Huesped",105,"C1","Habitación","Huéspedes se quejan que el servicio de internet no les funciona y aunque aparecen conectados no es posible usar el internet.",null,"Arnaldo procede a abrir la red ","Luis Carlos Navarro","Servicio Cliente",null,null,25,"ROJA","Asignar Arnaldo Moreira","REVISADO Y EN FUNCIONAMIENTO","SI","QUEJA","SI","SI","Wifi"]
[668,"2018-06-28","Huesped",801,"C1","Encuesta de satisfacción","Las instrucciones en alemán están mal redactadas y con mala ortografía también.","Editar y corregir el idioma para mejorar el servicio",null,null,null,"Evaluacion Gen","2018-06-219",25,"ROJA","Asignar Iván Ramírez",null,"SI","QUEJA","2018-07-19","NO","Encuentas de satisfacción"]
[667,"2018-06-24","Huesped",504,"C1","Habitación","El baño de la habitación expide un olor desagradable",null,null,null,null,"Evaluacion Gen","2018-06-221",25,"ROJA","Asignar Jairo Garcia",null,"SI","QUEJA","SI","SI","Habitaciones"]
[666,"2018-06-27","Huesped",301,"C1","Restaurante","Tener productos que sean organicos",null,null,null,null,"Evaluacion Gen","2018-06-223",25,"ROJA","Asignar Diego Cambronero","Incorporar la información de productos orgánicos en el nuevo menú.","SI","QUEJA","23/0/2018","SI","Calidad comida"]
[665,"2018-06-27","Huesped",301,"C1","Restaurante","Menú para niños",null,null,null,null,"Evaluacion Gen","2018-06-223",25,"ROJA","Asignar Diego Cambronero",null,"SI","QUEJA","2018-08-23","SI","Menú niños"]
[664,"2018-06-27","Huesped",602,"C1","Restaurante","El restaurante nacional debería de tener más decoración costarricense, más musica típica para el desayuno e instrumental para la noche",null,null,null,null,"Evaluacion Gen","2018-06-225",25,"ROJA","Asignar Mainor Castro","CSC - GERENCIA","SI","SUGERENCIA","NO","SI","Menú típico"]
[663,"2018-06-27","Huesped",515,"C1","Habitación","Cucarachas en la habitación ","Limpieza inmediata ","Se envió a mantenimiento y mucamas.","Maria Nela Sancho ","Recepción",null,null,25,"ROJA","Asignar Jairo Garcia","PLAN DE FUMIGACIÓN COMPLETADO","SI","QUEJA","SI","SI","Plagas Habitaciones"]
[662,"2018-06-25","Huesped",408,"C1","Restaurante","Más opciones en las comidas y mejorar servicio en el bar de psicinas.",null,null,null,null,"Evaluacion Gen","2018-06-199",25,"ROJA","Asignar Diego Cambronero",null,"SI","QUEJA","SI","SI","Servicio cliente restaurante "]
[661,"2018-06-25","Huesped",304,"C1","Habitación","Solo hay una mesa de noche y deberían haber dos para poner cosas.",null,null,null,null,"Evaluacion Gen","2018-06-203",25,"ROJA","Asignar Roberto Escoto",null,"SI","QUEJA","SI","SI","Habitaciones"]
[660,"2018-06-24","Huesped",304,"C1","Hotel","Alrededor del hotel deberían haber mas senderos o areas para ver aves y flores.",null,null,null,null,"Evaluacion Gen","2018-06-203",25,"Desestimada","FINCA",null,"NO","N/A","N/A","N/A","Desestimado"]
[659,"2018-04-24","Huesped",211,"C1","Restaurante","Es necesario tener mas opciones para personas diabéticas.",null,null,null,null,"Evaluacion Gen","2018-06-194",25,"Desestimada","Asignar Diego Cambronero",null,"SI","N/A","N/A","N/A","Desestimado"]
[658,"2018-06-24","Huesped",407,"C1","Habitación","El espejo con aumento en el baño esta muy alto.",null,null,null,null,"Evaluacion Gen","2018-06-185",25,"Desestimada","EL ESPEJO DE AUMENTO TIENE AJUSTE VERTICAL",null,"NO","N/A","N/A","N/A","Desestimado"]
[657,"2018-06-23","Huesped",705,"C1","Habitación","Sería bueno tener un espejo grande en la habitación fuera del baño",null,null,null,null,"Evaluacion Gen","2018-06-186",25,"Desestimada","Asignar Roberto Escoto",null,"NO","DESESTIMADA ","SI","SI","Habitaciones"]
[656,"2018-06-23","Huesped",111,"C1","Restaurante","El huésped menciona que el día miercoles 20 al ser las 9 de la mañana cuando fueron al desayuno, los muchachos del restaurante se veían más apurado por limpiar y terminar que por servir al huésped",null,null,null,null,"Evaluacion Gen","2018-06-193",25,"ROJA","Asignar Diego Cambronero",null,"SI","QUEJA","SI","SI","Servicio cliente restaurante "]
[655,"2018-06-22","Huesped",612,"C1","recepción ","Tienen muchos bichos en la habitación, ",null,null,null,null,null,null,25,"ROJA","Asignar Jairo Garcia","PLAN DE FUMIGACIÓN COMPLETADO","SI","QUEJA","SI","SI","Plagas Habitaciones"]
[654,"2018-06-22","Huesped","309-310","C1","Recepcion","Tienen muchas hormigas y bichos en la habitación. Es el segundo reporte durante la estadía. ","Solicita que revisen y pongan spray en la habitacion mientras ellos van para tour. ","Se envio a mantenimiento y ama de llaves a chequear la habitacion nuevamente para tratar de manternerle limpia y sin bichos la habitación al huesped. ","Deyvin Aguirre","Recepción",null,null,25,"ROJA","Asignar Jairo Garcia","PLAN DE FUMIGACIÓN COMPLETADO","SI","QUEJA","SI","SI","Plagas Habitaciones"]
[653,"2018-06-20","Huesped",502,"C1","Hotel","Huésped muy decepcionado del servicio de Internet que le ofrecemos, el mismo no puede utilizar un celular que usa para negocios ya que a pesar de que le sale conectado no es posible hacer uso del internet.","Eliminar poner una contraseña para así poder conectarse directo sin tener que esperar por una pagina o link que nunca le apareción en donde poder ingresar password.","Me dirigí a la hab a revisar la conexión y a resetear el celular pero nunca fue posible accesar al link donde se ingresa la contraseña. Se le tuvo que decir al señor que el problema era su teléfono lo cual fue vergonzoso ya que me indicó que en otros hoteles y paises no le había ocurrido eso y que su telefono era moderno.","Luis Carlos Navarro","Servicio Cliente",null,null,25,"ROJA","Asignar Arnaldo Moreira",null,"SI","QUEJA","SI","SI","Wifi"]
[652,"2018-06-20","Huesped",602,"C1","Gimnasio","Equipo del gym no funciona apropiadamente.",null,null,null,null,"Evaluacion Gen","2018--06-178",25,"ROJA","Asignar Jairo Garcia",null,"NO","QUEJA","SI","SI","Gimnasio"]
[651,"2018-06-19","Huesped",512,"C1","Habitación","El jacuzzi de la habitación no le funciona el agua termal",null,null,null,null,"Evaluacion Gen","2018-06-172",25,"ROJA","Asignar Greivin Arredondo","CSC - GREIVIN","SI","QUEJA","2018-08-09","SI","Rotulación Jacuzzi"]
[650,"2018-06-19","Huesped",103,"C1","Habitación","El basurero del servicio de la habitación debería tener tapa",null,null,null,null,"Evaluacion Gen","218-06-173",25,"ROJA","SE CAMBIARON BASUREROS",null,"NO","QUEJA","SI","NO","Habitaciones"]
[649,"2018-06-20","Huesped",104,"C1","Habitación","Sería bueno tener gavetas más amplias en el baño",null,null,null,null,"Evaluacion Gen","2018-06-174",25,"Desestimada",null,null,"NO","N/A","N/A","N/A","Desestimado"]
[648,"2018-06-20","Huesped",407,"C1","Habitación","Algunos insectos en la habitación",null,null,null,null,"Evaluacion Gen","2018-06-175",25,"ROJA","Asignar Jairo Garcia","PLAN DE FUMIGACIÓN COMPLETADO","SI","QUEJA","Si","SI","Plagas Habitaciones"]
[647,"2018-06-17","Huesped",603,"C1","Habitación","Muchas Hormigas en la habitación.",null,null,null,null,"Evaluacion Gen","2018--06-155",25,"ROJA","Asignar Jairo Garcia","PLAN DE FUMIGACIÓN COMPLETADO","SI","QUEJA","Si","SI","Plagas Habitaciones"]
[646,"2018-06-17","Huesped",403,"C1","Restaurante","Huésped se queja de que a la hora de reservar en el hotel acordó una cena romántica especial  cual le vendieron y prometieron y no se cumplió, el señor estaba bastante molesto porque pagó más de 100 dólares por la cena y el menú que le brindaron era el mismo menú que se le ofrece a todos los clientes, el señor argumenta que  no hay nada especial en lo que se le ofreció y lo que le molesta es que le hayan mentido, el mismo prefirió que se le reintegrara el dinero y que iba a pagar lo que consumiera como otro huésped más común y corriente. ",null,"Se procedió a reintegrar el dinero y se le dió cena de cortesía.","Luis Carlos Navarro","Servicio Cliente",null,null,25,"ROJA","Asignar Diego Cambronero",null,"SI","QUEJA","2018-08-23","SI","Calidad comida"]
[645,"2018-06-17","Huesped",503,"C1","Habitación","Huésped se queja que el internet le funciona en la hab 503 pero en la de la par no le sirve del todo lo cual le parece bastante extraño.",null,"Se coloca en los pendientes para que Arnaldo se encargue de probar la intensidad de la señal en ambas habitaciones.","Luis Carlos Navarro","Servicio Cliente",null,null,25,"ROJA","Asignar Arnaldo Moreira",null,"SI","QUEJA","SI","SI","Wifi"]
[644,"2018-06-17","Huesped","Grupo de la Mora","C1","Restaurante","A continuación hacemos de su conocimiento una situación que se presentó en el restaurante Ti-Cain durante la cena del “Grupo de La Mora”.\nAl ser las 9:20pm se aproximó a recepción  el encargado del Grupo de La Mora, el mismo nos preguntó si se encontraba Miguel Munera en el hotel, ya que deseaba externarle el malestar por la mala atención que recibieron a la hora de la cena, nos comenta que el servicio fue lento y que la comida simplemente no estuvo bien, también nos hace saber que la tour leader le pidió por favor para la cena de mañana buscar un restaurante en el centro en el cual les brinden un buen servicio rápido y oportuno.\n",null,"Se les ofrecio bebidas de cortesía a los adultos","Jean Pierre Brenes","Recepción",null,null,25,"ROJA","Asignar Diego Cambronero",null,"SI","SUGERENCIA","SI","SI","Calidad comida"]
[643,"2018-06-13","Huesped",607,"C1","Restaurante","\"Una cuchara pequeña que utilicé para endulzar mi café, no me di cuenta pero estaba sucia con huevo\" huésped nos recomienda entonces tener más cuidado con esto",null,null,null,null,"Evaluacion Gen","2018-06-135",25,"ROJA","Asignar Jairo Garcia","PLAN DE FUMIGACIÓN COMPLETADO","SI","QUEJA","Si","SI","Plagas Habitaciones"]
[642,"2018-06-13","Huesped",709,"C1","Habitación","El baño necesita mejor iluminación // Coordinar poner dos bombillos por lámpara",null,null,null,null,"Evaluacion Gen","2018-06-132",25,"ROJA","Asignar Roberto Escoto","PROBLEMA RESULTO","SI","QUEJA","SI","SI","Habitaciones"]
[641,"2018-06-16","Huesped",109,"C1","HAbitación","Hormigas en la habitacion",null,"Se envió a las mucamas a limpiar","Cesar Morales C.","Servicio Cliente",null,null,25,"ROJA","Asignar Jairo Garcia","PLAN DE FUMIGACIÓN COMPLETADO","SI","QUEJA","Si","SI","Plagas Habitaciones"]
[640,"2018-06-16","Huesped",504,"C1","Habitación","Huesped  se queja de hormigas en la habitación.",null,null,null,null,"Evaluacion Gen","2018-06-126",25,"ROJA","Asignar Jairo Garcia","PLAN DE FUMIGACIÓN COMPLETADO","SI","QUEJA","Si","SI","Plagas Habitaciones"]
[639,"2018-06-15","Huesped","111-112","C1","Habitación","Huesped  se queja de hormigas en la habitación.","Solicitó que se le cambiara de habitación.","Se en",null,null,null,null,25,"ROJA","Asignar Jairo Garcia","PLAN DE FUMIGACIÓN COMPLETADO","SI","QUEJA","Si","SI","Plagas Habitaciones"]
[638,"2018-06-14","Huesped",302,"C1","Habitación","Huesped se queja de hormigas en toda la habitación.","Solicitó que se le cambiara de ha bitación ","Se envió a la mucama a limpiar pero ella nos informa que la cantidad de hormigas es mucha, entonces se procede a cambiarlos a la habotación 304.","Maria Nela Sancho ","Recepción",null,null,25,"ROJA","Asignar Jairo Garcia","PLAN DE FUMIGACIÓN COMPLETADO","SI","QUEJA","SI","SI","Plagas Habitaciones"]
[637,"2018-06-13","Huesped",307,"C1","Habitación","Se queja de la altura de la cama ya que es de baja estatura y le fue muy dificil bajarse.",null,null,null,null,"Evaluacion Gen","2018--06-110",25,"ROJA","Asignar Gilberth Mejías","Don Minor decidió dejar las camas a la misma altura ","SI","QUEJA","SI","SI","Camas altas "]
[636,"2018-06-14","Huesped",902,"C1","Habitación","Huésped se queja que ellos nunca pusieron letrero de no molestar en la habitación, y que alguien lo hizo, lo cual esto provocó que no les hicieran la limpieza.",null,null,null,null,"Evaluacion Gen","2018--06-123",25,"Desestimada",null,null,"NO","N/A","N/A","N/A","Desestimado"]
[635,"2018-06-14","Huesped",303,"C1","Habitación","Huésped se queja que su teléfono no conecta a internet de ninguna manera.",null,"Se localiza a Arnaldo que se encontraba en el hotel y él mismo intenta ver cual es el problema sin embargo no pudo hayar la solución, le indicó al huésped que el problema era su celular. Yo le pedí al huésped acercarse a recepción para que probaramos la señal en el lobby y tratar de ver como concetaba, el huésped claramente necesita el internet por lo que agradeció la ayuda y quedó pendiente Arnaldo de investigar xq nos pasa esto en varios dispositivos ya.","Luis Carlos Navarro","Servicio Cliente",null,null,25,"ROJA","Asignar Arnaldo Moreira",null,"SI","QUEJA","SI","SI","Wifi"]
[634,"2018-06-11","Huesped",202,"C1","Restaurante","Promover una noche para bailar, o bien tener más buena música.",null,null,null,null,"Evaluacion Gen","2018-06-99",25,"VERDE","Asignar Mainor Castro","CSC - GERENCIA","SI","SUGERENCIA","NO","SI","Entretenimiento"]
[633,"2018-06-11","Huesped",202,"C1","Habitación","Más botellas de agua en la habitación sería un buen detalle",null,null,null,null,"Evaluacion Gen","2018-06-99",25,"Desestimada","ALTOS COSTOS",null,"NO","N/A","N/A","N/A","Desestimado"]
[632,"2018-06-11","Huesped",202,"C1","Habitación","Sería genial tener una silla en la habitación",null,null,null,null,"Evaluacion Gen","2018-06-99",25,"ROJA","Asignar Greivin Arredondo","CSC - GREIVIN","SI","QUEJA","2018-09-06","SI","Silla en habitación"]
[631,"2018-06-11","Huesped",202,"C1","Habitación","El shampoo podría ser mejor",null,null,null,null,"Evaluacion Gen","2018-06-99",25,"ROJA","Asignar Dariel Miranda",null,"SI","SUGERENCIA","2018-08-09","NO","Amenidades"]
[630,"2018-06-11","Huesped",null,null,"Restaurante","Más comida tradicional de Costa Rica en los menú, ya que cuando estuvimos hospedados solo estaba abierto el restaurante italiano y japones.",null,null,null,null,"Tripadvisor",null,25,"ROJA","Asignar Diego Cambronero",null,"SI","SUGERENCIA","2018-08-23","SI","Menú típico"]
[629,"2018-06-11","Huesped",403,"C1","Habitación","Huésped se queja de un ruido constante como un pito justo detrás de su habitación que no le permite dormir.",null,"Se revisa atrás de la habitación, la caja de las alarmas se encuentra con un \"Beep\" cada diez segundos, mantenimiento procede a desconectar las alarmas y los mismos indican que mañana se encargaran de reparar la avería.","Luis Carlos Navarro","Servicio Cliente",null,null,25,"ROJA","Asignar Jairo Garcia","PLAN DE FUMIGACIÓN COMPLETADO","SI","QUEJA","Si","SI","Alarmas "]
[628,"2018-06-11","Huesped",610,"C1","Habitación","Huéspedes se quejan de hormigas y cucarachas en la habitación.",null,"Se envía a la mucama con el veneno a revisar y eliminar los insectos.","Luis Carlos Navarro","Servicio Cliente",null,null,25,"ROJA","Asignar Jairo Garcia","PLAN DE FUMIGACIÓN COMPLETADO","SI","QUEJA","Si","SI","Plagas Habitaciones"]
[627,"2018-06-09","Huesped",510,"C1","Habitación","Al bañarse la segunda persona el agua era muy fria. El agua caliete solo dura dos minutos",null,null,null,null,null,null,25,"ROJA","Asignar Jairo Garcia","SE REVISÓ Y ESTÁ BIEN","SI","QUEJA","Si","SI","Agua caliente"]
[626,"2018-06-09","Huesped",510,"C1","Habitación","El wifi o es muy lento o no funciona en la habitación",null,null,null,null,"Evaluacion Gen","2018-06-74",25,"ROJA","Asignar Arnaldo Moreira",null,"SI","QUEJA","SI","SI","Wifi"]
[625,"2018-06-09","Huesped",509,"C1","Habitación","El agua caliente a veces no funciona bien.",null,null,null,null,"Evaluacion Gen","2018-06-73",25,"ROJA","Asignar Jairo Garcia","SE REVISÓ Y ESTÁ BIEN","SI","QUEJA","SI","SI","Agua caliente"]
[624,"2018-06-09","Huesped",509,"C1","Hotel","El wifi no funciona bien",null,null,null,null,"Evaluacion Gen","2018-06-73",25,"ROJA","Asignar Arnaldo Moreira",null,"SI","QUEJA","SI","SI","Wifi"]
[623,"2018-06-09","Huesped",312,"C1","Piscinas","El jacuzzi debería tener rotulos para saber donde se debe presionar para obtener las burbujas",null,null,null,null,"Evaluacion Gen","2018-06-69",25,"VERDE","Asignar Greivin Arredondo",null,"SI","SUGERENCIA","SI","NO","Rotulación Jacuzzi"]
[622,"2018-06-05","Huesped",712,"C1","Habitación","Unos cuantos insectos en la habitación",null,null,null,null,"Evaluacion Gen","2018-06-65",25,"ROJA","Asignar Jairo Garcia","PLAN DE FUMIGACIÓN COMPLETADO","SI","QUEJA","SI","SI","Plagas Habitaciones"]
[621,"2018-06-07","Huesped",610,"C1","Restaurante","Las porciones de comida no están acorde con el precio",null,null,null,null,"Evaluacion Gen","2018-06-62",25,"ROJA","Asignar Diego Cambronero",null,"SI","QUEJA","2018-08-19","SI","Calidad comida"]
[620,"2018-06-07","Huesped",705,"C1","Restaurante","Más opciones de comida vegetariana en el restaurante principal.",null,null,null,null,"Evaluacion Gen","2018--06-56",25,"ROJA","Asignar Diego Cambronero",null,"SI","SUGERENCIA","2018-08-23","SI","MENÚ VEGETARIANO"]
[619,"2018-06-08","Huesped",712,"C1","Habitación","El internet no funcionó bien, muy lento cuando pudimos recibir algo de señal.",null,null,null,null,"Evaluacion Gen","2018--06-57",25,"ROJA","Asignar Arnaldo Moreira",null,"SI","QUEJA","SI","SI","Wifi"]
[618,"2018-06-08","Huesped",712,"C1","Habitación","El refrigerador produce demasiado ruido",null,null,null,null,"Evaluacion Gen","2018--06-57",25,"ROJA","Asignar Dariel Miranda",null,"SI","QUEJA","2018-08-09","SI","Habitaciones"]
[617,"2018-06-07","Huesped","414-415","C1","Habitación","Cliente indica que no puede conectarse al Wifi, y luego cuando logró la conexion, la misma es muy debil y no le permite accesar correctamente. ",null,"Se llama a Arnaldo para que venga a revisar si hay algun problema con la red. ","Deyvin Aguirre","Recepción",null,null,25,"ROJA","Asignar Arnaldo Moreira",null,"SI","QUEJA","SI","SI","Wifi"]
[616,"2018-06-05","Huesped",305,"C1","Restaurante","Huésped se queja de los precios de los restaurantes, muy altos ",null,null,null,null,"Evaluacion Gen","2018--06-33",22,"ROJA","SE CONTRATARÁ A UNA ASESORA EXTERNA PARA TRATAR DE SOLUCIONAR ESTE PROBLEMA DE LOS RESTAURANTES","CSC - GREIVIN","SI","QUEJA","Si","SI","Calidad comida"]
[615,"2018-06-05","Huesped",305,"C1","Hotel","Huésped se queja que reservó 22 días antes y solicitó una hab para adulta mayor y cerca a todas las areas comunes, sin embargo no tuvo respuesta.",null,null,null,null,"Evaluacion Gen","2018--06-33",22,"ROJA","INDAGAR CON MIGUEL SOBRE ESTE CASO","CSC - IVAN","SI","QUEJA","Si","NO","Proceso de reservas"]
[614,"2018-06-02","Huesped",206,"C1","Restaurante","Huésped se queja de las limitadas opciones en las comidas del bar de la piscina, le gustaria como hamburguesas. Además se queja del mal servicio recibido especialmente en el Italiano.",null,null,null,null,"Evaluacion Gen","2018--06-32",22,"ROJA","SE CONTRATARÁ A UNA ASESORA EXTERNA PARA TRATAR DE SOLUCIONAR ESTE PROBLEMA DE LOS RESTAURANTES","CSC - GREIVIN","SI","QUEJA","Si","SI","Calidad comida"]
[613,"2018-06-05","Huesped",504,"C1","Habitación","Hubieramos podido usar los vasos, si estos estuviesen limpios.",null,null,null,null,"Evaluacion Gen","´2018-06--31",22,"ROJA","COMENTAR CON MELISSA","CSC - MELISSA","SI","QUEJA","Si","SI","Habitaciones"]
[612,"2018-06-05","Huesped",504,"C1","Habitación","Huesped se queja de hormigas en el area del baño.",null,null,null,null,"Evaluacion Gen","´2018-06--31",22,"ROJA",null,"CSC - JAIRO","SI","QUEJA","Si","SI","Plagas Habitaciones"]
[611,"2018-06-04","Huesped",111,"C1","habitación","Huesped se queja de hormigas dentro de la  habitación y fuera. ",null,"Se procede a echar spray y limpiar. ","Deyvin Aguirre","Recepción",null,null,22,"ROJA",null,"CSC - JAIRO","SI","QUEJA","Si","SI","Plagas Habitaciones"]
[610,"2018-06-04","Huesped",608,"C1","Habitación","NO hay silla en la habitación y es necesaria",null,null,null,null,"Evaluacion Gen","2018--06-24",22,"ROJA","SILLAS VIENEN EN CAMINO","CSC - GREIVIN","SI","QUEJA","Si","SI","Silla en habitación"]
[609,"2018-06-04","Huesped",605,"C1","Restaurante","Se quejan porque no hay coca cola zero ni tampoco menú para celiacos.",null,null,null,null,"Evaluacion Gen","2018--06-23",22,"ROJA","SE CONTRATARÁ A UNA ASESORA EXTERNA PARA TRATAR DE SOLUCIONAR ESTE PROBLEMA DE LOS RESTAURANTES","CSC - GREIVIN","SI","QUEJA","Si","SI","Calidad comida"]
[608,"2018-06-02","Huesped",309,"C1","Restaurante","Huésped se queja del restaurante Italiano el cual en ese momento se encontraba trabajando como el restaurante principal debido al cierre del Ti-Cain, se queja de que no hay en realidad opciones de comida costarricense, los precios muy altos en comparación con la cantidad y calidad de la comida.",null,null,null,null,"Evaluacion Gen","2018--06-19",22,"ROJA","SE CONTRATARÁ A UNA ASESORA EXTERNA PARA TRATAR DE SOLUCIONAR ESTE PROBLEMA DE LOS RESTAURANTES","CSC - GREIVIN","SI","QUEJA","Si","SI","Calidad comida"]
[607,"2018-06-03","Huesped",211,"C1","Restaurante","Probamos dos rollos de sushi y un sashimi y la calidad fue muy mala, el pescado no estaba fresco y la combinación de sabores no era la mejor, además la presentación de los rollos deficiente y la calidad del arroz no estaba al nivel de un restaurante aceptable de sushi. Y precios sumamente elevados en relación a la calidad.",null,null,null,null,"Evaluacion Gen","2018--06-18",22,"ROJA","SE CONTRATARÁ A UNA ASESORA EXTERNA PARA TRATAR DE SOLUCIONAR ESTE PROBLEMA DE LOS RESTAURANTES","CSC - GREIVIN","SI","QUEJA","Si","SI","Calidad comida"]
[606,"2018-05-31","Huesped",104,"C1","Habitación","Muchas hormigas pequeñas en el baño y el  teléfono no funcionaba.",null,null,null,null,"Evaluacion Gen","2018--06-15",22,"ROJA",null,"CSC - JAIRO","SI","QUEJA","Si","SI","Plagas Habitaciones"]
[605,"2018-06-03","Huesped",406,"C1","Hotel","Huésped indica que sería muy bueno tener sombrillas en la habitación.",null,null,null,null,"Evaluacion Gen","2018--06-14",22,"Desestimada","ELEVA COSTOS",null,"NO","SUGERENCIA","Si","N/A","Desestimado"]
[604,"2018-06-02","Huesped",108,"C1","Habitación","Hormigas en la habitación, hormigas en el coffee maker, hormigas en la cama.",null,null,null,null,"Evaluacion Gen","2018--06-13",22,"ROJA",null,"CSC - JAIRO","SI","QUEJA","Si","SI","Plagas Habitaciones"]
[603,"2018-06-03","Huesped",510,"C1","Bar Húmedo","Huésped comenta a modo de recomendación que los compañeros de los bares en la piscina, deberían utilizar siempre guantes al realizar las distintas labores que realizan ahí, dado que muchas veces se limpian las manos en sus camisas y por el tipo de camisas y el calor que se produce ahí, pasan sudando por lo que es anti higienico","Revisar la recomendación",null,"Cesar Morales C.","Servicio Cliente",null,null,22,"ROJA","COMENTAR CON DIEGO","CSC - DIEGO","SI","SUGERENCIA","Si","NO","Higiene en restaurante"]
[602,"2018-06-03","Huesped",103,"C1","Habitación","Huesped reporta que tiene cucarachas en la habitación en la noche. ","Revisar la habitación, y echar algo para que salgan y no molesten. ",null,"Deyvin Aguirre","Recepción",null,null,22,"ROJA",null,"CSC - JAIRO","SI","QUEJA","Si","SI","Plagas Habitaciones"]
[601,"2018-06-03","Huesped",107,"C1","habitacion ","Huesped reporta hormigas en la habitación. ","Spray y un poco de limpieza en la habitación . ",null,"Deyvin Aguirre","Recepción",null,null,22,"ROJA",null,"CSC - JAIRO","SI","QUEJA","Si","SI","Plagas Habitaciones"]
[600,"2018-06-02","Huesped",205,"C2","Habitación","Huésped reporta que tenía una pizza en la habitación, y que la compañera mucama al realizar la limpieza la tiró a la basura.","Que hablemos con la mucama para ver que sucedió y ver como las podemos compensar también.","Se habla con la compañera mucama, ella nos comenta que la botó porque la misma tenía hormigas y que por eso la tiró a la basura. Se les da como cortesía otra pizza","Cesar Morales C.","Servicio Cliente",null,null,22,"Desestimada","MANTENER COMIDA DENTRO DE LA HABITACIÓN PROPICIA TENER INSECTOS, LA MUCAMA TRATA DE MANTENER ESTE OBJETIVO",null,"NO","QUEJA","Si","NO","Desestimado"]
[599,"2018-05-31","Huesped",601,"C1","Hotel","El hotel debería de tener un area designada para juegos de mesa con sillas y mesas para juegos mientras llueve.",null,null,null,null,null,null,22,"ROJA","COMENTAR CON GERENCIA","CSC - GERENCIA","SI","SUGERENCIA","Si","SI","Sala de juegos"]
[598,"2018-05-30","Huesped",505,"C1","Hotel","La señal de Internet es mala y débil especialmente en las habitaciones.",null,null,null,null,null,null,22,"ROJA","COMENTAR A ARNALDO","CSC - LIZ","SI","QUEJA","Si","SI","Wifi"]
[597,"2018-05-31","Huesped",310,"C1","Hotel","En la noche debería haber alguna actividad nocturna de entretenimiento.",null,null,null,null,null,null,22,"Desestimada","VA EN CONTRA DEL CONCEPTO FAMILIAR DEL HOTEL",null,"NO","SUGERENCIA","Si","N/A","Desestimado"]
[596,"2018-05-31","Huesped",111,"C1","Hotel","No hay paraguas en la habitación.",null,null,null,null,null,null,22,"Desestimada","ELEVA COSTOS",null,"NO","SUGERENCIA","Si","N/A","Desestimado"]
[595,"2018-05-31","Huesped",305,"C1","Restaurante","No hay opciones en el desayuno libres de glutten y el restaurante Italiano muy bajo en servicio.",null,null,null,null,null,null,22,"Desestimada","NO SE VA A ASUMIR RESPONSABILIDAD DE CELIACOS",null,"NO","SUGERENCIA","Si","N/A","Desestimado"]
[594,"2018-05-31","Huesped",506,"C1","Habitación","Una silla en la habitación es necesaria",null,null,null,null,null,null,22,"ROJA","SILLAS VIENEN EN CAMINO","CSC - GREIVIN","SI","QUEJA","Si","SI","Silla en habitación"]
[593,"2018-05-31","Huesped",506,"C1","Restaurante","Pan fresco todas las mañanas.",null,null,null,null,null,null,22,"ROJA",null,"CSC - DIEGO","SI","QUEJA","Si","SI","Calida Desayuno"]
[592,"2018-05-30","Huesped",null,null,"Restaurante","Menú limitado en el Italiano",null,null,null,null,"Tripadvisor",null,21,"ROJA","SE CONTRATARÁ A UNA ASESORA EXTERNA PARA TRATAR DE SOLUCIONAR ESTE PROBLEMA DE LOS RESTAURANTES","CSC - GREIVIN","SI","QUEJA","Si","SI","Calidad comida"]
[591,"2018-05-30","Huesped",303,"C1","Hotel","Huespedes se quejan que ante el mal clima y que desde las 2:30pm comenzó a llover el hotel debería tener alguna opcion de entretenimiento como sala de peliculas, bingo, karaoke, juegos de trivia ya que es aburrido estar en la habitación encerrados.",null,null,null,null,null,null,21,"ROJA","COMENTAR CON GERENCIA","CSC - GERENCIA","SI","SUGERENCIA","Si","SI","Sala de juegos"]
[590,"2018-05-30","Huesped",309,"C1","Habitación","Hormigas e insectos en la habitción.",null,null,null,null,null,null,21,"ROJA","COMENTAR CON JAIRO","CSC - JAIRO","SI","QUEJA","Si","SI","Plagas Habitaciones"]
[589,"2018-05-30","Huesped",104,"C1","Restaurantes","Reduzcan los precios de los los bares y restaurantes porque son muy elevados.",null,null,null,null,null,null,21,"ROJA","SE CONTRATARÁ A UNA ASESORA EXTERNA PARA TRATAR DE SOLUCIONAR ESTE PROBLEMA DE LOS RESTAURANTES","CSC - GREIVIN","SI","QUEJA","Si","SI","Calidad comida"]
[588,"2018-05-30","Huesped",709,"C1","Habitación","Una silla en la habitación para ponerse zapatos y pantalon, la cama es muy alta.",null,null,null,null,null,null,21,"ROJA","SILLAS VIENEN EN CAMINO","CSC - GREIVIN","SI","QUEJA","Si","SI","Silla en habitación"]
[587,"2018-05-29","Huesped",515,"C1","Restaurante","Huésped comenta que dos veces han solicitado room service y al entregarlo no les llevan platos ni cubertería.",null,null,"Cesar Morales C.","Servicio Cliente",null,null,21,"ROJA","COMENTAR CON DIEGO","CSC - DIEGO","SI","QUEJA","Si","NO","Room service"]
[586,"2018-05-28","Huesped",410,null,"Gym","Sería bueno tener una banca en el gimnasio para poder hacer las pesas",null,null,null,null,null,null,21,"Desestimada","LAS MAQUINAS OFRECEN UNA ESTACIÓN PARA ALZAR PESAS",null,null,"SUGERENCIA","Si","N/A","Desestimado"]
[585,"2018-05-28","Huesped",410,null,"Yoga","Yoga sería mejor si las clases fueran avanzadas",null,null,null,null,null,null,21,"Desestimada","SE ESTABLECIÓ CLASES BÁSICAS PARA QUE TODOS LOS CLIENTES PUEDAN APROVECHAR LAS SESIONES",null,null,"SUGERENCIA","Si","N/A","Desestimado"]
[584,"2018-05-26","Huesped",null,null,"Restaurante","Menu limitado especialmente si el restaurante principal está cerrado,  no hay variedad de comida costarricense.",null,null,null,null,"Tripadvisor",null,21,"ROJA","SE CONTRATARÁ A UNA ASESORA EXTERNA PARA TRATAR DE SOLUCIONAR ESTE PROBLEMA DE LOS RESTAURANTES","CSC - GREIVIN","SI","QUEJA","Si","SI","Calidad comida"]
[583,"2018-05-23","Huesped",null,null,"Restaurante","Opciones limitadas en los restaurantes.",null,null,null,null,"Tripadvisor",null,21,"ROJA","SE CONTRATARÁ A UNA ASESORA EXTERNA PARA TRATAR DE SOLUCIONAR ESTE PROBLEMA DE LOS RESTAURANTES","CSC - GREIVIN","SI","QUEJA","Si","SI","Calidad comida"]
[582,"2018-05-23","Huesped",null,null,"Restaurante","Comidas limitadas y menú de ensaladas no es amplio.",null,null,null,null,"Tripadvisor",null,21,"ROJA","SE CONTRATARÁ A UNA ASESORA EXTERNA PARA TRATAR DE SOLUCIONAR ESTE PROBLEMA DE LOS RESTAURANTES","CSC - GREIVIN","SI","QUEJA","Si","SI","Calidad comida"]
[581,"2018-05-22","Huesped",null,null,"Habitación","Habitación pequeña y con pequeños insectos , las paredes son delgadas y se escucha todo además durante la noche había un ruido extraño en el techo que interrumpía el sueño.",null,null,null,null,"Tripadvisor",null,21,"ROJA","VALIDAR CON MELISSA Y JAIRO QUÉ HABITACIONES TIENEN RUIDO","CSC - MELISSA","SI","QUEJA","Si","SI","Ruido habitación"]
[580,"2018-05-22","Huesped",null,null,"Restaurante","Precios increiblemente elevados ",null,null,null,null,"Tripadvisor",null,21,"ROJA","SE CONTRATARÁ A UNA ASESORA EXTERNA PARA TRATAR DE SOLUCIONAR ESTE PROBLEMA DE LOS RESTAURANTES","CSC - GREIVIN","SI","QUEJA","Si","SI","Calidad comida"]
[579,"2018-05-14","Huesped",null,null,"Restaurante","Precio elevado de los restaurantes",null,null,null,null,"Tripadvisor",null,21,"ROJA","SE CONTRATARÁ A UNA ASESORA EXTERNA PARA TRATAR DE SOLUCIONAR ESTE PROBLEMA DE LOS RESTAURANTES","CSC - GREIVIN","SI","QUEJA","Si","SI","Calidad comida"]
[578,"2018-05-14","Huesped",null,null,"Restaurante","El desayuno puede mejorar, Costa Rica tiene muchas frutas y deberían incluirse en el desayuno ya que solamente había piña y banano como únicas opciones.",null,null,null,null,"Tripadvisor",null,21,"ROJA","SE CONTRATARÁ A UNA ASESORA EXTERNA PARA TRATAR DE SOLUCIONAR ESTE PROBLEMA DE LOS RESTAURANTES","CSC - GREIVIN","SI","QUEJA","Si","SI","Calidad comida"]
[577,"2018-05-12","Huesped",null,null,"Restaurante","Variedad de opciones en el desayuno no es muy amplia.",null,null,null,null,"Tripadvisor",null,21,"ROJA","SE CONTRATARÁ A UNA ASESORA EXTERNA PARA TRATAR DE SOLUCIONAR ESTE PROBLEMA DE LOS RESTAURANTES","CSC - GREIVIN","SI","QUEJA","Si","SI","Calidad comida"]
[576,"2018-05-09","Huesped",null,null,"Restaurante","El costo de las bebidas de los bares y las cmoidas en restaurantes es elevado.",null,null,null,null,"Tripadvisor",null,21,"ROJA","SE CONTRATARÁ A UNA ASESORA EXTERNA PARA TRATAR DE SOLUCIONAR ESTE PROBLEMA DE LOS RESTAURANTES","CSC - GREIVIN","SI","QUEJA","Si","SI","Calidad comida"]
[575,"2018-05-08","Huesped",null,null,"Restaurante","Los precios de los restaurantes son un poco caros.",null,null,null,null,"Tripadvisor",null,21,"ROJA","SE CONTRATARÁ A UNA ASESORA EXTERNA PARA TRATAR DE SOLUCIONAR ESTE PROBLEMA DE LOS RESTAURANTES","CSC - GREIVIN","SI","QUEJA","Si","SI","Calidad comida"]
[574,"2018-05-08","Huesped",null,null,"Habitación","El ventilador no se puede apagar a menos que se desactive la electricidad de toda la habitación.",null,null,null,null,"Tripadvisor",null,21,"ROJA","ETIQUETAR LOS APAGADORES","CSC - GREIVIN","SI","QUEJA","Si","NO","Etiquetas en apagadores"]
[573,"2018-05-08","Huesped",null,null,"Hotel","El hotel es bueno excepto por la comida (de regular a mediocre) y algunos empleados, como por ejemplo la persona en recepción que no quiso cambiar dólares. ",null,null,null,null,"Tripadvisor",null,21,"ROJA","SE CONTRATARÁ A UNA ASESORA EXTERNA PARA TRATAR DE SOLUCIONAR ESTE PROBLEMA DE LOS RESTAURANTES","CSC - GREIVIN","SI","QUEJA","Si","SI","Calidad comida"]
[572,"2018-05-08","Huesped",null,null,"Hotel","Comida y servicios no se comparan con precio, esperaba más para el dinero que cuesta el hospedaje.",null,null,null,null,"Tripadvisor",null,21,"ROJA","SE CONTRATARÁ A UNA ASESORA EXTERNA PARA TRATAR DE SOLUCIONAR ESTE PROBLEMA DE LOS RESTAURANTES","CSC - GREIVIN","SI","QUEJA","Si","SI","Calidad comida"]
[571,"2018-05-07","Huesped",null,null,"Restaurante","Opciones en las comidas de los restaurantes son muy limitadas.",null,null,null,null,"Tripadvisor",null,21,"ROJA","SE CONTRATARÁ A UNA ASESORA EXTERNA PARA TRATAR DE SOLUCIONAR ESTE PROBLEMA DE LOS RESTAURANTES","CSC - GREIVIN","SI","QUEJA","Si","SI","Calidad comida"]
[570,"2018-05-07","Huesped",null,null,"Piscinas","Limitadas y pequeñas areas de piscina",null,null,null,null,"Tripadvisor",null,21,"Desestimada","NO ES UN CONCEPTO DE BALNEARIO",null,"NO","SUGERENCIA","Si","N/A","Piscinas "]
[569,"2018-05-07","Huesped",null,null,"Restaurante","Los alimentos no son de buena calidad y muy básicos, el desayuno es muy rutinario y es necesario tener mas variedad de opciones.  Además el precio no se compara con el servicio y calidad.",null,null,null,null,"Tripadvisor",null,21,"ROJA","SE CONTRATARÁ A UNA ASESORA EXTERNA PARA TRATAR DE SOLUCIONAR ESTE PROBLEMA DE LOS RESTAURANTES","CSC - GREIVIN","SI","QUEJA","Si","SI","Calidad comida"]
[568,"2018-05-03","Huesped",null,null,"Restaurantes","Opciones de almuerzo y cena muy limitadas",null,null,null,null,"Tripadvisor",null,21,"ROJA","SE CONTRATARÁ A UNA ASESORA EXTERNA PARA TRATAR DE SOLUCIONAR ESTE PROBLEMA DE LOS RESTAURANTES","CSC - GREIVIN","SI","QUEJA","Si","SI","Calidad comida"]
[567,"2018-05-26","Huesped",504,"C1","Habitación","Hab necesita mejor luz",null,null,null,null,null,null,21,"ROJA","YA VIENEN LAS LÁMPARAS","CSC - GREIVIN","SI","QUEJA","Si","SI","Iluminación hab closet"]
[566,"2018-05-26","Huesped",504,"C1","Restaurante","Muy mala experiencia en el restaurante con un salonero, el cual no fue atento, con un mal servicio.",null,null,null,null,"Evaluacion Gen","2018-05-263",21,"ROJA","COMENTAR CON DIEGO","CSC - DIEGO","SI","QUEJA","Si","SI","Servicio cliente restaurante "]
[565,"2018-05-27","Huesped",512,"C1","Restaurante","No hay carne en el desayuno, la variedad de la comida es limitada, y el tamaño de las sopas no es el ideal",null,null,null,null,"Evaluacion Gen","2018-05-262",21,"ROJA","SE CONTRATARÁ A UNA ASESORA EXTERNA PARA TRATAR DE SOLUCIONAR ESTE PROBLEMA DE LOS RESTAURANTES","CSC - GREIVIN","SI","QUEJA","Si","SI","Calidad comida"]
[564,"2018-05-27","Huesped",903,"C1","Restaurante","necesitamos mejor comida en los restaurantes",null,null,null,null,"Evaluacion Gen","2018-05-258",21,"ROJA","SE CONTRATARÁ A UNA ASESORA EXTERNA PARA TRATAR DE SOLUCIONAR ESTE PROBLEMA DE LOS RESTAURANTES","CSC - GREIVIN","SI","QUEJA","Si","SI","Calidad comida"]
[563,"2018-05-26","Huesped",205,"C1","Restaurante","Huespedes se quejan de la poca variedad en las comidas ",null,null,null,null,"Evaluacion Gen","2018-05-248",21,"ROJA","SE CONTRATARÁ A UNA ASESORA EXTERNA PARA TRATAR DE SOLUCIONAR ESTE PROBLEMA DE LOS RESTAURANTES","CSC - GREIVIN","SI","QUEJA","Si","SI","Calidad comida"]
[562,"2018-05-26","Colaborador",404,null,"Habitación","Él botones llega a la habitación a dejar el check in y encuentran una cerveza por la mitad en la refri ","Checquear bien las habitaciones ",null,"Liz Aguilar U.","Super Visora Recep",null,null,21,"ROJA","COMENTAR CON EL EQUIPO DE AMA DE LLAVES","CSC - MELISSA","SI","QUEJA","Si","SI","Habitaciones"]
[561,"2018-05-26","Huesped",306,"C1","Habitación","huespedes nos informan de foma traquila que la alarma los despertó la noche anterior mas no se encontraban molestos al respecto ",null,"nos disculpamos debidamente con ellos mas no mostraron molestia alguna, la unica solución solicitada fue que trataramos que no ocurra de nuevo","Fernando Sandoval","Recepción",null,null,21,"ROJA","El 28/05 LAS PERSONAS DE INSOTEK REALIZARON CAMBIOS EN LA CONFIGURACIÓN",null,"NO","QUEJA","Si","SI","Alarmas "]
[560,"2018-05-26","Huesped","207-208","c3","Habitación","huespedes se apersonaron muy molestos al area de recepción para quejarse por que no pudieron dormir debido a que la alarma de incendios se activó la noche anterior, se activó a las 2am y de nuevo 5am, no dieron chance a ninguna solución mas que hablar con el gerente. ",null,null,"Fernando Sandoval","Recepción",null,null,21,"ROJA","El 28/05 LAS PERSONAS DE INSOTEK REALIZARON CAMBIOS EN LA CONFIGURACIÓN",null,"NO","QUEJA","Si","SI","Alarmas "]
[559,"2018-05-26","Huesped",206,"c3","Habitación","huespedes se apersonaron muy molestos al area de recepción para quejarse por que no pudieron dormir debido a que la alarma de incendios se activó la noche anterior, se activó a las 2am y de nuevo 5am, no dieron chance a ninguna solución mas que hablar con el gerente. ",null,"se ofrecieron las disculpas debidas y se les dijo que el encargado hablaria con ellos (en este caso César de Guest service) él les ofreció una cena de cortesia a lo que los huespedes se mostraron agradecidos y contentos.","Fernando Sandoval","Recepción",null,null,21,"ROJA","El 28/05 LAS PERSONAS DE INSOTEK REALIZARON CAMBIOS EN LA CONFIGURACIÓN",null,"NO","QUEJA","Si","SI","Servicio cliente botones"]
[558,"2018-05-25","Huesped",null,"C1","Botones","La huésped comenta que al haber pedido algo en el sushi cuando se lo entregaron el botones no fue amable.",null,null,null,null,"Evaluacion Gen","2018-05-245",21,"ROJA","COMENTAR CON LIZ","CSC - LIZ","SI","QUEJA","Si","SI","Servicio cliente botones"]
[557,"2018-05-25","Huesped",null,"C1","Restaurante","La relación precio calidad de los restaurantes es mala, como ejemplo dice que la ultima noche pidió comida en el sushi bar y esto fue según ella una desgracia.",null,null,null,null,"Evaluacion Gen","2018-05-245",21,"ROJA","COMENTAR CON DIEGO","CSC - DIEGO","SI","QUEJA","Si","SI","Calidad Sushi"]
[556,"2018-05-25","Huesped",null,"C1","Habitación","Huésped recomienda que se deberia cambiar el nombre de las habitaciones, ya que según su opinión el nombre Junior Suite no va con las características que tienen nuestras habitaciones, de hecho comenta que la habitación le pareció estupenda y da como ejemplo de nombre Premium",null,null,null,null,"Evaluacion Gen","2018-05-245",21,"Desestimada",null,null,"NO","SUGERENCIA","Si","NO","Desestimado"]
[555,"2018-05-25","Huesped",901,"C1","Habitación","Huésped reporta que encontró muchos insectos  incluyendo 2 cucarachas .",null,null,null,null,"Evaluacion Gen","2018-05-244",21,"ROJA","HABITACIONES YA FUERON FUMIGADAS","CSC - JAIRO","NO","QUEJA","Si","SI","Plagas Habitaciones"]
[554,"2018-05-25","Huesped",210,"C1","Restaurante","Restaurantes muy caros, mejor si hubiera mas comida tipica y con precios mas bajos.",null,null,null,null,"Evaluacion Gen","2018-05-242",21,"ROJA","SE CONTRATARÁ A UNA ASESORA EXTERNA PARA TRATAR DE SOLUCIONAR ESTE PROBLEMA DE LOS RESTAURANTES","CSC - GREIVIN","SI","QUEJA","Si","SI","Calidad comida"]
[553,"2018-05-25","Huesped",null,null,"Lockers ","aL ser las 11:30am el encargado de lockers Javier reporta que el area del gimnasio, lockers y hamacas  presenta un acceso complicado debido a que los compañeros de restaurantes estaban lavando el piso del Ti Cain, la caída de jabón y agua era constante impidiendo el acceso de una cosiderable cantidad de huespedes presentes en las piscinas, era complicado entrar por el área principal de lockers. El jabón estaba en las aceras lo cuál pudo provocar que algun huesped sufriera una caída. ",null,"Mientras se fue a chequear se le pidió disculpas a dos huéspedes y se les orientó para ingresar por el lado del consultorio donde no había agua y jabón cayendo de la parte de arriba.","Luis Carlos Navarro","Servicio Cliente",null,null,21,"ROJA","SE DEBE DE COMUNICA CUALQUIER ACCION QUE ALTERE LA OPERACIÓN DE OTRAS ÁREAS","CSC - DIEGO","NO","QUEJA","Si","NO","Falta de comunicación"]
[552,"2018-05-25","Huesped",304,"C1","Habitación","Huéspedes se quejan del tamaño de la habitación e indican que es muy ajustada para 3 o 4 personas, además dicen que se ocupan 2 sanitarios y 2 lavatorios especialmente cuando hay 4 personas en la misma habitación.","2 lavatorios por habitación.",null,null,null,"Evaluacion Gen","2018-05-239",21,"Desestimada","EXISTEN CATEGORIAS DE HABITACIONES QUE SUPLEN ESTA NECESIDAD",null,"NO","SUGERENCIA","Si","N/A","Desestimado"]
[551,"2018-05-24","Huesped",411,"C1","Hotel","Huesped indica que el hotel debería tener un poco de baile por la tarde o noche, como un salón de baile con algún entretenimiento.",null,null,null,null,"Evaluacion Gen","2018-05-233",21,"Desestimada","VA EN CONTRA DEL CONCEPTO FAMILIAR DEL HOTEL",null,"NO","SUGERENCIA","Si","N/A","Desestimado"]
[550,"2018-05-22","Huesped",112,"C1","Habitación","\"El único problema fue que habían pequeños ciempies en el baño\"",null,null,null,null,"Evaluacion Gen","2018-05-220",20,"ROJA","FUMIGAR","CSC-JAIRO","SI ","QUEJA","Si","SI","Plagas Habitaciones"]
[549,"2018-05-22","Huesped",507,"C2","Habitación","La huésped se mostró muy molesta poe que no tenia un maletero extra , el cual había solicitado varias veces.","Entregaramos el maletero","Se entregó el maletero y además se le proporcionó dos bebidas de cortesía.","Cesar Morales C.","Servicio Cliente",null,null,20,"ROJA","REVISAR QUIEN ERA EL ANFITRIÓN / NO SE ENCONTRÓ EVIDENCIA QUE SUSTENTARA ESTA AFIRMACIÓN","CSC-LIZ","NO","QUEJA","Si","SI","Plagas Habitaciones"]
[548,"2018-05-21","Huesped",609,"C1","Restaurante","Huéspedes de Caravan les salió una cucaracha de la mesa mientras se encontraban comiendo.",null,"Se les cambió de mesa y se pidieron las disculpas del caso.","Luis Carlos Navarro","Servicio Cliente",null,null,20,"ROJA","YA SE FUMIGÓ","CSC-JAIRO","SI ","QUEJA","Si","SI","Plagas Habitaciones"]
[547,"2018-05-21","Huesped",207,"C1","Hotel","Huéspedes se quejan porque no es permitido ingresar invitados o amigos de otros hoteles, indican que parece un hospital o una carcel.",null,null,null,null,"Evaluacion Gen","2018--05-210",20,"ROJA","Elaborar rotulos informando la restricción","CSC-DARIEL","NO","QUEJA","Si","SI","Vistas de huespedes"]
[546,"2018-05-21","Huesped",207,"C1","Hotel","Huéspedes se quejan de los brazaletes, solicitan que se eliminen ya que eso es barato y se ve mal.",null,null,null,null,"Evaluacion Gen","2018--05-210",20,"ROJA","BUSCAR LA POSIBILIDAD","CSC - GERENCIA","SI ","QUEJA","Si","SI","Brazaletes"]
[545,"2018-05-21","Huesped",207,"C1","Piscinas","Mejores camas de bronceado y más sombra en el area de piscinas.",null,null,null,null,"Evaluacion Gen","2018--05-210",20,"ROJA","COMENTAR LA NECESIDAD LA NECESIDAD CON DON Minor ","CSC-GERENCIA ","SI ","QUEJA","Si","SI","Piscinas "]
[544,"2018-05-21","Huesped",207,"C1","Habitación","Se quejan de que no hay espejo en la habitación.",null,null,null,null,"Evaluacion Gen","2018--05-210",20,"Amarilla","MELISSA VA A REVISAR / SI EXISTE EL ESPEJO","CSC-MELISSA ","NO","QUEJA","Si","SI","Habitaciones"]
[543,"2018-05-21","Huesped",601,"C1","Habitación","Huéspedes se quejan de que el baño huele a cigarro como si hubieran fumado, además se queja que el agua caliente es muy caliente y es peligrosa.",null,null,null,null,"Evaluacion Gen","2018--05-206",20,"ROJA","PONER LAS SEÑALIZACIÓN EN LA DUCHA","CSC-JAIRO","SI ","QUEJA","Si","SI","Habitaciones"]
[542,"2018-05-21","Huesped",204,null,"Habitación","Cuando el botones está entregando la hab al check-in, encuentra en el mini bar una botellita pequeña de vino rosa a la mitad posiblemente de los huéspedes anteriores.",null,"Se retira la botella en el momento.","Luis Carlos Navarro","Servicio Cliente",null,null,20,"ROJA","IMPLEMENTACIÓN DE CHECK LIST HABITACIONES","CSC-LIZ","NO","QUEJA","Si","SI","Habitaciones"]
[541,"2018-05-20","Colaborador",509,null,"Habitación","Cuando el botones está entregando la habitación al check in, encuantra en la refri un a botella grade metálica de los clientes que estuvieron anteriormente ahí ",null,"Se retira la botella","Liz Aguilar U.","Super Visora Recep",null,null,20,"ROJA","IMPLEMENTACIÓN DE CHECK LIST HABITACIONES","CSC-LIZ","NO","QUEJA","Si","SI","Habitaciones"]
[540,"2018-05-20","Huesped",903,"C1","Restaurante","Huéspedes se quejan porque no hay ventiladores en los restaurantes y porque no hay gran variedad de opciones.",null,null,null,null,"Evaluacion Gen","2018--05-198",20,"ROJA","DIEGO VA A INVESTIGAR","CSC-DIEGO","SI ","QUEJA","Si","SI","Restaurante"]
[539,"2018-05-20","Huesped",604,"C1","Piscina","Huésped reporta que encontró un raton muerto en la parte alta de las termales.",null,"Pedir disculpas por el incidente y revisar el area reportada","Cesar Morales C.","Servicio Cliente",null,null,20,"Desestimada","MUY DIFICIL CONTROLAR UN AREA ABIERTA",null,"NO","QUEJA","Si","NO","Plagas Habitaciones"]
[538,"2018-05-20","Huesped",604,"C1","Restaurante","Huésped reporta que durante el desayuno una cucaracha apareción en su mesa.",null,"Pedir disculpas por el incidente y revisar el area","Cesar Morales C.","Servicio Cliente",null,null,20,"ROJA","FUMIGAR","CSC-JAIRO","SI ","QUEJA","Si","SI","Plagas Habitaciones"]
[537,"2018-05-19","Huesped",207,"C2","Hotel ","Cliente está molesta por que quiere traer amigos a cenar con ella y las políticas del hotel no lo permiten y tampoco hay información sobre esto en ningún lado ","Que se agregue  la informción de la restricción  en la página y en el hotel ","Se le permitió ingresar las visitas ","Liz Aguilar U.","Super Visora Recep",null,null,20,"ROJA","Elaborar rotulos informando la restricción","CSC-DARIEL","NO","QUEJA","Si","NO","Vistas de huespedes"]
[536,"2018-05-18","Huesped",408,"C1","Piscinas","Necesidad de mas sombras en el area de piscinas",null,null,null,null,"Evaluacion Gen","2018-05-182",20,"ROJA","COMENTAR LA NECESIDAD LA NECESIDAD CON DON Minor ","CSC-GERENCIA ","SI ","QUEJA ","Si","SI","Piscinas "]
[535,"2018-05-18","Huesped",405,"C1","Restaurante","Vino muy caro en comparación con otros hoteles en los que hemos estado en costa rica",null,null,null,null,"Evaluacion Gen","2018-05-181",20,"ROJA","DIEGO VA A INVESTIGAR","CSC-DIEGO","SI ","QUEJA","Si","SI","Cockteles bares"]
[534,"2018-05-17","Huesped",308,"C1","Habitación","Paraguas en la habitación",null,null,null,null,"Evaluacion Gen","2018-05-175",20,"Desestimada","SUBE COSTOS ",null,null,null,"Si",null,"N/A"]
[533,"2018-05-18","Huesped",203,"C1","Restaurante","En el bar las bebidas no siempre son servidas de igual forma, una vez nos dieron el coctel tipo frozen y otra a las rocas",null,null,null,null,"Evaluacion Gen","2018-05-173",20,"ROJA","DIEGO VA A INVESTIGAR","CSC-DIEGO",null,"QUEJA","Si",null,"Cockteles bares"]
[532,"2018-05-17","Huesped",202,"C1","Restaurante","Sería delicioso poder tener aguacate en el desayuno",null,null,null,null,"Evaluacion Gen","2018-05-164",20,"Desestimada","SUBE COSTOS",null,null,"SUGERENCIA ","Si",null,"Calida Desayuno"]
[531,"2018-05-09","Huesped",304,"C1","Habitación","No habia lugar en el armario, solo los percheros",null,null,null,null,"Evaluacion Gen","2018-05-88",null,"Desestimada","NO HAY ESPACIO PARA AMPLIAR ROPEROS",null,null,"SUGERENCIA","Si","SI","N/A"]
[530,"2018-05-05","Huesped",304,"C1","Habitación","Huespedes se quejan de la falta de gavetas para la ropa.",null,null,null,null,"Evaluacion Gen","2018--05-18",null,"Desestimada","NO ESOOACIO PARA MAS GAVETAS ",null,null,"SUEGERENCIA ","Si",null,"Habitaciones"]
[529,"2018-05-04","Huesped",606,"C1","Restaurante","Se quejan del estaurante italiano e indican que debería cambiarse y tener un restaurante de mariscos.",null,null,null,null,"Evaluacion Gen","2018--05-23",null,"Desestimada","NO HAY POSIBILIDAD DE OTRO REST",null,null,"SUGERENCIA ","Si",null,"Calidad comida"]
[528,"2018-05-04","Huesped",null,"Tipo de ciente ( C1, C2, C3)",null,null,null,"Acción Inmediata ","Nombre",null,"Evaluacion Gen","Código de evaluación ",null,"Desestimada",null,null,null,null,"Si",null,"N/A"]
[527,"2018-05-17","Huesped",212,"C1","Habitación","Huesped se queja de la presencia de hormigas en la habitación, se encuentra disgustada y quiere que le eliminen los insectos.",null,"Se verifica con ama de llaves y se procede a colocar el veneno.","Luis Carlos Navarro","Servicio Cliente",null,null,19,"ROJA","PROGRAMAR PLAN DE FUMIGACIÓN ","CSC - JAIRO","SI","QUEJA","Si","SI","Plagas Habitaciones"]
[526,"2018-05-17","Huesped",201,"C1","Habitación","Huespedes se quejan de ruidos en el techo durante toda la noche, indican que son animales y que provocan mucho ruido.",null,"Se cambian de habitación a la 104 y se les ofrece disculpas.","Luis Carlos Navarro","Servicio Cliente",null,null,19,"ROJA","VALIDAR LO QUE DICE EL CLIENTE","CSC - JAIRO","SI","QUEJA","Si","SI","Ruido habitación"]
[525,"2018-05-15","Huesped",403,"C1","Hotel","Se podría tener una maquina de hielo más cerca a la habitacion",null,null,null,null,"Evaluacion Gen","2018-05-152",19,"VERDE","VALORAR LA POSIBILIDAD DE PONER UNA MÁQUINA DE HIELO","CSC - GERENCIA","SI","SUGERENCIA","Si","NO","Maquina de hielo"]
[524,"2018-05-15","Huesped",108,"C1","Restaurante","Falta una cafeteria para el almuerzo ligero, por ejemplo ensaladas sandwiches",null,null,null,null,"Evaluacion Gen","2018-05-155",19,"Desestimada","EXISTEN LAS OPCIONES","CSC - DIEGO","NO","SUGERENCIA","Si","NO","Comidas snacks"]
[523,"2018-05-15","Huesped",108,"C1","Restaurante","Relación precio-calidad muy costoso por lo que es.",null,null,null,null,"Evaluacion Gen","2018-05-155",19,"ROJA","COMENTAR CON DIEGO","CSC - DIEGO","SI","QUEJA","Si","SI","Calidad comida"]
[522,"2018-05-15","Huesped","201-304","C1","Hotel","Huéspedes llaman indicando que no hay agua en las habitaciones.",null,"Se envía a mantenimiento a verificar el paso del agua debido a que no hay presión de agua, no solo las habitaciones sino también el área de recepción esta viendose afectada. Mantenimiento abrió la llave del agua que no se sabe porque se encontraba cerrada.","Luis Carlos Navarro","Servicio Cliente",null,null,19,"ROJA","SOLUCIONADO - KEYLOR ACCIDENTALMENTE CERRO LA LLAVE","CSC - JAIRO","NO","QUEJA","Si","SI","Agua potable"]
[521,"2018-05-15","Colaborador",null,null,"Restaurante Italiano","La noche del 14/05/18 mientras varios huéspedes se encontraban cenando se presentaron varias goteras con una cantidad importante de agua ingresando la cual no pudo ser controlada sin que los huéspedes se enteraran ante el aguacero tan fuerte. El agua mojó un poco unos sillones y unas mesas cerca.",null,"Se llamó a areas públicas y a mantenimiento para controlar el agua con baldes y trapos.","Luis Carlos Navarro","Servicio Cliente",null,null,19,"ROJA","SOLUCIONADO - SE DESATERRARON LOS TUBOS","CSC - JAIRO","SI","QUEJA","Si","NO","Agua llovida italiano"]
[520,"2018-05-14","Huesped",303,"C1","Restaurante","El pescado que sirvieron en el sushi no estaba fresco y no fue una buena experiencia.",null,null,null,null,"Evaluacion Gen","2018--05-139",19,"ROJA","COMUNICAR A DIEGO CAMBRONERO","CSC - DIEGO","SI","QUEJA","Si","SI","Calidad Sushi"]
[519,"2018-05-14","Huesped",904,"C1","Habitación","Huéspedes se quejan de gritos y ruidos fuertes en hab 903, al parecer discutiendo","Verificar que pasa, huéspedes preocupados.","Se llama a la hab 903 preguntando si todo se encuentra bien debido a un reporte de mucho ruido. Huésped indica que está todo bien.","Luis Carlos Navarro","Servicio Cliente",null,null,19,"ROJA","SOLUCIONADO","CSC - GREVIN","NO","QUEJA","Si","SI","Ruido habitación"]
[518,"2018-05-13","Huesped",201,"C1","Habitación","Los paneles solares para calentar agua parece que estan flojos en el techo y causan mucho ruido especialmente en las noches.",null,null,null,null,"Evaluacion Gen","2018--05-136",19,"ROJA","PARECE SER QUE EL TUBO ESTÁ FLOJO","CSC - JAIRO","SI","QUEJA","Si","NO","Ruido sistema solar"]
[517,"2018-05-03","Huesped",801,"C1","Habitación ","Se quejan de que hace falta un basurero en la habitación para residuos NO reciclables, ya que únicamente hay para reciclaje aunque no se indica que tipo de desechos reciclables se pueden depositar.",null,null,null,null,"Evaluacion Gen","2018--05-131",19,"VERDE","AVERIGUAR LA INFORMACIÓN EXISTENTE","CSC - GREIVIN","SI","SUGERENCIA","Si","NO","Reciclaje"]
[516,"2018-05-10","Huesped",702,"C1","Habitación","La ducha tiene una fuga que cae fuera del baño",null,null,null,null,"Evaluacion Gen","2018-05-111",19,"ROJA","VALIDAR LO QUE DICE EL CLIENTE","CSC - JAIRO","SI","QUEJA","Si","SI","Fujas de agua"]
[515,"2018-05-12","Huesped",801,"C1","Restaurante","El desayuno esta bien, pero podría beneficiarse con frutas y jugos mas frescos",null,null,null,null,"Evaluacion Gen","2018-05-114",19,"Desestimada","EXISTEN LAS OPCIONES","CSC - DIEGO","NO","SUGERENCIA","Si","N/A","Desestimado"]
[514,"2018-05-10","Huesped",603,"C1","Hotel","Huéspedes se quejan de las clases de yoga,  los mismos indican que debería ser solo para adultos,  que el niño que se encontraba haciendo yoga con ellos de otra habitación solo los interrumpía y no permitía que las clases fueran tranquilas.","Aconsejan indicar en recepcion a la hora del check-in que las clases de yoga no son para niños.",null,null,null,"Evaluacion Gen","2018--05-93",19,"ROJA","RECEPCIÓN DEBE DE FUNCIONAR COMO FILTRO / OPORTUNIDAD DE SERVICIO DE GUARDERIA","CSC - LIZ","SI","SUGERENCIA","Si","NO","Clases de yoga"]
[513,"2018-05-10","Huesped",603,"C1","Restaurantes","Huespedes se quejan que solamente en el desayuno se ofrecen frutas, los señores me explican que en Europa ellos acostumbran a comer frutas tambíen al almuerzo y a la cena por lo que indican tengamos en cuenta este aspecto para un futuro tener mas huéspedes satisfechos.",null,null,"Luis Carlos Navarro","Servicio Cliente",null,null,19,"VERDE","INCLUIR EN LOS MENUS PARA EL ALMUERZO LA OPCIÓN DE PLATO DE FRUTAS","CSC - DIEGO","SI","SUGERENCIA","Si","NO","Plato de frutas"]
[512,"2018-05-08","Huesped","109 (Inspector de agencia)",null,"Habitación ","La única crítica constructiva seria el cambiar las láminas de el techo de luz, ya que estan bastante tostadas por el sol y con un poco de moho, esto al menos en la habitación en la cual estuve.",null,null,null,null,null,null,18,"Amarilla","REVISAR LA CONDICION DE ESA LÁMINA ","CSC-JAIRO","SI","QUEJA","Si","SI","Habitaciones"]
[511,"2018-05-09","Colaborador",null,null,"Bano de mujeres  lockers ","El servicio está dañado, el tanque no se llena y el  agua queda directa. Tiene muchisimo tiempo de estar así y se le ha dicho infinitas veces a mantemiento",null,null,"Javier Arias","Locker",null,null,18,"ROJA","ARREGLARLO","CSC-JAIRO","SI","QUEJA","Si","SI","Lockers"]
[510,"2018-05-09","Huesped",107,"C1","Habitación","Poner una silla en la habitacion sería util",null,null,null,null,"Evaluacion Gen","2018-05-92",18,"ROJA","SILLAS VIENEN EN CAMINO","CSC-GREIVIN ","SI","QUEJA","Si","SI","Silla en habitación"]
[509,"2018-05-09","Huesped",304,"C1","Habitación","Camas muy altas",null,null,null,null,"Evaluacion Gen","2018-05-88",18,"Amarilla","PEDIR LAS GRADAS A GILBERT","CSC-LIZ","SI","QUEJA","Si","SI","Camas altas "]
[508,"2018-05-09","Huesped",405,"C1","Habitación","A veces los empleados no entienden lo que uno pregunta,pura barrera del lenguaje",null,null,null,null,"Evaluacion Gen","2018-05-87",18,"Amarilla","REVALORAR EL NIVEL DE INGLÉS QUE TIENEN LAS PRINCIPALES ÁREAS DE SERVICIO Y BUSCAR UN MECANISMO DE MEJORA","CSC-GERENCIA ","SI","QUEJA","Si","SI","Servicio al cliente "]
[507,"2018-05-09","Huesped",null,null,null,"A veces los empleados no entienden lo que uno pregunta,pura barrera del lenguaje",null,null,null,null,null,null,18,"Amarilla","DIEGO VA HABLAR CON  DON GERA PARA VALORAR EL NIVEL DE INGLÉS ACTUAL ","CSC-DIEGO","SI","QUEJA","Si","SI","Servicio cliente restaurante "]
[506,"2018-05-09","Huesped",305,"C1","Habitacion","Habia comida vieja en la refri de las personas que estuvieron antes que nosotros",null,null,null,null,"Evaluacion Gen","2018-05-83",18,"ROJA","QUE LAS SUPERVISORAS DE HABITACIONES TENGAN  MAS CUIDADO ","CSC-MELISSA","SI","QUEJA","Si","SI","Habitaciones"]
[505,"2018-05-09","Huesped",606,"C1","Spa","Ayer solicité un masaje en el Spa, más alla de haber sido una experiencia relajante, quede toda adolorida e inflamada del mal uso de la tecnica , recomiendo para futuros clientes que supervisen el entrenamiento del personal.",null,null,null,null,null,null,18,"ROJA","HABLAR CON YEIMY","CSC-LIZ","SI","QUEJA","Si","SI","Spa"]
[504,"2018-05-07","Huesped",706,"C1","Restaurantes","Huesped se queja de la poca variedad en comidas y pide mayor variedad en las opciones.",null,null,null,null,"Evaluacion Gen","2018--05-78",18,"ROJA","DIEGO VA A INVESTIGAR SI QUE COMIÓ EL CLIENTE // UNIR TODOS LOS MENÚS DE CENA INCLUIDA","CSC-DIEGO","SI","QUEJA","Si","SI","Calidad comida"]
[503,"2018-05-08","Huesped",510,"C1","Habitación","El sol de la tarde pega directo a la habitación, deberia haber una pantalla que cubra esto",null,null,null,null,null,null,18,"Amarilla","PONER UN POLARIZADO EN LA PARTE SUPERIOR DE LA VENTANA","CSC-DARIEL","SI","QUEJA","Si","SI","Habitaciones"]
[502,"2018-05-08","Huesped",510,"C1","Habitación","La tapa de coffee maker esta rota",null,null,null,null,null,null,18,"VERDE","REVISAR EL COFFE MAKER ","CSC-MELISSA","SI","QUEJA","Si","SI","Habitaciones"]
[501,"2018-05-07","Huesped",503,"C1","Restaurante","Más vegetales con la carne",null,null,null,null,"Evaluacion Gen","2018-05-58",18,"ROJA","COORDINAR LA VISITA DE UN INSPECTOR QUE VALORE LA CANTIDAD DE GUARNICIONES ","CSC-GREIVIN ","SI","QUEJA","Si","SI","Calidad comida"]
[500,"2018-05-07","Huesped",212,"C1","Habitación","Cuando uno esta esperando un huésped, sería genial tener una habitación fria, toma un tiempo para que esta se enfrie",null,null,null,null,"Evaluacion Gen","2018-05-57",18,"Amarilla","AGREGAR EN EL DIRECTORIO DE LA HABITACION LAS PRACTICAS SOSTENIBLES POR QUE LAS NO SE DEBE TENER EL AC ENCENDIDO","CSC-DARIEL","SI","QUEJA","Si","SI","A/C"]
[499,"2018-05-07","Huesped",509,"C1","Restaurante","Más variedad de frutas y cereales calientes como avena",null,null,null,null,"Evaluacion Gen","2018-05-56",18,"ROJA","DIEGO ESTÁ TRABAJANDO EN ESO","CSC-DIEGO","SI","QUEJA","Si","SI","Calidad comida"]
[498,"2018-05-06","Huesped",709,"C1","Hotel","La música del restaurante muy alta, al final del día necesitamos descansar y cenar en una tranquila y silenciosa atmosfera",null,null,null,null,"Evaluacion Gen","2018-05-40",18,"VERDE","PREGUNTAR A DON GERA SOBRE ESTO Y HABLAR CON JOSUÉ","CSC-LIZ","SI","QUEJA","Si","SI","Musica restaurantes"]
[497,"2018-05-06","Huesped",410,"C1","Habitación","A/C bajo rendimiento, sería recomendable tenerlos encendidos antes que los huéspedes lleguen a la habitación.",null,null,null,null,"Evaluacion Gen","2018--05-34",18,"Amarilla","REVISAR EL RENDIMIENTO DEL AC","CSC-MELISSA","SI","QUEJA","Si","SI","A/C"]
[496,"2018-05-06","Huesped",612,"C1","Habitación","Un basurero con tapa sería mejor para el baño, especialmente porque este contiene papel higienico usado",null,null,null,null,"Evaluacion Gen","2018--0535",18,"ROJA","BASUREROS VIENEN EN CAMINO","CSC-GREIVIN ","SI","QUEJA","Si","SI","Basurero baño"]
[495,"2018-05-04","Huesped",109,"C1","Habitación","La caja fuerte no funcionó en toda la estadía, huespedes reclaman que se quedó cerrada los 2 días y no permitía ingresar un código.",null,null,null,null,"Evaluacion Gen","2018--05-28",18,"Amarilla","REVISAR QUE LA CAJA NO TENGA INCONVENIENTE","CSC-MELISSA","SI","QUEJA","Si","SI","Habitaciones"]
[494,"2018-05-04","Huesped",204,"C1","Habitación","Huesped se queja de la iluminación de la habitación, indica que es pobre y no es suficiente. Además se queja de que no hay una silla  y que el control del TV solo funciona desde una cama y no de las 2.",null,null,null,null,"Evaluacion Gen","2018--05-29",18,"VERDE","REVISAR LAS BATERIAS DEL CONTROL TV ","CSC-MELISSA","SI","QUEJA","Si","SI","Habitaciones"]
[493,"2018-05-04","Huesped",107,"C1","Restaurante","Huesped se queja de lo limitado del menú con opciones vegetarianas y reclama por mas opciones.",null,null,null,null,"Evaluacion Gen","2018--05-30",18,"ROJA","HACER UN SOLO MENÚ DE VEGETARIANOS","CSC-DIEGO","SI","QUEJA","Si","SI","Menú vegetariano"]
[492,"2018-05-06","Huesped",609,"C1","Hotel","Huesped se queja de que el hotel no dispone de un area de juegos para los niños, la señora me indica que quedaron encantados con el lugar pero debido a que su familia tiene varios niños pues consideran que es necesario tener un area con pequeño playground.",null,null,"Luis Carlos Navarro","Servicio Cliente",null,null,18,"ROJA","DARLE SIGUIMIENTO AL AREA PARA NIÑOS","CSC-GREIVIN ","SI","QUEJA","Si","SI","Área  para niños "]
[491,"2018-05-05","Huesped",304,"C1","Habitación","Huesped se queja que el detector de humo se encendió a las 12:30am y comenzó a hacer beep, el mismo se queja que tuvo que llamar a la mañana siguiente para que el staff se diera cuenta.",null,"Se llamó a mantenimiento y procedieron a cambiar baterias.",null,null,"Evaluacion Gen","2018--05-18",18,"ROJA","QUITAR TODOS LOS DETECTORES VIEJOS","CSC-MELISSA","SI","QUEJA","Si","SI","Alarmas "]
[490,"2018-05-04","Huesped",601,"C1","Hotel","Huespedes se quejan porque el hotel deberia considerar tener menus de los restaurantes en las habitaciones y así facilitar el servicio a la habitación.",null,null,null,null,"Evaluacion Gen","2018--05-25",18,"Amarilla","AGREGAR MENÚ EN EL DIRECTORIO","CSC-GREIVIN ",null,"QUEJA","Si","SI","Menú room service"]
[489,"2018-05-05","Huesped",702,"C1","Habitación","Huesped indica que talvez un spray´insecticida pequeño sería útil para los insectos que aparezcan durante la estadía.",null,null,null,null,"Evaluacion Gen","2018--05-27",18,"ROJA","PLAN DE FUMIGACIÓN","CSC-JAIRO",null,"QUEJA","Si","SI","Plagas Habitaciones"]
[488,"2018-05-05","Huesped",702,"C1","Restaurante","Huesped se queja de que el hotel debería de tener mas opciones de ensaladas.",null,null,null,null,"Evaluacion Gen","2018--05-27",18,"VERDE","REVISAR LA CANTIDAD","CSC-DIEGO",null,"QUEJA","Si","SI","Calidad comida"]
[487,"2018-05-04","Huesped",701,"C1","Habitación","Pequeñas hormigas en el baño, en el area de la caja de manicure",null,null,null,null,"Evaluacion Gen","2018--05-11",18,"ROJA","PLAN DE FUMIGACIÓN","CSC-JAIRO",null,"QUEJA","Si","SI","Plagas Habitaciones"]
[486,"2018-05-03","Huesped",111,"C2","Spa","Huespedes se quejan de tratamiento recibido en el SPA, se muestran molestos y decepcionados porque no quedaron satisfechos con el trabajo que se llevó a cabo en un pedicure, se quejaron de la silla que es muy incómoda, de que no les masajearon los pies mas de 4 minutos a  pesar de que el tratamiento duraba 60 minutos y además  aclaran que no se le tenía agua caliente para colocar los pies y sentirse relajada. ","Silla cómoda y relajante, mejorar el procedimiento en donde involucre masajes y tina con agua caliente para los pies.","Se procedió a remover el monto del tratamiento y los huespdes quedaron satisfechos.","Luis Carlos Navarro","Servicio Cliente",null,null,18,"ROJA","HABLAR CON YEIMY","CSC-LIZ",null,"QUEJA","Si","SI","Spa"]
[485,"2018-05-03","Huesped",101,"C1","Habitación ","Cliente reporta que se metieron a la habitacion y extrajeron dinero en efectivo y un celular, mientras ellos estaban en la cena. ",null,"Se procedio a ir a chequear la habitación con el cliente, y se llamó a la policia para que dieran asistencia y levantaran un reporte respectivo de lo sucedido. ","Jose Hernandez ","Recepción",null,null,18,"ROJA","CONSIDERAR CERCA ELÉCTRICA  // ASIGNAR QUIEN SUPERVISE RECORRIDO DE GUARDAS ","CSC-GERENCIA ",null,"QUEJA","Si","NO","Robo en habitaciones"]
[484,"2018-05-02","Huesped",411,"C1","Hotel","Huesped se queja debido a que el hotel no cuenta con una acera o camino especial para personas discapacitadas desde las habitaciones hasta las areas comunes, piscinas y restaurantes. Además se queja que en la noche no hay señalización iluminada y que cuando se transita los carritos de golf pasan muy cerca de los peatones.",null,null,null,null,"Evaluacion Gen","2018--05-01",18,"ROJA","Considerar acera ","CSC-GERENCIA ",null,"QUEJA","Si","SI","Acera para transitar "]
[483,"2018-05-01","Huesped",604,"C1","Habitación","El té de la habitación de manzanilla tiene sabor a tierra",null,null,null,null,"Evaluacion Gen","2018-04-315",17,"ROJA","VER LA FECHA DEL LOTE DE LAS CAJAS DE TE DE MANZANILLA","CSC - MELISSA",null,"QUEJA","Si","NO","Minibar habitaciones"]
[482,"2018-05-01","Huesped",410,"C1","Restaurante","Hacer que uno se sirva el café",null,null,null,null,"Evaluacion Gen","2018-04-314",17,"Desestimada","CARACTERISTICA DEL HOTEL ES EL SERVICIO Y NO EL AUTOSERVICIO",null,null,"SUGERENCIA","Si",null,"N/A"]
[481,"2018-05-01","Huesped",509,"C1","Restaurante","La comida es muy cara y regular, la comida de las sodas de afuera es mucho mejor y menos cara",null,null,null,null,"Evaluacion Gen","2018-04-313",17,"ROJA","REVISAR PORCIONES","CSC - DIEGO","SI","QUEJA","Si","SI","Calidad comida"]
[480,"2018-05-01","Huesped",208,"C1","Restaurante","El chef de la piscina fue muy descortés al no dejar que los niños jueguen en la piscina.",null,null,null,null,"Evaluacion Gen","2018-04-312",17,"ROJA","HABLAR CON WILBERTH DE CAMBIAR LA FORMA DE LLAMAR LA ATENCIÓN","CSC - DIEGO","SI","QUEJA","Si","SI","Servicio cliente sushi"]
[479,"2018-04-30","Huesped",708,"C1","Habitación","Las camas son un poco duras",null,null,null,null,"Evaluacion Gen","2018-04-311",17,"VERDE","Validar lo informado por el cliente","CSC - MELISSA",null,"QUEJA","Si","SI","Colchon duro"]
[478,"2018-04-29","Huesped",302,"C1","Habitación","Un basurero cerrado en el baño, sería bueno",null,null,null,null,"Evaluacion Gen","2018-04-310",17,"ROJA","BASUREROS VIENEN EN CAMINO","CSC - GREIVIN",null,"SUGERENCIA","Si","SI","Basurero baño"]
[477,"2018-04-29","Huesped",302,"C1","Restaurante","El jugo de naranja podrá ser hecho con frutas a mano ",null,null,null,null,"Evaluacion Gen","2018-04-310",17,"Desestimada","JUGO ES ARTESANAL",null,null,"SUGERENCIA","Si","NO","N/A"]
[476,"2018-05-01","Huesped",402,"C1","Habitación","Mejorar la calidad del champú-gel manzana",null,null,null,null,"Evaluacion Gen","2018-04-309",17,"ROJA","SE VA A CAMBIAR LA RECETA","CSC - GREIVIN",null,"SUGERENCIA","Si","NO","Amenidades"]
[475,"2018-05-01","Huesped",402,"C1","Restaurante","Mejorar la calidad del café en el desayuno",null,null,null,null,"Evaluacion Gen","2018-04-309",17,"ROJA","HABLAR CON GERENCIA","CSC - GERENCIA",null,"SUGERENCIA","Si","NO","Calida Desayuno"]
[474,"2018-04-30","Huesped",110,"C1","Restaurante","Los cocteles y bebidas en general muy caros y con mejoras pendientes en calidad",null,null,null,null,"Evaluacion Gen","2018-04-308",17,"VERDE","COMUNICAR A SALON SOBRE EL COMENTARIO","CSC - DIEGO","SI","QUEJA","Si","SI","Cockteles bares"]
[473,"2018-05-01","Huesped",307,"C2","Recepción","Huesped se acerca a recepcion disgustado acerca de una situacion acontecida en el Rest Italiano, indica que solicitó una pizza cuya cual venia con un pedazo de plastico y nos informa que al expresar su disgusto con el compañero presente hizo caso omiso a su reclamo, el nos expresa que firmó la factura inconforme por lo tanto vino a Recepcion a mostrar su descontento, solicitando una solucipon al respecto. (huesped vino resintiendo su malestar, cubriendo su abdomen con su mano)","Alguna pronta respuesta dado que considera inexplicable que mostrara su descontento y lo ignoraran.","Pido las disculpas del caso por lo acontecido, le informo que tomaremos la cartas en el asunto para darle una solucion. Se habla con el huésped se le pide disculpas por el problema presentado, se le indica que se va retirar la pizza de la factura y que vamos a brindarles unas bebidas de cortesía para el y su familia.","Jean Pierre Brenes","Recepción",null,null,17,"ROJA","COBRAR POR PARTES IGUALES LA PIZZA Y LAS BEBIDAS DE CORTESÍAS","CSC - IVAN",null,"QUEJA","Si","SI","Objetos en la comida"]
[472,"2018-04-30","Huesped",409,"C1","Restaurante","Sería bueno que tuvieran sangría en todos los bares",null,null,null,null,"Evaluacion Gen","2018-04-305",17,"VERDE","YA SE HICIERON LOS AJUSTES PARA OFRECER SANGRÍA EN TODOS LOS BARES","CSC - DIEGO","NO","SUGERENCIA","Si","NO","Servicio cliente restaurante "]
[471,"2018-04-30","Huesped",305,"C1","Spa","\"Mi esposo queria un masaje de envoltura o exfoliación com decía que cerraban a las 8 pm, esperabamos que nos pudieran atender después de las 3 pm, pero nos dijeron que no porque las muchachas salian a las 6 pm, además no había recepcionista para buscar la info tuvimos que interrumpir una sesión.",null,null,null,null,"Evaluacion Gen","2018-04-307",17,"ROJA","COMENTAR CON YEIMY","CSC - LIZ",null,"QUEJA","Si","NO","Servicio cliente spa"]
[470,"2018-04-29","Huesped",201,"C1","Hotel","Huesped indica que deberían agregar mas espacios en la piscina para descansar, ejemplo: camitas de piedra en el agua y no solo asientos.",null,null,null,null,"Evaluacion Gen","2018--04-293",17,"VERDE","COMENTAR CON GERENCIA","CSC - GERENCIA",null,"SUGERENCIA","Si","NO","N/A"]
[469,"2018-04-29","Huesped",311,"C1","Restaurante","El mojito estaba horrible y muy caro",null,null,null,null,"Evaluacion Gen","2018--04-292",17,"ROJA","DIEGO VA A REVISAR LO QUE SUCEDIÓ","CSC - DIEGO","SI","QUEJA","Si","SI","Cockteles bares"]
[468,"2018-04-29","Huesped",306,"C1","Habitación","Huesped sequeja del sonido que se percibe desde las otras habitaciones ",null,null,null,null,"Evaluacion Gen","2018--04-291",17,"ROJA","SE VA A CREAR UN EQUIPO DE INVESTIGACIÓN DE SONIDOS","CSC - LIZ",null,"QUEJA","Si","SI","Ruido habitación"]
[467,"2018-04-29","Huesped",106,"C1","Habitación","Puerta del baño se encuentra mala y caída.",null,null,null,null,"Evaluacion Gen","2018--04-288",17,"ROJA","AVERIGUAR LO QUE INDICA EL CLIENTE","CSC - MELISSA",null,"QUEJA","Si","NO","Puerta de baño"]
[466,"2018-04-29","Huesped",111,"C1","Restaurante","Huesped solicita mejor la calidad del pepperoni de las pizzas.",null,null,null,null,"Evaluacion Gen","2018--04-287",17,"ROJA","SE VAN A PROBAR PARA LA OTRA SEMANA","CSC - DIEGO","SI","SUGERENCIA","Si","NO","Precios Comidas Italiano"]
[465,"2018-04-29","Huesped",901,"C1","Habitación","Huesped al hacer check-out se queja del funcionamiento del Aire Acondicionado, indica que no enfría y que nunca pudieron refrescar la habitación como lo deseaban.","Solicita revisar los filtros",null,"Luis Carlos Navarro","Servicio Cliente",null,null,17,"ROJA","COMENTAR CON MELISSA","CSC - MELISSA",null,"QUEJA","Si","SI","A/C"]
[464,"2018-04-28","Huesped",106,"C1","Hotel","Huesped indica que la música del bar húmedo podría mejorar y no ser aburrida y desactualizada.","Mejor música atrae mas personas y por ende mas ventas de comida y bebidas",null,null,null,"Evaluacion Gen","2018--04-276",17,"ROJA","COMENTAR CON BAR PISCINAS","CSC - DIEGO","SI","SUGERENCIA","Si","NO","Servicio cliente restaurante "]
[463,"2018-04-28","Huesped",402,"C1","Gimnasio","Huesped se queja que el gimnasio necesita mejor equipo.",null,null,null,null,"Evaluacion Gen","2018--04-280",17,"ROJA","PEDIRLE A EDWARD QUE NOS ASESORE","CSC - LIZ",null,"QUEJA","Si","NO","Gimnasio"]
[462,"2018-04-27","Colaborador",null,null,null,"Ayer note que hay falta de iluminación en el jacuzzi, les pregunte a mantenimiento y me dijeron que están esperando unas lámparas. Solamente para que tomen nota de esto, asi nos evitamos un accidente.",null,null,"Javier Arias","Locker",null,null,17,"ROJA","DARLE SEGUIMIENTO AL PROBLEMA DE LAS LÁMPARAS DE JACUZZI","CSC - JAIRO",null,"QUEJA","Si","NO","Rotulación Jacuzzi"]
[461,"2018-04-26","Huesped",104,"C1","Habitación","La ceramica de la hab es muy resbalosa y cuando esta mojada es muy dificl caminar para las personas que tenemos problemas caminando",null,null,null,null,"Evaluacion Gen","2018-04-268",17,"ROJA","NO SE HA RECOGIDO EL PRODUCTO DE PROVEEDURÍA","CSC - JAIRO",null,"QUEJA","Si","SI","Piso resbaloso"]
[460,"2018-04-27","Huesped",103,"C1","Restaurante","Mas opciones para el menu de desayuno, todos los días lo mismo no nos hace felices",null,null,null,null,"Evaluacion Gen","2018-04-267",17,"ROJA","DIEGO ESTÁ TRABAJANDO EN ESO","CSC - DIEGO","SI","QUEJA","Si","NO","Calida Desayuno"]
[459,"2018-04-27","Huesped",510,"C1","Habitación","Huespedes se acercan molestos arecepción para reclamar que como puede ser posible que no haya ni una sola silla en la habitación, ellos son una pareja de baja estatura y solicitan se les dé una silla a la habitación.","Colocar silla en Habitación",null,"Luis Carlos Navarro","Servicio Cliente",null,null,17,"ROJA","YA MERITO","CSC - GREIVIN",null,"SUGERENCIA","Si","SI","Silla en habitación"]
[458,"2018-04-27","Huesped",406,"C3","Hotel","demasiado ruido causado por el generador","No se quiere cambiar de habitación y no acepta ninguna explicación o disculpa","A la hora de hacer check-out se le explica a la huésped lo ocurrido y el porque del ruido del generador, en principio la señora viene molesta y nos muestra un video donde se evidencia el ruido en la madrugada, sin embargo se le ofrecen disculpas, se le compensa eliminando 3 facturas por un total de 156 dólares, la huesped se va contenta y nos aclara que le gustó mucho el hotel. Queja cerrada satisfactoriamente. (Luis Carlos Navarro R.)","Cesar Morales C.","Servicio Cliente",null,null,17,"ROJA","SE TRAJO UN TÉCNICO DE RUIDO PARA DETECTAR EL ORIGEN Y LA SOLUCIÓN","CSC - GREIVIN",null,"QUEJA","Si","SI","Ruido generadores"]
[457,"2018-04-27","Huesped",502,"C2-C3","Hotel","demasiado ruido causado por el generador","Cambiarse de habitación y ver como vamos a compensarlos","Cambiarlos a la hab 301","Cesar Morales C.","Servicio Cliente",null,null,17,"ROJA","SE TRAJO UN TÉCNICO DE RUIDO PARA DETECTAR EL ORIGEN Y LA SOLUCIÓN","CSC - GREIVIN",null,"QUEJA","Si","SI","Ruido generadores"]
[456,"2018-04-26","Huesped",509,"C1","Restaurante","Huesped indica que se necesita mas variedad en el desayuno.",null,null,null,null,"Evaluacion Gen","2018--04-256",17,"ROJA","DIEGO ESTÁ TRABAJANDO EN ESO","CSC - DIEGO","SI","QUEJA","Si","NO","Calida Desayuno"]
[455,"2018-04-25","Huesped",401,"C1","Habitación","Huesped se queja que habían insectos viniendo atraves de las paredes.",null,null,null,null,"Evaluacion Gen","2018--04-252",17,"ROJA","COMENTAR CON JAIRO","CSC - JAIRO",null,"QUEJA","Si","SI","Plagas Habitaciones"]
[454,"2018-04-25","Huesped",415,"C1","Habitación","La pared donde esta el aire acondicionado va tener problemas a futuro debido a que el condensador gotea",null,null,null,null,null,null,17,"ROJA","COMENTAR CON JAIRO","CSC - JAIRO",null,"SUGERENCIA","Si","SI","Habitaciones"]
[453,"2018-04-25","Huesped",415,"C1","Hotel","Deberiamos de pensar en quitar las lineas amarillas de la calle, no hay necesidad de ellas porque los carros no van a altas velocidades y a su vez estas lineas afean la belleza de las instalaciones en conjunto con la naturaleza",null,null,null,null,null,null,17,"Desestimada","LINEAS SON NECESARIAS",null,null,"SUGERENCIA","Si","NO","Señalización"]
[452,"2018-04-24","Huesped",602,"C1","Habitación","Una sola cama y un sillón sería mucho mejor que dos camas y ningún sitio donde sentarse",null,null,null,null,"Evaluacion Gen","2018-04-240",17,"ROJA","YA MERITO","CSC - GREIVIN",null,"SUGERENCIA","Si","SI","Silla en habitación"]
[451,"2018-04-24","Huesped",602,"C1","Habitación","Una sombrilla por habitación, reduciría el uso de los carritos de golf",null,null,null,null,"Evaluacion Gen","2018-04-240",17,"Desestimada","COSTOS ELEVADOS",null,null,"SUGERENCIA","Si","NO","Sombrillas"]
[450,"2018-04-24","Huesped",602,"C1","Habitación","Huésped encontró una piedrita en el piso al majarla y escribe que fue un verdadero Ouch! Y además dice que el resto de la habitación no parecia que estuviera bien limpia",null,null,null,null,"Evaluacion Gen","2018-04-240",17,"ROJA","COMENTAR CON MELISSA","CSC - MELISSA",null,"QUEJA","Si","NO","Limpieza en habitación"]
[449,"2018-04-24","Huesped",106,"C1","Hotel ","Huésped comenta que los grupos de niños son muy ruidosos y si el hotel vende tranquilidad debería de cumplirse, se sintío inconforme en areas comunes e incluso en la habitación. ","-","-","Maria Nela Sancho ","Recepción",null,null,17,"ROJA","COMENTAR CON GERENCIA GRUPO DE BEST","CSC - GERENCIA",null,"QUEJA","Si","NO","Grupos estudiantes"]
[448,"2018-04-24","Huesped",308,"C1",null,"Huesped solicitó transporte para 2 personas dado la lluvia sin embargo ningun compañero fue por ellos, ella muy molesta se vino caminando desde su habitacion.",null,null,null,null,null,null,17,"ROJA","SE AMONESTÓ AL ANFITRIÓN","CSC - LIZ",null,"QUEJA","Si","NO","Servicio cliente botones"]
[447,"2018-04-22","Huesped",201,"C1","Habitación","Pusimos el rotulo de no cambiar las toallas pero si las cambiaron.",null,null,null,null,"Evaluacion Gen","2018-04-233",17,"ROJA","COMENTAR CON MELISSA","CSC - MELISSA",null,"QUEJA","Si","NO","Limpieza en habitación"]
[446,"2018-04-23","Huesped",211,"C1","Hotel","Hay muchos niños, no esperabamos tener que hacer fila para poder conseguir omelets, pancakes o frutas.",null,null,null,null,"Evaluacion Gen","2018-04-232",17,"ROJA","DIEGO YA TOMÓ DIRECTRICES","CSC - DIEGO","NO","QUEJA","Si","NO","Calida Desayuno"]
[445,"2018-04-23","Huesped",211,"C1","Hotel","Para un hotel como este uno espera que haya batas de baño en la habitación",null,null,null,null,"Evaluacion Gen","2018-04-232",17,"Desestimada","COSTOS MUY ALTOS",null,null,"SUGERENCIA","Si","NO","Batas de baño"]
[444,"2018-04-21","Huesped",210,"C1","Restaurante","Huesped se queja que las opciones vegetarianas son muy limitadas para la epoca en la que nos encontramos, el mismo indica que al haber muchas personas vegetarianas, el hotel debería mejorar.",null,null,null,null,"Evaluacion Gen","2018--.04--226",17,"ROJA","HACER UN SOLO MENÚ DE VEGETARIANOS","CSC - DIEGO","SI","SUGERENCIA","Si","SI","Menú vegetariano"]
[443,"2018-04-21","Huesped",310,"C1","Habitación","Huesped indica que debería haber un tomacorriente especial cerca de la mesa para cargar la computadora",null,null,null,null,"Evaluacion Gen","2018--04-230",17,"Desestimada","EN TIENDA ESTÁN DISPONIBLES ADAPTADORES PARA TOMAS",null,null,"SUGERENCIA","Si","NO","N/A"]
[442,"2018-04-22","Huesped",408,"C2","Hotel","Huesped se acerca a Recepción muy molesto debido a que llamó para solicitar hielo y nunca lo recibió, el señor no permite ni que le ayudemos, se queja muy fuerte por el mal servicio, tambien se queja por que en la maquina de hielo no hay bolsas y solo pide una bolsa para seguidamente indicarnos que no quiere ningún carrito de golf y que se irá caminando apesar de la lluvia. ","Colocar hieleras plasticas o bolsas en el mismo lugar donde se encuentra la máquina de hielo, dice que como es posible llevar hielo sino ofrecen algo donde llevarlo.","Huésped no permite ni ofrecer disculpas, se va inmediantamente y enfurecido apenas se le da la bolsa. Actualización 23-4-18 6:10 pm. Al huésped se la ha solicitada las disculpas por el incoveniente y se le han otorgado dos bebidas de cortesía en el bar barril, la boleta tiene el consecutivo #0148.","Luis Carlos Navarro","Servicio Cliente",null,null,17,"ROJA","MAYOR CUIDADO POR PARTE DEL ANFITRIÓN","CSC - LIZ",null,"QUEJA","Si","SI","Servicio cliente botones"]
[441,"2018-04-21","Huesped",702,"C1","Habitación","Si se etiquetaran las apagadores de la habitación sería mas funcional, ya que no se sabe cual es para cada cosa.",null,null,null,null,"Evaluacion Gen","2018-04-216",17,"Desestimada","NO SE PUEDE AGREGAR MAS INFORMACIÓN EN LA HABITACIÓN",null,null,"SUGERENCIA","Si","NO","Rotulación ventilador"]
[440,"2018-04-21","Huesped",702,"C1","Habitación","Una linea para tender la ropa fuera de la habitación sería util",null,null,null,null,"Evaluacion Gen","2018-04-216",17,"VERDE","EXISTEN TENDEDEROS EN LA BAÑO - PREGUNTAR A MELISSA","CSC - MELISSA",null,"SUGERENCIA","Si","NO","Habitaciones"]
[439,"2018-04-21","Huesped",702,"C1","Habitación","La ducha podría usar menos agua si estuviera mejor calibrada ",null,null,null,null,"Evaluacion Gen","2018-04-216",17,"ROJA","POSTALES INFORMATIVAS PENDIENTES POR COLOCAR","CSC - JAIRO",null,null,"Si","NO","Información duchas"]
[438,"2018-04-21","Huesped",702,"C1","Habitación","Las lamparas que hay en la habitación no sirven para leer",null,null,null,null,"Evaluacion Gen","2018-04-216",17,"ROJA","COMPRA DE LÁMPARAS PENDIENTE","CSC - GREIVIN","SI","QUEJA","Si","SI","Lampara de lectura"]
[437,"2018-04-21","Huesped",702,"C1","Habitación","Podría haber una o dos sillas en la habitación, incluso pueden estar guardadas en el closet",null,null,null,null,"Evaluacion Gen","2018-04-216",17,"ROJA","YA MERITO","CSC - GREIVIN",null,"SUGERENCIA","Si","SI","Silla en habitación"]
[436,"2018-04-21","Huesped",901,"C1","Habitación","Hay un fuerte olor que sale del baño",null,null,null,null,"Evaluacion Gen","2018-04-215",17,"ROJA","VALIDAR CON MELISSA","CSC - MELISSA",null,"QUEJA","Si","SI","Mal olor habitación"]
[435,"2018-04-21","Huesped",901,"C1","Habitación","La puerta del baño no se cierra o abre bien.",null,null,null,null,"Evaluacion Gen","2018-04-215",17,"ROJA","AVERIGUAR LO QUE INDICA EL CLIENTE","CSC - MELISSA",null,"QUEJA","Si","NO","Puerta de baño"]
[434,"2018-04-20","Huesped",309,"C1","Habitación","Sería bueno tener al menos una sombrilla por habitación",null,null,null,null,"Evaluacion Gen","2018-04-206",17,"Desestimada","COSTOS ELEVADOS",null,null,"SUGERENCIA","Si","NO","Sombrillas"]
[433,"2018-04-20","Huesped",108,"C2","Habitación","Después de haberlos cambiado de la 601 a la habitación 108, la señora Brandi reporta que hay una cucaracha dentro de la habitación y por este motivo estaba muy molesta","Que se le dé la mejor habitación que haya en el Hotel y que además se le brinde la cena como cortesía","La señora y las niñas ya habían solicitado comida para room service, por lo que esto fue retirado como cortesía. Además se les dió las habitaciones 414 y 415.","Cesar Morales C.","Servicio Cliente",null,null,17,"ROJA","COMENTAR CON JAIRO","CSC - JAIRO",null,"QUEJA","Si","SI","Plagas Habitaciones"]
[432,"2018-04-20","Huesped",601,"C1","Habitación","Huésped reporta que tiene muchas hormigas dentro de la habitación, que hasta están en las maletas.","Cambiarlos de habitación, y que se les lave la maleta y la ropa porque esta llena de hormigas","Se les cambia a la hab 108, y se llevó la maleta con la ropa a lavandería para lavarse y además se revisó para ver si habia restos de comida o algo dulce que provocará que llegarán las hormigas dentro de las prendas y la maleta pero no se encontró nada.","Cesar Morales C.","Servicio Cliente",null,null,17,"ROJA","COMENTAR CON JAIRO","CSC - JAIRO",null,"QUEJA","Si","SI","Plagas Habitaciones"]
[431,"2018-04-20","Huesped",601,null,"Transporte","Huésped solicitó transporte para venir al parqueo para irse a tour, pero el carrito de golf no llegó por ellos, debieron venirse caminando entonces",null,null,"Jean Pierre Brenes","Recepción",null,null,17,"ROJA","MAYOR CUIDADO POR PARTE DEL ANFITRIÓN","CSC - LIZ",null,"QUEJA","Si","SI","Servicio cliente botones"]
[430,"2018-04-19","Huesped",706,"C1","Habitación","Huesped se queja porque no hay silla en la habitación, las camas son muy altas y ellos huespedes de baja estatura.",null,null,null,null,"Evaluacion Gen","2018--04-191",17,"ROJA","YA MERITO","CSC - GREIVIN",null,"SUGERENCIA","Si","SI","Silla en habitación"]
[429,"2018-04-19","Huesped",904,"C1","Recepcion","Huesped reporta que ocasionalmente el lavatorio desprendia fuertes olores a alcantarilla y cloaca.","tomarlo en consideracion dado que podria afectar a futuros huespedes","Disculparme por el incoveniente y contactarme con los respectivos compañeros para cersorarnos de que no siga sucediendo","Jean Pierre Brenes","Recepción",null,null,17,"Amarilla","CERSIORARSE DE LOS MALOS OLORES EN LA HABITACIÓN","CSC - JAIRO",null,"QUEJA","Si","SI","Mal olor habitación"]
[428,"2018-04-18","Huesped",710,"C1","Habitación","Huesped llama quejandose por hormigas en el lavatorio y en el area del baño.",null,"Se envía a la mucama a verificar y se se encontraron hormigas y cucarachas, por lo que se fumigó el baño. Se le llama a la huesped para ofrecer disculpas y la misma se encuentra agradecida por la ayuda.","Luis Carlos Navarro","Servicio Cliente",null,null,17,"Roja","COMENTAR CON JAIRO","CSC - JAIRO",null,"QUEJA","Si","SI","Plagas Habitaciones"]
[427,"2018-04-17","Huesped",706,"C1","Restaurante","Huesped se queja porque no hay pan libre de gluten en el desayuno.",null,null,null,null,"Evaluacion Gen","2018--04-186",17,"Desestimada","ALTO RIESGO CON LOS CELIACOS",null,null,"QUEJA","Si","SI","Menú Celiacos"]
[426,"2018-04-18","Huesped",111,"C1","Bar Humedo","Huesped se queja que entre las 5 y 7 pm deberían haber mas bartenders ya que hay que esperar mucho para ser atendido y mas tiempo para que le hagan un cocktail. ","Huesped sugiere tener 3 bartenders para asi vender mas y tener mejor servicio.",null,null,null,"Evaluacion Gen","2018--04-182",17,"Verde","DIEGO VA A REVISAR LO QUE SUCEDIÓ","CSC - DIEGO","SI","QUEJA","Si","NO","Servicio cliente bar humedo"]
[425,"2018-04-18","Huesped",112,"C1","Habitación","Huesped indica que se necesita un espejo afuera del baño.",null,null,null,null,"Evaluacion Gen","2018--04-181",17,"Desestimada","YA EXISTE ESPEJOS DE CUERPO ENTERO",null,"NO","SUGERENCIA","Si","NO","Espejo grande fuera del baño"]
[424,"2018-04-18","Huesped",601,"C1","Habitación","Huesped se queja de hormigas en el area del baño.",null,"Se manda a  la mucama a revisar el baño.","Luis Carlos Navarro","Servicio Cliente",null,null,17,"Verde","COMENTAR CON JAIRO","CSC - JAIRO",null,"QUEJA","Si","SI","Plagas Habitaciones"]

{"sheet":"Impresión","index":4,"n_rows":719,"n_cols":11,"rows_kept":719,"cut":false,"hidden":false,"merged":[[718,0,719,0],[718,1,719,7]]}
[null,null,null,null,"Cantidad Quejas:",{"$f":"SUBTOTAL(9,Resumen_quejas_imprimir[información])","v":1},"Folio:",176,1,{"$f":"TODAY()","v":"2020-05-26"}]
["Fecha","#¡VALOR!","Hab","Descripción de la Queja","Acción a Realizar","Acciones Correctivas","Propuesta Solución Queja","Resultado","información","Folio","Payaso"]
["2018-12-24",1138,803,"Huésped se queja que la caja fuerte no tiene instrucciones y es difícil de usar.","Asignar Roberto Escoto",null,null,"NO",{"$f":"I$1","v":1},{"$f":"H$1","v":176},"Habitaciones"]
["2018-12-24",1137,906,"Huéspedes se quejan de la presión de agua en sus habitaciones, los mismos indican que es muy baja y que dificilmente les llega agua.","Asignar Jairo Garcia",null,null,"NO",1,176,"Agua potable"]
["2018-12-22",1136,902,"EL presente correo tiene como fin informarles por escrito de la situación que vivieron los huéspedes Braden Coffin y Robin Boddy la noche de ayer,  ellos nos reportaron que alguien ingresó a su habitación en el momento en que salieron a cenar y cuando llegaron las gavetas estaban desordenadas y había un faltante de dinero, este dinero que según dicen los huéspedes era equivalente a 1300 dólares se encontraba en la caja fuerte de la habitación que por cierto ellos mismos dicen habían dejado sin cerrar, indican además que dejaron la puerta del balcón sin cerradura y por ahí fue precisamente por donde hicieron ingreso los sospechosos y sustrajeron el dinero. Ante esta situación nosotros como hotel hemos decidido tomar responsabilidad de lo sucedido y se les ha hecho efectiva la devolución total de los 1300 dólares y además se han eliminado los cargos de la habitación buscando de alguna manera generar satisfacción. Esto con la idea de que nuestros huéspedes no se lleven con ellos una mala experiencia o un sabor amargo a pesar de haber tenido una muy agradable estadía. \n","Asignar Luis Carlos ",null,null,null,1,176,"Robo en habitaciones"]
["2018-12-22",1135,801,"Buenas noches compañeros \nLa siguiente es para hacer de su conocimiento, que hoy 21/12/2018 al ser las 8:50pm los clientes de las habitaciones 801 y 802 bajo el nombre de GUINN ROBERT de la agencia Travel Excellence, se aproximaron a la recepción y nos reportan que al regresar de la cena a sus respectivas habitaciones, se percataron de que tanto   una  laptop con su respectivo cargador y también  unos regalos que tenían dentro de una de las maletas habían  sido sustraídos de la habitación 801, procedemos a revisar la habitación junto a los clientes para verificar que  no los hubieran guardado en alguna otra maleta, al llegar la habitación tanto las ventanas como la puerta principal no presentan  signos de  haber sido forzadas, por protocolo de la empresa procedemos a llamar a la Policía Turística quien es el ente encargado de levantar el acta de lo sucedido y nos comentan que mañana a las 7 am se pueden aproximar a confeccionar el acta, esto debido a que en este momento se encuentran atendiendo otro incidente. \n","Asignar Don Minor Castro",null,null,null,1,176,"Robo en habitaciones"]
["2018-12-23",1134,108,"Huéspedes llaman a recepción quejandose del ruido ocasionado por los vecinos en  la hab 107.","Asignar Luis Carlos ",null,null,"No",1,176,"Ruido habitación"]
["2018-12-24",1133,805,"Huésped se queja del sonido se las habitaciones de arriba, les molesta bastante el sonido que produce la gente al caminar, dicen que suena como elefantes andantes.","Asignar Don Minor Castro",null,null,"No",1,176,"Ruido habitación"]
["2018-12-23",1132,807,"Huéspedes se quejan porque la habitación no tiene caja fuerte.","Asignar Dariel Miranda",null,null,"Si",1,176,"N/A"]
["2018-12-21",1131,803,"Los huéspedes reportan que no tienen agua caliente, se le reporta a mantenimiento pero nos indican que por parte de ellos hacen lo posible por solucionarlo pero que la falla es de Mario Lezama, los huéspedes llevaban dos días sin agua caliente.","Asignar Jairo Garcia",null,null,"No",1,176,"Habitaciones"]
["2018-12-21",1130,904,"Huéspedes que anteriormente estaban en la 703 se tuvieron que cambiar porque la señora era alergica a las plantas y aromatizantes, los huéspedes vieron que desde las 11am ya los huéspedes de la 904 habian hecho check-out por lo tanto se acercaron a recepción a las 12:30pm solicitando si su hab estaba lista, al volver a consultar a las mucamas las mismas nos indican que va estar lista hasta las 2pm y eso molestó mucho a los huéspedes los cuales pidieron una solución mas eficiente a su movimiento de habitación.","Asignar Roberto Escoto",null,null,"NO",1,176,"Servicio cliente mucamas"]
["2018-12-21",1129,508,"Huésped reporta caída en el baño por accidente y el mismo quebró el espejo de cuerpo, nos indicó que los espejos tienen un espacio entre la pared y el espejo que con solo apoyarse o tocarlo se quiebra y eso fue lo que ocurrió cuando se cayó. ","Asignar Jairo Garcia",null,null,"No",1,176,"Habitaciones"]
["2018-12-20",1128,515,"Huésped molesto indica que el A/C de su habitación tiene una fuga la cual causó un gran charco de agua y nos dice que no piensa perder el tiempo soportando estas situaciones si recién viene llegando al hotel.","Asignar Jairo Garcia",null,null,"No",1,176,"A/C"]
["2018-12-20",1127,202,"Huésped se queja al momento del check-out indicando que la ducha de la habitación debe revisarse porque no distribuye el agua bien, en la medida de lo posible colocar una de mejor calidad.","Asignar Jairo Garcia",null,null,"NO",1,176,"Habitaciones"]
["2018-12-20",1126,212,"Huésped se acercó a recepción indicando que le gustaría que tuvieramos la bandera de reino unido, que como era posible que no la tuvieramos si a Costa Rica la visitaba mucho turista de Europa.","Oscar Retana Muñoz",null,null,"NO",1,176,"Servicio al cliente "]
["2018-12-19",1125,902,"Huésped se queja porque su aire acondicionado no funciona correctamente.","Asignar Jairo Garcia",null,null,"No",1,176,"A/C"]
["2018-12-15",1124,110,"Huésped se queja por el tiempo de la estación de café, pide que se extienda a más tiempo.","Asignar Diego Cambronero",null,12,"NO",{"$f":"I$1","v":1},{"$f":"H$1","v":176},"Servicio cliente restaurante "]
["2018-12-15",1123,110,"Calidad no es buena en comparación con el valor.","Asignar Diego Cambronero",null,null,"NO",1,176,"Precios Comidas Italiano"]
["2018-12-16",1122,305,"Huésped se queja debido a que su baño tiene muchas hormigas y eso no ocurre en las habitaciones del resto de su familia.","Asignar Jairo Garcia",null,"Mostrar actas firmadas y sus productos aplicados y dosificaciones ","NO",1,176,"Plagas Habitaciones"]
["2018-12-16",1121,102,"Colaboradora  nos reporta que durante su estadía en el hotel notó que la cama se encontraba con polilla, huecos y en mal estado. Consultó a una mucama y la misma le dijo que eso llevaba meses así. ","Asignar Gilberth Mejías",null,"mostrar boletas de reparacion o correo de reporte ","NO",1,176,"Chequeo habitaciones"]
["2018-12-15",1120,104,"Huésped se queja porque las instrucciones del pulsador BOSH no estan en español.","Asignar Luis Carlos ",null,null,"NO",1,176,"Habitaciones"]
["2018-12-15",1119,104,"Huésped se queja porque la caminadora del gimnasio la cual es demasiado básica y carece de mantenimiento al igual que el resto de equipos.","Asignar Greivin Arredondo",null,null,"2019-01-09",1,176,"Gimnasio"]
["2018-12-15",1118,104,"Huésped se queja porque en el check-out no le entregaron el voucher manual de garantía.","Asignar Luis Carlos ",null,"Estandares de servicio Mauricio Aymerich","SI",1,176,"Servicio cliente recepción"]
["2018-12-15",1117,104,"Huésped indica que es necesaria información en el hotel de que hacer en caso de emergencia ( fuego, terremoto, etc).","Asignar Don Minor Castro",null,"Valorar rotulacion en la hab( Greivin)","NO",1,176,"Habitaciones"]
["2018-12-14",1116,504,"Huésped se queja de las copas plasticas que se entregan en el aréa del bar húmedo, hace que el lugar se sienta como barato.","N/A",null,null,"N/A",1,176,"Servicio cliente bar humedo"]
["2018-12-14",1115,504,"Restaurante demasiado caro.","Asignar Diego Cambronero",null,null,"2019-01-20",1,176,"Precios Comidas Italiano"]
["2018-12-14",1114,611,"Parece como que el personal disfruta estar hablando juntos aquí. Además la tienda necesita expandirse.","Asignar Diego Cambronero",null,null,"SI",1,176,"Servicio C. Tienda"]
["2018-12-16",1113,503,"Puerta del baño en recepción se encuentra en mal estado, pega en el piso y hace ruido.","Asignar Jairo Garcia",null,null,"NO",1,176,"Infraestructura "]
["2018-12-16",1112,503,"Huésped se queja del precio del churrasco en el restaurante Italiano.","Asignar Diego Cambronero",null,null,"2019-01-20",1,176,"Precios Comidas Italiano"]
["2018-12-16",1111,503,"Huésped se queja porque en el souvenir no hay tantos objetos alusivos al volcán Arenal, sugiere mas souvenirs con el nombre del volcán impreso.","Asignar Diego Cambronero",null,null,"NO",1,176,"Servicio C. Tienda"]
["2018-12-13",1110,104,"Huésped se queja que en su habitación el café y las tazas son exclusivamente para dos personas sin embargo ellos pagaron por 3 personas y consideran debe haber tazas y café para cada huésped que paga.","Asignar Luis Carlos ",null,"Botones va a preguntar al cliente si es necesario mas tazas ","SI",1,176,"Minibar habitaciones"]
["2018-12-12",1109,515,"Huéspedes de la master suite se quejan por el mal funcionamiento del jacuzzi en su habitación.","Asignar Jairo Garcia",null,null,"NO",{"$f":"I$1","v":1},{"$f":"H$1","v":176},"Jacuzzi"]
["2018-12-11",1108,410,"Huésped se queja del ruido entre habitaciones, el aislante es muy pobre y se escucha hasta cuando hablan o toman una ducha.","Asignar Don Minor Castro",null,null,"NO",1,176,"Ruido habitación"]
["2018-12-10",1107,105,"Huésped se queja porque al colocar la llave en el tarjetero de la habitación no se activa la electricidad.","Asignar Roberto Escoto",null,null,"NO",1,176,"Chequeo habitaciones"]
["2018-12-09",1106,211,"Cambiar filtro de la piscina grande, cuando el agua fluye trae objetos flotando.","Asignar Jairo Garcia",null,null,"NO",1,176,"Piscinas termal"]
["2018-12-09",1105,211,"Iluminación de la habitación es deficiente, no es buena para leer, las luces no son ajustables.","Asignar Don Minor Castro",null,null,"NO",1,176,"Lampara de lectura"]
["2018-12-08",1104,515,"Huésped se queja que el trato en recepción no fue amigable.","Asignar Estibaliz Aguilar",null,"Estandar de servicio ","SI",1,176,"Servicio cliente recepción"]
["2018-12-08",1103,308,"Para el precio de este hotel la expectativa era encontrar todos los restaurantes abiertos.","Asignar Diego Cambronero",null,null,"NO",1,176,"Servicio cliente restaurante "]
["2018-12-09",1102,108,"Huésped se queja porque el refrigerador de la hab no se encuentra frío cuando el huésped ingresa.","Asignar Roberto Escoto",null,null,"NO",1,176,"Chequeo habitaciones"]
["2018-12-06",1101,402,"Se necesita café o té a la llegada en el desayuno, se tiene que esperar demasiado para que le ofrezcan alguna de las opciones. Cuando se pidió fue servido pero debería de haber ya café y té.","Asignar Diego Cambronero",null,null,"NO",1,176,"Servicio cliente restaurante "]
["2018-12-08",1100,303,"Huésped se queja por calidad en desayuno. Los zumos en el desayuno deberían ser naturales.","Asignar Diego Cambronero",null,null,"NO",1,176,"Calida Desayuno"]
["2018-12-06",1099,601,"Precios muy altos para una copa de vino.","Asignar Diego Cambronero",null,null,"2019-01-20",1,176,"Precios vino"]
["2018-12-07",1098,506,"Huésped se queja porque el hotel no tiene suficientes tiendas.","N/A","Por politica de la empresa no se construye mas tiendas ",null,"N/A",1,176,"N/A"]
["2018-12-07",1097,"N/A","El Guía de Collette el señor Ricardo Howell se acercó a Recepción muy molesto quejándose por una confirmación que recibió de 3 masajes correspondientes a su grupo y que al momento de llegar al SPA no estaban en el sistema, al guía un día antes de ingresar al hotel se le confirmó las reservas que estaban ya en el sistema y fueron chequeadas por el recepcionista Ignacio, el propio Ricardo solicitó le pasaran una llamada al SPA y minutos después recepción llamó al SPA para ver si todo estaba bien y si se le había ayudado al guía con lo que solicitaba, Ignacio indica que hasta se le reservó mas espacio porque siempre se sabía que Ricardo enviaba mas personas al SPA y fue por este motivo que se dió todo por acordado. Cuando los huéspedes llegaron al SPA, no estaban en el sistema porque más temprano otros  huéspedes de collete que NO habían reservado con Howell  los confundieron y asumieron que esos huéspedes eran los de la reserva ya hecha, pero resulta que eran otros huéspedes que venían a reservar directamente. Esto ocasionó que no se les diera el servicio esperado y como consecuencia el guía a cargo demostró mucho enojo y descontento con el SPA y la reacción del recepcionista ante lo que sucedió.","Asignar Yeimy Miranda",null,null,"NO",1,176,"Servicio cliente spa"]
["2018-12-08",1096,902,"Huéspedes muy molestos por el ruido ocasionado por la construcción, al momento del check-out comparten su disgusto.","Asignar Don Minor Castro",null,null,"NO",1,176,"Construcción"]
["2018-12-08",1095,506,"Colaboradora mucama nos reporta que el murito de afuera de la hab se encuentra en muy mal estado ( pieza de madera podrida ). Tiene aspecto de que no se le da mantenimiento a las instalaciones.","Asignar Roberto Escoto",null,null,"NO",1,176,"Habitaciones"]
["2018-11-22",1094,405,"Huéspedes solicitan se mejore la calidad de las frutas.","Asignar Diego Cambronero",null,null,"NO",1,176,"Variedad desayuno"]
["2018-11-22",1093,405,"Huésped se queja porque no haybun trato igualitario entre turistas extranjeros y nacionales","Asignar Luis Carlos ",null,"Estandares de servicio Mauricio Aymerich","SI",1,176,"Servicio al cliente "]
["2018-12-03",1092,702,"Huésped molesto se queja del àrea de fumado, y solicita un lugar cercano para poder fumar.","Asignar Don Minor Castro",null,null,"NO",1,176,"Fumadores "]
["2018-12-04",1091,307,"No más pajillas de plastico, usen de otro tipo de material.","Asignar Diego Cambronero",null,null,"SI",1,176,"Suministros Bares"]
["2018-12-04",1090,604,"Huésped se queja de que en la habitación una silla no es suficiente.","N/A",null,null,"SI",1,176,"Silla en habitación"]
["2018-12-05",1089,301,"Aire acondicionado no funciona ni tampoco ventilador de techo.","Asignar Jairo Garcia",null,null,"NO",1,176,"A/C"]
["2018-01-12",1088,503,"Llegamos en la noche y nuestra primera interacción fue con el recepcionista quien fue muy impersonal y poco cálido.","Asignar Estibaliz Aguilar",null,"ESTANDAR DE SERVICIOS","SI",{"$f":"I$1","v":1},{"$f":"H$1","v":176},"Servicio cliente recepción"]
["2018-12-04",1087,205,"Se que tienen una ley que prohibe fumar en lugares públicos , pero no entiendo que un hotel grande no disponga de una zona interna para fumar, el camino hacia la entrada en la noche debido a los animales de la zona es peligroso.","Asignar Don Minor Castro",null,null,"NO",1,176,"Fumadores "]
["2018-12-02",1086,105,"La comida a nivel general del hotel esta sobrevalorada y no es buena en lo absoluto.","Asignar Greivin Salazar ",null,null,"2019-01-20",1,176,"Calidad comida"]
["2018-12-01",1085,111,"Huésped se queja del desayuno e indica que puede mejorar teniendo mejores opciones en panes y queques.","Asignar Greivin Salazar ",null,null,"2019-01-20",1,176,"Variedad desayuno"]
["2018-12-03",1084,611,"Huéspedes se quejan fuertemente porque al llegar su Internet no funciona y piden tener ese servicio habilitado lo mas pronto posible.","Asignar Arnaldo Moreira",null,null,"Si",1,176,"Wifi"]
["Inicia registrando aquí la fecha de la queja.",1083,606,"No funciona el Internet, huésped llama quejandose por el mal servicio de Internet que tiene el hotel.","Asignar Arnaldo Moreira",null,null,"SI",1,176,"Wifi"]
["2018-12-03",1082,712,"Huéspedes se quejan por el mal funcionamiento del Internet, a su llegada reportan que no tienen señal de Wi-Fi.","Asignar Arnaldo Moreira",null,null,"SI",1,176,"Wifi"]
["2018-12-01",1081,310,"Huéspedes se quejan porque la acera de la habitación es muy oscura y no hay oluminación adecuada lo cual hace peligroso el caminar por ahí.","Asignar Jairo Garcia",null,null,"NO",1,176,"Iluminación Jardines"]
["2018-12-01",1080,606,"Huésped se queja porque el hotel no dispone de jabón en gel, no le gusta el jabón de barra.","N/A",null,"Desestimada por cuestión de estandares e higiene.","N/A",1,176,"N/A"]
["2018-11-30",1079,210,"Huésped se queja de la manera en que se maneja el cambio de toallas en las habitaciones, él mismo indica que sería muy bueno si seguimos el procedimiento que aparece en la información que se brinda ( solo las toallas en el suelo serán cambiadas, las que se mantienen colgando que se dejen ahi) El huésped se queja porque a pesar de no dejar ninguna toalla en el suelo, todas sus toallas fueron cambiadas.","Asignar Roberto Escoto",null,"Por favor pasar el estandar de limpieza de habitacion. Mencionado en la queja ","NO",1,176,"Limpieza en habitación"]
["2018-11-30",1078,503,"Huésped se queja de que durante su estadía el restaurante principal nunca estuvo abierto.","Asignar Diego Cambronero",null,null,"NO",1,176,"Servicio cliente restaurante "]
["2018-11-29",1077,401,"Huésped se queja del Shampoo y acondicionador en botellas plasticas, sugiere un dispensador.","N/A",null,"Por higiene y estandar se desestima la queja","N/A",1,176,"N/A"]
["2018-11-28",1076,410,"Restaurante muy pobre en calidad y demasiado caro. La pasta fue de bja calidad.","Asignar Greivin Salazar ",null,null,"2019-01-20",1,176,"Calidad comida Italiano"]
["2018-11-27",1075,801,"La puerta del baño no cierra bien, se encuentra desmontada y no calza con el marco.","Asignar Jairo Garcia",null,null,"NO",1,176,"Habitaciones"]
["2018-11-26",1073,509,"Huéspedes se quejan porque al momento de que se les recibió se les entregó toallas y bebida pero no les dieron tiempo de disfrutar de la bebida y poder sentarse tranquilos cuando venían con equipaje y cosas, ellos dicen que los obligaron a ir a recepcion inmediatamente y hacer el check-in a pesar de que venían cansados, alegan que no se debe recibir a un huésped de esa manera.","Asignar Estibaliz Aguilar","Se reforzó el recibimiento del cliente en los estandares de los botones.","ESTANDAR DE SERVICIOS","SI",1,176,"Servicio cliente botones"]
["2018-11-26",1073,509,"Huéspedes se quejan porque al momento de que se les recibió se les entregó toallas y bebida pero no les dieron tiempo de disfrutar de la bebida y poder sentarse tranquilos cuando venían con equipaje y cosas, ellos dicen que los obligaron a ir a recepcion inmediatamente y hacer el check-in a pesar de que venían cansados, alegan que no se debe recibir a un huésped de esa manera.","Asignar Estibaliz Aguilar",null,null,"SI",{"$f":"I$1","v":1},{"$f":"H$1","v":176},"Servicio cliente recepción"]
["2018-11-26",1074,307,"Huésped en llamada de bienvenida indica que su aire no funciona como debería y que no enfría.","Asignar Estibaliz Aguilar",null,null,"SI",1,176,"Servicio cliente recepción"]
["2018-11-26",1071,509,"A/C no enfría bien y huésped muy molesto indica a recepción que esta decepcionado del hotel.","Asignar Estibaliz Aguilar","Cambio de baterías",null,"SI",1,176,"Servicio cliente recepción"]
["2018-11-26",1072,"N/A","Colaboradores botones reportan que constantemente escuchan a los huéspedes hablar que el área del parqueo es oscura y que necesita una mejor iluminación. Ellos coinciden en que se necesita colocar bombillos mas fuertes y un par de lámparas adicionales.","Asignar Jairo Garcia",null,null,"No",1,176,"Iluminación Jardines"]
["2018-11-25",1069,404,"Huésped se acerca a recepción indicando que el A/C no funciona y no enfría nada, nos pide que se revise mañana porque tiene a sus hijas durmiendo ahora mismo.","Asignar Jairo Garcia","Precnetar programa de mantenimiento y lista de revición",null,"No",1,176,"A/C"]
["2018-11-26",1070,509,"Huéspedes disconformes en general desde su llegada se acercan a recepción informando de una queja más, esta vez alegan que el TV es pésimo y que la señal no es buena.","Asignar Roberto Escoto","27-11-2018 presentar CHECK LIST PARA LAS HABITACIONES. Firmados,                                     (6-12-2018) En Check list no aparece la revisión del funcionamiento del T.V.",null,"SI",1,176,"Chequeo habitaciones"]
["2018-11-25",1067,102,"La recepción debe de tener un mejor botiquín equipado con lo bàsico y necesario para los huéspedes en caso de algún incidente. A la hora de solicitarlo estaba muy escaso.","Asignar Estibaliz Aguilar","Se recargó el botiquín con lo básico.",null,"SI",1,176,"Servicio cliente recepción"]
["2018-11-25",1068,205,"Huéspedes de Inglaterra decepcionados de la habitación con la que se fueron a encontrar, ellos reclaman que no es una juniro suite y que el espacio es muy reducido, llaman a recepción quejandose porque no es lo que esperaban y que adicional al lado de su habitación hay mucho ruido de otros huéspedes que hace aún más decepcionante su estadía.","N/A",null,null,"N/A",1,176,"N/A"]
["2018-11-24",1065,404,"Huéspedes se quejan del acceso a la habitación 404, indica que como pueden llamar a esa habitación una habitación para discapacitados si no se puede accesar con silla de ruedas por si solo, el muchacho utiliza silla para movilizarse todo el tiempo pero no es posible pasar de la calle a la habitación sin sufrir una caída.","Asignar Greivin Arredondo",null,null,"2019-01-15",1,176,"Sillas Discapacitados "]
["2018-11-23",1064,904,"Huésped se queja debido a que no encontró información de los precios del mini bar en la habitación. Nadie le informó nada al respecto.","Asignar Estibaliz Aguilar","Servicio al cliente se asegurará de que el guía brinda la información o sino hacerlo al momento de check-in.",null,"SI",1,176,"Servicio cliente recepción"]
["2018-11-24",1063,410,"Precios de los vinos demasiado caros.","Asignar Diego Cambronero",null,null,"2019-01-20",1,176,"Precios vino"]
["2018-11-24",1062,606,"Huespédes se quejan porque el telefono de la habitacion no sirve para hablar a restaurantes o transferir sus llamadas.","Asignar Don Minor Castro",null,null,"No",1,176,"Central telefonica"]
["2018-11-24",1061,102,"Huéspedes se quejan porque no es posible transferir sus llamadas a restaurantes u otros puntos de venta.","Asignar Don Minor Castro",null,null,"No",1,176,"Central telefonica"]
["2018-11-24",1060,208,"Huéspedes se quejan porque desde sus habitaciones no se pueden transferir las llamadas, no es posible contactarlos con restaurantes u otros puntos de venta. ","Asignar Don Minor Castro",null,null,"No",1,176,"Central telefonica"]
["2018-11-24",1059,703,"Huésped molesta llama a recepción por segunda vez indicando que anteriormente llamó solicitando el room service para retirar los platos y nunca llegaron por ellos a pesar que le indicaron que iban para allà, su primera llamada fue a las 7pm y luego volvió a llamar a las 9pm porque no le habían retirado sus platos.","Asignar Antonio Ferreto ",null,null,"No",1,176,"Servicio cliente restaurante "]
["2018-11-22",1058,102,"Colaborador Fernando reporta que al momento de cambiar a los huéspedes de la 110 a la 102 a eso de las 9:30pm, al mostrar la hab la misma no tenía paños en ninguna parte.","Asignar Roberto Escoto","La respuesta no es acorde a la queja ya que la entrega de la hab se hizo a las 9:30pm, es decir a esa hora no había paños, no es posible que a esa hora hubiera que esperar por los encargados de los chocolates ya que ellos salían a las 8pm.",null,"SI",1,176,"Limpieza en habitación"]
["2018-11-22",1057,110,"Huésped se queja porque en su hab no hay agua caliente.","Asignar Jairo Garcia",null,null,"No",1,176,"Agua caliente"]
["2018-11-22",1056,514,"Aire acondicionado no funciona correctamente, la primera noche huéspedes informan de la situación ya que no enfría bien. La segunda noche llaman de nuevo porque a pesar de que les dijeron que estaba reparado, nuevamente no enfría.","Asignar Jairo Garcia",null,null,"No",1,176,"A/C"]
["2018-11-22",1055,514,"Huéspedes minutos después del check-in e ingreso de habitación reclaman porque se encuentran varios bombillos de la habitación quemados.","Asignar Roberto Escoto","Justificar la respuesta con boleta de reparación o fecha y hora de reporte de ding dong ",null,"Sin Resolucion ",1,176,"Limpieza en habitación"]
["2018-11-21",1054,110,"Huésped se queja porque considera que el hotel debería tener mejor y completa información en la habitación, por ejemplo horarios de restaurantes, menús, servicios del hotel,etc.","Asignar Don Minor Castro",null,null,"No",1,176,"Publicidad doc Informativo"]
["2018-11-21",1053,415,"Favor cambiar el piso del restaurante ya que es muy resbaloso y peligroso.","Asignar Roberto Escoto",null,null,"Si",1,176,"Restaurante"]
["2018-11-20",1052,205,"Huésped se queja porque en el sanitario el agua sale constantemente y no hay alguna tapon que detenga el agua, esto le molesta porque en realidad el hotel no preserva el agua.","Asignar Roberto Escoto","Cambio de zapillo, sin envidencia contundente. (6/12/18) boleta mant u hora y fecha ",null,"Sin Resolucion ",1,176,"Limpieza en habitación"]
["2018-11-20",1051,205,"Restaurante con precios muy elevados.","Asignar Diego Cambronero",null,null,"2019-01-20",1,176,"Precios Comidas Italiano"]
["2018-11-20",1050,205,"Máquina de café y copas de la habitación se encontraban sucias.","Asignar Roberto Escoto",null,null,"SI",1,176,"Limpieza en habitación"]
["2018-11-20",1049,710,"Huéspedes extremadamente molestos al momento de llegar a la habitación se percatan del fuerte ruido de la construcción y deciden no bajarse de su auto hasta que se les dé otra habitación donde puedan estar tranquilos.","Asignar Don Minor Castro",null,null,"No",1,176,"Ruido habitación"]
["2018-11-19",1048,708,"Huéspedes se quejan por ruido ocasionado por la construcción, llaman molestos indicando que así no es posible descansar ni vacacionar.","Asignar Don Minor Castro",null,null,"No",1,176,"Ruido habitación"]
["2018-11-19",1047,512,"Huésped molesto porque el agua del jacuzzi no es caliente, practicamente lo que calienta es nulo y no se encuentra a gusto. Solicita revisar el funcionamiento del jacuzzi.","Asignar Jairo Garcia",null,null,"No",1,176,"Jacuzzi"]
["2018-11-19",1046,601,"Huésped se queja del reloj alarma de las habitaciones, una vez que el botones va y lo configura todo bien pero al momento de que los huéspedes salen de su habitación se vuelve a desconfigurar, cuestionan como un reloj va estar parado y como pretenden que se use un reloj así.","Asignar Roberto Escoto",null,"Identificar el toma, fuera del circuito del sistema inteligente.","Si",{"$f":"I$1","v":1},{"$f":"H$1","v":176},"Habitaciones"]
["2018-11-18",1045,710,"Huésped se queja de recepción, ya que faltó que les informaran que debían abrir crédito antes de usar las instalaciones.","N/A",null,null,"N/A",1,176,{"$error":"#N/A"}]
["2018-11-17",1044,703,"Para las habitaciones de discapacitados poner la altura de la cama adecuada ya que es muy alta para una persona con discapacidad, debe de quedar al nivel de la silla de ruedas para poder llamarse una habitación de discapacitados.","Asignar Don Minor Castro",null,null,"No",1,176,"Habitaciones"]
["2018-11-18",1043,205,"Huésped llama muy enojado a Recepción porque en la habitación no hay un tapón para el lavatorio, el nos dice que necesita afeitarse y que es necesario para él llenar el lavatorio hasta arriba, pide que le solucionen inmediatamente y solicita al siguiente día una cita con el gerente.","Asignar Dariel Miranda",null,null,"Si",1,176,"Habitaciones"]
["2018-11-18",1042,901,"Huésped extremadamente molesto reclama que viene desde Florida y que el A/C de la habitación no enfría, a pesar de reportarlo en la mañana para la noche el aire seguía igual y eso lo tenía muy decepcionado, él comenta que no tiene porque pagar los errores del hotel ya que al momento de llegar mantenimiento le dijeron que el A/C así era como trabajaba ya que no era un aire moderno.","Asignar Jairo Garcia",null,null,"No",1,176,"A/C"]
["2018-11-17",1041,711,"Compañero botones reporta que la hab al ser entregada tenía un fuerte olor a pintura y que esto incomodó un poco a los huéspedes cuando estaban entrando a la hab.","Asignar Roberto Escoto",null,null,"Sin Resolucion ",1,176,"Habitaciones"]
["2018-11-18",1040,111,"Botones Jason reporta que la hab 111 al momento de ser entregada se encontraba con varias partes del baño mojadas y con extractos de jabón en una de las paredes, esto fue percibido por los huéspedes los cuales inmediatamente se mostraron molestos alegando que querían una hab que estuviera en condiciones y que no pareciera sucia.","Asignar Roberto Escoto",null,"Por favor pasar carta de amonestacion ","NO",1,176,"Habitaciones"]
["2018-11-18",1039,0,0,null,null,null,null,1,176,0]
["2018-11-16",1038,602,"Huésped se queja debido a que considera debemos mejorar a la hora de brindar información, otros huéspedes tuvieron que decirme como funcionaba el servicio de lavandería, me dí cuenta de las clases de yoga muy tarde, quería usar el SPA pero nunca me dieron información de los precios o como reservar.","Asignar Estibaliz Aguilar",null,"Proceso de servico al cliente ","SI",1,176,"Servicio cliente recepción"]
["2018-11-17",1037,504,"Precios de los vinos cuestan el doble de lo que hemos pagado en todo lado, y son de calidad inferior.","N/A",null,null,"N/A",1,176,"N/A"]
["2018-11-17",1036,301,"Huésped se queja por la secadora de pelo, no calienta correctamente.","Asignar Roberto Escoto",null,"enviar reporte del ding done con el cambio de equipo ","No",1,176,"Habitaciones"]
["2018-11-10",1035,305,"Huésped sugiere que el hotel podría mejorar si tuviera la opción de TODO INCLUIDO.","N/A",null,null,"N/A",1,176,"N/A"]
["2018-11-17",1034,606,"Huésped se queja porque considera que el espejo grande en frente del sanitario debe de estar en la habitación y que ademas hacen falta mas ganchos para colocar la ropa.","Asignar Roberto Escoto",null,null,"SI",1,176,"Habitaciones"]
["2018-11-16",1033,207,"Las cajas fuertes de las habitaciones 201,207,209 y 205 necesitan ser reparadas.","Asignar Roberto Escoto",null,"EL DEPARTAMENTO DE BOTONES CAMBIO TECLADOS ","SI",1,176,"Habitaciones"]
["2018-11-16",1032,201,"Huésped se queja de la atención y el mismo dice que tuvo problemas para que las ordenes individuales estuvieran correctas.","Asignar Antonio Ferreto ",null,null,"NO",1,176,"Servicio cliente restaurante "]
["2018-11-15",1031,708,"Aire acondicionado no enfriaba en lo absoluto.","Asignar Jairo Garcia",null,null,"No",1,176,"A/C"]
["2018-11-15",1030,802,"Huésped se queja debido a que el bartender en el  bar húmedo fue muy rápido para aumentar las ventas y eso se malinterpreta.","Asignar Diego Cambronero",null,null,"SI",1,176,"Servicio cliente bar humedo"]
["2018-11-15",1029,802,"Wifi no funcionó en la habitación.","N/A",null,null,"N/A",1,176,"Wifi"]
["2018-11-15",1028,801,"El personal del bar húmedo fue muy insistente y presionaba para que comparamos más, ante cada oportunidad querían aumentar la venta.","Asignar Diego Cambronero",null,null,"SI ",1,176,"Servicio cliente bar humedo"]
["2018-11-15",1027,601,"Las llaves de la habitación no funcionaban, tuve que ir a recepción a resetearlas.","Asignar Estibaliz Aguilar",null,null,"Si",1,176,"Servicio cliente recepción"]
["2018-11-13",1026,408,"Huésped se queja por el mal funcionamiento del telefono, èl necesitaba una wake-up call y tambien llamar a recepción y a pesar de que se le dijo que lo estaban arreglando al llegar de tour no se encontraba reparado.","Asignar Jairo Garcia",null,null,"NO",1,176,"Central telefonica"]
["2018-11-14",1025,415,"Colaborador Oscar nos reporta que en varias ocasiones los huéspedes han comentado acerca del estado de la llave para drenar el jacuzzi la cual se encuentra afuera de la habitación. ( llave herrumbrada y en un mal estado)","Asignar Don Minor Castro",null,"Esta tiene varios meses de antigüedad, ya se habia dado por resuelta pero no fue así, le agradecemos que le de seguiemiento.","no",1,176,"Jacuzzi"]
["2018-11-12",1024,709,"precios muy caros a nuestra opinión.","Asignar Diego Cambronero","Galeria",null,"2019-01-20",{"$f":"I$1","v":1},{"$f":"H$1","v":176},"Precios Souvenir"]
["2018-11-12",1023,"N/A","En el italiano las pizzas son grandes pero las ensaladas vienen pequeñas. Hacer hincapié en eso.","Asignar Greivin Salazar ",null,null,"2019-01-20",1,176,"Precios"]
["2018-11-12",1022,"N/A","El bar de pileta nos pareció con precios un poco elevados y poca variedad","Asignar Greivin Salazar ",null,null,"2019-01-20",1,176,"Precios"]
["2018-11-11",1021,903,"El cliente dice que el salonero le vendió a la fuerza una botella de vino de $145 , dice que lo presionó cuando él llegó a cenar ya le tenía esa botella fría en lugar de mostrarle el menú.","Asignar Antonio Ferreto ",null,null,"NO",1,176,"Servicio cliente restaurante "]
["2018-11-11",1020,208,"NO HAY SEÑAL DE CABLE ","Asignar Jairo Garcia",null,null,"NO",1,176,"Señal TV"]
["2018-11-08",1019,609,"Señal de televisión muy mala.","Asignar Jairo Garcia",null,null,"No",1,176,"Señal TV"]
["2018-11-08",1018,212,"Huéspedes se quejan por el pésimo servicio de cable, la imagen se ve fatal y estan muy decepcionados de un hotel 4 estrellas con televisión por cable tan mala.","Asignar Jairo Garcia",null,null,"No ",1,176,"Señal TV"]
["2018-11-07",1017,701,"Huésped se queja porque no hay silla en la habitación y porque el lavatorio es muy pequeño.","Asignar Greivin Arredondo",null,null,"Si",1,176,"Silla en habitación"]
["2018-11-04",1016,205,"Huésped se queja porque no encontró menu libre de gluten en los restaurantes y además expresa que debe existir una preparacion y capacitación del personal para atender personas celiacas.","Asignar Diego Cambronero",null,null,"2019-01-20",1,176,"Menú Celiacos"]
["2018-11-06",1015,415,"Huésped se queja porque considera que el hotel debería rellenar el mini bar diariamente.","N/A",null,null,"Alto costo",1,176,"N/A"]
["2018-11-06",1014,414,"Huésped se queja por el tamaño de las barras de jabón, solicita sean mas grandes.","N/A",null,null,"N/A",1,176,"N/A"]
["2018-11-04",1013,403,"Huésped se queja porque la persona encargada de entregar toallas no se encontraba cuando llegó por su toalla.","Asignar Estibaliz Aguilar",null,"Estandares de servicio Mauricio Aymerich","SI",{"$f":"I$1","v":1},{"$f":"H$1","v":176},"Lockers"]
["2018-11-05",1012,209,"El aire acondicionado de la habitación no estaba configurado cuando llegamos, necesita reemplazarse por uno moderno ya que es ruidoso y la caracteristica de moverse para que aire vaya a diferentes direcciones no funcionó nunca.","Asignar Jairo Garcia",null,null,"2018-11-20",1,176,"A/C"]
["2018-11-03",1011,109,"Huésped se queja por el uso de pajillas.","Asignar Antonio Ferreto ",null,null,"NO",1,176,"Servicio cliente restaurante "]
["2018-11-04",1010,507,"Huésped se queja por la poca felxibilidad en cuanto a la hora de entrada y salida.","N/A",null,null,"N/A",1,176,"N/A"]
["2018-11-04",1009,903,"Huésped se acerca a recepción molesta indicando que hoy por la mañana su habitación y la de sus familiares a la par (904) despues de 3 minutos en la ducha solamente sale agua fría, nos pide revisar las duchas de las habitaciones para poder ducharse con agua caliente ya que tienen a su hija y es necesario que les brindemos una solución.","Asignar Jairo Garcia",null,null,"2018-12-20",1,176,"Agua caliente"]
["2018-11-04",1008,304,"Podrìan mejorar con algún tipo de entretenimiento nocturno como música en vivo o algun show similar.","Asignar Don Minor Castro",null,"Si es posible retomar la idea de la pregola del bar humedo.","NO",1,176,"Entretenimiento"]
["2018-04-11",1007,207,"Huésped se queja por la mala experiencia con la cual finalizó su estancia en el hotel, ellos tenían 2 habitaciones juntas y solicitaron un late check-out a las 2:00pm, sin embargo al estar lleno el hotel no fue posible y se les dio la posibilidad de utilizar las instalaciones y bañarse en los lockers. Al parecer esto ocasionó una gran molestia, porque los huèspedes indican que el área donde los enviaron a bañarse no es apta y que ahí tuvieron una experiencia muy triste y decepcionante.","Asignar Don Minor Castro",null,null,"N/A",1,176,"Lockers"]
["2018-11-01",1006,608,"Huésped se queja porque no hay una buena iluminación a los lados de la cama para poder leer, y además reclama por no haber una silla en la habitación.","Asignar Gilberth Mejías",null,null,"2019-01-30",1,176,"Iluminación Habitación"]
["2018-11-01",1005,404,"Huésped se queja que los precios deberian de ser mas bajos en el sushi y en el bar de la piscina, es inclusive mas caro que una bebida en europa.","Asignar Diego Cambronero",null,null,"2019-01-20",1,176,"Precios"]
["2018-10-27",1004,902,"NO vender el agua a un precio tan elevado.","N/A",null,null,"N/A",1,176,"Precios Souvenir"]
["2018-10-30",1003,208,"Expandir el souvenir ya que es muy pequeño y que puedan proveer un lugar conveniente con bebidas y comida.","Asignar Don Minor Castro",null,null,"2019-09-01",{"$f":"I$1","v":1},{"$f":"H$1","v":176},"Servicio C. Tienda"]
["2018-10-30",1002,208,"Poner ventiladores o ventilación en los baños","N/A",null,null,"N/A",1,176,"N/A"]
["2018-10-30",1001,301,"Huésped llama a recepción porque su A/C no funciona correctamente.","Asignar Jairo Garcia",null,null,"NO",1,176,"A/C"]
["2018-10-29",1000,506,"los precios de la comida y especialmente las bebidas son muy altos.","Asignar Greivin Salazar ",null,null,"2019-01-20",1,176,"Precios Comidas Italiano"]
["2018-10-29",999,106,"Huèsped se queja porque no hay sombrillas en las habitaciones.","N/A",null,null,"Alto costo, procedimiento ya establecido",1,176,"N/A"]
["2018-10-28",998,211,"La cafetera de la habitación no tiene filtros.","N/A",null,null,"N/A",1,176,{"$error":"#N/A"}]
["2018-10-29",997,503,"Precios excesivamente caros.","Asignar Diego Cambronero","Menú nuevo",null,"2019-01-20",1,176,"Precios Sushi"]
["2018-10-29",996,205,"Huésped se queja por no haber mayor oferta gastronomica en el hotel ni mejores opciones libres de gluten.","Asignar Greivin Salazar ",null,null,"2019-01-20",1,176,"Menú Celiacos"]
["2018-10-26",995,411,"Huèsped se queja por la poca iluminaciòn en las esquinas de cada callejòn, menciona que le encantarìa ver mejor iluminaciòn con los nùmeros de las habitaciones alumbrando.","Asignar Greivin Arredondo",null,"Lamparas  solares","2019-01-15",1,176,"Iluminación Jardines"]
["2018-10-25",994,209,"Bueno el desayuno pero terminè decepcionado porque estuvo cerrado nuestra estadìa entera, no tuve oportunidad de experimentar de la cultura tica porque siempre estuvo cerrado.La comida estuvo mas o menos en general, lo digo porque las porciones eran pequeñas.","Asignar Greivin Salazar ",null,null,"2018-12-11",1,176,"Menú típico"]
["2018-10-27",993,208,"Como visitante de temporada baja me gustarìa ver mas y mejores opciones de almuerzo y cena.","Asignar Greivin Salazar ",null,null,"2018-12-11",1,176,"Variedad platos"]
["2018-10-27",992,208,"Insectos en los helados. No fue una buena opciòn comprar ahì.","Asignar Diego Cambronero","Proceso de limpieza nuevo, cambio de camara que estaba dañada. Proceso firmado ",null,"No",1,176,"Servicio C. Tienda"]
["2018-10-27",991,208,"Menù muy limitado y extremadamente caro","Asignar Greivin Salazar ",null,null,"2019-01-20",1,176,"Calidad precio"]
["2018-10-24",990,904,"Pueden mejorar su servicio con una mejor ayuda con la conversión de dinero. Me dijeron que un taxi cuesta 12 dolares a la Fortuna pero la \"maria\" marca 5000 colones, se supone que son 10 dòlares. No entendì porque.","Asignar Estibaliz Aguilar","Encargados de servicio de taxi van a cobrar a 10 dolares utilizando la maría siempre variando por el tipo de cambio.",null,"SI",1,176,"Precios"]
["2018-10-25",989,108,"Deberìan entregar un brochure con informaciòn del hotel para futuras visitas.","N/A",null,null,"N/A",1,176,"N/A"]
["2018-10-25",988,108,"El servicio muy bueno pero el sabor del arroz con camarones no era el mejor.","Asignar Greivin Salazar ",null,null,"2019-01-20",1,176,"Calidad comida Italiano"]
["2018-10-23",987,504,"Podrìan mejorar en tener en el hotel servicio de alquiler de carros y un supermercado mas cerca.","N/A",null,null,"N/A",1,176,"N/A"]
["2018-10-23",986,504,"muy caro, por una cerveza de lata 5 dòlares.","N/A",null,null,"N/A",1,176,"Precios"]
["2018-10-28",985,202,"Cama nido que se colocò a peticiòn de huèsped se encontraba en muy mal estado, quebrada y no en las mejores condiciones.","Asignar Greivin Arredondo","Dispositivo de soporte",null,"2019-01-15",1,176,"Camas nidos"]
["2018-10-28",984,"N/A","Buenos días Compañeros \n\nTengan muy buen día todas y todos.\n\nLes comparto el siguiente  incidente , durante el desayuno de hoy.\n\nLa mañana de hoy la compañera Karen Núñez se acercó a mi persona y me indico , que aparentemente estaban cayendo del cielo raso, excremento de ratas.\n\nEstaba en espera de  terminar el desayuno , para informar al señor Jairo.\n\nLamentablemente, ella no se equivocaba.\n\nMinutos después , cayó muy cerca de una de las mesas, una rata.  La compañera Hazel y el señor Ariel, pudieron recogerla y disponer de ella, pero lamentablemente los huéspedes    , en el salón B , se dieron cuenta.\n\nLas habitaciones a nombre de la familia LAINES, son 603-703-903.\n\nMi recomendación seria , entrar lo más pronto posible en un programa de exterminio y/o previsión a l asunto.\n\nEspero que la información sea de ayuda.\n","Asignar Jairo Garcia","Procedimiento mejorado",null,"2018-11-15",1,176,"Plagas en restaurante"]
["2018-10-21",983,111,"Huésped se queja por no haber ventiladores en los restaurantes que permitan un mejor flujo de aire.","Asignar Don Minor Castro",null,null,"2019-02-01",1,176,"Ventilación Restaurantes"]
["2018-10-20",982,701,"Huésped se queja porque el hotel no tiene NETFLIX con costo agregado en las habitaciones para el hospedaje.","Asignar Greivin Arredondo",null,"Es personal","Si",{"$f":"I$1","v":1},{"$f":"H$1","v":176},"NETFLIX"]
["2018-10-17",981,505,"Precios muy altos.","Asignar Diego Cambronero",null,"Menú nuevo","2019-01-20",1,176,"Precios tienda"]
["2018-10-17",980,505,"Comida buena pero sobrevalorada.","Asignar Diego Cambronero",null,"Menú nuevo","2019-01-20",1,176,"Precios Comidas Italiano"]
["2018-10-19",979,705,"Los trabajos de construcción detrás de nosotros comenzaron muy temprano a las 7am y eran demasiado ruidosos. No fue muy gratificante ni tranquila la estadía por ese motivo.",null,null,null,"N/A",1,176,"Ruido habitación"]
["2018-10-21",978,512,"Huésped al momento del check-out nos comparte la queja que el día 20 de octubre ( día de su boda) se había coordinado la limpieza y decoración respectiva para que cuando llegaran de su boda encontraran la sorpresa, sin embargo cuando la mucama llegó a hacer lo solicitado ellos se encontraban alistandose y preparando todo para la boda por lo que pidieron a la mucama venir más tarde ya cuando se hubieran marchado. La situación que molestó a la huésped fue que cuando llegaron de su boda a celebrar la luna de miel la habitación era un desastre y no había ninguna decoración. Ella nos expresó que habían hecho un esfuerzo muy grande para conseguir disfrutar de su luna de miel en esa habitación y que al final lo que recibieron fue una decepción en lugar de una grata sorpresa. ","Asignar Greivin Arredondo",null,null,"Si",1,176,"Chequeo habitaciones"]
["2018-10-18",977,"N/A","Locker #18 de los hombres posee número erroneo en su llavero. Revisar estado y números de los llaveros.","Asignar Estibaliz Aguilar","Colocación Stickers nuevos.",null,"SI",1,176,"Lockers"]
["2018-10-18",976,402,"Los botones del jacuzzi no funcionaban bien a ciertas horas.","Asignar Jairo Garcia","Horario de encendido y apagado a partir de ahora.",null,"SI",1,176,"Jacuzzi"]
["2018-10-17",975,608,"NO ofrezcan pajillas para las bebidas a la hora de servir una comida, son muy malas para el medio ambiente.",null,null,null,"N/A",1,176,0]
["2018-10-18",974,306,"Huésped se queja que en el souvenir  las tallas de ropa se encontraban todas mezcladas y en desorden y fue difícil encontrar la ropa.","Asignar Diego Cambronero",null,"En espera del nuevo souvenir para disoner de mas espacio ","2019-12-01",1,176,"Servicio C. Tienda"]
["2018-10-17",973,312,"Las bebidas estuvieron ok pero no fueron algo grandioso.","Asignar Antonio Ferreto ",null,"se refiere a cocteles de happy hours","Si",1,176,"Cockteles bares"]
["2018-10-17",972,109,"Solamente teníamos shampoo y acondicionador pero nunca tuvimos gel de baño lo cual sería una muy buena idea.",null,null,null,"N/A",1,176,"Amenidades"]
["2018-10-17",971,109,"Huésped se queja que al desayuno una sola waflera no es suficiente para el número de personas presentes, se necesita demasiado tiempo para un waffle y no le gustó esperar tanto.","Asignar Greivin Salazar ",null,"Waflera nueva","Si",1,176,"Calida Desayuno"]
["2018-10-17",970,103,"Huésped se queja del ruido ocasionado durante las dos noches de su estadía por el televisor de la habitación adyacente. Indica que pudo escuchar de todo y que hasta se sorprendió de lo que escuchó.",null,null,null,"N/A",1,176,"Ruido habitación"]
["2018-10-17",969,501,"Huésped se queja por no haber una silla en la habitación, dice que es muy difícil ponerse la ropa en una cama alta.","Asignar Greivin Arredondo",null,null,"Si",1,176,"Silla en habitación"]
["2018-10-18",968,125,"Habitaciones 125-126 reportadas por el chofer y guía con cucarachas entre el aire acondicionado, se quejan de una posible plaga la cual intentaron matar con insecticidad pero aún así salieron más en la noche.","Asignar Jairo Garcia","Entregar programa de fumigación",null,"2018-11-22",1,176,"Plagas Habitaciones"]
["2018-10-18",967,605,"Huésped luego de llegar del check-in llama molesto a recepción porque su aire acondicionado no funciona bien, él mismo pide que le den un tiempo para descansar y que más tarde le intenten solucionar el problema.","Asignar Roberto Escoto","Por favor presentar el lista de chequeo",null,"si",1,176,"Chequeo habitaciones"]
["2018-10-16","966",602,"Cable HDMI en muy mal estado, no permitió llevar a cabo una charla de chocolate planeada para el grupo ROAD SCHOLAR ( Arenal Manoa).","Asignar Diego Cambronero","instructivo firmado ",null,"No",{"$f":"I$1","v":1},{"$f":"H$1","v":176},"Proyector Manantial "]
["2018-10-15",965,611,"Restaurante del Sushi malo. Además el bar de la piscina debería de dar también al agua fría ","Asignar Greivin Salazar ",null,"Verificar la reincidencia de esta queja, si no hay mas quejas darla como resuelta","2018-12-23",1,176,"Calidad Sushi"]
["2018-10-15",964,507,"Mejorar la variedad de los desayunos especialmente cuando se viene varios días.","Asignar Greivin Salazar ",null,"Costeo de las opciones nuevas para el desayuno","2019-01-05",1,176,"Calida Desayuno"]
["2018-10-13",963,204,"Televisor de Recepción es horrible. Esto es algo que deberían mejorar","Asignar Luis Carlos ","Video en proceso de Yuli",null,"Si",1,176,"Servicio cliente recepción"]
["2018-10-13",962,206,"Caja de seguridad no funciona","Asignar Roberto Escoto","POR FAVOR LEVANTAR LISTA DE LOS DEMÁS TECLADOS DETERIORADOS","Se cambió el teclado de la caja","si",1,176,"Habitaciones"]
["2018-10-14",961,107,"Huésped se queja de precios. Crema de hongos cuesta igual que una pizza hawaiana","Asignar Diego Cambronero",null,"Menu Nuevo","2019-01-20",1,176,"Calidad comida Italiano"]
["2018-10-14",960,107,"Toallas de piscina ya son beige y no azules como lo dice los rótulos en el área de las termales. Ver rotulación y renovarla.","Asignar Jairo Garcia","Retirrar rótulo con información errónea.",null,"si",1,176,"Piscinas "]
["2018-10-14",959,107,"Huésped se queja de los brazaletes, sugieren que no sean de plástico.","Asignar Estibaliz Aguilar",null,"Se le propone a don Minor eliminar el brazalete unos dias como prueba, no se aprueba el eliminarlos","Si",1,176,"Brazaletes"]
["2018-10-14",958,701,"Pedí papas a las 11 y no me las dieron porque el aceite estaba frío.","Asignar Greivin Salazar ",null,null,"SI",1,176,"Calidad Sushi"]
["2018-10-14",957,409,"Huésped se queja de los precios de los restaurantes, 40 000 un almuerzo? ","Asignar Diego Cambronero",null,"Menu Nuevo","2019-01-20",1,176,"Precios Comidas Italiano"]
["2018-10-14",956,204,"Huésped se queja indicando que hay una necesidad de enmasillar el area entre el techo y el cielo raso en el baño.","Asignar Don Minor Castro",null,"Es parte del conecpto tropical del hotel ","SI",1,176,"Habitaciones"]
["2018-10-14",955,403,"Huésped se queja de las camas e indica que el hotel debe mejorar teniendo camas más suaves.","Asignar Roberto Escoto","Evidenciar la implementación del progama a un 100%",null,"si",1,176,"Colchon duro"]
["2018-10-14",954,403,"Huésped se queja de las opciones de comida, pide mejores opciones ya que para él la comida fue solo buena y no encontró nada especial en ella.","Asignar Diego Cambronero",null,"Menú nuevo","2019-01-20",1,176,"Calidad comida Italiano"]
["2018-10-15",953,305,"Mientras se iba a chequear una habitación con una ducha apta para lo que nos solicitaba un cliente se encontró que la ducha de la hab 305 no esta pegada y que al abrir toda la presión es muy vulonerable a safarse y caer en la cabeza de un huésped.","Asignar Roberto Escoto","Precnetar lista de revición",null,"SI",1,176,"Chequeo habitaciones"]
["2018-10-15",952,602,"Señora Kristine dueña de la agencia LatinEscapes se queja fuertemente indicando que ella conoce este hotel y que lo ha visitado en varias ocasiones pero que esta vez le han dado la peor habitación, ella se queja que la ducha no es regulable y que al momento de abrirla el agua sale disparada por todo lado sin poder bañarse o lavarse el pelo como ella quiere, además ella reclama por el ruido del ventilador del techo que se encuentra mal pegado y no los deja dormir. Ella nos hace ver que si pudiera irse se iría ahora mismo porque no se encuentra a gusto.","Asignar Roberto Escoto","presentar CHECK LIST PARA LAS HABITACIONES.","Se cambió el ventilador ","si",1,176,"Ruido habitación"]
["2018-10-14",951,121,"El guía de Collete el señor Ricardo Howell presentó la queja con respecto al menú que se le ofreció luego de traer a su grupo a cenar a nuestro restaurante, él mismo quedó disconforme ya que en otras ocasiones se le ha ofrecido menú abierto y esta vez tanto en el Rest Italiano como en el Ti-cain se le dió un menú carta paquete el cual no le agrado. Nos mencionó que la próxima vez su grupo iría a cenar afuera y se encontraba molesto por el accionar del hotel.","Asignar Diego Cambronero","politicas entregadas pero falta firmas ","Se solicita que por favor difunda las politicas de cortesias.","NO",1,176,"Servicio cliente restaurante "]
["2018-10-15",950,503,"503  La señora se queja de que el A/C no le sirvió en toda la noche, se revisa y efectivamente le falta refrigerante ","Asignar Jairo Garcia",null,"Se presentará el cronograma de mantenimiento preventivo terminado","2018-11-23",1,176,"A/C"]
["2018-10-13",949,410,"se queja ahora de que el A/C no sirve, efectivamente estaba sin refrigerante ","Asignar Jairo Garcia",null,"Se presentará el cronograma de mantenimiento preventivo terminado","2018-11-23",1,176,"A/C"]
["2018-10-13",948,705,"Huéspedes molestos por ruido ocasionado por la construcción.","Asignar Mario Lezama",null,null,"N/A",1,176,"Construcción"]
["2018-10-14",947,602,"A/C en mal estado, huésped se se queja porque no funciona como debería.","Asignar Jairo Garcia",null,"Se cambió tarjeta eléctronica quemada","SI",1,176,"A/C"]
["2018-10-14",946,903,"BUENAS NOCHES COMPAÑEROS\n\nLes describo el incidente que sucedió al final de la cena, con los huéspedes de la habitación 903 :\n\nDichos señores son personas muy amables, cenaron por segunda ocasión en este RESTAURANTE.\n\nEllos pidieron un  salmón, el cual viene acompañado de brócoli y coliflor.\n\nAl parecer ; lamentablemente, les salió un pequeño gusano.\n\nLa señora ya había terminado la cena casi por completo.\nEl señor Jhon Pinnel me indica del problema, reviso el plato y efectivamente lo tenía.\nMe aproximo a los huéspedes, quienes se manifestaron al respecto, muy respetuosos, comprensivos, pero me indicaron que la señora era fóbica a estos animalitos.\n\n\n","Asignar Greivin Salazar ",null,"Estan siendo mas cuidadosos en el proceso","SI",1,176,"Objetos en la comida"]
["2018-10-12",945,205,"Buenos días compañeros, \nMe gustaría comunicarles una situación que se dio hoy con el señor Eduardo Otero de la habitación 205 durante el check out. \nSe le comunico el monto a pagar por cargos extras, él dijo que iba a pagar en efectivo y en euros. Y bueno ya que se está dando la opción de que lo hagan procedimos a aceptar la moneda. Sin embargo, no aceptó el monto que se le dijo y mencionó que ese no era el tipo de cambio; además agregó que ayer se lo habían cambiado a 650 y que aun así salió perdiendo dinero. \nLe explique que 620 era el tipo de cambio que estaba autorizado a dar y no podía hacer ningún cambio al mismo. El señor ya en un tono más fuerte dijo que entonces estábamos ganando dinero extra  “a costas de su dinero”, pero le mencione que de hecho no se aceptan euros, pero que los recibimos para hacerles un favor ya que sabemos que quizás no tienen tiempo para ir al banco y nuevamente le mencioné que 620 era el cambio establecido por contabilidad. \n\nAl final, el señor pagó sus cargos y el tipo de cambio que se le estaba dando, pero no estaba contento. De mi parte no puedo hacer alguna alteración a lo que ya está esta por los compañeros de contabilidad, pero aun así les hice la consulta pero me dijeron lo mismo que ya le había mencionado al señor Otero. \n\nEstamos ofreciendo una pequeña ayuda a ellos aceptando los euros, pero no me parece respetuoso que ellos vengan a imponer lo que ellos desean cuando ya tenemos las cosas establecidas por los compañeros de contabilidad. Si vamos a otro país nos tenemos que apegar a las normas que rigen al mismo, incluyéndose en esto el tipo de moneda… Estamos siendo flexible al ayudarle a los clientes aceptando Euros, pero hasta cuando quieren cambiar dinero y no se les puede cambiar el monto que desean se enojan con nosotros. \n","Asignar Estibaliz Aguilar",null,"se incorporó dentro de los precesos de contabilidad la actualización de euro","2019-01-20",1,176,"Servicio cliente recepción"]
["2018-10-08",944,901,"Huéspedes se quejan de las camas que son duras.","Asignar Greivin Arredondo","Finalización de etiquetado a los colchones.",null,"si",{"$f":"I$1","v":1},{"$f":"H$1","v":176},"Colchon duro"]
["2018-10-08",943,405,"Huésped se queja porque habían muchas moscas durante el desayuno.","Asignar Greivin Arredondo",null,null,"2019-01-20",1,176,"Plagas en restaurante"]
["2018-10-06",942,206,"El frigorifico hace mucho ruido y es bastante molesto en la noche.","Asignar Dariel Miranda","Cambiar la refri",null,"si",1,176,"Ruido Refri"]
["2018-09-29",941,201,"pensamos que la habitación 201 es un poquito pequeña si los clientes son 4 adultos tomando en cuenta que casi todos nuestros clientes tienen cada uno una maleta grande y una maleta pequeña durante su viaje. Entonces, prestaremos atención a la categoría de habitación que reservamos por respecto a la composición de los grupos de clientes. ","N/A",null,null,"N/A",1,176,"N/A"]
["2018-09-29",940,201,"Primero, el hotel Arenal Springs nos parece ser una muy buena opción para nuestros clientes que quieren relajación y confort. Las aguas termales incluidas en el hotel son un valor agregado enorme. Además, esta zona termal está muy bien pensada con los dos bares, los jardines y las diferentes categorías de « piscinas » que hay. Solamente pensamos que el segundo bar (el que propone solamente bebidas y no el Sushi bar) merecería un poquito más de decoración para ser más acogedor todavía. ","Asignar Don Minor Castro",null,"En espera de la solución con Vanessa ","2018-12-15",1,176,"Remodelación"]
["2018-10-08",939,211,"Huésped se acerca a recepción indicando que anoche al abrir su closet y sacar la cobija, la misma se encontraba mojada y no la pudo utilizar en toda la noche.","Asignar Roberto Escoto","Habia una gotera en la posición de closeth","Se tapa la Gorera","Si",1,176,"Lavanderia"]
["2018-10-07",938,201,"Huésped se queja de la mala señal de TV","Asignar Roberto Escoto",null,"Cable tica resolvió la avería","SI",1,176,"Señal TV"]
["2018-10-05",937,101,"Huésped no cuenta con internet ","Asignar Arnaldo Moreira",null,null,"si",1,176,"Wifi"]
["2018-10-03",936,409,"Huésped indica que las sillas del italiano se resbalan facilmente, deberían de tener algo en las \"patas\" que no permita que se deslicen.","Asignar Antonio Ferreto ",null,null,"2018-11-09",1,176,"Sillas Italiano"]
["2018-10-03",935,410,"Huésped se queja debido a que los tomacorrientes de la habitación no funcionan correctamente, se encontraba molesta porque colocó su teléfono a cargar creyendo que iba a cargarse y luego se percató que no funcionaba, además cuando solicitó mover las camas y poner las dos mesas de noche juntas para poner ambas lamparas de noche, no fue posible conectar las dos debido a que el tomacorriente estaba sin electricidad.","Asignar Jairo Garcia",null,"Toma dañado y se remplazo ","SI",{"$f":"I$1","v":1},{"$f":"H$1","v":176},"Habitaciones"]
["2018-10-02",934,121,"Chofer del grupo Grand Tour#47 se acerca sumamente molesto a recepción porque estuvo 20 minutos esperando que lo atendieran para cenar y nunca recibió la atención que esperaba, se retira molesto diciendo que ya no piensa cenar y que no puede ser posible que solo por no ser un huésped no le brinden un trato de calidad, si él igual iba a pagar la cena que se iba a comer.","Asignar Diego Cambronero",null,"Se revisaron las camaras del restaurante. Duracion de chofer según la camara fue 4min.","SI",1,176,"Servicio cliente restaurante "]
["2018-09-23",933,207,"Sería bueno tener una silla baja dentro de la habitación, ayuda a los adultos mayores","Asignar Greivin Arredondo","Sillas en camino",null,"si",1,176,"Silla en habitación"]
["2018-09-26",932,102,"Huésped indica que el área de la ducha en la habitación tiene poca privacidad","N/A",null,null,"N/A",1,176,"Habitaciones"]
["2018-09-26",931,102,"Huésped indica que sería bueno mejorar el área de fumado.","N/A",null,null,null,1,176,"Fumadores "]
["2018-09-25",930,104,"El huésped hace la observación de que si a ud como huésped al llegar al Hotel en Caseta le preguntan los datos sobre la reservación, debería entonces al llegar al parqueo las personas llamarlos por el nombre y mucho menos que en Recepción vuelvan a preguntarles por el dato de la reserva.","Asignar Estibaliz Aguilar",null,"Estandares de servicio Mauricio Aymerich","SI",1,176,"Servicio cliente recepción"]
["2018-09-25",929,104,"Huésped indica que el aire acondicionado no enfrió correctamente, a veces estaba bien y por ratos no","Asignar Jairo Garcia",null,"Se reviso el refrigerante y se limpio filtros de A/C","SI",1,176,"A/C"]
["2018-09-24",928,101,"Huéspedes reportan un olor como a cigarro en su habitación y creen que podría provenir de la hab de la par.","N/A",null,null,"SI",1,176,"Mal olor habitación"]
["2018-09-22",927,304,"El control del aire tenía problemas y no funcionaba bien.","Asignar Roberto Escoto",null,"Control con una tecla pegada","SI",1,176,"A/C"]
["2018-09-23",926,204,"El baño está mal diseñado, el servicio sanitario debe de estar por lo menos 50cm de la pared lateral, la ducha debe de tener un piso antideslizante. EN el cuarto los adornos laterales de la cama sobran, no se puede accesar a ese lado de la cama y además son peligrosos para niños.","Asignar Jairo Garcia","Producto antideslizante",null,"SI",1,176,"Habitaciones"]
["Inicia registrando aquí la fecha de la queja.",925,308,"Requiere remodelar los muebles, se necesita más espacio para colgar ropa, además en sí la habitación es muy básica","N/A",null,null,null,1,176,"Habitaciones"]
["2018-09-21",924,312,"Huéspedes extremadamente molestos se acercan a recepción porque durante la noche fueron picados por piojos o chinches que según indican invadieron el colchón, ellos se encontraban con toda su espalda y brazos irritados y comentaron que han estado en todo tipo de hoteles baratos y que nunca pensaron que en un hotel bueno donde celebraban su luna de miel hubieran tenido que llegar a los extremos de revisar los colchones hasta encontrar estos piojos. Muy disconformes nos dicen que esta situación ha afectado sus vacaciones y que van para la clínica a revisarse. Ellos tenían fotos de los piojos que según indican usaran para poner una reclamación.","Asignar Roberto Escoto","POR FAVOR IMPELTAR Y ADAPTAR A SU GUSTO EL CHECK LIST PARA LAS HABITACIONES.","Se controló la plaga"," ",1,176,"Plagas Habitaciones"]
["2018-09-19",923,410,"El personal en el desayuno el primer día fue bueno y amable pero en el segundo día no fue bueno, deben estar atentos a las necesidades individuales para no hacerte sentir como un huésped irritante.","Asignar Diego Cambronero",null,"Estandares de servicio Mauricio Aymerich","si",1,176,"Servicio cliente restaurante "]
["2018-09-18",922,"N/A","Mejorar con un entrenamiento del personal encargado del desayuno, en la evaluación califico con un 2 la experiencia.","Asignar Antonio Ferreto ",null,"Estandares de servicio Mauricio Aymerich","2018-11-07",1,176,"Servicio cliente restaurante "]
["2018-09-18",921,403,"Muy caro y el sabor no es bueno en las comidas","Asignar Diego Cambronero",null,"Menus Nuevos ","2019-01-20",1,176,"Calidad precio"]
["2018-09-19",920,"N/A","Fuerte olor a boñiga en toda la recepción y restaurante italiano.","Asignar Greivin Arredondo","Colocación de tapas para olores","Tapa para las pilas ","SI",{"$f":"I$1","v":1},{"$f":"H$1","v":176},"Malos olores"]
["2018-09-18",919,802,"Huéspedes enfadados por fumigación en el rest Ti Cain que provocó una nube de humo en las termales.","Asignar Jairo Garcia",null,"No volver a fumigar temprano ","SI",1,176,"Fumigación"]
["2018-09-18",918,801,"Huésped se acerca a lockers quejandose porque la fumigación que se lleva a cabo en el Ti-Cain provoca que todo el humo se vaya para las termales donde se encuentran sus niños, y eso le molestó mucho. El mismo reclamó que como iban a hacer eso mientras estaban ellos bañandose y disfrutando de las termales.","Asignar Jairo Garcia",null,"No volver a fumigar temprano ","SI",1,176,"Fumigación"]
["2018-09-18",917,405,"Huésped muy molesto se acercó a recepción reclamando que Edward le vendió un Tour de perezosos donde iba ver algunos perezosos y vida silvestre, sin embargo dice que no vió nada más que un tucán muerto. Ël mismo canceló los tour del siguiente día y se encontraba bastante enfadado por lo que le prometieron y no se cumplió.","Asignar Estibaliz Aguilar",null,"La empresa garantiza que si se vieron los perezos ","SI",1,176,"Servicio cliente tour operador"]
["2018-09-18",916,108,"Huesped que estuvo hospedado del 13 al 16 de septiembre con reserva a nombre de Carlos Urrego envió correo a Servicio al Cliente preguntando por un objeto olvidado descrito como un medicamento utilizado para su insulina que estaba dentro de un recipiente azul en el refrigerador de la habitación 108, al momento de recibir la solicitud se consulta a las mucamas para que revisen y a recepción para buscar en lost&found pero ambos indican que no hay nada por lo que se procede a responder que desafortunadamente no se encontró nada, el hecho fue que el señor hizo caso omiso al correo  y se vino manejando desde Guanacaste hasta el hotel donde pidió lo dejaran entrar para hablar con Servicio al Cliente, cuando el señor llega el insiste en que el dejó su objeto ahí por lo que amable y abiertamente le dije que aunque las mucamas no encontraron nada yo mismo iba ir a revisar a esa habitación, a pesar de que estaba fumigada y llena de humo por completo ingresé hasta el refrigerador y busqué hasta encontrar lo que el señor aseguraba había dejado. Debido a esta situación me ví por la pena de pedir disculpas por el correo enviado asegurando que no había nada y por el reporte de las mucamas que no había nada ahí, el señor solicitó fueramos mas cuidadosos con las  cosas olvidadas y me agradeció por ir a buscar minuciosamente.  ","Asignar Roberto Escoto",null,"Carta de amonestacion a la colaboradora ","SI",1,176,"Chequeo habitaciones"]
["2018-09-18",915,312,"Huésped reporta que no pudieron dormir debido a que en la habitación hay bichos.","Asignar Jairo Garcia",null,"Se fumigo habitacion y se dejo en cuarentena ","SI",1,176,"Plagas Habitaciones"]
["2018-09-18",914,602,"Huésped expresa sentirse incomodo al comer y otras personas estén cerca nadando","N/A",null,"No, se cuetan con diferentes areas. ","N/A",1,176,"N/A"]
["2018-09-17",913,902,"Aire Acondicionado no funciona","Asignar Jairo Garcia",null,"Se cambio el display ","SI",1,176,"A/C"]
["2018-09-16",912,801,"Me gustaría que el jacuzzi que esta a 39 grados estuviera a una temp mas  baja ya que por estar tan caliente casi no se puede utilizar, no se aguanta el dolor, si fuera de 35 grados podría utilizarse más.","N/A",null,"No, se cuentan con diferentes temperaturas","N/A",1,176,"N/A"]
["2018-09-17",911,307,"Encender el aire acondicionado antes que lleguen los huéspedes. Así cuando estos lleguen encontrarán la habitación fresca","N/A",null,"No, poliliticas ambientales y seguridad, ","N/A",1,176,"N/A"]
["2018-09-17",910,104,"Huésped se queja de la manera en que no la dejaron ingresar al rest. Italiano, a la señora la mantuvieron esperando en recepción sin indicarle nada mientras iban a preguntar a un superior si podía o no entrar como andaba vestida, ella se molestó porque otra mujer andaba vestida muy parecido y si la dejaron entrar. Ella al hacer check-out nos hizo la observación que se sintió insultada y que fue totalmente inapropiado que la mantuvieran sin entrar durante unos minutos.","Asignar Diego Cambronero",null,"Establecer un estándar de serviios en el area de A&B","SI",1,176,"Servicio cliente restaurante "]
["2018-09-16",909,302,"Muy mal coordinado el desayuno, nos quejamos del espacio-tiempo en el desayuno.","Asignar Diego Cambronero",null,"No, remodelacion en el TI-cain","N/A",1,176,"N/A"]
["2018-09-16",908,901,"Huéspedes se quejan de que no hay un billar o futbolín para para entretenimiento.","Asignar Don Minor Castro",null,"Areas de juegos ","2019-05-01",1,176,"Entretenimiento"]
["2018-09-16",907,110,"Comida del italiano de poca calidad","Asignar Diego Cambronero",null,"Menus Nuevos ","2019-01-20",1,176,"Calidad comida Italiano"]
["2018-09-15",906,405,"Restaurate italiano lo encontramos con precios un poco caros.","Asignar Diego Cambronero",null,"Menus Nuevos ","2019-01-20",1,176,"Precios Comidas Italiano"]
["2018-09-15",905,606,"Huéspedes se quejan por mal funcionamiento del A/C, el mismo no enfría bien y las huéspedes no estan a gusto a pesar que mantenimiento fue a revisar. Según ellas la potencia no es la que debería de tener.","Asignar Jairo Garcia",null,"Se reviso A/C y esta en buen funcionamiento ","SI",1,176,"A/C"]
["2018-09-16",904,108,"Huésped se queja porque considera que a las aguas termales se les debería se sacar mayor provecho creando baños turcos con el vapor o con algún tipo de sauna. Además sugiere que hayan canchas de tennis o volleyball, hasta inclusive mesas de ping pong en alguna área.","Asignar Don Minor Castro",null,"Sauna ","2019-09-01",1,176,"Entretenimiento"]
["2018-09-13",903,401,"Precios del bar del Sushi muy elevados","Asignar Diego Cambronero",null,"Menus Nuevos ","2019-01-20",1,176,"Precios Comidas sushi"]
["2018-09-13",902,101,"No hay suficientes opciones","Asignar Diego Cambronero",null,"Menus Nuevos ","2019-01-20",1,176,"Menú Celiacos"]
["2018-09-12",901,202,"Solamente había dos copas para una habitación que era de 3 personas.","N/A",null,null,"N/A",1,176,"N/A"]
["2018-09-12",900,202,"Huésped se queja porque no hay un espejo afuera del baño en la habitación.","N/A",null,null,"N/A",1,176,"Espejo grande fuera del baño"]
["2018-09-11",899,201,"Precios muy elevados.","Asignar Diego Cambronero",null,"Menus Nuevos ","2019-01-20",1,176,"Precios Comidas Ita"]
["2018-09-05",898,311,"Un menú en la habitación de los diferentes restaurantes es lo que falta.","Asignar Diego Cambronero",null,"Menus Nuevos ","2019-01-20",{"$f":"I$1","v":1},{"$f":"H$1","v":176},"Menú room service"]
["2018-09-06",897,303,"Se queja porque no hay cajero automatico.","N/A",null,null,"N/A",1,176,"N/A"]
["2018-09-06",896,303,"Huésped se queja porque no se ofrece comida local. La comida fue mediocre, el esposo pidió un sandwich de pollo que tenía muy poco pollo y mucho pan. Si yo fuera el chef, preferiría ofrecer comida que comen los locales y no comida que se puede conseguir en USA.","Asignar Diego Cambronero",null,"Menus Nuevos ","2019-01-20",1,176,"Menú típico"]
["2018-09-09",895,707,"Anoche fuimos testigos de una situación en el Bar Sushi acerca de que se acabó el Sushi, nos pareció que son asuntos operativos que los clientes no deben enterarse. Sabemos que son cosas que pasan y que es positivo porque es sinonimo de venta, sin embargo debería de manejarse de una mejor manera.","Asignar Diego Cambronero",null,"Se hablo con el encargado del Bar Humedo y Sushi ","SI",1,176,"Servicio cliente bar humedo"]
["2018-09-09",894,106,"Se queja porque no venden la crema de miel con vainilla que se ofrece en las habitaciones.","N/A",null,null,"N/A",1,176,"N/A"]
["2018-09-09",893,212,"Se queja por no tener servicio antes de las 10:00am disponible en el sushi y bar húmedo.","N/A",null,null,"N/A",1,176,"N/A"]
["2018-09-09",892,106,"No hay actividades recreativas ni entretenimiento en el hotel.","Asignar Don Minor Castro",null,"Areas de juegos ","2019-09-01",1,176,"Actividad nocturna"]
["2018-09-10",891,210,"Quisimos un day-pass para un familiar que estaba hospedado en otro hotel y nos salieron cobrando 120 dólares. Deberían haber excepciones o deberían tener el pase de un día.","N/A",null,null,"N/A",1,176,"N/A"]
["2018-09-08",890,108,"Nos parecio excesivo el precio de las comidas en el Rest. Italiano","Asignar Diego Cambronero",null,"Menus Nuevos ","SI",1,176,"Precios Comidas Ita"]
["2018-09-11",889,212,"Tener servicio antes de las 10:00am disponible","N/A",null,null,"N/A",1,176,"N/A"]
["2018-09-06",888,312,"Cuando hay poca gente en el desayuno los comentarios de los empleados molestan ya que comentan cosas que no son del trabajo, haya poca o mucha gente los empleados deben saber ser profesionales y abtenerse de risas, comentarios, etc.","Asignar Diego Cambronero",null,"Hablaron con el personal de cocina ","SI ",1,176,"Servicio cliente restaurante "]
["6/9/2018",887,"306","Huésped molesto por ruido de refrigerador, indica que no lo deja dormir.","Asignar Dariel Miranda",null,"se cambio la refrigeradora ","si",1,176,"Ruido Refri"]
["2018-09-04",886,106,"Camas muy duras, es lo único que cambiariamos.","N/A",null,null,"N/A",1,176,"Colchon duro"]
["2018-09-02",885,211,"Huésped se queja de la no información acerca de los canales de TV, no sabía cuales estaban disponibles ni cuales eran en ingles.","Asignar Greivin Arredondo",null,"Se colocó guia de canales ","SI",{"$f":"I$1","v":1},{"$f":"H$1","v":176},"Cable tica "]
["2018-09-03",884,611,"Huésped molesto se queja de la capacidad del agua caliente, según indica el agua caliente solamente dura 3 minutos y luego no sale mas caliente. Y esto a perjudicado su estancia ya que todos los días sucedió lo mismo.","Asignar Jairo Garcia",null,"Cambio de tanque ","SI",1,176,"Agua caliente"]
["2018-08-31",883,302,"Debería de haber una silla plastica para discapacitados en el área de duchas","Asignar Don Minor Castro","Sillas ya cotizadas, pendiente aprobación de Don Minor","Cotizacion ","NO",1,176,"Sillas Discapacitados "]
["2018-08-31",882,308,"El precio que se debe pagar por todo el hotel hace pensar que es de muy alta calidad, sin embargo esto no es así","Asignar Diego Cambronero",null,null,"N/A",1,176,"Calidad precio"]
["2018-08-31",881,308,"Los precios de los restaurantes son muy caros y la comida muy mediocre","Asignar Diego Cambronero",null,"Menus Nuevos ","2019-01-20",1,176,"Calidad precio"]
["2018-08-31",880,308,"El mini bar debería rellenarse diaramente","N/A",null,null,"N/A",1,176]
["2018-08-31",879,308,"El servicio de lavandería es muy caro","N/A",null,null,"N/A",1,176,"Precios Lavanderia "]
["2018-08-31",878,308,"El chicken gyoza en el bar húmedo es muy malo y los precios son muy caros ","Asignar Diego Cambronero",null,"Menus Nuevos ","2019-01-20",1,176,"Calidad precio"]
["2018-08-31",877,308,"Contar con un servicio de shuttle al pueblo sería algo útil","N/A",null,null,"N/A",1,176]
["2018-09-01",876,505,"Reducir el ruido producido por el aire acondicionado, durante la noche se escucha mucho","Asignar Jairo Garcia",null,"Sonido normal A/C","SI",1,176,"A/C"]
["2018-09-01",875,901,"Mejores alternativas de alimentación, excepto el desayuno el cual es muy bueno","Asignar Diego Cambronero",null,"Menus Nuevos ","2019-01-20",1,176,"Variedad platos"]
["2018-08-31",874,307,"El vino es muy caro en los restaurantes","Asignar Diego Cambronero",null," Menu Carta ","2019-01-20",1,176,"Precios vino"]
["2018-09-01",873,null,"Al ir a cubrir al compañero de lockers para que pudiera ir a almorzar, un huésped me comenta que deberiamos de tener más basureros al alcance en toda el area de piscinas ya que solo hay unos cerca de lockers, y cuando uno como huésped se encuentra en el area de las pergolas por ejemplo tiene que ir hasta ahí para depositar los desechos que uno tenga, lo que se hace un poco tedioso.","Asignar Greivin Arredondo",null,"compra  de basureos ","2019-10-18",1,176,"Basurero jardines"]
["2018-08-30",872,308,"El brochure de información del hotel necesita ser actualizado, hay muchas cosas con las que ya no se cuenta y otras en las que se ha mejorado.","Asignar Greivin Arredondo",null,"Reunion con imprenta ","2019-02-02",1,176,"Publicidad doc Informativo"]
["2018-08-30",871,904,"La construcción inicia muy temprano sus labores, y eso  imposibilita dormir un poco más.","Asignar Mario Lezama",null,"Bloquiar 900","Si",1,176,"Construcción"]
["2018-08-30",870,904,"Poner etiquetas a todos los tomas, son tantos que uno no sabe cual es cual.","Asignar Greivin Arredondo",null,"Rotulos de apagadores ","2019-01-25",1,176,"Rotulación ventilador"]
["2018-08-30",869,904,"Los pancakes se secan mucho al estar expuestos al aire libre","Asignar Greivin Salazar ",null,"se acortaron los tiempos de preparación ","SI",1,176,"Calida Desayuno"]
["2018-08-29",868,302,"Mejorar el flujo de agua caliente en el grifo del baño","Asignar Jairo Garcia",null,"Duracion de salida de agua ","SI",1,176,"Agua caliente"]
["2018-08-26",867,508,"Huésped se queja de los precios que son muy elevados.","Asignar Diego Cambronero",null,"Menus Nuevos ","2019-01-20",1,176,"Precios Souvenir"]
["2018-08-26",866,508,"La comida en el buffet es escasa y muy repetitiva.","Asignar Greivin Salazar ",null,"Proceso aprobacion de sugerencias","2019-01-05",1,176,"Variedad desayuno"]
["2018-08-24",865,208,"Huésped molesto porque se le sirvió un pollo crudo y él indica que eso es de mucho cuidado porque puede enfermar a una persona, esto provocó que se fueran muy temprano del hotel al check-out porque querían visitar otro restaurante.","Asignar Greivin Salazar ",null,"Se incorporó mas personal ","SI",1,176,"Calidad comida"]
["2018-08-26",864,111,"Huéspedes se quejan porque el teléfono de su habitación no recibe llamadas, recepción no es capaz de contactarlas y eso a ellas les preocupa. ","Asignar Randall Salazar",null,null,"SI",1,176,"Teléfonos"]
["2018-08-26",863,512,"La novia de la boda la señora Yara al momento de hacer check-out se mostró muy molesta cuando se le cobró un factura correspondiente a un manicure y un pedicure del Spa. Ella nos dijo que solamente saliendo del spa el pedicure se le cayó y que fue un trabajo pésimo por el cúal no iba a pagar, ella dijo  que había hablado con un funcionario del Spa ( que no recordaba el nombre) que le dijo que no se preocupara y que no le ibamos a cobrar ese tratamiento, sin embargo nunca se informó nada a recepción ni a servicio al cliente al respecto. ","Asignar Estibaliz Aguilar","Sugerencia al SPA para uso de esmaltes de mayor calidad.","se sugiere trabajar con esmaltes de gel ","SI",1,176,"Spa"]
["2018-08-25",862,505,"Huésped indica que debemos mejorar en el tema de alimentos y calidad.","Asignar Greivin Salazar ",null,"Menú nuevo","2019-01-20",1,176,"Calidad comida"]
["2018-08-25",861,312,"Huéspedes reportan al check out, que la habitación tiene una gotera la cual cae sobre la cama que está más cercana a la puerta principal","Asignar Jairo Garcia",null,"Se cambiaron tornillos ","SI",1,176,"Goteras"]
["2018-08-23",860,506,"Tener más opciones de comida nacional","Asignar Greivin Salazar ",null,"Menú nuevo","2019-01-20",1,176,"Menú típico"]
["2018-08-23",859,504,"Seguir implementando desarrollo sostenible","Asignar Dariel Miranda",null,null,"Si",1,176,"N/A"]
["2018-08-23",858,305,"Falta ofrecer pan libre de glutten como opción. ","Asignar Greivin Salazar ",null,"Desestimada ","n/A",1,176,"Menú Celiacos"]
["2018-08-22",857,508,"La presentación del hotel en la pagina web y otros es muy pobre en comparación con la realidad. Nos hemos llevado una grata sorpresa.","Asignar Don Minor Castro",null,"Fin de obras y actualizacion de la pagina ","2018-12-15",1,176,"Publicidad Web"]
["2018-08-22",856,506,"Hacen falta areas infantiles y zonas de esparcimiento como por ejemplo toboganes y columpios.","Asignar Don Minor Castro",null,"Instalacion de play ","2019-01-15",1,176,"Área  para niños "]
["2018-08-22",855,408,"Deberían tener ocio nocturno","Asignar Don Minor Castro",null,null,"2019-09-01",1,176,"Actividad nocturna"]
["2018-08-22",854,408,"Mas variedad en restaurantes.","Asignar Greivin Salazar ",null,"Menus Nuevos ","2019-01-20",1,176,"Variedad desayuno"]
["2018-08-21",853,711,"El desayuno es bueno pero estaba muy lleno por lo que sería bueno tener algunas cosas precocinadas como los huevos revueltos.","Asignar Greivin Salazar ",null,"Se agregó una plancha más para agilizar la coccipon de huevos","SI",1,176,"Calida Desayuno"]
["2018-08-21",852,604,"Deberian tener mejores opciones vegetarianas y harinas integrales","Asignar Greivin Salazar ",null,null,"2019-01-20",1,176,"Menú vegetariano"]
["2018-08-21",851,506,"El área de recepción es más para restaurantes que para ser utilizada como lobby. NO hay suficiente campo para que las familias se sienten a esperar y cuando llueve no hay donde ponerse.","Greivin Salazar","Cerrado por temporada baja y por razones operativas ","Se reabre Ti Cain ","SI",1,176,"Lobby"]
["2018-08-21",850,506,"EL hotel está pensado solo para adultos. NO hay areas infantiles ni salas de juego donde ellos puedan despejarse y divertirse.","Asignar Don Minor Castro",null,"Areas de juegos ","2019-01-15",1,176,"Entretenimiento"]
["2018-08-17",849,null,"Los precios de lavandería son una broma. Preferí llevar mi ropa a lavar a la Fortuna.","N/A",null," ","N/A",1,176,"Lavanderia"]
["2018-08-17",848,null,"Las bebidas y comida en la piscina son muy caras.","Asignar Diego Cambronero",null,"Menus Nuevos ","2019-01-20",1,176,"Calidad precio"]
["2018-08-17",847,null,"La habitación es muy pequeña y no hay suficiente espacio para equipaje.","N/A",null,null,"N/A",1,176]
["2018-08-17",846,null,"La comida italiana esta sobrevalorada y sin buen sabor, además las porciones son muy pequeñas.","Asignar Greivin Salazar ",null,"Menus Nuevos ","2019-01-20",1,176,"Calidad precio"]
["2018-08-13",845,101,"Los restaurantes son muy caros y la comida mas o menos.","Asignar Greivin Salazar ",null,"Menus Nuevos ","2019-01-20",1,176,"Calidad precio"]
["2018-08-20",844,802,"Huésped se queja del Internet y de la lentitud del mismo.","Asignar Arnaldo Moreira",null,null,"SI",1,176,"Wifi"]
["2018-08-16",843,306,"No se podía transferir llamadas de recepción a la hab, huésped tenía una emergencia y estaba molesto por mal funcionamiento e ineficiencia de los teléfonos del hotel.","Asignar Don Minor Castro",null,"Resuelto con Randall ","SI",1,176,"Central telefonica"]
["2018-08-16",842,102,"Teléfono no funciona","Asignar Don Minor Castro",null,"Resuelto con Randall ","SI",1,176,"Central telefonica"]
["2018-08-16",841,"205-206","Teléfonos no funcionan","Asignar Don Minor Castro",null,"Resuelto con Randall ","SI",1,176,"Central telefonica"]
["2018-08-16",840,110,"Teléfono no sirve","Asignar Don Minor Castro",null,"Resuelto con Randall ","SI",1,176,"Central telefonica"]
["2018-08-15",839,102,"Teléfono no sirve","Asignar Don Minor Castro",null,"Resuelto con Randall ","SI",1,176,"Central telefonica"]
["2018-08-20",838,105,"Un mejor rotulo en la carretera que muestre bien la dirección del Hotel","Asignar Don Minor Castro",null,"Se va a lavar el rotulo ","SI",1,176,"Rotulación Carretera"]
["2018-08-20",837,504,"Se puede mejorar el desayuno","Asignar Greivin Salazar ",null,null,"2018-12-11",1,176,"Calida Desayuno"]
["2018-08-19",836,301,"Servicio muy lento","Asignar Diego Cambronero",null,"Establecer un estándar de serviios en el area de A&B","2019-01-20",1,176,"Servicio cliente restaurante "]
["2018-08-19",835,401,"Necesita más basureros alrededor del hotel","N/A",null,null,"SI",1,176,"Basurero jardines"]
["2018-08-18",834,506,"Muchas moscas en el desayuno","Asignar Greivin Arredondo","Colocación de lámparas ","Equipo para capturar moscas ","SI",1,176,"Plagas Habitaciones"]
["2018-08-19",833,null,"Sería bueno colocar una grada entre la piscina de agua termal de bar las iguana y que lleve al jacuzzi","Asignar Don Minor Castro",null,"Desestimada ","N/A",1,176,"Piscinas "]
["2018-08-19",832,703,"Mejorar wifi en la habitación","Asignar Arnaldo Moreira",null,null,"SI",1,176,"Wifi"]
["2018-08-15",831,"414-415","Huéspedes se quejan porque la temperatura del agua en las habitaciones no es caliente lo suficiente, además indican que el jacuzzi al momento de llenarse no aguanta la presión del agua y al parecer el tapon se safa y se comienza a drenar el agua.","Asignar Jairo Garcia",null,"Preguntar Mainor Porras ","2018-12-20",1,176,"HABITACIONES "]
["2018-08-15",830,405,"Huésped se queja que en la lista de canales se muestra el canal italiano sin embargo a la hora de buscarlo no está, pide que actualicen la lista de canales ya que están brindando información falsa y engañosa.","Asignar Greivin Arredondo",null,"Se colocó guia de canales ","SI",1,{"$f":"H$1","v":176},"Cable tica "]
["2018-04-05",829,"Mary Blackport","La comida en los restaurantes estuvo horrible, yo no recomendaria ir a comer ahí","Asignar Greivin Salazar ",null,"Cambio de chef","si",1,176,"Calidad comida"]
["2018-03-30",828,"Perry Pawelka","la única área para mejorar sería un poco más que hacer en el sitio y / o una forma un poco más fácil de llegar a la ciudad","Asignar Don Minor Castro",null,null,"N/A",1,176,"Entretenimiento"]
["2018-03-31",827,"Heather Burgess","El servicio estuvo mas o menos. Y las opciones de cenas no nos inspiraron por lo que decidimos ir al pueblo a cenar.","Asignar Greivin Salazar ",null,null,"SI",1,176,"Calidad comida"]
["2018-06-16",826,"Damary Santiago","Las opciones de almuerzo y cena estuvieron muy caras y limitadas.","Asignar Greivin Salazar ",null,"Menus Nuevos ","2019-01-20",1,176,"Calidad comida"]
["2018-04-14",825,"Sara Parent","Horribles e incómodas camas.","N/A",null,null,"SI",1,176,"Colchon duro"]
["2018-06-23",824,"Tim Brinkley","La variedad y selección de la comida estuvo muy por debajo del promedio","Asignar Greivin Salazar ",null,"Menus Nuevos ","2019-01-20",1,176,"Calidad comida"]
["2018-08-14",823,601,"Los brazaletes son algo ridículo y ademas incomodos, me sentí como si fuera un ganado que etiquetan.","Asignar Don Minor Castro",null,null,"N/A",1,176,"Brazaletes"]
["2018-08-14",822,904,"Necesita variedad en las opciones de comidas y un menú mas barato en el bar.","Asignar Greivin Salazar ",null,"Menus Nuevos ","2019-01-20",{"$f":"I$1","v":1},176,"Calidad comida"]
["2018-08-14",821,401,"El baño debería tener una superficie no resbaloso como algún tipo de alfombra de hule.","Asignar Jairo Garcia","Poner Producto antideslizante ","Aplicar en los  baños de todas la habitacion el producto antideslizante ","2018-11-18",1,176,"Baño resbalozo "]
["2018-08-12",820,"414-415","Huésped se queja por el funcionamiento del aire y porque en la 415 si hay agua caliente y en la 414 no.","Asignar Jairo Garcia",null,"se cambio tanque por calentador, EL A/C tenia fuga  ","SI",1,176,"HABITACIONES "]
["2018-08-12",819,203,"Necesitan actividades para huéspedes como música, bailes.","Asignar Don Minor Castro",null,null,"N/A",1,176,"Entretenimiento"]
["2018-08-12",818,711,"El aire acondicionado esta descompuesto y se cambia de temperatura solo, además en la ducha había un tornillo del techo.","Asignar Jairo Garcia",null,null,"si",1,176,"HABITACIONES "]
["2018-08-12",817,704,"Spa tiene precios muy elevados.","Asignar Yeimy Miranda",null,"Precios según el estandar ","SI",1,95,"Spa"]
["2018-08-12",816,704,"Restaurantes tiene precios muy elevados.","Asignar Diego Cambronero",null,"Menus Nuevos ","2019-01-20",1,176,"Calidad comida"]
["2018-08-11",815,504,"La comida es muy cara, por favor tener opciones mas cómodas.","Asignar Greivin Salazar ",null,"Menu Nuevo","2019-01-20",1,176,"Calidad comida"]
["2018-08-12",814,null,"Huésped se queja de los precios excesivos en el Sushi e Italiano.","Asignar Diego Cambronero",null,"Menu Nuevo","2019-01-20",1,176,"Calidad Sushi"]
["2018-08-11",813,406,"Huésped reporta que piensan que el colchon tiene bichillos porque al despertar tenían picaduras en todo el cuerpo","N/A",null,null,"SI",1,176,"Plagas Habitaciones"]
["2018-08-11",812,406,"Huésped se queja al check out, que los tomas no funcionan bien","Asignar Jairo Garcia","Eliminar el apagador ",null,"SI",1,176,"HABITACIONES "]
["2018-08-06",811,109,"Necesitan Mayor variedad en frutas y dulces en el desayuno como pastelitos.","Asignar Diego Cambronero",null,null,"SI",1,176,"Calidad comida"]
["2018-08-06",810,null,"El hotel requiere actualización en el area de piscinas y en las habitaciones.","N/A",null,null,"SI",1,176,"Piscinas "]
["2018-08-07",809,508,"Cambien los menus en ambos restaurantes","Asignar Diego Cambronero",null,"Menus Nuevos ","2019-01-20",1,176,"Calidad comida"]
["2018-08-07",808,508,"Se necesita ás espacio para almacenar cosas en la habitación y también sillas. Además no había suficientes ganchos.","Asignar Roberto Escoto",null,null,"SI",1,176,"HABITACIONES"]
["2018-08-05",807,103,"Se queja porque no hay clases de yoga en la tarde y porque el gimnasio es muy pequeño","N/A",null,null,"N/A",1,176]
["2018-08-03",806,210,"Sería muy bueno tener menus en la habitación.","Asignar Diego Cambronero",null,"Menus Nuevos ","2019-01-20",1,176,"Calidad comida"]
["2018-08-03",805,210,"Precios elevados.","Asignar Diego Cambronero",null,"Menus Nuevos ","2019-01-20",1,176,"Calidad comida"]
["2018-08-05",804,307,"Mejorar el Wi-fi ya que es muy inconsistente","Asignar Arnaldo Moreira",null,null,"SI",1,176,"Wifi"]
["2018-08-06",803,611,"No tenían agua caliente","Asignar Jairo Garcia",null,null,"SI",1,176,"Agua caliente"]
["2018-08-06",802,610,"No tenían agua caliente","Asignar Jairo Garcia",null,null,"SI",1,176,"Agua caliente"]
["2018-08-05",801,108,"Teléfono no sirve","Asignar Don Minor Castro",null,"Resuelto con Randall ","SI",1,176,"Central telefonica"]
["2018-08-05",800,202,"Teléfono no sirve","Asignar Don Minor Castro",null,"Resuelto con Randall ","SI",1,176,"Central telefonica"]
["2018-08-05",799,102,"Teléfono no sirve","Asignar Don Minor Castro",null,"Resuelto con Randall ","SI",1,176,"Central telefonica"]
["2018-08-05",798,101,"Teléfono no sirve","Asignar Don Minor Castro",null,"Resuelto con Randall ","SI",1,176,"Central telefonica"]
["2018-08-05",797,706,"Teléfono no sirve","Asignar Don Minor Castro",null,"Resuelto con Randall ","SI",1,176,"Central telefonica"]
["2018-08-05",796,106,"Teléfono no sirve","Asignar Don Minor Castro",null,"Resuelto con Randall ","SI",1,176,"Central telefonica"]
["2018-08-05",795,110,"Teléfono no sirve","Asignar Don Minor Castro",null,"Resuelto con Randall ","SI",1,176,"Central telefonica"]
["2018-08-04",794,null,"Se queja de la comida de los restaurantes los cuales fueron una estafa, muy baja calidad en las comidas. La pizza fue la peor que ha comido, muy mala. Además precios sumamente caros por nada especial a cambio.","Asignar Greivin Salazar ",null,"Se estableció la temeratura adecuada del horno","2019-01-20",1,176,"Calidad comida"]
["2018-08-04",793,null,"Huésped se queja del uso de brazaletes y de los tiquetes para intercambiar toallas y paraguas indicando que le recuerda a los hoteles baratos de Cancún. Además no les gustó escuchar a los vecinos ni tampoco los colchones los cuales consideraron raros e incómodos. ","N/A",null,null,"SI",1,176,"Brazaletes"]
["2018-08-02",792,null,"Precios del restaurante y de los bares muy elevados","Asignar Diego Cambronero",null,"Menus Nuevos ","2019-01-20",1,176,"Calidad comida"]
["2018-08-01",791,null,"El hotel parece estar expandiendose y sino estas en algún tour es sumamente molesto el ruido de la construcción mientras estas en la habitación","Asignar Don Minor Castro",null,null,"N/A",1,176,"RUIDO"]
["2018-08-01",790,109,"Porciones ridiculamente pequeñas y el sushi estaba mediocre, mas arroz que pescado. ","Asignar Antonio Ferreto ","Entrevista a Josph","Menus Nuevos ","SI",1,176,"Calidad Sushi"]
["2018-08-02",789,"609-610","Bastante caro el Italiano.","Asignar Diego Cambronero",null,"Menus Nuevos ","2019-01-20",1,176,"Calidad comida"]
["2018-08-03",788,"201-202","Ruidos extraños en el techo ( pájaros o ratas) que nos mantuvo despiertos en la noche.","Asignar Jairo Garcia",null,null,"SI",1,176,"Plagas Habitaciones"]
["2018-08-03",787,"201-202","Huésped sugiere que el hotel no promueva Natura Park como una opción ya que es una experiencia mediocre y muy cara.","N/A",null,null,"N/A",1,176]
["2018-08-04",786,511,"Variedad limitada en opciones de glutten, problemas con inocuidad.","Asignar Greivin Salazar ",null,"Desestimada ","SI",1,176,"Menú Celiacos"]
["2018-08-04",785,512,"Más opciones libres de glutten son muy necesarias","Asignar Greivin Salazar ",null,"Desestimada ","SI",1,176,"Menú Celiacos"]
["2018-08-04",784,401,"La comida en el Italiano muy cara.","Asignar Greivin Salazar ",null,"Menu Nuevo","2019-01-20",1,176,"Calidad comida"]
["2018-08-04",783,703,"Huéspedes se quejan de la inconsistencia del agua caliente.","Asignar Jairo Garcia",null,null,"SI",1,176,"Agua caliente"]
["2018-08-02",782,801,"Huéspedes se quejan que las porciones del restaurante italiano son pequeñas y muy caras.","Asignar Greivin Salazar ",null,"Menu Nuevo","2019-01-20",1,176,"Calidad comida"]
["2018-08-02",781,204,"Huéspedes se quejan de los precios, reclaman mejores precios.","Asignar Diego Cambronero",null,"Menus Nuevos ","2019-01-20",1,176,"Calidad comida"]
["2018-08-03",780,"701-904","Huéspedes reclaman que no tiene agua en las habitaciones.","Asignar Jairo Garcia",null,null,"SI",1,176,"Agua caliente"]
["2018-08-02",779,708,"Huéspedes molestos porque se les indicó que al llegar al hotel a las 3:30pm todas las habitaciones de su grupo iban a estar listas, sin embargo la hab 707 presentó problemas con el aire que al final no pudo ser reparado a pesar de que los huéspedes habian decidio esperar a que se reparara con tal de estar en la habitación junto a su familia,  procedimos a cambiarlos de hab sin embargo ellos se enojaron porque no les gustó la situación ni tampoco como fue manejada. El guía Cesar me dice que ellos ya llamaron a Swiss Travel a dar las quejas y que esta agencia quiere respuesta dado que son muy amigos de los dueños de Swiss Travel.","Asignar Jairo Garcia",null,null,"SI",1,176,"A/C"]
["2018-08-02",778,503,"Huéspedes molestos porque desde las 7 am entregaron lavandería y llegaron a las 7:00pm a preguntar a recepción y aún no estaba lista.","Asignar Roberto Escoto","En espera de estandar de servicio","respuesta pasada no justifica la solucion ","SI",1,176,"Lavanderia"]
["2018-08-01",777,411,"Huésped se queja que la lista de canales no coincide con los canales que se proyectan en el televisor, molesto primero porque indicá que un hotel en San José si pudo cambiar el audio a Inglés y aquí no.","Asignar Roberto Escoto",null,null,"SI",1,176,"HABITACIONES"]
["2018-07-31",776,609,"Agua caliente del baño sale demasiado caliente al instante además las paredes parecen hechas de papel ya que se escucha absolutamente todo de los vecinos.","N/A",null,null,"N/A",1,176,"HABITACIONES"]
["2018-07-30",775,107,"Tortillas del bar húmedo que sirvieron tenían  moho. Además deberían tener opciones para personas alergicas a la lactosa.","Asignar Diego Cambronero",null,null,"SI",1,176,"Calidad comida"]
["2018-07-30",774,303,"La habitación es inferior a una junior suite.","N/A",null,null,"N/A",1,176,"HABITACIONES"]
["2018-07-30",773,303,"Precios muy elevados en las comidas.","Asignar Diego Cambronero",null,"Menus Nuevos ","2019-01-20",1,176,"Calidad comida"]
["2018-07-29",772,604,"No había agua caliente y el control deo aire no funcionó.","Asignar Jairo Garcia",null,null,"SI",1,176,"A/C"]
["2018-07-26",771,null,"La comida del restaurante italiano fue deficiente","Asignar Diego Cambronero",null,"Menus Nuevos ","2019-01-20",1,176,"Calidad comida"]
["2018-07-17",770,null,"El restaurante principal de la cena en sí es bastante caro y nada especial. No había nada de malo en ello, pero nos habíamos acostumbrado a grandes porciones de Costa Rica, y nuestra cena aquí era mucho más pequeña y no estuvo a la altura de la comida que tuvimos en otro lugar en nuestro viaje.","Asignar Greivin Salazar ",null,"Menu Nuevo","2019-01-20",1,176,"Calidad comida"]
["2018-07-13",769,null,"El aire acondicionado no funcionó bien la última noche","N/A",null,null,"SI",1,176,"A/C"]
["2018-07-04",768,null,"EN el desayuno vimos varias moscas sobre los alimentos, incluso habían 2 ahogadas en el yogurt por lo que evitamos esos alimentos","Asignar Don Minor Castro",null,"Fumigacion ","SI",1,176,"Calida Desayuno"]
["2018-07-04",767,null,". Además ojala y pudieran brindar juegos para la habitación o algo para que se entretengan los niños.","Asignar Don Minor Castro",null,"Areas de play ","2019-01-15",1,176,"Área  para niños "]
["2018-07-04",766,null,"LA caja de seguridad es muy pequeña y vieja ( no pude guardar mi laptop)","",null,null,null,1,{"$f":"H$1","v":176}]
["2018-07-02",765,null," la selección de los alimentos en el desayuno es pobre, mi esposo quería salchicha o tocino y no fue posible. Además las cenas son muy caras y las porciones muy pequeñas.","Asignar Greivin Salazar ",null,"Se le dará seguimiento a las propuestas de desayuno","2018-12-11",1,176,"Calidad comida"]
["2018-07-01",764,null,"Como otros comentarios de otros huéspedes también terminamos decepcionados de la cena,  los precios son demasiado elevados y la calidad de la comida en relación a otros hoteles quedó debiendo","Asignar Greivin Salazar ",null,"Menu Nuevo","2019-01-20",1,176,"Calidad comida"]
["2018-07-27",763,112,"Limpieza en términos de insectos debe mejorar con algún spray en el closet o baño para eliminar insectos.","Asignar Jairo Garcia",null,"Plan de fumigacion aplicado ","SI",1,176,"Plagas Habitaciones"]
["2018-07-28",762,109,"Un Cajero Automático en Recepción sería muy útil ","N/A",null,null,"N/A",1,176]
["2018-07-28",761,710,"Cambiar las cajas de seguridad por cajas modernas y fáciles de utilizar. Las que hay son complejas de operar.","N/A",null,null,"N/A",1,176]
["2018-07-28",760,308,"La conexión a Internet debería ser mejor y más estable. Conexión buena es lo que falta","Asignar Arnaldo Moreira",null,null,"SI",1,176,"Wifi"]
["2018-07-28",759,307,"Internet no funcionó bien en la habitación.","Asignar Arnaldo Moreira",null,null,"SI",1,176,"Wifi"]
["2018-07-27",758,801,"Poner precios mas bajos en los restaurantes ya que son muy caros.","Asignar Diego Cambronero",null,"Menus Nuevos ","2019-01-20",{"$f":"I$1","v":1},176,"Calidad comida"]
["2018-07-28",757,404,"la limpieza de la habitación el día de ayer no las satisfizo, me muestran que no les reemplazaron los vasos sucios, las camas no fueron bien acomodadas, que no se les agrego más bolsitas de té, y que no se les hizo tampoco ninguna decoración con las toallas como sí se les hizo a las otras habitaciones (405-406) que vienen con ellos","Asignar Roberto Escoto",null,null,"SI",1,176,"Limpieza en habitación"]
["2018-07-27",756,801,"  también que existe un gran espacio entre el marco y la puerta misma que permite ingresar mosquitos y demás insectos","Asignar Jairo Garcia",null,null,"SI",1,176,"Plagas Habitaciones"]
[null,755,801," además del teléfono que no funciona, ","",null,null,"NO",1,176,"Teléfonos"]
[null,754,801,"los huéspedes expresaron su disconformidad y molestia debido a los problemas ocasionados por el aire acondicionado de la habitación","",null,null,"SI",1,176,"A/C"]
["2018-07-25",753,904,"Baño huele muy mal como a cañería, además habían insectos, hormigas y lagartijas en la habitación","Asignar Jairo Garcia",null,null,"SI",1,176,"Plagas Habitaciones"]
["2018-07-23",752,409,"Huésped se queja que durante el buffet del sábado vió muy poca etiquetas en las comidas y hace falta rotulación.","Asignar Diego Cambronero",null,null,"SI",1,176,"Rotulación cena"]
["2018-07-22",751,411,"En las habitaciones hay polvo, mejorar la limpieza","Asignar Roberto Escoto","POR FAVOR IMPELTAR Y ADAPTAR A SU GUSTO EL CHECK LIST PARA LAS HABITACIONES.","No hay evidencia del chequeo que se realiza. ","si",1,176,"Aseo en habitación"]
["2018-07-23",750,312,"Huésped se queja de gotera en la ventana.","Asignar Jairo Garcia",null,null,"SI",1,176,"Goteras"]
["2018-07-24",749,null,"La impresora de comandas da problemas porque no imprime de manera correcta las amenidades que se comandan a cocina, presenta un error al parecer que provoca que se imprima en blanco gran cantidad de papel en blanco.","N/A",null,null,"N/A",1,176,"Desestimado"]
["2018-07-23",748,"403-211","El siguiente correo es para notificar acerca de una misma situación en la cual se  vieron afectadas 2 habitaciones, las mismas serian 403 – 211 , alrededor de las 6 pm se recibe el informe de ambas habitaciones en el cual los huéspedes informan que desde sus baños provienen olores muy fuertes y desagradables y ambos lo describen como un olor a cloaca y humedad y que les perturba su estadía en el hotel, inmediatamente se coordina con las compañeras de áreas públicas para verificar el estado de la situación, ellas nos informan que dichos olores efectivamente provienen del desagüe del baño de las duchas, ellas hacen la limpieza respectiva y de igual forma dejan fragancias en las habitaciones para disminuir dichos olores, se esperan alrededor de 30 min y mi persona juntamente con la compañera nos dirigimos para corroborar que todo se encuentre en orden, la hab 211 no posee ningún inconveniente, sin embargo la hab 403 aun contaba con un poco de olor. A los huéspedes se les ofrece el traslado de habitaciones pero ellos desean permanecer en sus habitaciones respectivas e indican que si el problema persiste aceptarán dichos cambios. Quiero hacer la connotación de que dichas situaciones al parecer es producto de las constantes lluvias y por este motivo los desagües se rebalsan emitiendo dichos olores. Favor darle el seguimiento respectivo a la situación ocurrida, cualquier consulta estoy para servirles.","Asignar Mario Lezama",null,"respiraderos al tamque septico ","SI",1,176,"Mal olor habitación"]
["2018-07-22",747,"209-210","fuerte reclamo de su parte por el hecho de que se les dieron habitaciones diferentes a las que se les prometió cuando reservaron. Cuando se les realizó el check-in los huéspedes daban por hecho que se les iban a otorgar las habitaciones 311 y 312 debido a que en frente de estas habitaciones hay jardines y zonas verdes que básicamente a lo que nos dicen fue por esa la razón principal de su visita. A la hora de abordar la queja, a la señora se le explica que las habitaciones 209-210 tienen exactamente las mismas características ( Puertas Conectadas, 1 cama King y 2 camas Queen), sin embargo ella muy decepcionada y molesta nos insiste en un explicación del porque se le está entregando algo diferente si eso no fue lo acordado. Por más que se le intentó explicar la similitud de las habitaciones ella solicitó hablar con los encargados de las reservas, pero esto no fue posible debido a que no se encontraban. Les expliqué que no podríamos cumplir su solicitud ni hoy ni mañana porque no podíamos sacar a los huéspedes de las habitaciones 311-312 y que estos salían hasta el día 24/07/2018. La opción más viable fue compensarles con la cena carta paquete cortesía. Quisiera resaltar que fue necesario hablar con ellos en dos ocasiones frente a frente y una por teléfono para poder llegar a un acuerdo y que aceptaran la compensación. Me di a la tarea de ofrecerles las disculpas porque no se pudo cumplir lo que solicitaron e indiqué que nos hacíamos responsables de la situación y que esperábamos pudieran pasar una muy buena estadía . ","Asignar Don Minor Castro",null,"Hablo con Miguel Munera ","SI",1,176,"Proceso de reservas"]
["2018-07-22",746,511,"Huéspedes se quejan de gotera justo arriba de su cama, debido a esto se les mojó su ropa de cama.","Asignar Jairo Garcia",null,null,"SI",1,176,"Goteras"]
["2018-07-22",745,"Grupo Patty Searcy","Señoras se quejan de la oscuridad y peligro que existe cuando los huéspedes caminan de noche por el hotel, una de las señoras del grupo sufrió una caída doblandose uno de sus tobillos y cayendo estrepitosamente en unos de los caños, el problema que ellas me indican es el desnivel que existe entre el pavimento y el caño. La caída se dió por las habitaciones 501-502 donde se confirma que la visibilidad es casi nula y no es posible apreciar el desnivel que causó caída.","Asignar Estibaliz Aguilar","Se va a reparar la orilla del caño y verificar luz ","se cambio bombillos","Si",1,176,"Acera para transitar "]
["2018-07-22",744,"Recepción","Buenos días compañeros\nEspero se encuentren bien, quiero hacer de su conocimiento un problema que hemos tenido en reiteradas ocasiones y ha estado entorpeciendo nuestra labor al momento de realizar un cobro:\nEn primera instancia el datafono de Credomatic de recepción comenzó a duplicar montos y solo podemos usarlo para tarjetas American Express dado que es la única a la que no duplica, está mañana también comenzamos a tener problemas con los 2 datafonos del banco nacional, tuvimos que hacer uso del datafono del departamento de reservas, esto provoca que nuestro servicio sea lento y mediocre, dado que tenemos que pedirle a los huéspedes pasar a la oficina de reservas cuando la  tarjeta necesita un código pin para poder realizar un cargo, les solicitamos que por favor nos ayuden los más pronto posible con el tema para poder brindar un mejor y más rápido servicio, muchas gracias.\n","",null,null,"NO",1,176,"Datafonos"]
["2018-07-21",743,902,"Huésped reporta un fuerte olor en la habitación que los mantiene inconformes","Asignar Mario Lezama",null,"Se limpieran sifones ","si",1,176,"Mal olor habitación"]
["2018-07-19",742,705,"Huésped no pudo dormir durante dos horas a partir de las 3 am, debido a que se había ido la electricidad y el generador producía mucho ruido.","Asignar Jairo Garcia",null,null,"SI",1,176,"Ruido generadores"]
["2018-07-19",741,"207-208","Telefonos no funcionan y huéspedes no pudieron recibir el wake up call","Asignar Randall Salazar",null,null,"SI",1,176,"Teléfonos"]
["2018-07-18",740,208,"Mal olor en habitación","Asignar Mario Lezama",null,"Se puso respiradero al tanque septico ","SI",1,176,"Mal olor habitación"]
["2018-07-21",739,"204-210-304,,,","Las puertas principales en estos días, seguramente por el clima, han estado presentando fallas a la hora de cerrar, esto de dos formas, la primera cuesta queda como baja y cuesta mucho abrirla, y la segunda es que cuesta que cierre bien.","Asignar Jairo Garcia",null,null,"SI",1,176,"Puerta de habitación"]
["2018-07-21",738,302,"Al realizar la llamada de bienvenida el huésped molesto reporta su malestar por que se duró mucho tiempo en entregarle la habitación","Asignar Roberto Escoto",null,null,"SI",1,176,"Room service"]
["2018-07-21",737,708,"Huésped reporta hormigas en la habitación","Asignar Jairo Garcia",null,null,"SI",1,176,"Plagas Habitaciones"]
["2018-07-20",736,706,"Huésped se queja del ruido generado en la construcción, nos comenta que el problema es que inicia muy temprano a realizar los trabajos.","Asignar Mario Lezama",null,"habitaciones 700 bloquiadas ","SI",1,176,"Construcción"]
["2018-07-18",735,null,"Buen día Jefa!\nEs para informarte que la noche de hoy al check-in de 5 personas (Habitaciones 101 y 102) no se les entrego coctel de bienvenida pues no habían disponibles.\nNo hizo mucha falta a decir verdad dado que los clientes venían muy cansados sin embargo, si me manifestaron que tenían mucha hambre.\nHoy en particular venía muy lleno por lo que les ofrecí mi cena. Estaba un poco “seca” entonces le agregue un poco de chimichurri y aguacate que fue lo que encontré en el restaurante italiano. Además les di  5 manzanas que tome de la cámara del barril.\nPasado el tiempo me llamo la cliente diciendo que si podía tener agua, que no había en la habitación a lo q le respondí que en el mini-bar debía tener pero me dijo que no vio ninguna.\nPor esta razón tome 5 botellas de la bodega de los botones y las envié pero una vez entregadas me dijo que la disculpara. Que ya había encontrado las botellas de agua.\nComo vez es un reporte informativo más que cualquier otra cosa, no sé por el tema de control de inventarios si debe esto ser del conocimiento de alguien más pero lo dejo a tu criterio.\nAdemás de la oportunidad de mejorar en algunos detalles sin embargo los clientes muy contentos y agradecidos con la empatía y el servicio.\nCualquier consulta estoy para servirte!\nGelipe","",null,null,"SI",1,176,"Refrigerio nocturno"]
["2018-07-18",734,null,"Buenos Días Diego,\n\nEspero se encuentre bien. \nLe escribo para solicitarle ayuda con algo que a mi parecer se ha vuelto reiterado y hasta desgastante para recepción, botones, ama de llaves y servicio al cliente. \nEl tema aquí tiene que ver con las amenidades y los detalles especiales que Servicio al Cliente se encarga de solicitar a cocina con un día de anticipación por dos medios ( correo y en físico ). Yo mismo he sido testigo que existe un claro desorden de comunicación o de asignación de funciones ya que unos días si se le da seguimiento al reporte de detalles especiales y otros al parecer nadie se quiere hacer cargo. En este sentido yo me apego al procedimiento que mi superior Liz Aguilar nos ha solicitado, sin embargo mi duda es si el 100% de su departamento conoce el procedimiento? \nHablando con los botones ellos me indican que los han devuelto varias veces diciendo que nadie les ha pedido amenidades, y ellos ante esta respuesta acuden a mi persona en donde yo he tenido que llamar y solicitar que por favor revisen la hoja que se deja pegada en la pizarra de cocina. Muchas veces he tenido que acudir a Don Gerardo Meléndez el cual muy amablemente ha tratado de que se mejore en este aspecto, de hecho cuando se encuentra en el hotel, es el único que responde los correos en donde me hace ver que ya conocen de las amenidades requeridas y que le darán seguimiento, él hasta me ha sugerido que yo pida una firma de entregado pero creo que esto no es necesario cuando existe un compromiso por el trabajo.  La intención de compartirle todo esto es con el único fin de mejorar siempre pensando en nuestros huéspedes, hablando con Melissa ella me sugiere la posibilidad de dejar las bolsas de frutas listas la noche antes o que exista una hora de la mañana en donde se tengan listas siempre y cuando sea temprano.  Como usted puede ver es algo que está afectando a más de un departamento y como se lo pedí al inicio me gustaría contar con su ayuda para mejorar estos detalles que aunque parezcan simples tienen peso a la hora de que no se prepara un queque, de que no mandamos las bolsas de frutas correctamente, entre otras cosas que han pasado. \nMuchas gracias de antemano y cualquier consulta estoy a la orden.\nSaludos!\n","N/A",null,null,"N/A",1,176,"Servicio cliente cocina"]
["2018-07-18",733,403,"Muy señores nuestros, \nMi nombre es Naresh Lakhwani y estuvimos alojados en la habitacion 403 de su hotel del 13 al 15 de este mes (Julio) junto a mi esposa Juliana Sánchez a cuyo nombre estaba la reserva , al check out del hotel tuvimos la desgracia de dejar olvidado una carpeta con nuestra documentación, itinerario de viaje y 950 euros en efectivo.\nAl llegar a nuestro hotel en Monteverde llamamos a vuestro hotel y nos dijeron que estaba allí, supuestamente intacta, y que la mandarian por empresa de transporte al nuevo destino. Hoy día 16 hemos recibido el envío que nos han entregado en un sobre cerrado y al abrirlo nos hemos dado cuenta que han sustraído 200 euros del efectivo además de haber cambiado el dinero de compartimento (sabíamos exactamente la cantidad que había y donde estaba guardado porque era exactamente el importe de algo que íbamos a comprar)\nHe llamado personalmente y hablado con atención al cliente de ustedes y me comentan que entregaron a la empresa de transporte el paquete ya cerrado con lo cual en algún momento se ha sustraído ese dinero.\nEl motivo de ponerme en contacto con ustedes es hacerles saber que no tanto por la cuantía económica, que también, sino más por el agravio, hemos decidido denunciar lo ocurrido a la policía y postear todo lo ocurrido y la denuncia en todos los medios a nuestro alcance. Seguramente no recuperemos nada puesto que solo nos quedamos en el pais 4 dias mas, pero por lo menos daremos a conocer lo ocurrido a la mayor cantidad de gente posible nombrandolos tanto a ustedes como a la empresa de transporte.\nLo ocurrido ha sido la única mancha en nuestra luna de miel ya que su país tanto como la mayor parte de su gente son encantadores pero no nos parece justo lo sucedido!!\n\nSin otro particular, le saluda atentamente: \n\nNaresh Lakhwani \n","Asignar Estibaliz Aguilar",null,null,"SI",1,176,"SERVICIO AL CLIENTE RECEPCIÓN"]
["2018-07-18",732,208,"Huéspedes se quejan por mal olor.","Asignar Jairo Garcia",null,null,"SI",1,176,"Mal olor habitación"]
["2018-07-18",731,512,"Gotera justo encima de la cama","Asignar Jairo Garcia",null,null,"SI",1,176,"Goteras"]
["2018-07-17",730,201,"Huésped se queja de fuerte ruido en el techo del lado del panel","Asignar Jairo Garcia",null,null,"SI",1,176,"Alarmas "]
["2018-07-18",729,null,"Teléfonos de las habitaciones no funcionan correctamente ni tampoco el de caseta","Asignar Randall Salazar",null,null,"SI",1,176,"Teléfonos"]
["2018-07-16",728,901,"Canoa en el balcón tiene fuga, y por esto se mete mucha agua al balcón.","Asignar Jairo Garcia",null,null,"SI",1,176,"Goteras"]
["2018-07-16",727,901,"Fuerto olor a agua estancada en el baño","Asignar Jairo Garcia",null,null,"SI",1,176,"Mal olor habitación"]
["2018-07-13",726,904,"Huéspedes muy molestos por transfer contratado con nosotros que no llegó a recogerlos a la hora y el día acordado, por lo que los huéspedes pagaron una transfer privado hasta el hotel.","Asignar Don Minor Castro",null,"Resuelto ","SI",1,176,"Transfer"]
["2018-07-13",725,406,"NO hay variedad en menú para niños.","Asignar Greivin Salazar ",null,"Menu Nuevo","2019-01-20",1,176,"Menú niños"]
["2018-07-10",724,107,"Las instrucciones del coffee maker no están claras, es para hervir agua o solo calentarla? Si no lo dice no lo sabran los huéspedes. Además las instrucciones de como encender el ventilador de techo no se ven.","Asignar Greivin Arredondo",null,"Se va a cambiar el coffemaker","SI",1,176,"Rotulación ventilador"]
["2018-07-10",723,107,"Caminos cruzando por el pasto muy húmedos y resbalosos que podrían causar una caída, talvez colocar piedras para facilitar caminar por ahí.","N/A",null,null,"N/A",1,176,"Desestimado"]
["2018-07-13",722,502,"Poner espejo fuera del baño.","N/A",null,null,"N/A",1,176,"Desestimado"]
["2018-07-14",721,509,"Huespedes molestos tuvieron que cancelar masaje de luna de miel por jacuzzi en mal estado (tapon dañado)","N/A",null,null,"SI",1,176,"Rotulación Jacuzzi"]
["2018-07-13",720,202,"Habitación sin agua caliente","Asignar Jairo Garcia",null,null,"SI",1,176,"Agua caliente"]
["2018-07-12",719,302,"Colocar rotulación llamativa o colorida que indique por ejemplo cual es el Souvenir, cual es el Tour Operador, cual es Servicio al cliente, cual es la recepción, etc. ","Asignar Don Minor Castro",null,null,null,1,176]
["2018-07-12",718,302,"Renovar la recepción que es anticuada, fea y no va acorde con el hotel.","Asignar Don Minor Castro",null,null,null,1,176]
["2018-07-11",717,312,"En la Habitación hay una gotera","Asignar Jairo Garcia",null,null,"SI",1,176,"Goteras"]
["2018-07-11",716,309,"Huéspedes se quejan de las computadoras del lobby las cuales no les funciona la unidad de CD-Room y no fue posible leer un disco de fotos que necesitaban compartir entre ellos.","Asignar Arnaldo Moreira",null,null,"SI",1,176,"Computadoras de recepción"]
["2018-09-09",715,null,"Por este medio le comunico que hoy tuve una situación con Katia debido a un cambio que se hizo a última hora. \nTeníamos una reserva del señor Oscar Molina quien es un cliente frecuente en la 104 y él dijo que si la habitación 105 estaba disponible le gustaría esa en vez de la 104. \nAl venir todos los años se le hizo un arreglo el cual teníamos que mover a la 105 – esta habitación ya estaba lista- era solo de mover las cosas. Solicite un 21 a Katia ya que el cliente estaba en frente de mí, pero la compañera se alteró de una manera muy inadecuada diciendo que la habitación estaba lista y que como la íbamos a poner a correr “estamos en el agua”, y que además no le estaba dando una explicación de por qué moverlos. Y de la misma manera molesta me dijo que iba a estar en 20 minutos, le dije que porque si ya estaba lista, y era solo de pasar las cosas, ella me repitió lo mismo muy alterada y que si quería que fuera adentro para que viera como estaban ellas. \nSimplemente le dije que no había razón para que me alzara la voz de esta manera, y decidí colgar el teléfono. \nLuego a los 5 minutos me pasó la habitación lista el compañero Oscar, me dijo que él fue y movió las cosas ya que era lo único que había que hacer.","Asignar Roberto Escoto",null,null,"SI",1,176,"Servicio cliente mucamas"]
["2018-07-10",714,null,"Le informo que le día de hoy , durante3 el desayuno, pudimos detectar a tiempo la presencia de una cucaracha.\nEn realidad una huésped de la habitación 402, fue quien alerto al compañero José Quirós. M la misma se encontraba sobre la mesa y esta estaba desocupada. El compañero la retiro rápida y discretamente.\nPuedo decir que dicho evento, no causo mayor relevancia, nadie más se dio cuenta y no tuvo mayor repercusión.\n\n\n","Asignar Jairo Garcia",null,null,"SI",1,176,"HABITACIONES"]
["2018-07-10",713,107,"Cajas fuertes más grandes, que puedan caber laptops","N/A",null,null,"N/A",1,176,"Desestimado"]
["2018-07-09",712,401,"Promover actividades para adolescentes donde se reúnan, compartan y se conozcan.","Asignar Don Minor Castro",null,"Area de fuegos ","2019-09-01",1,176,"Sala de juegos"]
["2018-07-10",711,null,"Debería haber más variedad de opciones en el desayuno ","Asignar Diego Cambronero",null,null,"SI",1,176,"Calida Desayuno"]
["2018-07-10",710,707,"Deberían haber ganchos para poder colgar las capas","N/A",null,null,"N/A",1,176,"Desestimado"]
["2018-07-10",709,707,"Deben haber más ganchos para poder colgar las toallas en el baño","N/A",null,null,"N/A",1,176,"Desestimado"]
["2018-07-10",708,405,"El refrigerador de la habitación tiene un ruido muy fuerte","Asignar Roberto Escoto",null,null,"SI",1,176,"Ruido habitación"]
["2018-07-09",707,"103-502","Habitaciones fumigadas con el piso resbaloso y fuerte olor. Al parecer no hubo comunicación entre los compañeros de fumigación y las mucamas por lo que en recepción se nos informó que estas habitaciones estaban listas para entregar lo cual fue vergonzoso ya que al llevar a los huéspedes a las habitaciones se toparon con la sorpresa de que las habitaciones no estaban aptas debido al humo y olor.","Asignar Roberto Escoto",null,null,"SI",1,176,"Plagas Habitaciones"]
["2018-07-09",706,201,"Cliente llama para informar que no tienen agua caliente en la habitacion, y que son 5 personas en la habitación. ","Asignar Jairo Garcia",null,null,"SI",1,176,"Agua caliente"]
["2018-07-09",705,609,"Cliente de caravan comunica que no tiene electricidad en la habitación, al parecer no estaba sirviendo el tarjetero. ","Asignar Jairo Garcia",null,null,"SI",1,176,"HABITACIONES"]
["2018-07-09",704,306,"Huésped se queja de la hoja de evaluación que se deja en las habitaciones para que los huéspedes la llenen antes de irse, el mismo indica que tiene errores gramaticales tanto en Inglés como en Alemán y que eso es mal visto ya que el hotel debería de ser profesional en ese aspecto. ","Asignar Iván Ramírez","Nueva hoja de evaluacion",null,"si",1,176,"Hojas de evaluación"]
["2018-07-07",703,104,"aiRE ACONDICIONADO nunca funcionó.","Asignar Roberto Escoto",null,null,"SI",1,176,"A/C"]
["2018-07-07",702,110,"Red WiFi funcionaba bien en restaurantes pero en el cuarto nunca funcionó bien","Asignar Arnaldo Moreira",null,null,"SI",1,{"$f":"H$1","v":176},"Wifi"]
["2018-07-07",701,110,"Por favor modernizar instalaciones del gimnasio. Como pueden ver, todo fue calificado como excelente pero las maquinas del gimnasio no estan acordes con la calidad del hotel.","Asignar Don Minor Castro",null,"Analisis para temporada baja ","2019-09-01",1,176,"Gimnasio"]
["2018-07-07",700,505,"Espejo frente al inodoro es raro y además las sabanas no son cómodas.","Asignar Iván Ramírez","Desestiamda",null,"si",1,176,"Espejo Grande"]
["2018-07-08",699,"205-206","Huésped se queja de la mala actitud de uno de nuestros empleados llamado Marco del bar húmedo, el mismo indica que no le gustó la manera en que lo atendió y que cuando le pidió le cambiara un vaso caliente por uno frío la solución no fue la que esperaba además de que ni empatía le mostró, lo cual indica el señor debe ser indispensable en esa área. Se le ofrecieron disculpas al señor y se le agradeció por la retroalimentación, que iba ser tomada en cuenta para mejorar.","Asignar Diego Cambronero",null,null,"SI",1,176,"Servicio cliente restaurante "]
["2018-07-05",698,602,"El espejo del baño debe ser mas grande ya que no me gusta sentarme en el sanitario para mirarme en el espejo.","Asignar Iván Ramírez","Desestiamda",null,"Si",1,176,"Espejo Grande"]
["2018-07-05",697,505,"El internet está muy mal, no sirve en la habitación","N/A",null,null,"SI",1,176,"Wifi"]
["2018-07-05",696,902,"Mejorar el internet","Asignar Arnaldo Moreira",null,null,"SI",1,176,"Wifi"]
["2018-07-04",695,405,"Se activa el panel de la 403, indican que las alarma se activó en la habitacion  405  procedemos a llamar a la habitacion para consultarle a los clientes si todo estaba bien, los mismos nos indican que todo está en orden, una vez verificado el estado de las habitaciones con los huéspedes  el compañero Kenneth procede a  apagar el panel","",null,null,"N/A",1,176,"Desestimado"]
["2018-07-04",694,207,"Al ser las 6:45pm de hoy 04/07/2018 el compañero Kenneth de seguridad reporta que se activaron las alarmas, específicamente  los paneles de las habitaciones  203 y 403, estos indican que las alarmas se activaron en las habitaciones 207 y 405 respectivamente, procedemos a llamar a las habitaciones para consultarle a los clientes si todo estaba bien en las habitaciones, los mismos nos indican que todo está en orden, una vez verificado el estado de las habitaciones con los huéspedes  el compañero Kenneth procede a  desactivar las alarmas.","",null,null,"N/A",{"$f":"I$1","v":1},176,"Desestimado"]
["2018-07-04",693,904,"Poner alfombra a la entrada de las escaleras, ya que el piso es resbaloso","Asignar Roberto Escoto",null,null,"SI",1,176,"Alfombra en escaleras"]
["2018-07-04",692,202,"Al ser las 8:15pm los huéspedes llaman indicando que hay una víbora en su habitación y que por favor les ayuden ya que no quieren que los niños se den cuenta.","N/A",null,null,"N/A",1,176,"Desestimado"]
["2018-07-04",691,null,"Huéspedes se quejan que en el desayuno habían moscas dentro del yogurt y además en algunas otras comidas que estaban en el buffet, dicen que nunca habían sido testigos de esto en los paseos que han realizado.","Asignar Jairo Garcia",null,null,"SI",1,176,"Plagas Habitaciones"]
["2018-07-04",690,201,"Huésped se queja que durante la noche de ayer 03-07-18, hubo un ruido que los pertubó, el ruido al parecer venía del techo","Asignar Jairo Garcia",null,null,"SI",1,176,"Ruido habitación"]
["2018-07-03",689,312,"Huésped se encuentra enfermo según ellos esto les pasó después de almorzar en el hotel unos fetuccini di mari, ","N/A",null,null,"N/A",1,176,"Desestimado"]
["2018-07-03",688,null,"Precios de la cena muy elevados","Asignar Diego Cambronero",null,"Menus Nuevos ","2019-01-20",1,176,"Calidad comida"]
["2018-07-03",687,null,"Al ser las 10:15 am aproximadamente el servicio de Internet del hotel se cae imposibilitando realizar cobros con el datafono, entre otras cosas. Varios huéspedes se vieron afectados tanto haciendo check-out como otros que llamaban preguntando por el Wi-Fi del hotel ya que no les servía.","Asignar Arnaldo Moreira",null,null,"SI",1,176,"Wifi"]
["2018-07-03",686,504,"Huéspedes se quejan ya que el documento que le envió la agencia a recepción para ser entregado a los huéspedes no se les dió, los señores no pudieron ir a un tour ya que no fueron informados y se encontraban inconformes con el error que se dió en recepción al enviar un documento en español que no correspondía con el que envió la agencia.","Asignar Estibaliz Aguilar",null,null,"SI",1,176,"Servicio al cliente "]
["2018-07-02",685,512,"Cliente indica el agua del baño apenas es tibia incluso abriendola toda. Y necesitaban tomar un baño. ","Asignar Jairo Garcia",null,null,"SI",1,176,"Agua caliente"]
["2018-07-02",684,107,"Cuando se le aborda al huésped mediante la llamada de bienvenida reporta un olor desagradable y muy fuerte.","Asignar Jairo Garcia",null,null,"SI",1,176,"Mal olor habitación"]
["2018-07-01",683,606,"Huésped molesto porque no hay servicio de desayuno a la habitación.","Asignar Diego Cambronero",null,null,"N/A",1,176,"Desestimado"]
["2018-06-30",682,515,"Todos los días que estuvimos hospedados tuvimos problemas con cucarachas grandes y pequeñas, el veneno hizo que salieran cada día más, por las noches la situación era peor.","Asignar Jairo Garcia",null,null,"SI",1,176,"Plagas Habitaciones"]
["2018-06-29",681,411,"Mejor selección en calidad de las comidas.","Asignar Greivin Salazar ",null,"Menu Nuevo","2019-01-20",1,176,"Calidad comida"]
["2018-06-30",680,203,"La refrigeradora hace mucho ruido","Asignar Dariel Miranda",null,"se cambio la refrigeradora ","SI",1,176,"HABITACIONES"]
["2018-07-02",679,null,"Cena muy limitada y con precio elevado.","Asignar Greivin Salazar ",null,"Menu Nuevo","2019-01-20",1,176,"Calidad comida"]
["2018-07-02",678,null,"La selección de opciones de desayuno no es buena, no hay tocino. ","Asignar Diego Cambronero",null,null,"N/A",1,176,"Desestimado"]
["2018-07-01",677,null,"Muy decepcionados con la cena, precios muy caros y calidad de la comida no es equivalente a los que cobran en comparación con otros hoteles de la zona.","Asignar Greivin Salazar ",null,"Menu Nuevo","2019-01-20",1,176,"Calidad comida"]
["2018-06-19",676,null,"El costo de las comidas es muy caro y es mejor ir a alguna soda en el pueblo.","Asignar Diego Cambronero",null,"Menus Nuevos ","2019-01-20",1,176,"Calidad comida"]
["2018-06-16",675,null,"Cenas y bar de la piscina con precios muy elevados.","Asignar Diego Cambronero",null,"Menus Nuevos ","2019-01-20",1,176,"Calidad comida"]
["2018-06-13",674,null,"El sushi es pésimo, la calidad de los ingredientes es terrible (cero frescos), las combinaciones de sabor fatal, el arroz no tiene la textura adecuada y tampoco buena presentación. \r\nNo entiendo como un hotel tan bello puede ofrecer un sushi tan terrible :(\r\n","Asignar Don Minor Castro",null,"Cheff nuevo ","SI",1,176,"Calidad Sushi"]
["2018-06-29",673,710,"Huésped reporta que hay cucarachas en la habitación","Asignar Jairo Garcia",null,null,"SI",1,176,"Plagas Habitaciones"]
["2018-06-29",672,"111-112","Huéspedes se quejan que se les hizo entrega de l acajaita de desayuno y no incluía cucharas o tenedores para comer. Tuvieron que bajarse del carro y venir a recepción porque se les había indicado que si llevaban cucharas de acuerdo a lo que se indicó de parte de los compañeros de salón a recepción.","Asignar Diego Cambronero",null,null,"SI",1,176,"Calida Desayuno"]
["2018-06-28",671,"514-515","Huésped bastante decepcionado y molesto ya que en su habitación no dejan de salir cucarachas principalmente del lado del mueble cerca del televisor, el muchacho se acercó a recepción indicando que está cansado de esto y que jamás pensó que el hotel fuera un cucarachero, se fumigó horas antes y debido a eso salen las cucarachas atontadas y esto molestó más al huésped. El dice que va estar 2 noches más en el hotel y que no esperaba vivir esto.","Asignar Jairo Garcia",null,null,"SI",1,176,"Plagas Habitaciones"]
["2018-06-28",670,105,"Precios sumamente caros en las comidas, deberían poner un transporte a la fortuna donde se pueda ir y comer y que ofrezcan precios razonables","Asignar Diego Cambronero",null,"Menus Nuevos ","2019-01-20",1,176,"Calidad comida"]
["2018-06-28",669,105,"Huéspedes se quejan que el servicio de internet no les funciona y aunque aparecen conectados no es posible usar el internet.","Asignar Arnaldo Moreira",null,null,"SI",1,176,"Wifi"]
["2018-06-28",668,801,"Las instrucciones en alemán están mal redactadas y con mala ortografía también.","Asignar Iván Ramírez","Desestiamda",null,"SI",1,176,"Encuentas de satisfacción"]
["2018-06-24",667,504,"El baño de la habitación expide un olor desagradable","Asignar Jairo Garcia",null,null,"SI",1,176,"HABITACIONES"]
["2018-06-27",666,301,"Tener productos que sean organicos","Asignar Greivin Salazar ",null,"Menu Nuevo","2019-01-20",1,176,"Calidad comida"]
["2018-06-27",665,301,"Menú para niños","Asignar Greivin Salazar ",null,"Menu Nuevo","2019-01-20",1,176,"Menú niños"]
["2018-06-27",664,602,"El restaurante nacional debería de tener más decoración costarricense, más musica típica para el desayuno e instrumental para la noche","Asignar Don Minor Castro",null,"Reunion con Vanessa ","2019-01-15",1,176,"Menú típico"]
["2018-06-27",663,515,"Cucarachas en la habitación ","Asignar Jairo Garcia",null,null,"SI",1,176,"Plagas Habitaciones"]
["2018-06-25",662,408,"Más opciones en las comidas y mejorar servicio en el bar de psicinas.","Asignar Diego Cambronero",null,null,"SI",1,176,"Servicio cliente restaurante "]
["2018-06-25",661,304,"Solo hay una mesa de noche y deberían haber dos para poner cosas.","Asignar Roberto Escoto",null,null,"SI",1,176,"HABITACIONES"]
["2018-06-24",660,304,"Alrededor del hotel deberían haber mas senderos o areas para ver aves y flores.","FINCA",null,null,"N/A",1,176,"Desestimado"]
["2018-04-24",659,211,"Es necesario tener mas opciones para personas diabéticas.","Asignar Diego Cambronero",null,null,"N/A",1,176,"Desestimado"]
["2018-06-24",658,407,"El espejo con aumento en el baño esta muy alto.","EL ESPEJO DE AUMENTO TIENE AJUSTE VERTICAL",null,null,"N/A",1,176,"Desestimado"]
["2018-06-23",657,705,"Sería bueno tener un espejo grande en la habitación fuera del baño","Asignar Roberto Escoto",null,null,"SI",1,176,"HABITACIONES"]
["2018-06-23",656,111,"El huésped menciona que el día miercoles 20 al ser las 9 de la mañana cuando fueron al desayuno, los muchachos del restaurante se veían más apurado por limpiar y terminar que por servir al huésped","Asignar Diego Cambronero",null,null,"SI",1,176,"Servicio cliente restaurante "]
["2018-06-22",655,612,"Tienen muchos bichos en la habitación, ","Asignar Jairo Garcia",null,null,"SI",1,176,"Plagas Habitaciones"]
["2018-06-22",654,"309-310","Tienen muchas hormigas y bichos en la habitación. Es el segundo reporte durante la estadía. ","Asignar Jairo Garcia",null,null,"SI",1,176,"Plagas Habitaciones"]
["2018-06-20",653,502,"Huésped muy decepcionado del servicio de Internet que le ofrecemos, el mismo no puede utilizar un celular que usa para negocios ya que a pesar de que le sale conectado no es posible hacer uso del internet.","Asignar Arnaldo Moreira",null,null,"SI",1,176,"Wifi"]
["2018-06-20",652,602,"Equipo del gym no funciona apropiadamente.","Asignar Jairo Garcia",null,null,"SI",1,176,"Gimnasio"]
["2018-06-19",651,512,"El jacuzzi de la habitación no le funciona el agua termal","Asignar Greivin Arredondo",null,"Se rotulo el grifo ","SI",1,176,"Rotulación Jacuzzi"]
["2018-06-19",650,103,"El basurero del servicio de la habitación debería tener tapa","SE CAMBIARON BASUREROS",null,null,"SI",1,176,"HABITACIONES"]
["2018-06-20",649,104,"Sería bueno tener gavetas más amplias en el baño","N/A",null,null,"N/A",1,176,"Desestimado"]
["2018-06-20",648,407,"Algunos insectos en la habitación","Asignar Jairo Garcia",null,null,"Si",1,176,"Plagas Habitaciones"]
["2018-06-17",647,603,"Muchas Hormigas en la habitación.","Asignar Jairo Garcia",null,null,"Si",1,176,"Plagas Habitaciones"]
["2018-06-17",646,403,"Huésped se queja de que a la hora de reservar en el hotel acordó una cena romántica especial  cual le vendieron y prometieron y no se cumplió, el señor estaba bastante molesto porque pagó más de 100 dólares por la cena y el menú que le brindaron era el mismo menú que se le ofrece a todos los clientes, el señor argumenta que  no hay nada especial en lo que se le ofreció y lo que le molesta es que le hayan mentido, el mismo prefirió que se le reintegrara el dinero y que iba a pagar lo que consumiera como otro huésped más común y corriente. ","Asignar Greivin Salazar ",null,"Establecer menú para cenas romanticas","2019-01-01",1,176,"Calidad comida"]
["2018-06-17",645,503,"Huésped se queja que el internet le funciona en la hab 503 pero en la de la par no le sirve del todo lo cual le parece bastante extraño.","Asignar Arnaldo Moreira",null,null,"SI",1,176,"Wifi"]
["2018-06-17",644,"Grupo de la Mora","A continuación hacemos de su conocimiento una situación que se presentó en el restaurante Ti-Cain durante la cena del “Grupo de La Mora”.\nAl ser las 9:20pm se aproximó a recepción  el encargado del Grupo de La Mora, el mismo nos preguntó si se encontraba Miguel Munera en el hotel, ya que deseaba externarle el malestar por la mala atención que recibieron a la hora de la cena, nos comenta que el servicio fue lento y que la comida simplemente no estuvo bien, también nos hace saber que la tour leader le pidió por favor para la cena de mañana buscar un restaurante en el centro en el cual les brinden un buen servicio rápido y oportuno.\n","Asignar Diego Cambronero",null,null,"SI",1,176,"Calidad comida"]
["2018-06-13",643,607,"\"Una cuchara pequeña que utilicé para endulzar mi café, no me di cuenta pero estaba sucia con huevo\" huésped nos recomienda entonces tener más cuidado con esto","Asignar Jairo Garcia",null,null,"Si",1,176,"Plagas Habitaciones"]
["2018-06-13",642,709,"El baño necesita mejor iluminación // Coordinar poner dos bombillos por lámpara","Asignar Roberto Escoto",null,null,"SI",1,176,"HABITACIONES"]
["2018-06-16",641,109,"Hormigas en la habitacion","Asignar Jairo Garcia",null,null,"Si",1,176,"Plagas Habitaciones"]
["2018-06-16",640,504,"Huesped  se queja de hormigas en la habitación.","Asignar Jairo Garcia",null,null,"Si",1,176,"Plagas Habitaciones"]
["2018-06-15",639,"111-112","Huesped  se queja de hormigas en la habitación.","Asignar Jairo Garcia",null,null,"Si",1,176,"Plagas Habitaciones"]
["2018-06-14",638,302,"Huesped se queja de hormigas en toda la habitación.","Asignar Jairo Garcia",null,null,"SI",1,{"$f":"H$1","v":176},"Plagas Habitaciones"]
["2018-06-13",637,307,"Se queja de la altura de la cama ya que es de baja estatura y le fue muy dificil bajarse.","Asignar Gilberth Mejías",null,null,"SI",1,176,"Camas altas "]
["2018-06-14",636,902,"Huésped se queja que ellos nunca pusieron letrero de no molestar en la habitación, y que alguien lo hizo, lo cual esto provocó que no les hicieran la limpieza.","N/A",null,null,"N/A",1,176,"Desestimado"]
["2018-06-14",635,303,"Huésped se queja que su teléfono no conecta a internet de ninguna manera.","Asignar Arnaldo Moreira",null,null,"SI",1,176,"Wifi"]
["2018-06-11",634,202,"Promover una noche para bailar, o bien tener más buena música.","Asignar Don Minor Castro",null,null,"N/A",1,176,"Entretenimiento"]
["2018-06-11",633,202,"Más botellas de agua en la habitación sería un buen detalle","N/A",null,"Altos Costos","N/A",1,176,"Desestimado"]
["2018-06-11",632,202,"Sería genial tener una silla en la habitación","Asignar Greivin Arredondo","Sillas en camino.","Sillas nuevas ","si",1,176,"Silla en habitación"]
["2018-06-11",631,202,"El shampoo podría ser mejor","Asignar Dariel Miranda",null,null,"2019-05-05",1,176,"Amenidades"]
["2018-06-11",630,null,"Más comida tradicional de Costa Rica en los menú, ya que cuando estuvimos hospedados solo estaba abierto el restaurante italiano y japones.","Asignar Greivin Salazar ",null,"Menu Nuevo","2019-01-20",{"$f":"I$1","v":1},176,"Menú típico"]
["2018-06-11",629,403,"Huésped se queja de un ruido constante como un pito justo detrás de su habitación que no le permite dormir.","Asignar Jairo Garcia",null,null,"Si",1,176,"Alarmas "]
["2018-06-11",628,610,"Huéspedes se quejan de hormigas y cucarachas en la habitación.","Asignar Jairo Garcia",null,null,"Si",1,176,"Plagas Habitaciones"]
["2018-06-09",627,510,"Al bañarse la segunda persona el agua era muy fria. El agua caliete solo dura dos minutos","Asignar Jairo Garcia",null,null,"Si",1,176,"Agua caliente"]
["2018-06-09",626,510,"El wifi o es muy lento o no funciona en la habitación","Asignar Arnaldo Moreira",null,null,"SI",1,176,"Wifi"]
["2018-06-09",625,509,"El agua caliente a veces no funciona bien.","Asignar Jairo Garcia",null,null,"SI",1,176,"Agua caliente"]
["2018-06-09",624,509,"El wifi no funciona bien","Asignar Arnaldo Moreira",null,null,"SI",1,176,"Wifi"]
["2018-06-09",623,312,"El jacuzzi debería tener rotulos para saber donde se debe presionar para obtener las burbujas","Asignar Greivin Arredondo",null,null,"SI",1,176,"Rotulación Jacuzzi"]
["2018-06-05",622,712,"Unos cuantos insectos en la habitación","Asignar Jairo Garcia",null,null,"SI",1,176,"Plagas Habitaciones"]
["2018-06-07",621,610,"Las porciones de comida no están acorde con el precio","Asignar Greivin Salazar ",null,"Menu Nuevo","2019-01-20",1,176,"Calidad comida"]
["2018-06-07",620,705,"Más opciones de comida vegetariana en el restaurante principal.","Asignar Greivin Salazar ",null,"Menu Nuevo","2019-01-20",1,176,"MENÚ VEGETARIANO"]
["2018-06-08",619,712,"El internet no funcionó bien, muy lento cuando pudimos recibir algo de señal.","Asignar Arnaldo Moreira",null,null,"SI",1,176,"Wifi"]
["2018-06-08",618,712,"El refrigerador produce demasiado ruido","Asignar Dariel Miranda",null,null,"Si",1,176,"HABITACIONES"]
["2018-06-07",617,"414-415","Cliente indica que no puede conectarse al Wifi, y luego cuando logró la conexion, la misma es muy debil y no le permite accesar correctamente. ","Asignar Arnaldo Moreira",null,null,"SI",1,176,"Wifi"]
["2018-06-05",616,305,"Huésped se queja de los precios de los restaurantes, muy altos ","Asignar Diego Cambronero",null,null,"Si",1,176,"Calidad comida"]
["2018-06-05",615,305,"Huésped se queja que reservó 22 días antes y solicitó una hab para adulta mayor y cerca a todas las areas comunes, sin embargo no tuvo respuesta.","INDAGAR CON MIGUEL SOBRE ESTE CASO",null,null,"Si",1,176,"Proceso de reservas"]
["2018-06-02",614,206,"Huésped se queja de las limitadas opciones en las comidas del bar de la piscina, le gustaria como hamburguesas. Además se queja del mal servicio recibido especialmente en el Italiano.","Asignar Diego Cambronero",null,null,"Si",1,176,"Calidad comida"]
["2018-06-05",613,504,"Hubieramos podido usar los vasos, si estos estuviesen limpios.","COMENTAR CON MELISSA",null,null,"Si",1,176,"HABITACIONES"]
["2018-06-05",612,504,"Huesped se queja de hormigas en el area del baño.","N/A",null,null,"Si",1,176,"Plagas Habitaciones"]
["2018-06-04",611,111,"Huesped se queja de hormigas dentro de la  habitación y fuera. ","N/A",null,null,"Si",1,176,"Plagas Habitaciones"]
["2018-06-04",610,608,"NO hay silla en la habitación y es necesaria","SILLAS VIENEN EN CAMINO",null,null,"Si",1,176,"Silla en habitación"]
["2018-06-04",609,605,"Se quejan porque no hay coca cola zero ni tampoco menú para celiacos.","Asignar Diego Cambronero",null,null,"Si",1,176,"Calidad comida"]
["2018-06-02",608,309,"Huésped se queja del restaurante Italiano el cual en ese momento se encontraba trabajando como el restaurante principal debido al cierre del Ti-Cain, se queja de que no hay en realidad opciones de comida costarricense, los precios muy altos en comparación con la cantidad y calidad de la comida.","Asignar Diego Cambronero",null,null,"Si",1,176,"Calidad comida"]
["2018-06-03",607,211,"Probamos dos rollos de sushi y un sashimi y la calidad fue muy mala, el pescado no estaba fresco y la combinación de sabores no era la mejor, además la presentación de los rollos deficiente y la calidad del arroz no estaba al nivel de un restaurante aceptable de sushi. Y precios sumamente elevados en relación a la calidad.","Asignar Diego Cambronero",null,null,"Si",1,176,"Calidad comida"]
["2018-05-31",606,104,"Muchas hormigas pequeñas en el baño y el  teléfono no funcionaba.","N/A",null,null,"Si",1,176,"Plagas Habitaciones"]
["2018-06-03",605,406,"Huésped indica que sería muy bueno tener sombrillas en la habitación.","ELEVA COSTOS",null,null,"Si",1,176,"Desestimado"]
["2018-06-02",604,108,"Hormigas en la habitación, hormigas en el coffee maker, hormigas en la cama.","N/A",null,null,"Si",1,176,"Plagas Habitaciones"]
["2018-06-03",603,510,"Huésped comenta a modo de recomendación que los compañeros de los bares en la piscina, deberían utilizar siempre guantes al realizar las distintas labores que realizan ahí, dado que muchas veces se limpian las manos en sus camisas y por el tipo de camisas y el calor que se produce ahí, pasan sudando por lo que es anti higienico","Asignar Diego Cambronero",null,null,"Si",1,176,"Higiene en restaurante"]
["2018-06-03",602,103,"Huesped reporta que tiene cucarachas en la habitación en la noche. ","N/A",null,null,"Si",1,176,"Plagas Habitaciones"]
["2018-06-03",601,107,"Huesped reporta hormigas en la habitación. ","N/A",null,null,"Si",1,176,"Plagas Habitaciones"]
["2018-06-02",600,205,"Huésped reporta que tenía una pizza en la habitación, y que la compañera mucama al realizar la limpieza la tiró a la basura.","MANTENER COMIDA DENTRO DE LA HABITACIÓN PROPICIA TENER INSECTOS, LA MUCAMA TRATA DE MANTENER ESTE OBJETIVO",null,null,"Si",1,176,"Desestimado"]
["2018-05-31",599,601,"El hotel debería de tener un area designada para juegos de mesa con sillas y mesas para juegos mientras llueve.","COMENTAR CON GERENCIA",null,null,"Si",1,176,"Sala de juegos"]
["2018-05-30",598,505,"La señal de Internet es mala y débil especialmente en las habitaciones.","Asignar Arnaldo Moreira",null,null,"Si",1,176,"Wifi"]
["2018-05-31",597,310,"En la noche debería haber alguna actividad nocturna de entretenimiento.","VA EN CONTRA DEL CONCEPTO FAMILIAR DEL HOTEL",null,null,"Si",1,176,"Desestimado"]
["2018-05-31",596,111,"No hay paraguas en la habitación.","ELEVA COSTOS",null,null,"Si",1,176,"Desestimado"]
["2018-05-31",595,305,"No hay opciones en el desayuno libres de glutten y el restaurante Italiano muy bajo en servicio.","NO SE VA A ASUMIR RESPONSABILIDAD DE CELIACOS",null,null,"Si",1,176,"Desestimado"]
["2018-05-31",594,506,"Una silla en la habitación es necesaria","SILLAS VIENEN EN CAMINO",null,null,"Si",1,176,"Silla en habitación"]
["2018-05-31",593,506,"Pan fresco todas las mañanas.","N/A",null,null,"Si",1,176,"Calida Desayuno"]
["2018-05-30",592,null,"Menú limitado en el Italiano","Asignar Diego Cambronero",null,null,"Si",1,176,"Calidad comida"]
["2018-05-30",591,303,"Huespedes se quejan que ante el mal clima y que desde las 2:30pm comenzó a llover el hotel debería tener alguna opcion de entretenimiento como sala de peliculas, bingo, karaoke, juegos de trivia ya que es aburrido estar en la habitación encerrados.","COMENTAR CON GERENCIA",null,null,"Si",1,176,"Sala de juegos"]
["2018-05-30",590,309,"Hormigas e insectos en la habitción.","COMENTAR CON JAIRO",null,null,"Si",1,176,"Plagas Habitaciones"]
["2018-05-30",589,104,"Reduzcan los precios de los los bares y restaurantes porque son muy elevados.","Asignar Diego Cambronero",null,null,"Si",1,176,"Calidad comida"]
["2018-05-30",588,709,"Una silla en la habitación para ponerse zapatos y pantalon, la cama es muy alta.","SILLAS VIENEN EN CAMINO",null,null,"Si",1,176,"Silla en habitación"]
["2018-05-29",587,515,"Huésped comenta que dos veces han solicitado room service y al entregarlo no les llevan platos ni cubertería.","Asignar Diego Cambronero",null,null,"Si",1,176,"Room service"]
["2018-05-28",586,410,"Sería bueno tener una banca en el gimnasio para poder hacer las pesas","LAS MAQUINAS OFRECEN UNA ESTACIÓN PARA ALZAR PESAS",null,null,"Si",1,176,"Desestimado"]
["2018-05-28",585,410,"Yoga sería mejor si las clases fueran avanzadas","SE ESTABLECIÓ CLASES BÁSICAS PARA QUE TODOS LOS CLIENTES PUEDAN APROVECHAR LAS SESIONES",null,null,"Si",1,176,"Desestimado"]
["2018-05-26",584,null,"Menu limitado especialmente si el restaurante principal está cerrado,  no hay variedad de comida costarricense.","Asignar Diego Cambronero",null,null,"Si",1,176,"Calidad comida"]
["2018-05-23",583,null,"Opciones limitadas en los restaurantes.","Asignar Diego Cambronero",null,null,"Si",1,176,"Calidad comida"]
["2018-05-23",582,null,"Comidas limitadas y menú de ensaladas no es amplio.","Asignar Diego Cambronero",null,null,"Si",1,176,"Calidad comida"]
["2018-05-22",581,null,"Habitación pequeña y con pequeños insectos , las paredes son delgadas y se escucha todo además durante la noche había un ruido extraño en el techo que interrumpía el sueño.","VALIDAR CON MELISSA Y JAIRO QUÉ HABITACIONES TIENEN RUIDO",null,null,"Si",1,176,"Ruido habitación"]
["2018-05-22",580,null,"Precios increiblemente elevados ","Asignar Diego Cambronero",null,null,"Si",1,176,"Calidad comida"]
["2018-05-14",579,null,"Precio elevado de los restaurantes","Asignar Diego Cambronero",null,null,"Si",1,176,"Calidad comida"]
["2018-05-14",578,null,"El desayuno puede mejorar, Costa Rica tiene muchas frutas y deberían incluirse en el desayuno ya que solamente había piña y banano como únicas opciones.","Asignar Diego Cambronero",null,null,"Si",1,176,"Calidad comida"]
["2018-05-12",577,null,"Variedad de opciones en el desayuno no es muy amplia.","Asignar Diego Cambronero",null,null,"Si",1,176,"Calidad comida"]
["2018-05-09",576,null,"El costo de las bebidas de los bares y las cmoidas en restaurantes es elevado.","Asignar Diego Cambronero",null,null,"Si",1,176,"Calidad comida"]
["2018-05-08",575,null,"Los precios de los restaurantes son un poco caros.","Asignar Diego Cambronero",null,null,"Si",1,176,"Calidad comida"]
["2018-05-08",574,null,"El ventilador no se puede apagar a menos que se desactive la electricidad de toda la habitación.","ETIQUETAR LOS APAGADORES",null,null,"Si",1,{"$f":"H$1","v":176},"Etiquetas en apagadores"]
["2018-05-08",573,null,"El hotel es bueno excepto por la comida (de regular a mediocre) y algunos empleados, como por ejemplo la persona en recepción que no quiso cambiar dólares. ","Asignar Diego Cambronero",null,null,"Si",1,176,"Calidad comida"]
["2018-05-08",572,null,"Comida y servicios no se comparan con precio, esperaba más para el dinero que cuesta el hospedaje.","Asignar Diego Cambronero",null,null,"Si",1,176,"Calidad comida"]
["2018-05-07",571,null,"Opciones en las comidas de los restaurantes son muy limitadas.","Asignar Diego Cambronero",null,null,"Si",1,176,"Calidad comida"]
["2018-05-07",570,null,"Limitadas y pequeñas areas de piscina","NO ES UN CONCEPTO DE BALNEARIO",null,null,"Si",1,176,"Piscinas "]
["2018-05-07",569,null,"Los alimentos no son de buena calidad y muy básicos, el desayuno es muy rutinario y es necesario tener mas variedad de opciones.  Además el precio no se compara con el servicio y calidad.","Asignar Diego Cambronero",null,null,"Si",1,176,"Calidad comida"]
["2018-05-03",568,null,"Opciones de almuerzo y cena muy limitadas","Asignar Diego Cambronero",null,null,"Si",1,176,"Calidad comida"]
["2018-05-26",567,504,"Hab necesita mejor luz","Asignar Greivin Arredondo",null,null,"Si",1,176,"Iluminación hab closet"]
["2018-05-26",566,504,"Muy mala experiencia en el restaurante con un salonero, el cual no fue atento, con un mal servicio.","Asignar Diego Cambronero",null,null,"Si",{"$f":"I$1","v":1},176,"Servicio cliente restaurante "]
["2018-05-27",565,512,"No hay carne en el desayuno, la variedad de la comida es limitada, y el tamaño de las sopas no es el ideal","Asignar Diego Cambronero",null,null,"Si",1,176,"Calidad comida"]
["2018-05-27",564,903,"necesitamos mejor comida en los restaurantes","Asignar Diego Cambronero",null,null,"Si",1,176,"Calidad comida"]
["2018-05-26",563,205,"Huespedes se quejan de la poca variedad en las comidas ","Asignar Diego Cambronero",null,null,"Si",1,176,"Calidad comida"]
["2018-05-26",562,404,"Él botones llega a la habitación a dejar el check in y encuentran una cerveza por la mitad en la refri ","COMENTAR CON EL EQUIPO DE AMA DE LLAVES",null,null,"Si",1,176,"HABITACIONES"]
["2018-05-26",561,306,"huespedes nos informan de foma traquila que la alarma los despertó la noche anterior mas no se encontraban molestos al respecto ","El 28/05 LAS PERSONAS DE INSOTEK REALIZARON CAMBIOS EN LA CONFIGURACIÓN",null,null,"Si",1,176,"Alarmas "]
["2018-05-26",560,"207-208","huespedes se apersonaron muy molestos al area de recepción para quejarse por que no pudieron dormir debido a que la alarma de incendios se activó la noche anterior, se activó a las 2am y de nuevo 5am, no dieron chance a ninguna solución mas que hablar con el gerente. ","El 28/05 LAS PERSONAS DE INSOTEK REALIZARON CAMBIOS EN LA CONFIGURACIÓN",null,null,"Si",1,176,"Alarmas "]
["2018-05-26",559,206,"huespedes se apersonaron muy molestos al area de recepción para quejarse por que no pudieron dormir debido a que la alarma de incendios se activó la noche anterior, se activó a las 2am y de nuevo 5am, no dieron chance a ninguna solución mas que hablar con el gerente. ","El 28/05 LAS PERSONAS DE INSOTEK REALIZARON CAMBIOS EN LA CONFIGURACIÓN",null,null,"Si",1,176,"Servicio cliente botones"]
["2018-05-25",558,null,"La huésped comenta que al haber pedido algo en el sushi cuando se lo entregaron el botones no fue amable.","COMENTAR CON LIZ",null,null,"Si",1,176,"Servicio cliente botones"]
["2018-05-25",557,null,"La relación precio calidad de los restaurantes es mala, como ejemplo dice que la ultima noche pidió comida en el sushi bar y esto fue según ella una desgracia.","Asignar Diego Cambronero",null,null,"Si",1,176,"Calidad Sushi"]
["2018-05-25",556,null,"Huésped recomienda que se deberia cambiar el nombre de las habitaciones, ya que según su opinión el nombre Junior Suite no va con las características que tienen nuestras habitaciones, de hecho comenta que la habitación le pareció estupenda y da como ejemplo de nombre Premium","N/A",null,null,"Si",1,176,"Desestimado"]
["2018-05-25",555,901,"Huésped reporta que encontró muchos insectos  incluyendo 2 cucarachas .","HABITACIONES YA FUERON FUMIGADAS",null,null,"Si",1,176,"Plagas Habitaciones"]
["2018-05-25",554,210,"Restaurantes muy caros, mejor si hubiera mas comida tipica y con precios mas bajos.","Asignar Diego Cambronero",null,null,"Si",1,176,"Calidad comida"]
["2018-05-25",553,null,"aL ser las 11:30am el encargado de lockers Javier reporta que el area del gimnasio, lockers y hamacas  presenta un acceso complicado debido a que los compañeros de restaurantes estaban lavando el piso del Ti Cain, la caída de jabón y agua era constante impidiendo el acceso de una cosiderable cantidad de huespedes presentes en las piscinas, era complicado entrar por el área principal de lockers. El jabón estaba en las aceras lo cuál pudo provocar que algun huesped sufriera una caída. ","SE DEBE DE COMUNICA CUALQUIER ACCION QUE ALTERE LA OPERACIÓN DE OTRAS ÁREAS",null,null,"Si",1,176,"Falta de comunicación"]
["2018-05-25",552,304,"Huéspedes se quejan del tamaño de la habitación e indican que es muy ajustada para 3 o 4 personas, además dicen que se ocupan 2 sanitarios y 2 lavatorios especialmente cuando hay 4 personas en la misma habitación.","EXISTEN CATEGORIAS DE HABITACIONES QUE SUPLEN ESTA NECESIDAD",null,null,"Si",1,176,"Desestimado"]
["2018-05-24",551,411,"Huesped indica que el hotel debería tener un poco de baile por la tarde o noche, como un salón de baile con algún entretenimiento.","VA EN CONTRA DEL CONCEPTO FAMILIAR DEL HOTEL",null,null,"Si",1,176,"Desestimado"]
["2018-05-22",550,112,"\"El único problema fue que habían pequeños ciempies en el baño\"","FUMIGAR",null,null,"Si",1,176,"Plagas Habitaciones"]
["2018-05-22",549,507,"La huésped se mostró muy molesta poe que no tenia un maletero extra , el cual había solicitado varias veces.","REVISAR QUIEN ERA EL ANFITRIÓN / NO SE ENCONTRÓ EVIDENCIA QUE SUSTENTARA ESTA AFIRMACIÓN",null,null,"Si",1,176,"Plagas Habitaciones"]
["2018-05-21",548,609,"Huéspedes de Caravan les salió una cucaracha de la mesa mientras se encontraban comiendo.","Asignar Jairo Garcia",null,null,"Si",1,176,"Plagas Habitaciones"]
["2018-05-21",547,207,"Huéspedes se quejan porque no es permitido ingresar invitados o amigos de otros hoteles, indican que parece un hospital o una carcel.","Elaborar rotulos informando la restricción",null,null,"Si",1,176,"Vistas de huespedes"]
["2018-05-21",546,207,"Huéspedes se quejan de los brazaletes, solicitan que se eliminen ya que eso es barato y se ve mal.","Asignar Don Minor Castro",null,null,"Si",1,176,"Brazaletes"]
["2018-05-21",545,207,"Mejores camas de bronceado y más sombra en el area de piscinas.","COMENTAR LA NECESIDAD LA NECESIDAD CON DON Minor ",null,null,"Si",1,176,"Piscinas "]
["2018-05-21",544,207,"Se quejan de que no hay espejo en la habitación.","MELISSA VA A REVISAR / SI EXISTE EL ESPEJO",null,null,"Si",1,176,"HABITACIONES"]
["2018-05-21",543,601,"Huéspedes se quejan de que el baño huele a cigarro como si hubieran fumado, además se queja que el agua caliente es muy caliente y es peligrosa.","PONER LAS SEÑALIZACIÓN EN LA DUCHA",null,null,"Si",1,176,"HABITACIONES"]
["2018-05-21",542,204,"Cuando el botones está entregando la hab al check-in, encuentra en el mini bar una botellita pequeña de vino rosa a la mitad posiblemente de los huéspedes anteriores.","IMPLEMENTACIÓN DE CHECK LIST HABITACIONES",null,null,"Si",1,176,"HABITACIONES"]
["2018-05-20",541,509,"Cuando el botones está entregando la habitación al check in, encuantra en la refri un a botella grade metálica de los clientes que estuvieron anteriormente ahí ","IMPLEMENTACIÓN DE CHECK LIST HABITACIONES",null,null,"Si",1,176,"HABITACIONES"]
["2018-05-20",540,903,"Huéspedes se quejan porque no hay ventiladores en los restaurantes y porque no hay gran variedad de opciones.","Asignar Diego Cambronero",null,null,"Si",1,176,"Restaurante"]
["2018-05-20",539,604,"Huésped reporta que encontró un raton muerto en la parte alta de las termales.","MUY DIFICIL CONTROLAR UN AREA ABIERTA",null,null,"Si",1,176,"Plagas Habitaciones"]
["2018-05-20",538,604,"Huésped reporta que durante el desayuno una cucaracha apareción en su mesa.","FUMIGAR",null,null,"Si",1,176,"Plagas Habitaciones"]
["2018-05-19",537,207,"Cliente está molesta por que quiere traer amigos a cenar con ella y las políticas del hotel no lo permiten y tampoco hay información sobre esto en ningún lado ","Elaborar rotulos informando la restricción",null,null,"Si",1,176,"Vistas de huespedes"]
["2018-05-18",536,408,"Necesidad de mas sombras en el area de piscinas","COMENTAR LA NECESIDAD LA NECESIDAD CON DON Minor ",null,null,"Si",1,176,"Piscinas "]
["2018-05-18",535,405,"Vino muy caro en comparación con otros hoteles en los que hemos estado en costa rica","Asignar Diego Cambronero",null,null,"Si",1,176,"Cockteles bares"]
["2018-05-17",534,308,"Paraguas en la habitación","SUBE COSTOS ",null,null,"Si",1,176]
["2018-05-18",533,203,"En el bar las bebidas no siempre son servidas de igual forma, una vez nos dieron el coctel tipo frozen y otra a las rocas","Asignar Diego Cambronero",null,null,"Si",1,176,"Cockteles bares"]
["2018-05-17",532,202,"Sería delicioso poder tener aguacate en el desayuno","SUBE COSTOS",null,null,"Si",1,176,"Calida Desayuno"]
["2018-05-09",531,304,"No habia lugar en el armario, solo los percheros","NO HAY ESPACIO PARA AMPLIAR ROPEROS",null,null,"Si",1,176]
["2018-05-05",530,304,"Huespedes se quejan de la falta de gavetas para la ropa.","NO ESOOACIO PARA MAS GAVETAS ",null,null,"Si",1,176,"HABITACIONES "]
["2018-05-04",529,606,"Se quejan del estaurante italiano e indican que debería cambiarse y tener un restaurante de mariscos.","NO HAY POSIBILIDAD DE OTRO REST",null,null,"Si",1,176,"Calidad comida"]
[null,528,null,null,"",null,null,"Si",1,176]
["2018-05-17",527,212,"Huesped se queja de la presencia de hormigas en la habitación, se encuentra disgustada y quiere que le eliminen los insectos.","PROGRAMAR PLAN DE FUMIGACIÓN ",null,null,"Si",1,176,"Plagas Habitaciones"]
["2018-05-17",526,201,"Huespedes se quejan de ruidos en el techo durante toda la noche, indican que son animales y que provocan mucho ruido.","VALIDAR LO QUE DICE EL CLIENTE",null,null,"Si",1,176,"Ruido habitación"]
["2018-05-15",525,403,"Se podría tener una maquina de hielo más cerca a la habitacion","VALORAR LA POSIBILIDAD DE PONER UNA MÁQUINA DE HIELO",null,null,"Si",1,176,"Maquina de hielo"]
["2018-05-15",524,108,"Falta una cafeteria para el almuerzo ligero, por ejemplo ensaladas sandwiches","EXISTEN LAS OPCIONES",null,null,"Si",1,176,"Comidas snacks"]
["2018-05-15",523,108,"Relación precio-calidad muy costoso por lo que es.","Asignar Diego Cambronero",null,null,"Si",1,176,"Calidad comida"]
["2018-05-15",522,"201-304","Huéspedes llaman indicando que no hay agua en las habitaciones.","SOLUCIONADO - KEYLOR ACCIDENTALMENTE CERRO LA LLAVE",null,null,"Si",1,176,"Agua potable"]
["2018-05-15",521,null,"La noche del 14/05/18 mientras varios huéspedes se encontraban cenando se presentaron varias goteras con una cantidad importante de agua ingresando la cual no pudo ser controlada sin que los huéspedes se enteraran ante el aguacero tan fuerte. El agua mojó un poco unos sillones y unas mesas cerca.","SOLUCIONADO - SE DESATERRARON LOS TUBOS",null,null,"Si",1,176,"Agua llovida italiano"]
["2018-05-14",520,303,"El pescado que sirvieron en el sushi no estaba fresco y no fue una buena experiencia.","Asignar Diego Cambronero",null,null,"Si",1,176,"Calidad Sushi"]
["2018-05-14",519,904,"Huéspedes se quejan de gritos y ruidos fuertes en hab 903, al parecer discutiendo","SOLUCIONADO",null,null,"Si",1,176,"Ruido habitación"]
["2018-05-13",518,201,"Los paneles solares para calentar agua parece que estan flojos en el techo y causan mucho ruido especialmente en las noches.","PARECE SER QUE EL TUBO ESTÁ FLOJO",null,null,"Si",1,176,"Ruido sistema solar"]
["2018-05-03",517,801,"Se quejan de que hace falta un basurero en la habitación para residuos NO reciclables, ya que únicamente hay para reciclaje aunque no se indica que tipo de desechos reciclables se pueden depositar.","Asignar Greivin Arredondo",null,null,"Si",1,176,"Reciclaje"]
["2018-05-10",516,702,"La ducha tiene una fuga que cae fuera del baño","VALIDAR LO QUE DICE EL CLIENTE",null,null,"Si",1,176,"Fujas de agua"]
["2018-05-12",515,801,"El desayuno esta bien, pero podría beneficiarse con frutas y jugos mas frescos","EXISTEN LAS OPCIONES",null,null,"Si",1,176,"Desestimado"]
["2018-05-10",514,603,"Huéspedes se quejan de las clases de yoga,  los mismos indican que debería ser solo para adultos,  que el niño que se encontraba haciendo yoga con ellos de otra habitación solo los interrumpía y no permitía que las clases fueran tranquilas.","RECEPCIÓN DEBE DE FUNCIONAR COMO FILTRO / OPORTUNIDAD DE SERVICIO DE GUARDERIA",null,null,"Si",1,176,"Clases de yoga"]
["2018-05-10",513,603,"Huespedes se quejan que solamente en el desayuno se ofrecen frutas, los señores me explican que en Europa ellos acostumbran a comer frutas tambíen al almuerzo y a la cena por lo que indican tengamos en cuenta este aspecto para un futuro tener mas huéspedes satisfechos.","Asignar Diego Cambronero",null,null,"Si",1,176,"Plato de frutas"]
["2018-05-08",512,"109 (Inspector de agencia)","La única crítica constructiva seria el cambiar las láminas de el techo de luz, ya que estan bastante tostadas por el sol y con un poco de moho, esto al menos en la habitación en la cual estuve.","REVISAR LA CONDICION DE ESA LÁMINA ",null,null,"Si",1,176,"HABITACIONES "]
["2018-05-09",511,null,"El servicio está dañado, el tanque no se llena y el  agua queda directa. Tiene muchisimo tiempo de estar así y se le ha dicho infinitas veces a mantemiento","Asignar Jairo Garcia",null,null,"Si",1,176,"Lockers"]
["2018-05-09",510,107,"Poner una silla en la habitacion sería util","SILLAS VIENEN EN CAMINO",null,null,"Si",1,{"$f":"H$1","v":176},"Silla en habitación"]
["2018-05-09",509,304,"Camas muy altas","PEDIR LAS GRADAS A GILBERT",null,null,"Si",1,176,"Camas altas "]
["2018-05-09",508,405,"A veces los empleados no entienden lo que uno pregunta,pura barrera del lenguaje","REVALORAR EL NIVEL DE INGLÉS QUE TIENEN LAS PRINCIPALES ÁREAS DE SERVICIO Y BUSCAR UN MECANISMO DE MEJORA",null,null,"Si",1,176,"Servicio al cliente "]
["2018-05-09",507,null,"A veces los empleados no entienden lo que uno pregunta,pura barrera del lenguaje","",null,null,"Si",1,176,"Servicio cliente restaurante "]
["2018-05-09",506,305,"Habia comida vieja en la refri de las personas que estuvieron antes que nosotros","QUE LAS SUPERVISORAS DE HABITACIONES TENGAN  MAS CUIDADO ",null,null,"Si",1,176,"HABITACIONES "]
["2018-05-09",505,606,"Ayer solicité un masaje en el Spa, más alla de haber sido una experiencia relajante, quede toda adolorida e inflamada del mal uso de la tecnica , recomiendo para futuros clientes que supervisen el entrenamiento del personal.","HABLAR CON YEIMY",null,null,"Si",1,176,"Spa"]
["2018-05-07",504,706,"Huesped se queja de la poca variedad en comidas y pide mayor variedad en las opciones.","Asignar Diego Cambronero",null,null,"Si",1,176,"Calidad comida"]
["2018-05-08",503,510,"El sol de la tarde pega directo a la habitación, deberia haber una pantalla que cubra esto","Asignar Diego Cambronero",null,null,"Si",1,176,"HABITACIONES "]
["2018-05-08",502,510,"La tapa de coffee maker esta rota","Asignar Diego Cambronero",null,null,"Si",{"$f":"I$1","v":1},176,"HABITACIONES "]
["2018-05-07",501,503,"Más vegetales con la carne","Asignar Diego Cambronero",null,null,"Si",1,176,"Calidad comida"]
["2018-05-07",500,212,"Cuando uno esta esperando un huésped, sería genial tener una habitación fria, toma un tiempo para que esta se enfrie","Asignar Diego Cambronero",null,null,"Si",1,176,"A/C"]
["2018-05-07",499,509,"Más variedad de frutas y cereales calientes como avena","Asignar Diego Cambronero",null,null,"Si",1,176,"Calidad comida"]
["2018-05-06",498,709,"La música del restaurante muy alta, al final del día necesitamos descansar y cenar en una tranquila y silenciosa atmosfera","Asignar Diego Cambronero",null,null,"Si",1,176,"Musica restaurantes"]
["2018-05-06",497,410,"A/C bajo rendimiento, sería recomendable tenerlos encendidos antes que los huéspedes lleguen a la habitación.","Asignar Diego Cambronero",null,null,"Si",1,176,"A/C"]
["2018-05-06",496,612,"Un basurero con tapa sería mejor para el baño, especialmente porque este contiene papel higienico usado","Asignar Diego Cambronero",null,null,"Si",1,176,"Basurero baño"]
["2018-05-04",495,109,"La caja fuerte no funcionó en toda la estadía, huespedes reclaman que se quedó cerrada los 2 días y no permitía ingresar un código.","Asignar Diego Cambronero",null,null,"Si",1,176,"HABITACIONES "]
["2018-05-04",494,204,"Huesped se queja de la iluminación de la habitación, indica que es pobre y no es suficiente. Además se queja de que no hay una silla  y que el control del TV solo funciona desde una cama y no de las 2.","Asignar Diego Cambronero",null,null,"Si",1,176,"HABITACIONES "]
["2018-05-04",493,107,"Huesped se queja de lo limitado del menú con opciones vegetarianas y reclama por mas opciones.","Asignar Diego Cambronero",null,null,"Si",1,176,"Menú vegetariano"]
["2018-05-06",492,609,"Huesped se queja de que el hotel no dispone de un area de juegos para los niños, la señora me indica que quedaron encantados con el lugar pero debido a que su familia tiene varios niños pues consideran que es necesario tener un area con pequeño playground.","DARLE SIGUIMIENTO AL AREA PARA NIÑOS",null,null,"Si",1,176,"Área  para niños "]
["2018-05-05",491,304,"Huesped se queja que el detector de humo se encendió a las 12:30am y comenzó a hacer beep, el mismo se queja que tuvo que llamar a la mañana siguiente para que el staff se diera cuenta.","QUITAR TODOS LOS DETECTORES VIEJOS",null,null,"Si",1,176,"Alarmas "]
["2018-05-04",490,601,"Huespedes se quejan porque el hotel deberia considerar tener menus de los restaurantes en las habitaciones y así facilitar el servicio a la habitación.","Asignar Diego Cambronero",null,null,"Si",1,176,"Menú room service"]
["2018-05-05",489,702,"Huesped indica que talvez un spray´insecticida pequeño sería útil para los insectos que aparezcan durante la estadía.","PLAN DE FUMIGACIÓN",null,null,"Si",1,176,"Plagas Habitaciones"]
["2018-05-05",488,702,"Huesped se queja de que el hotel debería de tener mas opciones de ensaladas.","REVISAR LA CANTIDAD",null,null,"Si",1,176,"Calidad comida"]
["2018-05-04",487,701,"Pequeñas hormigas en el baño, en el area de la caja de manicure","PLAN DE FUMIGACIÓN",null,null,"Si",1,176,"Plagas Habitaciones"]
["2018-05-03",486,111,"Huespedes se quejan de tratamiento recibido en el SPA, se muestran molestos y decepcionados porque no quedaron satisfechos con el trabajo que se llevó a cabo en un pedicure, se quejaron de la silla que es muy incómoda, de que no les masajearon los pies mas de 4 minutos a  pesar de que el tratamiento duraba 60 minutos y además  aclaran que no se le tenía agua caliente para colocar los pies y sentirse relajada. ","HABLAR CON YEIMY",null,null,"Si",1,176,"Spa"]
["2018-05-03",485,101,"Cliente reporta que se metieron a la habitacion y extrajeron dinero en efectivo y un celular, mientras ellos estaban en la cena. ","CONSIDERAR CERCA ELÉCTRICA  // ASIGNAR QUIEN SUPERVISE RECORRIDO DE GUARDAS ",null,null,"Si",1,176,"Robo en habitaciones"]
["2018-05-02",484,411,"Huesped se queja debido a que el hotel no cuenta con una acera o camino especial para personas discapacitadas desde las habitaciones hasta las areas comunes, piscinas y restaurantes. Además se queja que en la noche no hay señalización iluminada y que cuando se transita los carritos de golf pasan muy cerca de los peatones.","Considerar acera ",null,null,"Si",1,176,"Acera para transitar "]
["2018-05-01",483,604,"El té de la habitación de manzanilla tiene sabor a tierra","VER LA FECHA DEL LOTE DE LAS CAJAS DE TE DE MANZANILLA",null,null,"Si",1,176,"Minibar habitaciones"]
["2018-05-01",482,410,"Hacer que uno se sirva el café","N/A",null,null,"Si",1,176]
["2018-05-01",481,509,"La comida es muy cara y regular, la comida de las sodas de afuera es mucho mejor y menos cara","Asignar Diego Cambronero",null,null,"Si",1,176,"Calidad comida"]
["2018-05-01",480,208,"El chef de la piscina fue muy descortés al no dejar que los niños jueguen en la piscina.","Asignar Diego Cambronero",null,null,"Si",1,176,"Servicio cliente sushi"]
["2018-04-30",479,708,"Las camas son un poco duras","Validar lo informado por el cliente",null,null,"Si",1,176,"Colchon duro"]
["2018-04-29",478,302,"Un basurero cerrado en el baño, sería bueno","Asignar Greivin Arredondo",null,null,"Si",1,176]
["2018-04-29",477,302,"El jugo de naranja podrá ser hecho con frutas a mano ","JUGO ES ARTESANAL",null,null,"Si",1,176]
["2018-05-01",476,402,"Mejorar la calidad del champú-gel manzana","Asignar Diego Cambronero",null,null,"Si",1,176]
["2018-05-01",475,402,"Mejorar la calidad del café en el desayuno","HABLAR CON GERENCIA",null,null,"Si",1,176]
["2018-04-30",474,110,"Los cocteles y bebidas en general muy caros y con mejoras pendientes en calidad","Asignar Diego Cambronero",null,null,"Si",1,176,"Cockteles bares"]
["2018-05-01",473,307,"Huesped se acerca a recepcion disgustado acerca de una situacion acontecida en el Rest Italiano, indica que solicitó una pizza cuya cual venia con un pedazo de plastico y nos informa que al expresar su disgusto con el compañero presente hizo caso omiso a su reclamo, el nos expresa que firmó la factura inconforme por lo tanto vino a Recepcion a mostrar su descontento, solicitando una solucipon al respecto. (huesped vino resintiendo su malestar, cubriendo su abdomen con su mano)","COBRAR POR PARTES IGUALES LA PIZZA Y LAS BEBIDAS DE CORTESÍAS",null,null,"Si",1,176,"Objetos en la comida"]
["2018-04-30",472,409,"Sería bueno que tuvieran sangría en todos los bares","YA SE HICIERON LOS AJUSTES PARA OFRECER SANGRÍA EN TODOS LOS BARES",null,null,"Si",1,176]
["2018-04-30",471,305,"\"Mi esposo queria un masaje de envoltura o exfoliación com decía que cerraban a las 8 pm, esperabamos que nos pudieran atender después de las 3 pm, pero nos dijeron que no porque las muchachas salian a las 6 pm, además no había recepcionista para buscar la info tuvimos que interrumpir una sesión.","COMENTAR CON YEIMY",null,null,"Si",1,176,"Servicio cliente spa"]
["2018-04-29",470,201,"Huesped indica que deberían agregar mas espacios en la piscina para descansar, ejemplo: camitas de piedra en el agua y no solo asientos.","COMENTAR CON GERENCIA",null,null,"Si",1,176]
["2018-04-29",469,311,"El mojito estaba horrible y muy caro","Asignar Diego Cambronero",null,null,"Si",1,176,"Cockteles bares"]
["2018-04-29",468,306,"Huesped sequeja del sonido que se percibe desde las otras habitaciones ","SE VA A CREAR UN EQUIPO DE INVESTIGACIÓN DE SONIDOS",null,null,"Si",1,176,"Ruido habitación"]
["2018-04-29",467,106,"Puerta del baño se encuentra mala y caída.","Asignar Jairo Garcia",null,null,"Si",1,176,"Puerta de baño"]
["2018-04-29",466,111,"Huesped solicita mejor la calidad del pepperoni de las pizzas.","Asignar Jairo Garcia",null,null,"Si",1,176]
["2018-04-29",465,901,"Huesped al hacer check-out se queja del funcionamiento del Aire Acondicionado, indica que no enfría y que nunca pudieron refrescar la habitación como lo deseaban.","Asignar Jairo Garcia",null,null,"Si",1,176,"A/C"]
["2018-04-28",464,106,"Huesped indica que la música del bar húmedo podría mejorar y no ser aburrida y desactualizada.","Asignar Jairo Garcia",null,null,"Si",1,176]
["2018-04-28",463,402,"Huesped se queja que el gimnasio necesita mejor equipo.","Asignar Jairo Garcia",null,null,"Si",1,176,"Gimnasio"]
["2018-04-27",462,null,"Ayer note que hay falta de iluminación en el jacuzzi, les pregunte a mantenimiento y me dijeron que están esperando unas lámparas. Solamente para que tomen nota de esto, asi nos evitamos un accidente.","Asignar Jairo Garcia",null,null,"Si",1,176,"Rotulación Jacuzzi"]
["2018-04-26",461,104,"La ceramica de la hab es muy resbalosa y cuando esta mojada es muy dificl caminar para las personas que tenemos problemas caminando","Asignar Jairo Garcia",null,null,"Si",1,176,"Piso resbaloso"]
["2018-04-27",460,103,"Mas opciones para el menu de desayuno, todos los días lo mismo no nos hace felices","Asignar Jairo Garcia",null,null,"Si",1,176,"Calida Desayuno"]
["2018-04-27",459,510,"Huespedes se acercan molestos arecepción para reclamar que como puede ser posible que no haya ni una sola silla en la habitación, ellos son una pareja de baja estatura y solicitan se les dé una silla a la habitación.","Asignar Greivin Arredondo",null,null,"si",1,176]
["2018-04-27",458,406,"demasiado ruido causado por el generador","Asignar Jairo Garcia",null,null,"Si",1,176,"Ruido generadores"]
["2018-04-27",457,502,"demasiado ruido causado por el generador","Asignar Jairo Garcia",null,null,"Si",1,176,"Ruido generadores"]
["2018-04-26",456,509,"Huesped indica que se necesita mas variedad en el desayuno.","Asignar Jairo Garcia",null,null,"Si",1,176,"Calida Desayuno"]
["2018-04-25",455,401,"Huesped se queja que habían insectos viniendo atraves de las paredes.","Asignar Jairo Garcia",null,null,"Si",1,176,"Plagas Habitaciones"]
["2018-04-25",454,415,"La pared donde esta el aire acondicionado va tener problemas a futuro debido a que el condensador gotea","Asignar Jairo Garcia",null,null,"Si",1,176]
["2018-04-25",453,415,"Deberiamos de pensar en quitar las lineas amarillas de la calle, no hay necesidad de ellas porque los carros no van a altas velocidades y a su vez estas lineas afean la belleza de las instalaciones en conjunto con la naturaleza","Asignar Jairo Garcia",null,null,"Si",1,176,"Señalización"]
["2018-04-24",452,602,"Una sola cama y un sillón sería mucho mejor que dos camas y ningún sitio donde sentarse","Asignar Greivin Arredondo",null,null,"si",1,176,"Silla en habitación"]
["2018-04-24",451,602,"Una sombrilla por habitación, reduciría el uso de los carritos de golf","Asignar Jairo Garcia",null,null,"Si",1,176,"Sombrillas"]
["2018-04-24",450,602,"Huésped encontró una piedrita en el piso al majarla y escribe que fue un verdadero Ouch! Y además dice que el resto de la habitación no parecia que estuviera bien limpia","Asignar Jairo Garcia",null,null,"Si",1,176,"Limpieza en habitación"]
["2018-04-24",449,106,"Huésped comenta que los grupos de niños son muy ruidosos y si el hotel vende tranquilidad debería de cumplirse, se sintío inconforme en areas comunes e incluso en la habitación. ","Asignar Jairo Garcia",null,null,"Si",1,176,"Grupos estudiantes"]
["2018-04-24",448,308,"Huesped solicitó transporte para 2 personas dado la lluvia sin embargo ningun compañero fue por ellos, ella muy molesta se vino caminando desde su habitacion.","Asignar Jairo Garcia",null,null,"Si",1,176,"Servicio cliente botones"]
["2018-04-22",447,201,"Pusimos el rotulo de no cambiar las toallas pero si las cambiaron.","Asignar Jairo Garcia",null,null,"Si",1,176,"Limpieza en habitación"]
["2018-04-23",446,211,"Hay muchos niños, no esperabamos tener que hacer fila para poder conseguir omelets, pancakes o frutas.","Asignar Jairo Garcia",null,null,"Si",1,{"$f":"H$1","v":176},"Calida Desayuno"]
["2018-04-23",445,211,"Para un hotel como este uno espera que haya batas de baño en la habitación","Asignar Jairo Garcia",null,null,"Si",1,176,"Batas de baño"]
["2018-04-21",444,210,"Huesped se queja que las opciones vegetarianas son muy limitadas para la epoca en la que nos encontramos, el mismo indica que al haber muchas personas vegetarianas, el hotel debería mejorar.","Asignar Jairo Garcia",null,null,"Si",1,176,"Menú vegetariano"]
["2018-04-21",443,310,"Huesped indica que debería haber un tomacorriente especial cerca de la mesa para cargar la computadora","Asignar Jairo Garcia",null,null,"Si",1,176]
["2018-04-22",442,408,"Huesped se acerca a Recepción muy molesto debido a que llamó para solicitar hielo y nunca lo recibió, el señor no permite ni que le ayudemos, se queja muy fuerte por el mal servicio, tambien se queja por que en la maquina de hielo no hay bolsas y solo pide una bolsa para seguidamente indicarnos que no quiere ningún carrito de golf y que se irá caminando apesar de la lluvia. ","Asignar Jairo Garcia",null,null,"Si",1,176,"Servicio cliente botones"]
["2018-04-21",441,702,"Si se etiquetaran las apagadores de la habitación sería mas funcional, ya que no se sabe cual es para cada cosa.","Asignar Jairo Garcia",null,null,"Si",1,176,"Rotulación ventilador"]
["2018-04-21",440,702,"Una linea para tender la ropa fuera de la habitación sería util","Asignar Jairo Garcia",null,null,"Si",1,176]
["2018-04-21",439,702,"La ducha podría usar menos agua si estuviera mejor calibrada ","Asignar Jairo Garcia",null,null,"Si",1,176,"Información duchas"]
["2018-04-21",438,702,"Las lamparas que hay en la habitación no sirven para leer","Asignar Jairo Garcia",null,null,"Si",{"$f":"I$1","v":1},176,"Lampara de lectura"]
["2018-04-21",437,702,"Podría haber una o dos sillas en la habitación, incluso pueden estar guardadas en el closet","Asignar Greivin Arredondo",null,null,"si",1,176,"Silla en habitación"]
["2018-04-21",436,901,"Hay un fuerte olor que sale del baño","Asignar Jairo Garcia",null,null,"Si",1,176,"Mal olor habitación"]
["2018-04-21",435,901,"La puerta del baño no se cierra o abre bien.","Asignar Jairo Garcia",null,null,"Si",1,176,"Puerta de baño"]
["2018-04-20",434,309,"Sería bueno tener al menos una sombrilla por habitación","COSTOS ELEVADOS",null,null,"Si",1,176,"Sombrillas"]
["2018-04-20",433,108,"Después de haberlos cambiado de la 601 a la habitación 108, la señora Brandi reporta que hay una cucaracha dentro de la habitación y por este motivo estaba muy molesta","COMENTAR CON JAIRO",null,null,"Si",1,176,"Plagas Habitaciones"]
["2018-04-20",432,601,"Huésped reporta que tiene muchas hormigas dentro de la habitación, que hasta están en las maletas.","COMENTAR CON JAIRO",null,null,"Si",1,176,"Plagas Habitaciones"]
["2018-04-20",431,601,"Huésped solicitó transporte para venir al parqueo para irse a tour, pero el carrito de golf no llegó por ellos, debieron venirse caminando entonces","MAYOR CUIDADO POR PARTE DEL ANFITRIÓN",null,null,"Si",1,176,"Servicio cliente botones"]
["2018-04-19",430,706,"Huesped se queja porque no hay silla en la habitación, las camas son muy altas y ellos huespedes de baja estatura.","Asignar Greivin Arredondo",null,null,"2019-10-18",1,176,"Silla en habitación"]
["2018-04-19",429,904,"Huesped reporta que ocasionalmente el lavatorio desprendia fuertes olores a alcantarilla y cloaca.","Asignar Jairo Garcia",null,null,"Si",1,176,"Mal olor habitación"]
["2018-04-18",428,710,"Huesped llama quejandose por hormigas en el lavatorio y en el area del baño.","COMENTAR CON JAIRO",null,null,"Si",1,176,"Plagas Habitaciones"]
["2018-04-17",427,706,"Huesped se queja porque no hay pan libre de gluten en el desayuno.","Asignar Diego Cambronero",null,null,"Si",1,176,"Menú Celiacos"]
["2018-04-18",426,111,"Huesped se queja que entre las 5 y 7 pm deberían haber mas bartenders ya que hay que esperar mucho para ser atendido y mas tiempo para que le hagan un cocktail. ","Asignar Diego Cambronero",null,null,"Si",1,176,"Servicio cliente bar humedo"]
["2018-04-18",425,112,"Huesped indica que se necesita un espejo afuera del baño.","YA EXISTE ESPEJOS DE CUERPO ENTERO",null,null,"Si",1,176,"Espejo Grande"]
["2018-04-18",424,601,"Huesped se queja de hormigas en el area del baño.","COMENTAR CON JAIRO",null,null,"Si",1,176,"Plagas Habitaciones"]
[null,null,null,null,null,null,null,"No",{"$f":"I$1","v":1},{"$f":"H$1","v":176}]
["Notas:"," Recuerde que usted como líder de departamento cuenta con el conocimiento, las herramientas y la capacidad para nutrir su equipo de trabajo. ¡El comité le motiva y le apoya hacerlo y a dar lo mejor!!!"]

{"sheet":"Historico Folios","index":5,"n_rows":1294,"n_cols":10,"rows_kept":1294,"cut":false,"hidden":false,"merged":[]}
[]
["1900-01-01"]
["2018-12-20",1126,212,"Huésped se acercó a recepción indicando que le gustaría que tuvieramos la bandera de reino unido, que como era posible que no la tuvieramos si a Costa Rica la visitaba mucho turista de Europa.","Oscar Retana Muñoz",null,null,"NO",176,"Servicio al cliente "]
["2018-12-24",1138,803,"Huésped se queja que la caja fuerte no tiene instrucciones y es difícil de usar.","Asignar Roberto Escoto",null,null,"NO",175,"Habitaciones"]
["2018-12-21",1130,904,"Huéspedes que anteriormente estaban en la 703 se tuvieron que cambiar porque la señora era alergica a las plantas y aromatizantes, los huéspedes vieron que desde las 11am ya los huéspedes de la 904 habian hecho check-out por lo tanto se acercaron a recepción a las 12:30pm solicitando si su hab estaba lista, al volver a consultar a las mucamas las mismas nos indican que va estar lista hasta las 2pm y eso molestó mucho a los huéspedes los cuales pidieron una solución mas eficiente a su movimiento de habitación.","Asignar Roberto Escoto",null,null,"NO",175,"Servicio cliente mucamas"]
["2018-12-10",1107,105,"Huésped se queja porque al colocar la llave en el tarjetero de la habitación no se activa la electricidad.","Asignar Roberto Escoto",null,null,"NO",175,"Chequeo habitaciones"]
["2018-12-09",1102,108,"Huésped se queja porque el refrigerador de la hab no se encuentra frío cuando el huésped ingresa.","Asignar Roberto Escoto",null,null,"NO",175,"Chequeo habitaciones"]
["2018-12-08",1095,506,"Colaboradora mucama nos reporta que el murito de afuera de la hab se encuentra en muy mal estado ( pieza de madera podrida ). Tiene aspecto de que no se le da mantenimiento a las instalaciones.","Asignar Roberto Escoto",null,null,"NO",175,"Habitaciones"]
["2018-11-30",1079,210,"Huésped se queja de la manera en que se maneja el cambio de toallas en las habitaciones, él mismo indica que sería muy bueno si seguimos el procedimiento que aparece en la información que se brinda ( solo las toallas en el suelo serán cambiadas, las que se mantienen colgando que se dejen ahi) El huésped se queja porque a pesar de no dejar ninguna toalla en el suelo, todas sus toallas fueron cambiadas.","Asignar Roberto Escoto",null,"Por favor pasar el estandar de limpieza de habitacion. Mencionado en la queja ","NO",175,"Limpieza en habitación"]
["2018-11-18",1040,111,"Botones Jason reporta que la hab 111 al momento de ser entregada se encontraba con varias partes del baño mojadas y con extractos de jabón en una de las paredes, esto fue percibido por los huéspedes los cuales inmediatamente se mostraron molestos alegando que querían una hab que estuviera en condiciones y que no pareciera sucia.","Asignar Roberto Escoto",null,"Por favor pasar carta de amonestacion ","NO",175,"Habitaciones"]
["2018-11-17",1036,301,"Huésped se queja por la secadora de pelo, no calienta correctamente.","Asignar Roberto Escoto",null,"enviar reporte del ding done con el cambio de equipo ","No",175,"Habitaciones"]
["2018-12-23",1134,108,"Huéspedes llaman a recepción quejandose del ruido ocasionado por los vecinos en  la hab 107.","Asignar Luis Carlos ",null,null,"No",174,"Ruido habitación"]
["2018-12-15",1120,104,"Huésped se queja porque las instrucciones del pulsador BOSH no estan en español.","Asignar Luis Carlos ",null,null,"NO",174,"Habitaciones"]
["2018-12-24",1133,805,"Huésped se queja del sonido se las habitaciones de arriba, les molesta bastante el sonido que produce la gente al caminar, dicen que suena como elefantes andantes.","Asignar Don Minor Castro",null,null,"No",173,"Ruido habitación"]
["2018-12-15",1117,104,"Huésped indica que es necesaria información en el hotel de que hacer en caso de emergencia ( fuego, terremoto, etc).","Asignar Don Minor Castro",null,"Valorar rotulacion en la hab( Greivin)","NO",173,"Habitaciones"]
["2018-12-11",1108,410,"Huésped se queja del ruido entre habitaciones, el aislante es muy pobre y se escucha hasta cuando hablan o toman una ducha.","Asignar Don Minor Castro",null,null,"NO",173,"Ruido habitación"]
["2018-12-09",1105,211,"Iluminación de la habitación es deficiente, no es buena para leer, las luces no son ajustables.","Asignar Don Minor Castro",null,null,"NO",173,"Lampara de lectura"]
["2018-12-08",1096,902,"Huéspedes muy molestos por el ruido ocasionado por la construcción, al momento del check-out comparten su disgusto.","Asignar Don Minor Castro",null,null,"NO",173,"Construcción"]
["2018-12-03",1092,702,"Huésped molesto se queja del àrea de fumado, y solicita un lugar cercano para poder fumar.","Asignar Don Minor Castro",null,null,"NO",173,"Fumadores "]
["2018-12-04",1087,205,"Se que tienen una ley que prohibe fumar en lugares públicos , pero no entiendo que un hotel grande no disponga de una zona interna para fumar, el camino hacia la entrada en la noche debido a los animales de la zona es peligroso.","Asignar Don Minor Castro",null,null,"NO",173,"Fumadores "]
["2018-11-24",1062,606,"Huespédes se quejan porque el telefono de la habitacion no sirve para hablar a restaurantes o transferir sus llamadas.","Asignar Don Minor Castro",null,null,"No",173,"Central telefonica"]
["2018-11-24",1061,102,"Huéspedes se quejan porque no es posible transferir sus llamadas a restaurantes u otros puntos de venta.","Asignar Don Minor Castro",null,null,"No",173,"Central telefonica"]
["2018-11-24",1060,208,"Huéspedes se quejan porque desde sus habitaciones no se pueden transferir las llamadas, no es posible contactarlos con restaurantes u otros puntos de venta. ","Asignar Don Minor Castro",null,null,"No",173,"Central telefonica"]
["2018-11-21",1054,110,"Huésped se queja porque considera que el hotel debería tener mejor y completa información en la habitación, por ejemplo horarios de restaurantes, menús, servicios del hotel,etc.","Asignar Don Minor Castro",null,null,"No",173,"Publicidad doc Informativo"]
["2018-11-20",1049,710,"Huéspedes extremadamente molestos al momento de llegar a la habitación se percatan del fuerte ruido de la construcción y deciden no bajarse de su auto hasta que se les dé otra habitación donde puedan estar tranquilos.","Asignar Don Minor Castro",null,null,"No",173,"Ruido habitación"]
["2018-11-19",1048,708,"Huéspedes se quejan por ruido ocasionado por la construcción, llaman molestos indicando que así no es posible descansar ni vacacionar.","Asignar Don Minor Castro",null,null,"No",173,"Ruido habitación"]
["2018-11-17",1044,703,"Para las habitaciones de discapacitados poner la altura de la cama adecuada ya que es muy alta para una persona con discapacidad, debe de quedar al nivel de la silla de ruedas para poder llamarse una habitación de discapacitados.","Asignar Don Minor Castro",null,null,"No",173,"Habitaciones"]
["2018-11-14",1025,415,"Colaborador Oscar nos reporta que en varias ocasiones los huéspedes han comentado acerca del estado de la llave para drenar el jacuzzi la cual se encuentra afuera de la habitación. ( llave herrumbrada y en un mal estado)","Asignar Don Minor Castro",null,"Esta tiene varios meses de antigüedad, ya se habia dado por resuelta pero no fue así, le agradecemos que le de seguiemiento.","no",173,"Jacuzzi"]
["2018-11-04",1008,304,"Podrìan mejorar con algún tipo de entretenimiento nocturno como música en vivo o algun show similar.","Asignar Don Minor Castro",null,"Si es posible retomar la idea de la pregola del bar humedo.","NO",173,"Entretenimiento"]
["2018-09-29",940,201,"Primero, el hotel Arenal Springs nos parece ser una muy buena opción para nuestros clientes que quieren relajación y confort. Las aguas termales incluidas en el hotel son un valor agregado enorme. Además, esta zona termal está muy bien pensada con los dos bares, los jardines y las diferentes categorías de « piscinas » que hay. Solamente pensamos que el segundo bar (el que propone solamente bebidas y no el Sushi bar) merecería un poquito más de decoración para ser más acogedor todavía. ","Asignar Don Minor Castro",null,"En espera de la solución con Vanessa ",43449,173,"Remodelación"]
["2018-08-31",883,302,"Debería de haber una silla plastica para discapacitados en el área de duchas","Asignar Don Minor Castro","Sillas ya cotizadas, pendiente aprobación de Don Minor","Cotizacion ","NO",173,"Sillas Discapacitados "]
["2018-08-22",857,508,"La presentación del hotel en la pagina web y otros es muy pobre en comparación con la realidad. Nos hemos llevado una grata sorpresa.","Asignar Don Minor Castro",null,"Fin de obras y actualizacion de la pagina ",43449,173,"Publicidad Web"]
["2018-12-10",1107,105,"Huésped se queja porque al colocar la llave en el tarjetero de la habitación no se activa la electricidad.","Asignar Roberto Escoto",null,null,"NO",172,"Chequeo habitaciones"]
["2018-12-09",1102,108,"Huésped se queja porque el refrigerador de la hab no se encuentra frío cuando el huésped ingresa.","Asignar Roberto Escoto",null,null,"NO",172,"Chequeo habitaciones"]
["2018-12-08",1095,506,"Colaboradora mucama nos reporta que el murito de afuera de la hab se encuentra en muy mal estado ( pieza de madera podrida ). Tiene aspecto de que no se le da mantenimiento a las instalaciones.","Asignar Roberto Escoto",null,null,"NO",172,"Habitaciones"]
["2018-11-30",1079,210,"Huésped se queja de la manera en que se maneja el cambio de toallas en las habitaciones, él mismo indica que sería muy bueno si seguimos el procedimiento que aparece en la información que se brinda ( solo las toallas en el suelo serán cambiadas, las que se mantienen colgando que se dejen ahi) El huésped se queja porque a pesar de no dejar ninguna toalla en el suelo, todas sus toallas fueron cambiadas.","Asignar Roberto Escoto",null,"Por favor pasar el estandar de limpieza de habitacion. Mencionado en la queja ","NO",172,"Limpieza en habitación"]
["2018-11-18",1040,111,"Botones Jason reporta que la hab 111 al momento de ser entregada se encontraba con varias partes del baño mojadas y con extractos de jabón en una de las paredes, esto fue percibido por los huéspedes los cuales inmediatamente se mostraron molestos alegando que querían una hab que estuviera en condiciones y que no pareciera sucia.","Asignar Roberto Escoto",null,"Por favor pasar carta de amonestacion ","NO",172,"Habitaciones"]
["2018-11-17",1036,301,"Huésped se queja por la secadora de pelo, no calienta correctamente.","Asignar Roberto Escoto",null,"enviar reporte del ding done con el cambio de equipo ","No",172,"Habitaciones"]
["2018-12-15",1120,104,"Huésped se queja porque las instrucciones del pulsador BOSH no estan en español.","Asignar Luis Carlos ",null,null,"NO",171,"Habitaciones"]
["2018-12-15",1118,104,"Huésped se queja porque en el check-out no le entregaron el voucher manual de garantía.","Asignar Luis Carlos ",null,null,"NO",171,"Servicio cliente recepción"]
["2018-12-13",1110,104,"Huésped se queja que en su habitación el café y las tazas son exclusivamente para dos personas sin embargo ellos pagaron por 3 personas y consideran debe haber tazas y café para cada huésped que paga.","Asignar Luis Carlos ",null,null,"NO",171,"Minibar habitaciones"]
["2018-11-22",1093,405,"Huésped se queja porque no haybun trato igualitario entre turistas extranjeros y nacionales","Asignar Luis Carlos ",null,null,"NO",171,"Servicio al cliente "]
["2018-10-25",994,209,"Bueno el desayuno pero terminè decepcionado porque estuvo cerrado nuestra estadìa entera, no tuve oportunidad de experimentar de la cultura tica porque siempre estuvo cerrado.La comida estuvo mas o menos en general, lo digo porque las porciones eran pequeñas.","Asignar Greivin Salazar ",null,null,43445,170,"Menú típico"]
["2018-10-27",993,208,"Como visitante de temporada baja me gustarìa ver mas y mejores opciones de almuerzo y cena.","Asignar Greivin Salazar ",null,null,43445,170,"Variedad platos"]
["2018-08-20",837,504,"Se puede mejorar el desayuno","Asignar Greivin Salazar ",null,null,43445,170,"Calida Desayuno"]
["2018-07-02",765,null," la selección de los alimentos en el desayuno es pobre, mi esposo quería salchicha o tocino y no fue posible. Además las cenas son muy caras y las porciones muy pequeñas.","Asignar Greivin Salazar ",null,"Se le dará seguimiento a las propuestas de desayuno",43445,170,"Calidad comida"]
["2018-12-15",1119,104,"Huésped se queja porque la caminadora del gimnasio la cual es demasiado básica y carece de mantenimiento al igual que el resto de equipos.","Asignar Greivin Arredondo",null,null,"NO",169,"Gimnasio"]
["2018-08-30",872,308,"El brochure de información del hotel necesita ser actualizado, hay muchas cosas con las que ya no se cuenta y otras en las que se ha mejorado.","Asignar Greivin Arredondo",null,"Reunion con imprenta ",43449,169,"Publicidad doc Informativo"]
["2018-07-10",724,107,"Las instrucciones del coffee maker no están claras, es para hervir agua o solo calentarla? Si no lo dice no lo sabran los huéspedes. Además las instrucciones de como encender el ventilador de techo no se ven.","Asignar Greivin Arredondo",null,"Se va a cambiar el coffemaker",43449,169,"Rotulación ventilador"]
["2018-12-16",1121,102,"Colaboradora  nos reporta que durante su estadía en el hotel notó que la cama se encontraba con polilla, huecos y en mal estado. Consultó a una mucama y la misma le dijo que eso llevaba meses así. ","Asignar Gilberth Mejías",null,"mostrar boletas de reparacion o correo de reporte ","NO",168,"Chequeo habitaciones"]
["2018-12-08",1104,515,"Huésped se queja que el trato en recepción no fue amigable.","Asignar Estibaliz Aguilar",null,null,"NO",167,"Servicio cliente recepción"]
["2018-11-26",1073,509,"Huéspedes se quejan porque al momento de que se les recibió se les entregó toallas y bebida pero no les dieron tiempo de disfrutar de la bebida y poder sentarse tranquilos cuando venían con equipaje y cosas, ellos dicen que los obligaron a ir a recepcion inmediatamente y hacer el check-in a pesar de que venían cansados, alegan que no se debe recibir a un huésped de esa manera.","Asignar Estibaliz Aguilar",null,null,"No",167,"Servicio cliente recepción"]
["2018-11-04",1013,403,"Huésped se queja porque la persona encargada de entregar toallas no se encontraba cuando llegó por su toalla.","Asignar Estibaliz Aguilar",null,null,43441,167,"Lockers"]
["2018-09-25",930,104,"El huésped hace la observación de que si a ud como huésped al llegar al Hotel en Caseta le preguntan los datos sobre la reservación, debería entonces al llegar al parqueo las personas llamarlos por el nombre y mucho menos que en Recepción vuelvan a preguntarles por el dato de la reserva.","Asignar Estibaliz Aguilar",null,"Estandares de servicio Mauricio Aymerich",43441,167,"Servicio cliente recepción"]
["2018-12-15",1117,104,"Huésped indica que es necesaria información en el hotel de que hacer en caso de emergencia ( fuego, terremoto, etc).","Asignar Don Minor Castro",null,"Valorar rotulacion en la hab( Greivin)","NO",166,"Habitaciones"]
["2018-12-11",1108,410,"Huésped se queja del ruido entre habitaciones, el aislante es muy pobre y se escucha hasta cuando hablan o toman una ducha.","Asignar Don Minor Castro",null,null,"NO",166,"Ruido habitación"]
["2018-12-09",1105,211,"Iluminación de la habitación es deficiente, no es buena para leer, las luces no son ajustables.","Asignar Don Minor Castro",null,null,"NO",166,"Lampara de lectura"]
["2018-12-08",1096,902,"Huéspedes muy molestos por el ruido ocasionado por la construcción, al momento del check-out comparten su disgusto.","Asignar Don Minor Castro",null,null,"NO",166,"Construcción"]
["2018-12-03",1092,702,"Huésped molesto se queja del àrea de fumado, y solicita un lugar cercano para poder fumar.","Asignar Don Minor Castro",null,null,"NO",166,"Fumadores "]
["2018-12-04",1087,205,"Se que tienen una ley que prohibe fumar en lugares públicos , pero no entiendo que un hotel grande no disponga de una zona interna para fumar, el camino hacia la entrada en la noche debido a los animales de la zona es peligroso.","Asignar Don Minor Castro",null,null,"NO",166,"Fumadores "]
["2018-11-24",1062,606,"Huespédes se quejan porque el telefono de la habitacion no sirve para hablar a restaurantes o transferir sus llamadas.","Asignar Don Minor Castro",null,null,"No",166,"Central telefonica"]
["2018-11-24",1061,102,"Huéspedes se quejan porque no es posible transferir sus llamadas a restaurantes u otros puntos de venta.","Asignar Don Minor Castro",null,null,"No",166,"Central telefonica"]
["2018-11-24",1060,208,"Huéspedes se quejan porque desde sus habitaciones no se pueden transferir las llamadas, no es posible contactarlos con restaurantes u otros puntos de venta. ","Asignar Don Minor Castro",null,null,"No",166,"Central telefonica"]
["2018-11-21",1054,110,"Huésped se queja porque considera que el hotel debería tener mejor y completa información en la habitación, por ejemplo horarios de restaurantes, menús, servicios del hotel,etc.","Asignar Don Minor Castro",null,null,"No",166,"Publicidad doc Informativo"]
["2018-11-20",1049,710,"Huéspedes extremadamente molestos al momento de llegar a la habitación se percatan del fuerte ruido de la construcción y deciden no bajarse de su auto hasta que se les dé otra habitación donde puedan estar tranquilos.","Asignar Don Minor Castro",null,null,"No",166,"Ruido habitación"]
["2018-11-19",1048,708,"Huéspedes se quejan por ruido ocasionado por la construcción, llaman molestos indicando que así no es posible descansar ni vacacionar.","Asignar Don Minor Castro",null,null,"No",166,"Ruido habitación"]
["2018-11-17",1044,703,"Para las habitaciones de discapacitados poner la altura de la cama adecuada ya que es muy alta para una persona con discapacidad, debe de quedar al nivel de la silla de ruedas para poder llamarse una habitación de discapacitados.","Asignar Don Minor Castro",null,null,"No",166,"Habitaciones"]
["2018-11-14",1025,415,"Colaborador Oscar nos reporta que en varias ocasiones los huéspedes han comentado acerca del estado de la llave para drenar el jacuzzi la cual se encuentra afuera de la habitación. ( llave herrumbrada y en un mal estado)","Asignar Don Minor Castro",null,"Esta tiene varios meses de antigüedad, ya se habia dado por resuelta pero no fue así, le agradecemos que le de seguiemiento.","no",166,"Jacuzzi"]
["2018-11-04",1008,304,"Podrìan mejorar con algún tipo de entretenimiento nocturno como música en vivo o algun show similar.","Asignar Don Minor Castro",null,"Si es posible retomar la idea de la pregola del bar humedo.","NO",166,"Entretenimiento"]
["2018-09-29",940,201,"Primero, el hotel Arenal Springs nos parece ser una muy buena opción para nuestros clientes que quieren relajación y confort. Las aguas termales incluidas en el hotel son un valor agregado enorme. Además, esta zona termal está muy bien pensada con los dos bares, los jardines y las diferentes categorías de « piscinas » que hay. Solamente pensamos que el segundo bar (el que propone solamente bebidas y no el Sushi bar) merecería un poquito más de decoración para ser más acogedor todavía. ","Asignar Don Minor Castro",null,"En espera de la solución con Vanessa ",43449,166,"Remodelación"]
["2018-08-31",883,302,"Debería de haber una silla plastica para discapacitados en el área de duchas","Asignar Don Minor Castro","Sillas ya cotizadas, pendiente aprobación de Don Minor","Cotizacion ","NO",166,"Sillas Discapacitados "]
["2018-08-22",857,508,"La presentación del hotel en la pagina web y otros es muy pobre en comparación con la realidad. Nos hemos llevado una grata sorpresa.","Asignar Don Minor Castro",null,"Fin de obras y actualizacion de la pagina ",43449,166,"Publicidad Web"]
["2018-12-15",1124,110,"Huésped se queja por el tiempo de la estación de café, pide que se extienda a más tiempo.","Asignar Diego Cambronero",null,null,"NO",165,"Servicio cliente restaurante "]
["2018-12-15",1123,110,"Calidad no es buena en comparación con el valor.","Asignar Diego Cambronero",null,null,"NO",165,"Precios Comidas Italiano"]
["2018-12-16",1111,503,"Huésped se queja porque en el souvenir no hay tantos objetos alusivos al volcán Arenal, sugiere mas souvenirs con el nombre del volcán impreso.","Asignar Diego Cambronero",null,null,"NO",165,"Servicio C. Tienda"]
["2018-12-08",1103,308,"Para el precio de este hotel la expectativa era encontrar todos los restaurantes abiertos.","Asignar Diego Cambronero",null,null,"NO",165,"Servicio cliente restaurante "]
["2018-12-06",1101,402,"Se necesita café o té a la llegada en el desayuno, se tiene que esperar demasiado para que le ofrezcan alguna de las opciones. Cuando se pidió fue servido pero debería de haber ya café y té.","Asignar Diego Cambronero",null,null,"NO",165,"Servicio cliente restaurante "]
["2018-12-08",1100,303,"Huésped se queja por calidad en desayuno. Los zumos en el desayuno deberían ser naturales.","Asignar Diego Cambronero",null,null,"NO",165,"Calida Desayuno"]
["2018-11-22",1094,405,"Huéspedes solicitan se mejore la calidad de las frutas.","Asignar Diego Cambronero",null,null,"NO",165,"Variedad desayuno"]
["2018-11-30",1078,503,"Huésped se queja de que durante su estadía el restaurante principal nunca estuvo abierto.","Asignar Diego Cambronero",null,null,"NO",165,"Servicio cliente restaurante "]
["2018-10-27",992,208,"Insectos en los helados. No fue una buena opciòn comprar ahì.","Asignar Diego Cambronero","Proceso de limpieza nuevo, cambio de camara que estaba dañada. Proceso firmado ",null,"No",165,"Servicio C. Tienda"]
["2018-10-16","966",602,"Cable HDMI en muy mal estado, no permitió llevar a cabo una charla de chocolate planeada para el grupo ROAD SCHOLAR ( Arenal Manoa).","Asignar Diego Cambronero","instructivo firmado ",null,"No",165,"Proyector Manantial "]
["2018-10-14",951,121,"El guía de Collete el señor Ricardo Howell presentó la queja con respecto al menú que se le ofreció luego de traer a su grupo a cenar a nuestro restaurante, él mismo quedó disconforme ya que en otras ocasiones se le ha ofrecido menú abierto y esta vez tanto en el Rest Italiano como en el Ti-cain se le dió un menú carta paquete el cual no le agrado. Nos mencionó que la próxima vez su grupo iría a cenar afuera y se encontraba molesto por el accionar del hotel.","Asignar Diego Cambronero","politicas entregadas pero falta firmas ","Se solicita que por favor difunda las politicas de cortesias.","NO",165,"Servicio cliente restaurante "]
["2018-11-24",1062,606,"Huespédes se quejan porque el telefono de la habitacion no sirve para hablar a restaurantes o transferir sus llamadas.","Asignar Don Minor Castro",null,null,"No",164,"Central telefonica"]
["2018-11-24",1061,102,"Huéspedes se quejan porque no es posible transferir sus llamadas a restaurantes u otros puntos de venta.","Asignar Don Minor Castro",null,null,"No",164,"Central telefonica"]
["2018-11-24",1060,208,"Huéspedes se quejan porque desde sus habitaciones no se pueden transferir las llamadas, no es posible contactarlos con restaurantes u otros puntos de venta. ","Asignar Don Minor Castro",null,null,"No",164,"Central telefonica"]
["2018-11-21",1054,110,"Huésped se queja porque considera que el hotel debería tener mejor y completa información en la habitación, por ejemplo horarios de restaurantes, menús, servicios del hotel,etc.","Asignar Don Minor Castro",null,null,"No",164,"Publicidad doc Informativo"]
["2018-11-20",1049,710,"Huéspedes extremadamente molestos al momento de llegar a la habitación se percatan del fuerte ruido de la construcción y deciden no bajarse de su auto hasta que se les dé otra habitación donde puedan estar tranquilos.","Asignar Don Minor Castro",null,null,"No",164,"Ruido habitación"]
["2018-11-19",1048,708,"Huéspedes se quejan por ruido ocasionado por la construcción, llaman molestos indicando que así no es posible descansar ni vacacionar.","Asignar Don Minor Castro",null,null,"No",164,"Ruido habitación"]
["2018-11-17",1044,703,"Para las habitaciones de discapacitados poner la altura de la cama adecuada ya que es muy alta para una persona con discapacidad, debe de quedar al nivel de la silla de ruedas para poder llamarse una habitación de discapacitados.","Asignar Don Minor Castro",null,null,"No",164,"Habitaciones"]
["2018-11-14",1025,415,"Colaborador Oscar nos reporta que en varias ocasiones los huéspedes han comentado acerca del estado de la llave para drenar el jacuzzi la cual se encuentra afuera de la habitación. ( llave herrumbrada y en un mal estado)","Asignar Don Minor Castro",null,"Esta tiene varios meses de antigüedad, ya se habia dado por resuelta pero no fue así, le agradecemos que le de seguiemiento.","no",164,"Jacuzzi"]
["2018-11-04",1008,304,"Podrìan mejorar con algún tipo de entretenimiento nocturno como música en vivo o algun show similar.","Asignar Don Minor Castro",null,"Si es posible retomar la idea de la pregola del bar humedo.","NO",164,"Entretenimiento"]
["2018-08-31",883,302,"Debería de haber una silla plastica para discapacitados en el área de duchas","Asignar Don Minor Castro","Sillas ya cotizadas, pendiente aprobación de Don Minor","Cotizacion ","NO",164,"Sillas Discapacitados "]
["2018-11-26",1070,509,"Huéspedes disconformes en general desde su llegada se acercan a recepción informando de una queja más, esta vez alegan que el TV es pésimo y que la señal no es buena.","Asignar Roberto Escoto","presentar CHECK LIST PARA LAS HABITACIONES. Firmados",null,"No",163,"Chequeo habitaciones"]
["2018-11-22",1058,102,"Colaborador Fernando reporta que al momento de cambiar a los huéspedes de la 110 a la 102 a eso de las 9:30pm, al mostrar la hab la misma no tenía paños en ninguna parte.","Asignar Roberto Escoto",null,null,"No",163,"Limpieza en habitación"]
["2018-11-22",1055,514,"Huéspedes minutos después del check-in e ingreso de habitación reclaman porque se encuentran varios bombillos de la habitación quemados.","Asignar Roberto Escoto",null,null,"No",163,"Limpieza en habitación"]
["2018-11-21",1053,415,"Favor cambiar el piso del restaurante ya que es muy resbaloso y peligroso.","Asignar Roberto Escoto",null,null,"No",163,"Restaurante"]
["2018-11-20",1052,205,"Huésped se queja porque en el sanitario el agua sale constantemente y no hay alguna tapon que detenga el agua, esto le molesta porque en realidad el hotel no preserva el agua.","Asignar Roberto Escoto",null,null,"No",163,"Limpieza en habitación"]
["2018-11-20",1050,205,"Máquina de café y copas de la habitación se encontraban sucias.","Asignar Roberto Escoto",null,null,"No",163,"Limpieza en habitación"]
["2018-11-17",1041,711,"Compañero botones reporta que la hab al ser entregada tenía un fuerte olor a pintura y que esto incomodó un poco a los huéspedes cuando estaban entrando a la hab.","Asignar Roberto Escoto",null,null,"No",163,"Habitaciones"]
["2018-11-18",1040,111,"Botones Jason reporta que la hab 111 al momento de ser entregada se encontraba con varias partes del baño mojadas y con extractos de jabón en una de las paredes, esto fue percibido por los huéspedes los cuales inmediatamente se mostraron molestos alegando que querían una hab que estuviera en condiciones y que no pareciera sucia.","Asignar Roberto Escoto",null,null,"No",163,"Habitaciones"]
["2018-11-17",1036,301,"Huésped se queja por la secadora de pelo, no calienta correctamente.","Asignar Roberto Escoto",null,null,"No",163,"Habitaciones"]
["2018-11-17",1034,606,"Huésped se queja porque considera que el espejo grande en frente del sanitario debe de estar en la habitación y que ademas hacen falta mas ganchos para colocar la ropa.","Asignar Roberto Escoto",null,null,"No",163,"Habitaciones"]
["2018-11-16",1033,207,"Las cajas fuertes de las habitaciones 201,207,209 y 205 necesitan ser reparadas.","Asignar Roberto Escoto",null,null,"No",163,"Habitaciones"]
["2018-11-26",1072,"N/A","Colaboradores botones reportan que constantemente escuchan a los huéspedes hablar que el área del parqueo es oscura y que necesita una mejor iluminación. Ellos coinciden en que se necesita colocar bombillos mas fuertes y un par de lámparas adicionales.","Asignar Jairo Garcia",null,null,"No",162,"Iluminación Jardines"]
["2018-11-25",1069,404,"Huésped se acerca a recepción indicando que el A/C no funciona y no enfría nada, nos pide que se revise mañana porque tiene a sus hijas durmiendo ahora mismo.","Asignar Jairo Garcia","Precnetar programa de mantenimiento y lista de revición",null,"No",162,"A/C"]
["2018-11-22",1057,110,"Huésped se queja porque en su hab no hay agua caliente.","Asignar Jairo Garcia",null,null,"No",162,"Agua caliente"]
["2018-11-22",1056,514,"Aire acondicionado no funciona correctamente, la primera noche huéspedes informan de la situación ya que no enfría bien. La segunda noche llaman de nuevo porque a pesar de que les dijeron que estaba reparado, nuevamente no enfría.","Asignar Jairo Garcia",null,null,"No",162,"A/C"]
["2018-11-19",1047,512,"Huésped molesto porque el agua del jacuzzi no es caliente, practicamente lo que calienta es nulo y no se encuentra a gusto. Solicita revisar el funcionamiento del jacuzzi.","Asignar Jairo Garcia",null,null,"No",162,"Jacuzzi"]
["2018-11-18",1042,901,"Huésped extremadamente molesto reclama que viene desde Florida y que el A/C de la habitación no enfría, a pesar de reportarlo en la mañana para la noche el aire seguía igual y eso lo tenía muy decepcionado, él comenta que no tiene porque pagar los errores del hotel ya que al momento de llegar mantenimiento le dijeron que el A/C así era como trabajaba ya que no era un aire moderno.","Asignar Jairo Garcia",null,null,"No",162,"A/C"]
["2018-11-15",1031,708,"Aire acondicionado no enfriaba en lo absoluto.","Asignar Jairo Garcia",null,null,"No",162,"A/C"]
["2018-11-13",1026,408,"Huésped se queja por el mal funcionamiento del telefono, èl necesitaba una wake-up call y tambien llamar a recepción y a pesar de que se le dijo que lo estaban arreglando al llegar de tour no se encontraba reparado.","Asignar Jairo Garcia",null,null,"NO",162,"Central telefonica"]
["2018-11-11",1020,208,"NO HAY SEÑAL DE CABLE ","Asignar Jairo Garcia",null,null,"NO",162,"Señal TV"]
["2018-11-08",1019,609,"Señal de televisión muy mala.","Asignar Jairo Garcia",null,null,"No",162,"Señal TV"]
["2018-11-08",1018,212,"Huéspedes se quejan por el pésimo servicio de cable, la imagen se ve fatal y estan muy decepcionados de un hotel 4 estrellas con televisión por cable tan mala.","Asignar Jairo Garcia",null,null,"No ",162,"Señal TV"]
["2018-11-05",1012,209,"El aire acondicionado de la habitación no estaba configurado cuando llegamos, necesita reemplazarse por uno moderno ya que es ruidoso y la caracteristica de moverse para que aire vaya a diferentes direcciones no funcionó nunca.","Asignar Jairo Garcia",null,null,43424,162,"A/C"]
["2018-10-30",1001,301,"Huésped llama a recepción porque su A/C no funciona correctamente.","Asignar Jairo Garcia",null,null,"NO",162,"A/C"]
["2018-10-28",984,"N/A","Buenos días Compañeros \n\nTengan muy buen día todas y todos.\n\nLes comparto el siguiente  incidente , durante el desayuno de hoy.\n\nLa mañana de hoy la compañera Karen Núñez se acercó a mi persona y me indico , que aparentemente estaban cayendo del cielo raso, excremento de ratas.\n\nEstaba en espera de  terminar el desayuno , para informar al señor Jairo.\n\nLamentablemente, ella no se equivocaba.\n\nMinutos después , cayó muy cerca de una de las mesas, una rata.  La compañera Hazel y el señor Ariel, pudieron recogerla y disponer de ella, pero lamentablemente los huéspedes    , en el salón B , se dieron cuenta.\n\nLas habitaciones a nombre de la familia LAINES, son 603-703-903.\n\nMi recomendación seria , entrar lo más pronto posible en un programa de exterminio y/o previsión a l asunto.\n\nEspero que la información sea de ayuda.\n","Asignar Jairo Garcia","Procedimiento mejorado",null,43419,162,"Plagas en restaurante"]
["2018-10-18",968,125,"Habitaciones 125-126 reportadas por el chofer y guía con cucarachas entre el aire acondicionado, se quejan de una posible plaga la cual intentaron matar con insecticidad pero aún así salieron más en la noche.","Asignar Jairo Garcia","Entregar programa de fumigación",null,43426,162,"Plagas Habitaciones"]
["2018-10-15",950,503,"503  La señora se queja de que el A/C no le sirvió en toda la noche, se revisa y efectivamente le falta refrigerante ","Asignar Jairo Garcia",null,"Se presentará el cronograma de mantenimiento preventivo terminado",43427,162,"A/C"]
["2018-10-13",949,410,"se queja ahora de que el A/C no sirve, efectivamente estaba sin refrigerante ","Asignar Jairo Garcia",null,"Se presentará el cronograma de mantenimiento preventivo terminado",43427,162,"A/C"]
["2018-08-14",821,401,"El baño debería tener una superficie no resbaloso como algún tipo de alfombra de hule.","Asignar Jairo Garcia","Poner Producto antideslizante ","Aplicar en los  baños de todas la habitacion el producto antideslizante ",43422,162,"Baño resbalozo "]
["2018-11-24",1065,404,"Huéspedes se quejan del acceso a la habitación 404, indica que como pueden llamar a esa habitación una habitación para discapacitados si no se puede accesar con silla de ruedas por si solo, el muchacho utiliza silla para movilizarse todo el tiempo pero no es posible pasar de la calle a la habitación sin sufrir una caída.","Asignar Greivin Arredondo",null,null,"No",161,"Sillas Discapacitados "]
["2018-10-26",995,411,"Huèsped se queja por la poca iluminaciòn en las esquinas de cada callejòn, menciona que le encantarìa ver mejor iluminaciòn con los nùmeros de las habitaciones alumbrando.","Asignar Greivin Arredondo",null,"Lamparas  solares",43429,161,"Iluminación Jardines"]
["2018-10-28",985,202,"Cama nido que se colocò a peticiòn de huèsped se encontraba en muy mal estado, quebrada y no en las mejores condiciones.","Asignar Greivin Arredondo","Dispositivo de soporte",null,43419,161,"Camas nidos"]
["2018-11-26",1073,509,"Huéspedes se quejan porque al momento de que se les recibió se les entregó toallas y bebida pero no les dieron tiempo de disfrutar de la bebida y poder sentarse tranquilos cuando venían con equipaje y cosas, ellos dicen que los obligaron a ir a recepcion inmediatamente y hacer el check-in a pesar de que venían cansados, alegan que no se debe recibir a un huésped de esa manera.","Asignar Estibaliz Aguilar",null,null,"No",160,"Servicio cliente recepción"]
["2018-11-26",1074,307,"Huésped en llamada de bienvenida indica que su aire no funciona como debería y que no enfría.","Asignar Estibaliz Aguilar",null,null,"No",160,"Servicio cliente recepción"]
["2018-11-26",1071,509,"A/C no enfría bien y huésped muy molesto indica a recepción que esta decepcionado del hotel.","Asignar Estibaliz Aguilar",null,null,"No",160,"Servicio cliente recepción"]
["2018-11-25",1067,102,"La recepción debe de tener un mejor botiquín equipado con lo bàsico y necesario para los huéspedes en caso de algún incidente. A la hora de solicitarlo estaba muy escaso.","Asignar Estibaliz Aguilar",null,null,"No",160,"Servicio cliente recepción"]
["2018-11-23",1064,904,"Huésped se queja debido a que no encontró información de los precios del mini bar en la habitación. Nadie le informó nada al respecto.","Asignar Estibaliz Aguilar",null,null,"No",160,"Servicio cliente recepción"]
["2018-11-16",1038,602,"Huésped se queja debido a que considera debemos mejorar a la hora de brindar información, otros huéspedes tuvieron que decirme como funcionaba el servicio de lavandería, me dí cuenta de las clases de yoga muy tarde, quería usar el SPA pero nunca me dieron información de los precios o como reservar.","Asignar Estibaliz Aguilar",null,null,"No",160,"Servicio cliente recepción"]
["2018-11-15",1030,802,"Huésped se queja debido a que el bartender en el  bar húmedo fue muy rápido para aumentar las ventas y eso se malinterpreta.","Asignar Diego Cambronero",null,null,"NO",159,"Servicio cliente bar humedo"]
["2018-10-27",992,208,"Insectos en los helados. No fue una buena opciòn comprar ahì.","Asignar Diego Cambronero","Proceso de limpieza nuevo, cambio de camara que estaba dañada.",null,"No",159,"Servicio C. Tienda"]
["2018-10-16","966",602,"Cable HDMI en muy mal estado, no permitió llevar a cabo una charla de chocolate planeada para el grupo ROAD SCHOLAR ( Arenal Manoa).","Asignar Diego Cambronero",null,null,"No",159,"Proyector Manantial "]
["2018-10-14",951,121,"El guía de Collete el señor Ricardo Howell presentó la queja con respecto al menú que se le ofreció luego de traer a su grupo a cenar a nuestro restaurante, él mismo quedó disconforme ya que en otras ocasiones se le ha ofrecido menú abierto y esta vez tanto en el Rest Italiano como en el Ti-cain se le dió un menú carta paquete el cual no le agrado. Nos mencionó que la próxima vez su grupo iría a cenar afuera y se encontraba molesto por el accionar del hotel.","Asignar Diego Cambronero","Pendiente de las políticas con Don Minor","Se solcita que por favor difunda las politicas de cortesias.","no",159,"Servicio cliente restaurante "]
["2018-09-18",921,403,"Muy caro y el sabor no es bueno en las comidas","Asignar Diego Cambronero",null,"Menus Nuevos ",43424,159,"Calidad precio"]
["2018-09-17",910,104,"Huésped se queja de la manera en que no la dejaron ingresar al rest. Italiano, a la señora la mantuvieron esperando en recepción sin indicarle nada mientras iban a preguntar a un superior si podía o no entrar como andaba vestida, ella se molestó porque otra mujer andaba vestida muy parecido y si la dejaron entrar. Ella al hacer check-out nos hizo la observación que se sintió insultada y que fue totalmente inapropiado que la mantuvieran sin entrar durante unos minutos.","Asignar Diego Cambronero",null,"Establecer un estándar de serviios en el area de A&B",43419,159,"Servicio cliente restaurante "]
["2018-09-16",907,110,"Comida del italiano de poca calidad","Asignar Diego Cambronero",null,"Menus Nuevos ",43445,159,"Calidad comida Italiano"]
["2018-11-24",1059,703,"Huésped molesta llama a recepción por segunda vez indicando que anteriormente llamó solicitando el room service para retirar los platos y nunca llegaron por ellos a pesar que le indicaron que iban para allà, su primera llamada fue a las 7pm y luego volvió a llamar a las 9pm porque no le habían retirado sus platos.","Asignar Antonio Ferreto ",null,null,"No",158,"Servicio cliente restaurante "]
["2018-11-16",1032,201,"Huésped se queja de la atención y el mismo dice que tuvo problemas para que las ordenes individuales estuvieran correctas.","Asignar Antonio Ferreto ",null,null,"NO",158,"Servicio cliente restaurante "]
["2018-11-11",1021,903,"El cliente dice que el salonero le vendió a la fuerza una botella de vino de $145 , dice que lo presionó cuando él llegó a cenar ya le tenía esa botella fría en lugar de mostrarle el menú.","Asignar Antonio Ferreto ",null,null,"NO",158,"Servicio cliente restaurante "]
["2018-11-03",1011,109,"Huésped se queja por el uso de pajillas.","Asignar Antonio Ferreto ",null,null,"NO",158,"Servicio cliente restaurante "]
["2018-10-03",936,409,"Huésped indica que las sillas del italiano se resbalan facilmente, deberían de tener algo en las \"patas\" que no permita que se deslicen.","Asignar Antonio Ferreto ",null,null,43413,158,"Sillas Italiano"]
["2018-09-18",922,"N/A","Mejorar con un entrenamiento del personal encargado del desayuno, en la evaluación califico con un 2 la experiencia.","Asignar Antonio Ferreto ",null,"Estandares de servicio Mauricio Aymerich",43411,158,"Servicio cliente restaurante "]
["2018-11-26",1070,509,"Huéspedes disconformes en general desde su llegada se acercan a recepción informando de una queja más, esta vez alegan que el TV es pésimo y que la señal no es buena.","Asignar Roberto Escoto",null,null,"No",157,"Chequeo habitaciones"]
["2018-11-24",1059,703,"Huésped molesta llama a recepción por segunda vez indicando que anteriormente llamó solicitando el room service para retirar los platos y nunca llegaron por ellos a pesar que le indicaron que iban para allà, su primera llamada fue a las 7pm y luego volvió a llamar a las 9pm porque no le habían retirado sus platos.","Asignar Antonio Ferreto ",null,null,"No",157,"Servicio cliente restaurante "]
["2018-11-22",1058,102,"Colaborador Fernando reporta que al momento de cambiar a los huéspedes de la 110 a la 102 a eso de las 9:30pm, al mostrar la hab la misma no tenía paños en ninguna parte.","Asignar Roberto Escoto",null,null,"No",157,"Limpieza en habitación"]
["2018-11-22",1055,514,"Huéspedes minutos después del check-in e ingreso de habitación reclaman porque se encuentran varios bombillos de la habitación quemados.","Asignar Roberto Escoto",null,null,"No",157,"Limpieza en habitación"]
["2018-11-21",1053,415,"Favor cambiar el piso del restaurante ya que es muy resbaloso y peligroso.","Asignar Roberto Escoto",null,null,"No",157,"Restaurante"]
["2018-11-20",1052,205,"Huésped se queja porque en el sanitario el agua sale constantemente y no hay alguna tapon que detenga el agua, esto le molesta porque en realidad el hotel no preserva el agua.","Asignar Roberto Escoto",null,null,"No",157,"Limpieza en habitación"]
["2018-11-20",1050,205,"Máquina de café y copas de la habitación se encontraban sucias.","Asignar Roberto Escoto",null,null,"No",157,"Limpieza en habitación"]
["2018-11-17",1041,711,"Compañero botones reporta que la hab al ser entregada tenía un fuerte olor a pintura y que esto incomodó un poco a los huéspedes cuando estaban entrando a la hab.","Asignar Roberto Escoto",null,null,"No",157,"Habitaciones"]
["2018-11-18",1040,111,"Botones Jason reporta que la hab 111 al momento de ser entregada se encontraba con varias partes del baño mojadas y con extractos de jabón en una de las paredes, esto fue percibido por los huéspedes los cuales inmediatamente se mostraron molestos alegando que querían una hab que estuviera en condiciones y que no pareciera sucia.","Asignar Roberto Escoto",null,null,"No",157,"Habitaciones"]
["2018-11-17",1036,301,"Huésped se queja por la secadora de pelo, no calienta correctamente.","Asignar Roberto Escoto",null,null,"No",157,"Habitaciones"]
["2018-11-17",1034,606,"Huésped se queja porque considera que el espejo grande en frente del sanitario debe de estar en la habitación y que ademas hacen falta mas ganchos para colocar la ropa.","Asignar Roberto Escoto",null,null,"No",157,"Habitaciones"]
["2018-11-16",1033,207,"Las cajas fuertes de las habitaciones 201,207,209 y 205 necesitan ser reparadas.","Asignar Roberto Escoto",null,null,"No",157,"Habitaciones"]
["2018-11-16",1032,201,"Huésped se queja de la atención y el mismo dice que tuvo problemas para que las ordenes individuales estuvieran correctas.","Asignar Antonio Ferreto ",null,null,"NO",157,"Servicio cliente restaurante "]
["2018-11-11",1021,903,"El cliente dice que el salonero le vendió a la fuerza una botella de vino de $145 , dice que lo presionó cuando él llegó a cenar ya le tenía esa botella fría en lugar de mostrarle el menú.","Asignar Antonio Ferreto ",null,null,"NO",157,"Servicio cliente restaurante "]
["2018-11-03",1011,109,"Huésped se queja por el uso de pajillas.","Asignar Antonio Ferreto ",null,null,"NO",157,"Servicio cliente restaurante "]
["2018-10-03",936,409,"Huésped indica que las sillas del italiano se resbalan facilmente, deberían de tener algo en las \"patas\" que no permita que se deslicen.","Asignar Antonio Ferreto ",null,null,43413,157,"Sillas Italiano"]
["2018-09-18",922,"N/A","Mejorar con un entrenamiento del personal encargado del desayuno, en la evaluación califico con un 2 la experiencia.","Asignar Antonio Ferreto ",null,"Estandares de servicio Mauricio Aymerich",43411,157,"Servicio cliente restaurante "]
["2018-08-21",851,506,"El área de recepción es más para restaurantes que para ser utilizada como lobby. NO hay suficiente campo para que las familias se sienten a esperar y cuando llueve no hay donde ponerse.","Greivin Salazar",null,"Se reabre Ti Cain ",43424,157,"Lobby"]
["2018-11-17",1041,711,"Compañero botones reporta que la hab al ser entregada tenía un fuerte olor a pintura y que esto incomodó un poco a los huéspedes cuando estaban entrando a la hab.","Asignar Roberto Escoto",null,null,"No",156,"Habitaciones"]
["2018-11-18",1040,111,"Botones Jason reporta que la hab 111 al momento de ser entregada se encontraba con varias partes del baño mojadas y con extractos de jabón en una de las paredes, esto fue percibido por los huéspedes los cuales inmediatamente se mostraron molestos alegando que querían una hab que estuviera en condiciones y que no pareciera sucia.","Asignar Roberto Escoto",null,null,"No",156,"Habitaciones"]
["2018-11-17",1036,301,"Huésped se queja por la secadora de pelo, no calienta correctamente.","Asignar Roberto Escoto",null,null,"No",156,"Habitaciones"]
["2018-11-17",1034,606,"Huésped se queja porque considera que el espejo grande en frente del sanitario debe de estar en la habitación y que ademas hacen falta mas ganchos para colocar la ropa.","Asignar Roberto Escoto",null,null,"No",156,"Habitaciones"]
["2018-11-16",1033,207,"Las cajas fuertes de las habitaciones 201,207,209 y 205 necesitan ser reparadas.","Asignar Roberto Escoto",null,null,"No",156,"Habitaciones"]
["2018-11-18",1042,901,"Huésped extremadamente molesto reclama que viene desde Florida y que el A/C de la habitación no enfría, a pesar de reportarlo en la mañana para la noche el aire seguía igual y eso lo tenía muy decepcionado, él comenta que no tiene porque pagar los errores del hotel ya que al momento de llegar mantenimiento le dijeron que el A/C así era como trabajaba ya que no era un aire moderno.","Asignar Jairo Garcia",null,null,"No",155,"A/C"]
["2018-11-15",1031,708,"Aire acondicionado no enfriaba en lo absoluto.","Asignar Jairo Garcia",null,null,"No",155,"A/C"]
["2018-11-13",1026,408,"Huésped se queja por el mal funcionamiento del telefono, èl necesitaba una wake-up call y tambien llamar a recepción y a pesar de que se le dijo que lo estaban arreglando al llegar de tour no se encontraba reparado.","Asignar Jairo Garcia",null,null,"NO",155,"Central telefonica"]
["2018-11-11",1020,208,"NO HAY SEÑAL DE CABLE ","Asignar Jairo Garcia",null,null,"NO",155,"Señal TV"]
["2018-11-08",1019,609,"Señal de televisión muy mala.","Asignar Jairo Garcia",null,null,"No",155,"Señal TV"]
["2018-11-08",1018,212,"Huéspedes se quejan por el pésimo servicio de cable, la imagen se ve fatal y estan muy decepcionados de un hotel 4 estrellas con televisión por cable tan mala.","Asignar Jairo Garcia",null,null,"No ",155,"Señal TV"]
["2018-11-05",1012,209,"El aire acondicionado de la habitación no estaba configurado cuando llegamos, necesita reemplazarse por uno moderno ya que es ruidoso y la caracteristica de moverse para que aire vaya a diferentes direcciones no funcionó nunca.","Asignar Jairo Garcia",null,null,43424,155,"A/C"]
["2018-10-30",1001,301,"Huésped llama a recepción porque su A/C no funciona correctamente.","Asignar Jairo Garcia",null,null,"NO",155,"A/C"]
["2018-10-28",984,"N/A","Buenos días Compañeros \n\nTengan muy buen día todas y todos.\n\nLes comparto el siguiente  incidente , durante el desayuno de hoy.\n\nLa mañana de hoy la compañera Karen Núñez se acercó a mi persona y me indico , que aparentemente estaban cayendo del cielo raso, excremento de ratas.\n\nEstaba en espera de  terminar el desayuno , para informar al señor Jairo.\n\nLamentablemente, ella no se equivocaba.\n\nMinutos después , cayó muy cerca de una de las mesas, una rata.  La compañera Hazel y el señor Ariel, pudieron recogerla y disponer de ella, pero lamentablemente los huéspedes    , en el salón B , se dieron cuenta.\n\nLas habitaciones a nombre de la familia LAINES, son 603-703-903.\n\nMi recomendación seria , entrar lo más pronto posible en un programa de exterminio y/o previsión a l asunto.\n\nEspero que la información sea de ayuda.\n","Asignar Jairo Garcia","Procedimiento mejorado",null,43419,155,"Plagas en restaurante"]
["2018-10-18",968,125,"Habitaciones 125-126 reportadas por el chofer y guía con cucarachas entre el aire acondicionado, se quejan de una posible plaga la cual intentaron matar con insecticidad pero aún así salieron más en la noche.","Asignar Jairo Garcia","Entregar programa de fumigación",null,43426,155,"Plagas Habitaciones"]
["2018-10-15",950,503,"503  La señora se queja de que el A/C no le sirvió en toda la noche, se revisa y efectivamente le falta refrigerante ","Asignar Jairo Garcia",null,"Se presentará el cronograma de mantenimiento preventivo terminado",43427,155,"A/C"]
["2018-10-13",949,410,"se queja ahora de que el A/C no sirve, efectivamente estaba sin refrigerante ","Asignar Jairo Garcia",null,"Se presentará el cronograma de mantenimiento preventivo terminado",43427,155,"A/C"]
["2018-08-14",821,401,"El baño debería tener una superficie no resbaloso como algún tipo de alfombra de hule.","Asignar Jairo Garcia","Poner Producto antideslizante ","Aplicar en los  baños de todas la habitacion el producto antideslizante ",43422,155,"Baño resbalozo "]
["2018-10-25",988,108,"El servicio muy bueno pero el sabor del arroz con camarones no era el mejor.","Asignar Greivin Salazar ",null,null,43424,154,"Calidad comida Italiano"]
["2018-10-15",964,507,"Mejorar la variedad de los desayunos especialmente cuando se viene varios días.","Asignar Greivin Salazar ",null,"Costeo de las opciones nuevas para el desayuno",43419,154,"Calida Desayuno"]
["2018-08-26",866,508,"La comida en el buffet es escasa y muy repetitiva.","Asignar Greivin Salazar ",null,"Proceso aprobacion de sugerencias",43429,154,"Variedad desayuno"]
["2018-08-25",862,505,"Huésped indica que debemos mejorar en el tema de alimentos y calidad.","Asignar Greivin Salazar ",null,"Menú nuevo",43411,154,"Calidad comida"]
["2018-08-23",860,506,"Tener más opciones de comida nacional","Asignar Greivin Salazar ",null,"Menú nuevo",43411,154,"Menú típico"]
["2018-08-22",854,408,"Mas variedad en restaurantes.","Asignar Greivin Salazar ",null,"Menus Nuevos ",43411,154,"Variedad desayuno"]
["2018-08-21",852,604,"Deberian tener mejores opciones vegetarianas y harinas integrales","Asignar Greivin Salazar ",null,null,43411,154,"Menú vegetariano"]
["2018-08-17",846,null,"La comida italiana esta sobrevalorada y sin buen sabor, además las porciones son muy pequeñas.","Asignar Greivin Salazar ",null,"Menus Nuevos ",43411,154,"Calidad precio"]
["2018-08-13",845,101,"Los restaurantes son muy caros y la comida mas o menos.","Asignar Greivin Salazar ",null,"Menus Nuevos ",43411,154,"Calidad precio"]
["2018-06-16",826,"Damary Santiago","Las opciones de almuerzo y cena estuvieron muy caras y limitadas.","Asignar Greivin Salazar ",null,"Menus Nuevos ",43411,154,"Calidad comida"]
["2018-06-23",824,"Tim Brinkley","La variedad y selección de la comida estuvo muy por debajo del promedio","Asignar Greivin Salazar ",null,"Menus Nuevos ",43411,154,"Calidad comida"]
["2018-08-14",822,904,"Necesita variedad en las opciones de comidas y un menú mas barato en el bar.","Asignar Greivin Salazar ",null,"Menus Nuevos ",43411,154,"Calidad comida"]
["2018-08-11",815,504,"La comida es muy cara, por favor tener opciones mas cómodas.","Asignar Greivin Salazar ",null,"Menu Nuevo",43411,154,"Calidad comida"]
["2018-08-04",794,null,"Se queja de la comida de los restaurantes los cuales fueron una estafa, muy baja calidad en las comidas. La pizza fue la peor que ha comido, muy mala. Además precios sumamente caros por nada especial a cambio.","Asignar Greivin Salazar ",null,"Se estableció la temeratura adecuada del horno",43411,154,"Calidad comida"]
["2018-08-04",784,401,"La comida en el Italiano muy cara.","Asignar Greivin Salazar ",null,"Menu Nuevo",43411,154,"Calidad comida"]
["2018-08-02",782,801,"Huéspedes se quejan que las porciones del restaurante italiano son pequeñas y muy caras.","Asignar Greivin Salazar ",null,"Menu Nuevo",43411,154,"Calidad comida"]
["2018-07-17",770,null,"El restaurante principal de la cena en sí es bastante caro y nada especial. No había nada de malo en ello, pero nos habíamos acostumbrado a grandes porciones de Costa Rica, y nuestra cena aquí era mucho más pequeña y no estuvo a la altura de la comida que tuvimos en otro lugar en nuestro viaje.","Asignar Greivin Salazar ",null,"Menu Nuevo",43411,154,"Calidad comida"]
["2018-07-01",764,null,"Como otros comentarios de otros huéspedes también terminamos decepcionados de la cena,  los precios son demasiado elevados y la calidad de la comida en relación a otros hoteles quedó debiendo","Asignar Greivin Salazar ",null,"Menu Nuevo",43411,154,"Calidad comida"]
["2018-07-13",725,406,"NO hay variedad en menú para niños.","Asignar Greivin Salazar ",null,"Menu Nuevo",43411,154,"Menú niños"]
["2018-06-29",681,411,"Mejor selección en calidad de las comidas.","Asignar Greivin Salazar ",null,"Menu Nuevo",43411,154,"Calidad comida"]
["2018-07-02",679,null,"Cena muy limitada y con precio elevado.","Asignar Greivin Salazar ",null,"Menu Nuevo",43411,154,"Calidad comida"]
["2018-07-01",677,null,"Muy decepcionados con la cena, precios muy caros y calidad de la comida no es equivalente a los que cobran en comparación con otros hoteles de la zona.","Asignar Greivin Salazar ",null,"Menu Nuevo",43411,154,"Calidad comida"]
["2018-06-27",666,301,"Tener productos que sean organicos","Asignar Greivin Salazar ",null,"Menu Nuevo",43411,154,"Calidad comida"]
["2018-06-27",665,301,"Menú para niños","Asignar Greivin Salazar ",null,"Menu Nuevo",43411,154,"Menú niños"]
["2018-06-17",646,403,"Huésped se queja de que a la hora de reservar en el hotel acordó una cena romántica especial  cual le vendieron y prometieron y no se cumplió, el señor estaba bastante molesto porque pagó más de 100 dólares por la cena y el menú que le brindaron era el mismo menú que se le ofrece a todos los clientes, el señor argumenta que  no hay nada especial en lo que se le ofreció y lo que le molesta es que le hayan mentido, el mismo prefirió que se le reintegrara el dinero y que iba a pagar lo que consumiera como otro huésped más común y corriente. ","Asignar Greivin Salazar ",null,"Establecer menú para cenas romanticas",43422,154,"Calidad comida"]
["2018-06-11",630,null,"Más comida tradicional de Costa Rica en los menú, ya que cuando estuvimos hospedados solo estaba abierto el restaurante italiano y japones.","Asignar Greivin Salazar ",null,"Menu Nuevo",43411,154,"Menú típico"]
["2018-06-07",621,610,"Las porciones de comida no están acorde con el precio","Asignar Greivin Salazar ",null,"Menu Nuevo",43411,154,"Calidad comida"]
["2018-06-07",620,705,"Más opciones de comida vegetariana en el restaurante principal.","Asignar Greivin Salazar ",null,"Menu Nuevo",43411,154,"MENÚ VEGETARIANO"]
["2018-10-26",995,411,"Huèsped se queja por la poca iluminaciòn en las esquinas de cada callejòn, menciona que le encantarìa ver mejor iluminaciòn con los nùmeros de las habitaciones alumbrando.","Asignar Greivin Arredondo",null,"Lamparas  solares",43429,153,"Iluminación Jardines"]
["2018-10-28",985,202,"Cama nido que se colocò a peticiòn de huèsped se encontraba en muy mal estado, quebrada y no en las mejores condiciones.","Asignar Greivin Arredondo","Dispositivo de soporte",null,43419,153,"Camas nidos"]
["2018-10-20",982,701,"Huésped se queja porque el hotel no tiene NETFLIX con costo agregado en las habitaciones para el hospedaje.","Asignar Greivin Arredondo",null,null,43427,153,"NETFLIX"]
["2018-10-21",978,512,"Huésped al momento del check-out nos comparte la queja que el día 20 de octubre ( día de su boda) se había coordinado la limpieza y decoración respectiva para que cuando llegaran de su boda encontraran la sorpresa, sin embargo cuando la mucama llegó a hacer lo solicitado ellos se encontraban alistandose y preparando todo para la boda por lo que pidieron a la mucama venir más tarde ya cuando se hubieran marchado. La situación que molestó a la huésped fue que cuando llegaron de su boda a celebrar la luna de miel la habitación era un desastre y no había ninguna decoración. Ella nos expresó que habían hecho un esfuerzo muy grande para conseguir disfrutar de su luna de miel en esa habitación y que al final lo que recibieron fue una decepción en lugar de una grata sorpresa. ","Asignar Greivin Arredondo",null,null,43413,153,"Chequeo habitaciones"]
["2018-10-17",969,501,"Huésped se queja por no haber una silla en la habitación, dice que es muy difícil ponerse la ropa en una cama alta.","Asignar Greivin Arredondo",null,null,43413,153,"Silla en habitación"]
["2018-10-08",944,901,"Huéspedes se quejan de las camas que son duras.","Asignar Greivin Arredondo","Finalización de etiquetado a los colchones.",null,43426,153,"Colchon duro"]
["2018-09-23",933,207,"Sería bueno tener una silla baja dentro de la habitación, ayuda a los adultos mayores","Asignar Greivin Arredondo","Sillas en camino",null,43419,153,"Silla en habitación"]
["2018-07-10",724,107,"Las instrucciones del coffee maker no están claras, es para hervir agua o solo calentarla? Si no lo dice no lo sabran los huéspedes. Además las instrucciones de como encender el ventilador de techo no se ven.","Asignar Greivin Arredondo",null,"Se va a cambiar el coffemaker",43419,153,"Rotulación ventilador"]
["2018-06-11",632,202,"Sería genial tener una silla en la habitación","Asignar Greivin Arredondo","Sillas en camino.","Sillas nuevas ",43419,153,"Silla en habitación"]
["2018-11-16",1038,602,"Huésped se queja debido a que considera debemos mejorar a la hora de brindar información, otros huéspedes tuvieron que decirme como funcionaba el servicio de lavandería, me dí cuenta de las clases de yoga muy tarde, quería usar el SPA pero nunca me dieron información de los precios o como reservar.","Asignar Estibaliz Aguilar",null,null,"No",152,"Servicio cliente recepción"]
["2018-10-14",959,107,"Huésped se queja de los brazaletes, sugieren que no sean de plástico.","Asignar Estibaliz Aguilar",null,"Se le propone a don Minor eliminar el brazalete unos dias como prueba",43420,152,"Brazaletes"]
["2018-11-17",1044,703,"Para las habitaciones de discapacitados poner la altura de la cama adecuada ya que es muy alta para una persona con discapacidad, debe de quedar al nivel de la silla de ruedas para poder llamarse una habitación de discapacitados.","Asignar Don Minor Castro",null,null,"No",151,"Habitaciones"]
["2018-11-14",1025,415,"Colaborador Oscar nos reporta que en varias ocasiones los huéspedes han comentado acerca del estado de la llave para drenar el jacuzzi la cual se encuentra afuera de la habitación. ( llave herrumbrada y en un mal estado)","Asignar Don Minor Castro",null,"Esta tiene varios meses de antigüedad, ya se habia dado por resuelta pero no fue así, le agradecemos que le de seguiemiento.","no",151,"Jacuzzi"]
["2018-11-04",1008,304,"Podrìan mejorar con algún tipo de entretenimiento nocturno como música en vivo o algun show similar.","Asignar Don Minor Castro",null,"Si es posible retomar la idea de la pregola del bar humedo.","NO",151,"Entretenimiento"]
["2018-08-31",883,302,"Debería de haber una silla plastica para discapacitados en el área de duchas","Asignar Don Minor Castro","Sillas ya cotizadas, pendiente aprobación de Don Minor","Cotizacion ","NO",151,"Sillas Discapacitados "]
["2018-11-15",1030,802,"Huésped se queja debido a que el bartender en el  bar húmedo fue muy rápido para aumentar las ventas y eso se malinterpreta.","Asignar Diego Cambronero",null,null,"NO",150,"Servicio cliente bar humedo"]
["2018-10-27",992,208,"Insectos en los helados. No fue una buena opciòn comprar ahì.","Asignar Diego Cambronero","Proceso de limpieza nuevo, cambio de camara que estaba dañada.",null,43419,150,"Servicio C. Tienda"]
["2018-10-16","966",602,"Cable HDMI en muy mal estado, no permitió llevar a cabo una charla de chocolate planeada para el grupo ROAD SCHOLAR ( Arenal Manoa).","Asignar Diego Cambronero",null,"En espera del cable, coordinar con Greivin ",43424,150,"Proyector Manantial "]
["2018-10-14",951,121,"El guía de Collete el señor Ricardo Howell presentó la queja con respecto al menú que se le ofreció luego de traer a su grupo a cenar a nuestro restaurante, él mismo quedó disconforme ya que en otras ocasiones se le ha ofrecido menú abierto y esta vez tanto en el Rest Italiano como en el Ti-cain se le dió un menú carta paquete el cual no le agrado. Nos mencionó que la próxima vez su grupo iría a cenar afuera y se encontraba molesto por el accionar del hotel.","Asignar Diego Cambronero","Pendiente de las políticas con Don Minor","Se solcita que por favor difunda las politicas de cortesias.",43419,150,"Servicio cliente restaurante "]
["2018-09-18",921,403,"Muy caro y el sabor no es bueno en las comidas","Asignar Diego Cambronero",null,"Menus Nuevos ",43424,150,"Calidad precio"]
["2018-09-17",910,104,"Huésped se queja de la manera en que no la dejaron ingresar al rest. Italiano, a la señora la mantuvieron esperando en recepción sin indicarle nada mientras iban a preguntar a un superior si podía o no entrar como andaba vestida, ella se molestó porque otra mujer andaba vestida muy parecido y si la dejaron entrar. Ella al hacer check-out nos hizo la observación que se sintió insultada y que fue totalmente inapropiado que la mantuvieran sin entrar durante unos minutos.","Asignar Diego Cambronero",null,"Establecer un estándar de serviios en el area de A&B",43419,150,"Servicio cliente restaurante "]
["2018-09-16",907,110,"Comida del italiano de poca calidad","Asignar Diego Cambronero",null,"Menus Nuevos ",43424,150,"Calidad comida Italiano"]
["2018-11-18",1043,205,"Huésped llama muy enojado a Recepción porque en la habitación no hay un tapón para el lavatorio, el nos dice que necesita afeitarse y que es necesario para él llenar el lavatorio hasta arriba, pide que le solucionen inmediatamente y solicita al siguiente día una cita con el gerente.","Asignar Dariel Miranda",null,null,"No",149,"Habitaciones"]
["2018-10-06",942,206,"El frigorifico hace mucho ruido y es bastante molesto en la noche.","Asignar Dariel Miranda","Cambiar la refri",null,43419,149,"Ruido Refri"]
["2018-06-11",631,202,"El shampoo podría ser mejor","Asignar Dariel Miranda",null,null,43405,149,"Amenidades"]
["2018-06-08",618,712,"El refrigerador produce demasiado ruido","Asignar Dariel Miranda",null,null,43393,149,"HABITACIONES"]
["2018-11-16",1032,201,"Huésped se queja de la atención y el mismo dice que tuvo problemas para que las ordenes individuales estuvieran correctas.","Asignar Antonio Ferreto ",null,null,"NO",148,"Servicio cliente restaurante "]
["2018-11-11",1021,903,"El cliente dice que el salonero le vendió a la fuerza una botella de vino de $145 , dice que lo presionó cuando él llegó a cenar ya le tenía esa botella fría en lugar de mostrarle el menú.","Asignar Antonio Ferreto ",null,null,"NO",148,"Servicio cliente restaurante "]
["2018-11-03",1011,109,"Huésped se queja por el uso de pajillas.","Asignar Antonio Ferreto ",null,null,"NO",148,"Servicio cliente restaurante "]
["2018-10-03",936,409,"Huésped indica que las sillas del italiano se resbalan facilmente, deberían de tener algo en las \"patas\" que no permita que se deslicen.","Asignar Antonio Ferreto ",null,null,43413,148,"Sillas Italiano"]
["2018-09-18",922,"N/A","Mejorar con un entrenamiento del personal encargado del desayuno, en la evaluación califico con un 2 la experiencia.","Asignar Antonio Ferreto ",null,"Estandares de servicio Mauricio Aymerich",43411,148,"Servicio cliente restaurante "]
["2018-10-26",995,411,"Huèsped se queja por la poca iluminaciòn en las esquinas de cada callejòn, menciona que le encantarìa ver mejor iluminaciòn con los nùmeros de las habitaciones alumbrando.","Greivin Arredondo",null,"Lamparas  solares","No",147]
["2018-08-30",870,904,"Poner etiquetas a todos los tomas, son tantos que uno no sabe cual es cual.","Greivin Arredondo",null,"Rotulos de apagadores ",43388,147]
["2018-10-18",967,605,"Huésped luego de llegar del check-in llama molesto a recepción porque su aire acondicionado no funciona bien, él mismo pide que le den un tiempo para descansar y que más tarde le intenten solucionar el problema.","Asignar Roberto Escoto","Por favor presentar el lista de chequeo",null,43413,146]
["2018-10-14",955,403,"Huésped se queja de las camas e indica que el hotel debe mejorar teniendo camas más suaves.","Asignar Roberto Escoto","Evidenciar la implementación del progama a un 100%",null,"NO",146]
["2018-10-15",953,305,"Mientras se iba a chequear una habitación con una ducha apta para lo que nos solicitaba un cliente se encontró que la ducha de la hab 305 no esta pegada y que al abrir toda la presión es muy vulonerable a safarse y caer en la cabeza de un huésped.","Asignar Roberto Escoto","Precnetar lista de revición",null,43413,146]
["2018-11-11",1020,208,"NO HAY SEÑAL DE CABLE ","Asignar Jairo Garcia",null,null,"NO",145]
["2018-11-08",1019,609,"Señal de televisión muy mala.","Asignar Jairo Garcia",null,null,"No",145]
["2018-11-08",1018,212,"Huéspedes se quejan por el pésimo servicio de cable, la imagen se ve fatal y estan muy decepcionados de un hotel 4 estrellas con televisión por cable tan mala.","Asignar Jairo Garcia",null,null,"No ",145]
["2018-10-30",1001,301,"Huésped llama a recepción porque su A/C no funciona correctamente.","Asignar Jairo Garcia",null,null,"NO",145]
["2018-08-25",862,505,"Huésped indica que debemos mejorar en el tema de alimentos y calidad.","Asignar Greivin Salazar ",null,"Menú nuevo",43411,144]
["2018-08-23",860,506,"Tener más opciones de comida nacional","Asignar Greivin Salazar ",null,"Menú nuevo",43411,144]
["2018-08-22",854,408,"Mas variedad en restaurantes.","Asignar Greivin Salazar ",null,"Menus Nuevos ",43411,144]
["2018-08-21",852,604,"Deberian tener mejores opciones vegetarianas y harinas integrales","Asignar Greivin Salazar ",null,null,43411,144]
["2018-08-17",846,null,"La comida italiana esta sobrevalorada y sin buen sabor, además las porciones son muy pequeñas.","Asignar Greivin Salazar ",null,"Menus Nuevos ",43411,144]
["2018-08-13",845,101,"Los restaurantes son muy caros y la comida mas o menos.","Asignar Greivin Salazar ",null,"Menus Nuevos ",43411,144]
["2018-06-16",826,"Damary Santiago","Las opciones de almuerzo y cena estuvieron muy caras y limitadas.","Asignar Greivin Salazar ",null,"Menus Nuevos ",43411,144]
["2018-06-23",824,"Tim Brinkley","La variedad y selección de la comida estuvo muy por debajo del promedio","Asignar Greivin Salazar ",null,"Menus Nuevos ",43411,144]
["2018-08-14",822,904,"Necesita variedad en las opciones de comidas y un menú mas barato en el bar.","Asignar Greivin Salazar ",null,"Menus Nuevos ",43411,144]
["2018-08-11",815,504,"La comida es muy cara, por favor tener opciones mas cómodas.","Asignar Greivin Salazar ",null,"Menu Nuevo",43411,144]
["2018-08-04",794,null,"Se queja de la comida de los restaurantes los cuales fueron una estafa, muy baja calidad en las comidas. La pizza fue la peor que ha comido, muy mala. Además precios sumamente caros por nada especial a cambio.","Asignar Greivin Salazar ",null,"Se estableció la temeratura adecuada del horno",43411,144]
["2018-08-04",784,401,"La comida en el Italiano muy cara.","Asignar Greivin Salazar ",null,"Menu Nuevo",43411,144]
["2018-08-02",782,801,"Huéspedes se quejan que las porciones del restaurante italiano son pequeñas y muy caras.","Asignar Greivin Salazar ",null,"Menu Nuevo",43411,144]
["2018-07-17",770,null,"El restaurante principal de la cena en sí es bastante caro y nada especial. No había nada de malo en ello, pero nos habíamos acostumbrado a grandes porciones de Costa Rica, y nuestra cena aquí era mucho más pequeña y no estuvo a la altura de la comida que tuvimos en otro lugar en nuestro viaje.","Asignar Greivin Salazar ",null,"Menu Nuevo",43411,144]
["2018-07-01",764,null,"Como otros comentarios de otros huéspedes también terminamos decepcionados de la cena,  los precios son demasiado elevados y la calidad de la comida en relación a otros hoteles quedó debiendo","Asignar Greivin Salazar ",null,"Menu Nuevo",43411,144]
["2018-07-13",725,406,"NO hay variedad en menú para niños.","Asignar Greivin Salazar ",null,"Menu Nuevo",43411,144]
["2018-06-29",681,411,"Mejor selección en calidad de las comidas.","Asignar Greivin Salazar ",null,"Menu Nuevo",43411,144]
["2018-07-02",679,null,"Cena muy limitada y con precio elevado.","Asignar Greivin Salazar ",null,"Menu Nuevo",43411,144]
["2018-07-01",677,null,"Muy decepcionados con la cena, precios muy caros y calidad de la comida no es equivalente a los que cobran en comparación con otros hoteles de la zona.","Asignar Greivin Salazar ",null,"Menu Nuevo",43411,144]
["2018-06-27",666,301,"Tener productos que sean organicos","Asignar Greivin Salazar ",null,"Menu Nuevo",43411,144]
["2018-06-27",665,301,"Menú para niños","Asignar Greivin Salazar ",null,"Menu Nuevo",43411,144]
["2018-06-11",630,null,"Más comida tradicional de Costa Rica en los menú, ya que cuando estuvimos hospedados solo estaba abierto el restaurante italiano y japones.","Asignar Greivin Salazar ",null,"Menu Nuevo",43411,144]
["2018-06-07",621,610,"Las porciones de comida no están acorde con el precio","Asignar Greivin Salazar ",null,"Menu Nuevo",43411,144]
["2018-06-07",620,705,"Más opciones de comida vegetariana en el restaurante principal.","Asignar Greivin Salazar ",null,"Menu Nuevo",43411,144]
["2018-10-20",982,701,"Huésped se queja porque el hotel no tiene NETFLIX con costo agregado en las habitaciones para el hospedaje.","Asignar Greivin Arredondo",null,null,43413,143]
["2018-10-21",978,512,"Huésped al momento del check-out nos comparte la queja que el día 20 de octubre ( día de su boda) se había coordinado la limpieza y decoración respectiva para que cuando llegaran de su boda encontraran la sorpresa, sin embargo cuando la mucama llegó a hacer lo solicitado ellos se encontraban alistandose y preparando todo para la boda por lo que pidieron a la mucama venir más tarde ya cuando se hubieran marchado. La situación que molestó a la huésped fue que cuando llegaron de su boda a celebrar la luna de miel la habitación era un desastre y no había ninguna decoración. Ella nos expresó que habían hecho un esfuerzo muy grande para conseguir disfrutar de su luna de miel en esa habitación y que al final lo que recibieron fue una decepción en lugar de una grata sorpresa. ","Asignar Greivin Arredondo",null,null,43413,143]
["2018-10-17",969,501,"Huésped se queja por no haber una silla en la habitación, dice que es muy difícil ponerse la ropa en una cama alta.","Asignar Greivin Arredondo",null,null,43413,143]
["2018-09-25",930,104,"El huésped hace la observación de que si a ud como huésped al llegar al Hotel en Caseta le preguntan los datos sobre la reservación, debería entonces al llegar al parqueo las personas llamarlos por el nombre y mucho menos que en Recepción vuelvan a preguntarles por el dato de la reserva.","Asignar Estibaliz Aguilar",null,"Estandares de servicio Mauricio Aymerich",43411,142]
["2018-08-31",883,302,"Debería de haber una silla plastica para discapacitados en el área de duchas","Asignar Estibaliz Aguilar","Sillas ya cotizadas, pendiente aprobación de Don Minor","Cotizacion ","NO",142]
["2018-11-04",1008,304,"Podrìan mejorar con algún tipo de entretenimiento nocturno como música en vivo o algun show similar.","Asignar Don Minor Castro",null,null,"NO",141]
["2018-11-12",1024,709,"precios muy caros a nuestra opinión.","Asignar Diego Cambronero","Galeria",null,"NO",140]
["2018-06-11",631,202,"El shampoo podría ser mejor","Asignar Dariel Miranda",null,null,43405,139]
["2018-06-08",618,712,"El refrigerador produce demasiado ruido","Asignar Dariel Miranda",null,null,43393,139]
["2018-11-11",1021,903,"El cliente dice que el salonero le vendió a la fuerza una botella de vino de $145 , dice que lo presionó cuando él llegó a cenar ya le tenía esa botella fría en lugar de mostrarle el menú.","Asignar Antonio Ferreto ",null,null,"NO",138]
["2018-11-03",1011,109,"Huésped se queja por el uso de pajillas.","Asignar Antonio Ferreto ",null,null,"NO",138]
["2018-10-03",936,409,"Huésped indica que las sillas del italiano se resbalan facilmente, deberían de tener algo en las \"patas\" que no permita que se deslicen.","Asignar Antonio Ferreto ",null,null,43413,138]
["2018-09-18",922,"N/A","Mejorar con un entrenamiento del personal encargado del desayuno, en la evaluación califico con un 2 la experiencia.","Asignar Antonio Ferreto ",null,"Estandares de servicio Mauricio Aymerich",43411,138]
["2018-10-30",1001,301,"Huésped llama a recepción porque su A/C no funciona correctamente.","Jairo Garcia",null,null,"NO",137]
["2018-10-26",995,411,"Huèsped se queja por la poca iluminaciòn en las esquinas de cada callejòn, menciona que le encantarìa ver mejor iluminaciòn con los nùmeros de las habitaciones alumbrando.","Greivin Arredondo",null,"Lamparas  solares","No",136]
["2018-10-14",955,403,"Huésped se queja de las camas e indica que el hotel debe mejorar teniendo camas más suaves.","Asignar Roberto Escoto","Evidenciar la implementación del progama a un 100%",null,"NO",135]
["2018-11-11",1020,208,"NO HAY SEÑAL DE CABLE ","Asignar Jairo Garcia",null,null,"NO",134]
["2018-11-08",1019,609,"Señal de televisión muy mala.","Asignar Jairo Garcia",null,null,"No",134]
["2018-11-08",1018,212,"Huéspedes se quejan por el pésimo servicio de cable, la imagen se ve fatal y estan muy decepcionados de un hotel 4 estrellas con televisión por cable tan mala.","Asignar Jairo Garcia",null,null,"No ",134]
["2018-08-31",883,302,"Debería de haber una silla plastica para discapacitados en el área de duchas","Asignar Estibaliz Aguilar","Sillas ya cotizadas, pendiente aprobación de Don Minor","Cotizacion ","NO",133]
["2018-11-04",1008,304,"Podrìan mejorar con algún tipo de entretenimiento nocturno como música en vivo o algun show similar.","Asignar Don Minor Castro",null,null,"NO",132]
["2018-11-12",1024,709,"precios muy caros a nuestra opinión.","Asignar Diego Cambronero","Galeria",null,"NO",131]
["2018-06-11",631,202,"El shampoo podría ser mejor","Asignar Dariel Miranda",null,null,43405,130]
["2018-06-08",618,712,"El refrigerador produce demasiado ruido","Asignar Dariel Miranda",null,null,43393,130]
["2018-11-11",1021,903,"El cliente dice que el salonero le vendió a la fuerza una botella de vino de $145 , dice que lo presionó cuando él llegó a cenar ya le tenía esa botella fría en lugar de mostrarle el menú.","Asignar Antonio Ferreto ",null,null,"NO",129]
["2018-11-03",1011,109,"Huésped se queja por el uso de pajillas.","Asignar Antonio Ferreto ",null,null,"NO",129]
["2018-10-03",936,409,"Huésped indica que las sillas del italiano se resbalan facilmente, deberían de tener algo en las \"patas\" que no permita que se deslicen.","Asignar Antonio Ferreto ",null,null,43413,129]
["2018-09-18",922,"N/A","Mejorar con un entrenamiento del personal encargado del desayuno, en la evaluación califico con un 2 la experiencia.","Asignar Antonio Ferreto ",null,"Estandares de servicio Mauricio Aymerich",43411,129]
["2018-11-04",1013,403,"Huésped se queja porque la persona encargada de entregar toallas no se encontraba cuando llegó por su toalla.","Asignar Estibaliz Aguilar",null,null,"NO",1,128]
["2018-11-05",1012,209,"El aire acondicionado de la habitación no estaba configurado cuando llegamos, necesita reemplazarse por uno moderno ya que es ruidoso y la caracteristica de moverse para que aire vaya a diferentes direcciones no funcionó nunca.","Asignar Jairo Garcia",null,null,"NO",1,128]
["2018-11-03",1011,109,"Huésped se queja por el uso de pajillas.","Asignar Antonio Ferreto ",null,null,"NO",1,128]
["2018-11-04",1010,507,"Huésped se queja por la poca felxibilidad en cuanto a la hora de entrada y salida.","N/A",null,null,"N/A",1,128]
["2018-11-04",1009,903,"Huésped se acerca a recepción molesta indicando que hoy por la mañana su habitación y la de sus familiares a la par (904) despues de 3 minutos en la ducha solamente sale agua fría, nos pide revisar las duchas de las habitaciones para poder ducharse con agua caliente ya que tienen a su hija y es necesario que les brindemos una solución.","Asignar Jairo Garcia",null,null,"NO",1,128]
["2018-11-04",1008,304,"Podrìan mejorar con algún tipo de entretenimiento nocturno como música en vivo o algun show similar.","Asignar Don Mainor Castro",null,null,"NO",1,128]
["2018-04-11",1007,207,"Huésped se queja por la mala experiencia con la cual finalizó su estancia en el hotel, ellos tenían 2 habitaciones juntas y solicitaron un late check-out a las 2:00pm, sin embargo al estar lleno el hotel no fue posible y se les dio la posibilidad de utilizar las instalaciones y bañarse en los lockers. Al parecer esto ocasionó una gran molestia, porque los huèspedes indican que el área donde los enviaron a bañarse no es apta y que ahí tuvieron una experiencia muy triste y decepcionante.","Asignar Don Mainor Castro",null,null,"N/A",1,128]
["2018-11-01",1006,608,"Huésped se queja porque no hay una buena iluminación a los lados de la cama para poder leer, y además reclama por no haber una silla en la habitación.","Asignar Gilberth Mejías",null,null,"NO",1,128]
["2018-11-01",1005,404,"Huésped se queja que los precios deberian de ser mas bajos en el sushi y en el bar de la piscina, es inclusive mas caro que una bebida en europa.","Asignar Diego Cambronero",null,null,"NO",1,128]
["2018-10-27",1004,902,"NO vender el agua a un precio tan elevado.","N/A",null,null,"N/A",1,128]
["2018-10-30",1003,208,"Expandir el souvenir ya que es muy pequeño y que puedan proveer un lugar conveniente con bebidas y comida.","Asignar Don Mainor Castro",null,null,"NO",1,128]
["2018-10-30",1002,208,"Poner ventiladores o ventilación en los baños","N/A",null,null,"N/A",1,128]
["2018-10-30",1001,301,"Huésped llama a recepción porque su A/C no funciona correctamente.","Asignar Mainor Castro",null,null,"NO",1,128]
["2018-10-29",1000,506,"los precios de la comida y especialmente las bebidas son muy altos.","Asignar Greivin Salazar ",null,null,"NO",1,128]
["2018-10-29",999,106,"Huèsped se queja porque no hay sombrillas en las habitaciones.","N/A",null,null,"Alto costo, procedimiento ya establecido",1,128]
["2018-10-28",998,211,"La cafetera de la habitación no tiene filtros.","N/A",null,null,"N/A",1,128]
["2018-10-29",997,503,"Precios excesivamente caros.","Asignar Diego Cambronero","Menú nuevo",null,43439,1,128]
["2018-10-29",996,205,"Huésped se queja por no haber mayor oferta gastronomica en el hotel ni mejores opciones libres de gluten.","Asignar Greivin Salazar ",null,null,"NO",1,128]
["2018-10-26",995,411,"Huèsped se queja por la poca iluminaciòn en las esquinas de cada callejòn, menciona que le encantarìa ver mejor iluminaciòn con los nùmeros de las habitaciones alumbrando.","Asignar Don Mainor Castro",null,null,"No",1,128]
["2018-10-25",994,209,"Bueno el desayuno pero terminè decepcionado porque estuvo cerrado nuestra estadìa entera, no tuve oportunidad de experimentar de la cultura tica porque siempre estuvo cerrado.La comida estuvo mas o menos en general, lo digo porque las porciones eran pequeñas.","Asignar Greivin Salazar ",null,null,"No",1,128]
["2018-10-27",993,208,"Como visitante de temporada baja me gustarìa ver mas y mejores opciones de almuerzo y cena.","Asignar Greivin Salazar ",null,null,"NO",1,128]
["2018-10-27",992,208,"Insectos en los helados. No fue una buena opciòn comprar ahì.","Asignar Diego Cambronero","Proceso de limpieza nuevo, cambio de camara que estaba dañada.",null,43419,1,128]
["2018-10-27",991,208,"Menù muy limitado y extremadamente caro","Asignar Greivin Salazar ",null,null,"NO",1,128]
["2018-10-24",990,904,"Pueden mejorar su servicio con una mejor ayuda con la conversión de dinero. Me dijeron que un taxi cuesta 12 dolares a la Fortuna pero la \"maria\" marca 5000 colones, se supone que son 10 dòlares. No entendì porque.","Asignar Estibaliz Aguilar","Encargados de servicio de taxi van a cobrar a 10 dolares utilizando la maría siempre variando por el tipo de cambio.",null,"SI",1,128]
["2018-10-25",989,108,"Deberìan entregar un brochure con informaciòn del hotel para futuras visitas.","N/A",null,null,"N/A",1,128]
["2018-10-25",988,108,"El servicio muy bueno pero el sabor del arroz con camarones no era el mejor.","Asignar Greivin Salazar ",null,null,"NO",1,128]
["2018-10-23",987,504,"Podrìan mejorar en tener en el hotel servicio de alquiler de carros y un supermercado mas cerca.","N/A",null,null,"N/A",1,128]
["2018-10-23",986,504,"muy caro, por una cerveza de lata 5 dòlares.","N/A",null,null,"N/A",1,128]
["2018-10-28",985,202,"Cama nido que se colocò a peticiòn de huèsped se encontraba en muy mal estado, quebrada y no en las mejores condiciones.","Asignar Greivin Arredondo","Dispositivo de soporte",null,43419,1,128]
["2018-10-28",984,"N/A","Buenos días Compañeros \n\nTengan muy buen día todas y todos.\n\nLes comparto el siguiente  incidente , durante el desayuno de hoy.\n\nLa mañana de hoy la compañera Karen Núñez se acercó a mi persona y me indico , que aparentemente estaban cayendo del cielo raso, excremento de ratas.\n\nEstaba en espera de  terminar el desayuno , para informar al señor Jairo.\n\nLamentablemente, ella no se equivocaba.\n\nMinutos después , cayó muy cerca de una de las mesas, una rata.  La compañera Hazel y el señor Ariel, pudieron recogerla y disponer de ella, pero lamentablemente los huéspedes    , en el salón B , se dieron cuenta.\n\nLas habitaciones a nombre de la familia LAINES, son 603-703-903.\n\nMi recomendación seria , entrar lo más pronto posible en un programa de exterminio y/o previsión a l asunto.\n\nEspero que la información sea de ayuda.\n","Asignar Jairo Garcia","Procedimiento mejorado",null,43419,1,128]
["2018-10-21",983,111,"Huésped se queja por no haber ventiladores en los restaurantes que permitan un mejor flujo de aire.","Asignar Don Mainor Castro",null,null,"No",1,128]
["2018-10-20",982,701,"Huésped se queja porque el hotel no tiene NETFLIX con costo agregado en las habitaciones para el hospedaje.","Asignar Greivin Arredondo",null,null,43413,1,128]
["2018-10-17",981,505,"Precios muy altos.","Asignar Diego Cambronero",null,"Menú nuevo",43413,1,128]
["2018-10-17",980,505,"Comida buena pero sobrevalorada.","Asignar Diego Cambronero",null,"Menú nuevo",43413,1,128]
["2018-10-19",979,705,"Los trabajos de construcción detrás de nosotros comenzaron muy temprano a las 7am y eran demasiado ruidosos. No fue muy gratificante ni tranquila la estadía por ese motivo.",null,null,null,"N/A",1,128]
["2018-10-21",978,512,"Huésped al momento del check-out nos comparte la queja que el día 20 de octubre ( día de su boda) se había coordinado la limpieza y decoración respectiva para que cuando llegaran de su boda encontraran la sorpresa, sin embargo cuando la mucama llegó a hacer lo solicitado ellos se encontraban alistandose y preparando todo para la boda por lo que pidieron a la mucama venir más tarde ya cuando se hubieran marchado. La situación que molestó a la huésped fue que cuando llegaron de su boda a celebrar la luna de miel la habitación era un desastre y no había ninguna decoración. Ella nos expresó que habían hecho un esfuerzo muy grande para conseguir disfrutar de su luna de miel en esa habitación y que al final lo que recibieron fue una decepción en lugar de una grata sorpresa. ","Asignar Greivin Arredondo",null,null,43413,1,128]
["2018-10-18",977,"N/A","Locker #18 de los hombres posee número erroneo en su llavero. Revisar estado y números de los llaveros.","Asignar Estibaliz Aguilar","Colocación Stickers nuevos.",null,"SI",1,128]
["2018-10-18",976,402,"Los botones del jacuzzi no funcionaban bien a ciertas horas.","Asignar Jairo Garcia","Horario de encendido y apagado a partir de ahora.",null,"SI",1,128]
["2018-10-17",975,608,"NO ofrezcan pajillas para las bebidas a la hora de servir una comida, son muy malas para el medio ambiente.",null,null,null,"N/A",1,128]
["2018-10-18",974,306,"Huésped se queja que en el souvenir  las tallas de ropa se encontraban todas mezcladas y en desorden y fue difícil encontrar la ropa.","Asignar Diego Cambronero",null,"En espera del nuevo souvenir para disoner de mas espacio ",43800,1,128]
["2018-10-17",973,312,"Las bebidas estuvieron ok pero no fueron algo grandioso.","Asignar Antonio Ferreto ",null,"se refiere a cocteles de happy hours","Si",1,128]
["2018-10-17",972,109,"Solamente teníamos shampoo y acondicionador pero nunca tuvimos gel de baño lo cual sería una muy buena idea.",null,null,null,"N/A",1,128]
["2018-10-17",971,109,"Huésped se queja que al desayuno una sola waflera no es suficiente para el número de personas presentes, se necesita demasiado tiempo para un waffle y no le gustó esperar tanto.","Asignar Greivin Salazar ",null,"Waflera nueva","Si",1,128]
["2018-10-17",970,103,"Huésped se queja del ruido ocasionado durante las dos noches de su estadía por el televisor de la habitación adyacente. Indica que pudo escuchar de todo y que hasta se sorprendió de lo que escuchó.",null,null,null,"N/A",1,128]
["2018-10-17",969,501,"Huésped se queja por no haber una silla en la habitación, dice que es muy difícil ponerse la ropa en una cama alta.","Asignar Greivin Arredondo",null,null,43413,1,128]
["2018-10-18",968,125,"Habitaciones 125-126 reportadas por el chofer y guía con cucarachas entre el aire acondicionado, se quejan de una posible plaga la cual intentaron matar con insecticidad pero aún así salieron más en la noche.","Asignar Jairo Garcia","Entregar programa de fumigación",null,"NO",1,128]
["2018-10-18",967,605,"Huésped luego de llegar del check-in llama molesto a recepción porque su aire acondicionado no funciona bien, él mismo pide que le den un tiempo para descansar y que más tarde le intenten solucionar el problema.","Asignar Roberto Escoto","Por favor presentar el lista de chequeo",null,43413,1,128]
["2018-10-16","966",602,"Cable HDMI en muy mal estado, no permitió llevar a cabo una charla de chocolate planeada para el grupo ROAD SCHOLAR ( Arenal Manoa).","Asignar Diego Cambronero",null,"En espera del cable, coordinar con Greivin ","NO",1,128]
["2018-10-15",965,611,"Restaurante del Sushi malo. Además el bar de la piscina debería de dar también al agua fría ","Asignar Greivin Salazar ",null,"Verificar la reincidencia de esta queja, si no hay mas quejas darla como resuelta",43457,1,128]
["2018-10-15",964,507,"Mejorar la variedad de los desayunos especialmente cuando se viene varios días.","Asignar Greivin Salazar ",null,"Costeo de las opciones nuevas para el desayuno",43419,1,128]
["2018-10-13",963,204,"Televisor de Recepción es horrible. Esto es algo que deberían mejorar","Asignar Luis Carlos ","Video en proceso de Yuli",null,43426,1,128]
["2018-10-13",962,206,"Caja de seguridad no funciona","Asignar Roberto Escoto","POR FAVOR LEVANTAR LISTA DE LOS DEMÁS TECLADOS DETERIORADOS","Se cambió el teclado de la caja","NO",1,128]
["2018-10-14",961,107,"Huésped se queja de precios. Crema de hongos cuesta igual que una pizza hawaiana","Asignar Diego Cambronero",null,"Menu Nuevo",43412,1,128]
["2018-10-14",960,107,"Toallas de piscina ya son beige y no azules como lo dice los rótulos en el área de las termales. Ver rotulación y renovarla.","Asignar Jairo Garcia","Retirrar rótulo con información errónea.",null,"NO",1,128]
["2018-10-14",959,107,"Huésped se queja de los brazaletes, sugieren que no sean de plástico.","Asignar Estibaliz Aguilar",null,"Se le propone a don Minor eliminar el brazalete unos dias como prueba",43420,1,128]
["2018-10-14",958,701,"Pedí papas a las 11 y no me las dieron porque el aceite estaba frío.","Asignar Greivin Salazar ",null,null,"SI",1,128]
["2018-10-14",957,409,"Huésped se queja de los precios de los restaurantes, 40 000 un almuerzo? ","Asignar Diego Cambronero",null,"Menu Nuevo",43412,1,128]
["2018-10-14",956,204,"Huésped se queja indicando que hay una necesidad de enmasillar el area entre el techo y el cielo raso en el baño.","Asignar Mainor Castro",null,"Es parte del conecpto tropical del hotel ","SI",1,128]
["2018-10-14",955,403,"Huésped se queja de las camas e indica que el hotel debe mejorar teniendo camas más suaves.","Asignar Roberto Escoto","Evidenciar la implementación del progama a un 100%",null,"NO",1,128]
["2018-10-14",954,403,"Huésped se queja de las opciones de comida, pide mejores opciones ya que para él la comida fue solo buena y no encontró nada especial en ella.","Asignar Diego Cambronero",null,"Menú nuevo",43413,1,128]
["2018-10-15",953,305,"Mientras se iba a chequear una habitación con una ducha apta para lo que nos solicitaba un cliente se encontró que la ducha de la hab 305 no esta pegada y que al abrir toda la presión es muy vulonerable a safarse y caer en la cabeza de un huésped.","Asignar Roberto Escoto","Precnetar lista de revición",null,43413,1,128]
["2018-10-15",952,602,"Señora Kristine dueña de la agencia LatinEscapes se queja fuertemente indicando que ella conoce este hotel y que lo ha visitado en varias ocasiones pero que esta vez le han dado la peor habitación, ella se queja que la ducha no es regulable y que al momento de abrirla el agua sale disparada por todo lado sin poder bañarse o lavarse el pelo como ella quiere, además ella reclama por el ruido del ventilador del techo que se encuentra mal pegado y no los deja dormir. Ella nos hace ver que si pudiera irse se iría ahora mismo porque no se encuentra a gusto.","Asignar Roberto Escoto","presentar CHECK LIST PARA LAS HABITACIONES.","Se cambió el ventilador ","No",1,128]
["2018-10-14",951,121,"El guía de Collete el señor Ricardo Howell presentó la queja con respecto al menú que se le ofreció luego de traer a su grupo a cenar a nuestro restaurante, él mismo quedó disconforme ya que en otras ocasiones se le ha ofrecido menú abierto y esta vez tanto en el Rest Italiano como en el Ti-cain se le dió un menú carta paquete el cual no le agrado. Nos mencionó que la próxima vez su grupo iría a cenar afuera y se encontraba molesto por el accionar del hotel.","Asignar Diego Cambronero","Pendiente de las políticas con Don Minor","Se solcita que por favor difunda las politicas de cortesias.",43419,1,128]
["2018-10-15",950,503,"503  La señora se queja de que el A/C no le sirvió en toda la noche, se revisa y efectivamente le falta refrigerante ","Asignar Jairo Garcia",null,"Se presentará el cronograma de mantenimiento preventivo terminado",43427,1,128]
["2018-10-13",949,410,"se queja ahora de que el A/C no sirve, efectivamente estaba sin refrigerante ","Asignar Jairo Garcia",null,"Se presentará el cronograma de mantenimiento preventivo terminado",43427,1,128]
["2018-10-13",948,705,"Huéspedes molestos por ruido ocasionado por la construcción.","Asignar Mario Lezama",null,null,"N/A",1,128]
["2018-10-14",947,602,"A/C en mal estado, huésped se se queja porque no funciona como debería.","Asignar Jairo Garcia",null,"Se cambió tarjeta eléctronica quemada","SI",1,128]
["2018-10-14",946,903,"BUENAS NOCHES COMPAÑEROS\n\nLes describo el incidente que sucedió al final de la cena, con los huéspedes de la habitación 903 :\n\nDichos señores son personas muy amables, cenaron por segunda ocasión en este RESTAURANTE.\n\nEllos pidieron un  salmón, el cual viene acompañado de brócoli y coliflor.\n\nAl parecer ; lamentablemente, les salió un pequeño gusano.\n\nLa señora ya había terminado la cena casi por completo.\nEl señor Jhon Pinnel me indica del problema, reviso el plato y efectivamente lo tenía.\nMe aproximo a los huéspedes, quienes se manifestaron al respecto, muy respetuosos, comprensivos, pero me indicaron que la señora era fóbica a estos animalitos.\n\n\n","Asignar Greivin Salazar ",null,"Estan siendo mas cuidadosos en el proceso","SI",1,128]
["2018-10-12",945,205,"Buenos días compañeros, \nMe gustaría comunicarles una situación que se dio hoy con el señor Eduardo Otero de la habitación 205 durante el check out. \nSe le comunico el monto a pagar por cargos extras, él dijo que iba a pagar en efectivo y en euros. Y bueno ya que se está dando la opción de que lo hagan procedimos a aceptar la moneda. Sin embargo, no aceptó el monto que se le dijo y mencionó que ese no era el tipo de cambio; además agregó que ayer se lo habían cambiado a 650 y que aun así salió perdiendo dinero. \nLe explique que 620 era el tipo de cambio que estaba autorizado a dar y no podía hacer ningún cambio al mismo. El señor ya en un tono más fuerte dijo que entonces estábamos ganando dinero extra  “a costas de su dinero”, pero le mencione que de hecho no se aceptan euros, pero que los recibimos para hacerles un favor ya que sabemos que quizás no tienen tiempo para ir al banco y nuevamente le mencioné que 620 era el cambio establecido por contabilidad. \n\nAl final, el señor pagó sus cargos y el tipo de cambio que se le estaba dando, pero no estaba contento. De mi parte no puedo hacer alguna alteración a lo que ya está esta por los compañeros de contabilidad, pero aun así les hice la consulta pero me dijeron lo mismo que ya le había mencionado al señor Otero. \n\nEstamos ofreciendo una pequeña ayuda a ellos aceptando los euros, pero no me parece respetuoso que ellos vengan a imponer lo que ellos desean cuando ya tenemos las cosas establecidas por los compañeros de contabilidad. Si vamos a otro país nos tenemos que apegar a las normas que rigen al mismo, incluyéndose en esto el tipo de moneda… Estamos siendo flexible al ayudarle a los clientes aceptando Euros, pero hasta cuando quieren cambiar dinero y no se les puede cambiar el monto que desean se enojan con nosotros. \n","Asignar Estibaliz Aguilar",null,"se incorporó dentro de los precesos de contabilidad la actualización de euro","Si",1,128]
["2018-10-08",944,901,"Huéspedes se quejan de las camas que son duras.","Asignar Greivin Arredondo","Finalización de etiquetado a los colchones.",null,43426,1,128]
["2018-10-08",943,405,"Huésped se queja porque habían muchas moscas durante el desayuno.","Asignar Greivin Arredondo",null,null,43410,1,128]
["2018-10-06",942,206,"El frigorifico hace mucho ruido y es bastante molesto en la noche.","Asignar Dariel Miranda","Cambiar la refri",null,43419,1,128]
["2018-09-29",941,201,"pensamos que la habitación 201 es un poquito pequeña si los clientes son 4 adultos tomando en cuenta que casi todos nuestros clientes tienen cada uno una maleta grande y una maleta pequeña durante su viaje. Entonces, prestaremos atención a la categoría de habitación que reservamos por respecto a la composición de los grupos de clientes. ","N/A",null,null,"N/A",1,128]
["2018-09-29",940,201,"Primero, el hotel Arenal Springs nos parece ser una muy buena opción para nuestros clientes que quieren relajación y confort. Las aguas termales incluidas en el hotel son un valor agregado enorme. Además, esta zona termal está muy bien pensada con los dos bares, los jardines y las diferentes categorías de « piscinas » que hay. Solamente pensamos que el segundo bar (el que propone solamente bebidas y no el Sushi bar) merecería un poquito más de decoración para ser más acogedor todavía. ","Asignar Mainor Castro",null,"En espera de la solución con Vanessa ",43449,1,128]
["2018-10-08",939,211,"Huésped se acerca a recepción indicando que anoche al abrir su closet y sacar la cobija, la misma se encontraba mojada y no la pudo utilizar en toda la noche.","Asignar Roberto Escoto","Habia una gotera en la posición de closeth","Se tapa la Gorera","Si",1,128]
["2018-10-07",938,201,"Huésped se queja de la mala señal de TV","Asignar Roberto Escoto",null,"Cable tica resolvió la avería","SI",1,128]
["2018-10-05",937,101,"Huésped no cuenta con internet ","Asignar Arnaldo Moreira",null,null,"No",1,128]
["2018-10-03",936,409,"Huésped indica que las sillas del italiano se resbalan facilmente, deberían de tener algo en las \"patas\" que no permita que se deslicen.","Asignar Antonio Ferreto ",null,null,43413,1,128]
["2018-10-03",935,410,"Huésped se queja debido a que los tomacorrientes de la habitación no funcionan correctamente, se encontraba molesta porque colocó su teléfono a cargar creyendo que iba a cargarse y luego se percató que no funcionaba, además cuando solicitó mover las camas y poner las dos mesas de noche juntas para poner ambas lamparas de noche, no fue posible conectar las dos debido a que el tomacorriente estaba sin electricidad.","Asignar Jairo Garcia",null,"Toma dañado y se remplazo ","SI",1,128]
["2018-10-02",934,121,"Chofer del grupo Grand Tour#47 se acerca sumamente molesto a recepción porque estuvo 20 minutos esperando que lo atendieran para cenar y nunca recibió la atención que esperaba, se retira molesto diciendo que ya no piensa cenar y que no puede ser posible que solo por no ser un huésped no le brinden un trato de calidad, si él igual iba a pagar la cena que se iba a comer.","Asignar Diego Cambronero",null,"Se revisaron las camaras del restaurante. Duracion de chofer según la camara fue 4min.","SI",1,128]
["2018-09-23",933,207,"Sería bueno tener una silla baja dentro de la habitación, ayuda a los adultos mayores","Asignar Greivin Arredondo","Sillas en camino",null,43419,1,128]
["2018-09-26",932,102,"Huésped indica que el área de la ducha en la habitación tiene poca privacidad","N/A",null,null,"N/A",1,128]
["2018-09-26",931,102,"Huésped indica que sería bueno mejorar el área de fumado.","N/A",null,null,null,1,128]
["2018-09-25",930,104,"El huésped hace la observación de que si a ud como huésped al llegar al Hotel en Caseta le preguntan los datos sobre la reservación, debería entonces al llegar al parqueo las personas llamarlos por el nombre y mucho menos que en Recepción vuelvan a preguntarles por el dato de la reserva.","Asignar Estibaliz Aguilar",null,"Estandares de servicio Mauricio Aymerich",43411,1,128]
["2018-09-25",929,104,"Huésped indica que el aire acondicionado no enfrió correctamente, a veces estaba bien y por ratos no","Asignar Jairo Garcia",null,"Se reviso el refrigerante y se limpio filtros de A/C","SI",1,128]
["2018-09-24",928,101,"Huéspedes reportan un olor como a cigarro en su habitación y creen que podría provenir de la hab de la par.","N/A",null,null,"SI",1,128]
["2018-09-22",927,304,"El control del aire tenía problemas y no funcionaba bien.","Asignar Roberto Escoto",null,"Control con una tecla pegada","SI",1,128]
["2018-09-23",926,204,"El baño está mal diseñado, el servicio sanitario debe de estar por lo menos 50cm de la pared lateral, la ducha debe de tener un piso antideslizante. EN el cuarto los adornos laterales de la cama sobran, no se puede accesar a ese lado de la cama y además son peligrosos para niños.","Asignar Jairo Garcia","Producto antideslizante",null,"SI",1,128]
["Inicia registrando aquí la fecha de la queja.",925,308,"Requiere remodelar los muebles, se necesita más espacio para colgar ropa, además en sí la habitación es muy básica","N/A",null,null,null,1,128]
["2018-09-21",924,312,"Huéspedes extremadamente molestos se acercan a recepción porque durante la noche fueron picados por piojos o chinches que según indican invadieron el colchón, ellos se encontraban con toda su espalda y brazos irritados y comentaron que han estado en todo tipo de hoteles baratos y que nunca pensaron que en un hotel bueno donde celebraban su luna de miel hubieran tenido que llegar a los extremos de revisar los colchones hasta encontrar estos piojos. Muy disconformes nos dicen que esta situación ha afectado sus vacaciones y que van para la clínica a revisarse. Ellos tenían fotos de los piojos que según indican usaran para poner una reclamación.","Asignar Roberto Escoto","POR FAVOR IMPELTAR Y ADAPTAR A SU GUSTO EL CHECK LIST PARA LAS HABITACIONES.","Se controló la plaga","NO",1,128]
["2018-09-19",923,410,"El personal en el desayuno el primer día fue bueno y amable pero en el segundo día no fue bueno, deben estar atentos a las necesidades individuales para no hacerte sentir como un huésped irritante.","Asignar Diego Cambronero",null,"Estandares de servicio Mauricio Aymerich",43411,1,128]
["2018-09-18",922,"N/A","Mejorar con un entrenamiento del personal encargado del desayuno, en la evaluación califico con un 2 la experiencia.","Asignar Antonio Ferreto ",null,"Estandares de servicio Mauricio Aymerich",43411,1,128]
["2018-09-18",921,403,"Muy caro y el sabor no es bueno en las comidas","Asignar Diego Cambronero",null,"Menus Nuevos ",43405,1,128]
["2018-09-19",920,"N/A","Fuerte olor a boñiga en toda la recepción y restaurante italiano.","Asignar Greivin Arredondo","Colocación de tapas para olores","Tapa para las pilas ","SI",1,128]
["2018-09-18",919,802,"Huéspedes enfadados por fumigación en el rest Ti Cain que provocó una nube de humo en las termales.","Asignar Jairo Garcia",null,"No volver a fumigar temprano ","SI",1,128]
["2018-09-18",918,801,"Huésped se acerca a lockers quejandose porque la fumigación que se lleva a cabo en el Ti-Cain provoca que todo el humo se vaya para las termales donde se encuentran sus niños, y eso le molestó mucho. El mismo reclamó que como iban a hacer eso mientras estaban ellos bañandose y disfrutando de las termales.","Asignar Jairo Garcia",null,"No volver a fumigar temprano ","SI",1,128]
["2018-09-18",917,405,"Huésped muy molesto se acercó a recepción reclamando que Edward le vendió un Tour de perezosos donde iba ver algunos perezosos y vida silvestre, sin embargo dice que no vió nada más que un tucán muerto. Ël mismo canceló los tour del siguiente día y se encontraba bastante enfadado por lo que le prometieron y no se cumplió.","Asignar Estibaliz Aguilar",null,"La empresa garantiza que si se vieron los perezos ","SI",1,128]
["2018-09-18",916,108,"Huesped que estuvo hospedado del 13 al 16 de septiembre con reserva a nombre de Carlos Urrego envió correo a Servicio al Cliente preguntando por un objeto olvidado descrito como un medicamento utilizado para su insulina que estaba dentro de un recipiente azul en el refrigerador de la habitación 108, al momento de recibir la solicitud se consulta a las mucamas para que revisen y a recepción para buscar en lost&found pero ambos indican que no hay nada por lo que se procede a responder que desafortunadamente no se encontró nada, el hecho fue que el señor hizo caso omiso al correo  y se vino manejando desde Guanacaste hasta el hotel donde pidió lo dejaran entrar para hablar con Servicio al Cliente, cuando el señor llega el insiste en que el dejó su objeto ahí por lo que amable y abiertamente le dije que aunque las mucamas no encontraron nada yo mismo iba ir a revisar a esa habitación, a pesar de que estaba fumigada y llena de humo por completo ingresé hasta el refrigerador y busqué hasta encontrar lo que el señor aseguraba había dejado. Debido a esta situación me ví por la pena de pedir disculpas por el correo enviado asegurando que no había nada y por el reporte de las mucamas que no había nada ahí, el señor solicitó fueramos mas cuidadosos con las  cosas olvidadas y me agradeció por ir a buscar minuciosamente.  ","Asignar Roberto Escoto",null,"Carta de amonestacion a la colaboradora ","SI",1,128]
["2018-09-18",915,312,"Huésped reporta que no pudieron dormir debido a que en la habitación hay bichos.","Asignar Jairo Garcia",null,"Se fumigo habitacion y se dejo en cuarentena ","SI",1,128]
["2018-09-18",914,602,"Huésped expresa sentirse incomodo al comer y otras personas estén cerca nadando","N/A",null,"No, se cuetan con diferentes areas. ","N/A",1,128]
["2018-09-17",913,902,"Aire Acondicionado no funciona","Asignar Jairo Garcia",null,"Se cambio el display ","SI",1,128]
["2018-09-16",912,801,"Me gustaría que el jacuzzi que esta a 39 grados estuviera a una temp mas  baja ya que por estar tan caliente casi no se puede utilizar, no se aguanta el dolor, si fuera de 35 grados podría utilizarse más.","N/A",null,"No, se cuentan con diferentes temperaturas","N/A",1,128]
["2018-09-17",911,307,"Encender el aire acondicionado antes que lleguen los huéspedes. Así cuando estos lleguen encontrarán la habitación fresca","N/A",null,"No, poliliticas ambientales y seguridad, ","N/A",1,128]
["2018-09-17",910,104,"Huésped se queja de la manera en que no la dejaron ingresar al rest. Italiano, a la señora la mantuvieron esperando en recepción sin indicarle nada mientras iban a preguntar a un superior si podía o no entrar como andaba vestida, ella se molestó porque otra mujer andaba vestida muy parecido y si la dejaron entrar. Ella al hacer check-out nos hizo la observación que se sintió insultada y que fue totalmente inapropiado que la mantuvieran sin entrar durante unos minutos.","Asignar Diego Cambronero",null,"Establecer un estándar de serviios en el area de A&B",43419,1,128]
["2018-09-16",909,302,"Muy mal coordinado el desayuno, nos quejamos del espacio-tiempo en el desayuno.","Asignar Diego Cambronero",null,"No, remodelacion en el TI-cain","N/A",1,128]
["2018-09-16",908,901,"Huéspedes se quejan de que no hay un billar o futbolín para para entretenimiento.","Asignar Mainor Castro",null,"Areas de juegos ",43586,1,128]
["2018-09-16",907,110,"Comida del italiano de poca calidad","Asignar Diego Cambronero",null,"Menus Nuevos ",43405,1,128]
["2018-09-15",906,405,"Restaurate italiano lo encontramos con precios un poco caros.","Asignar Diego Cambronero",null,"Menus Nuevos ",43405,1,128]
["2018-09-15",905,606,"Huéspedes se quejan por mal funcionamiento del A/C, el mismo no enfría bien y las huéspedes no estan a gusto a pesar que mantenimiento fue a revisar. Según ellas la potencia no es la que debería de tener.","Asignar Jairo Garcia",null,"Se reviso A/C y esta en buen funcionamiento ","SI",1,128]
["2018-09-16",904,108,"Huésped se queja porque considera que a las aguas termales se les debería se sacar mayor provecho creando baños turcos con el vapor o con algún tipo de sauna. Además sugiere que hayan canchas de tennis o volleyball, hasta inclusive mesas de ping pong en alguna área.","Asignar Mainor Castro",null,"Sauna ",43709,1,128]
["2018-09-13",903,401,"Precios del bar del Sushi muy elevados","Asignar Diego Cambronero",null,"Menus Nuevos ",43405,1,128]
["2018-09-13",902,101,"No hay suficientes opciones","Asignar Diego Cambronero",null,"Menus Nuevos ",43405,1,128]
["2018-09-12",901,202,"Solamente había dos copas para una habitación que era de 3 personas.","N/A",null,null,"N/A",1,128]
["2018-09-12",900,202,"Huésped se queja porque no hay un espejo afuera del baño en la habitación.","N/A",null,null,"N/A",1,128]
["2018-09-11",899,201,"Precios muy elevados.","Asignar Diego Cambronero",null,"Menus Nuevos ",43405,1,128]
["2018-09-05",898,311,"Un menú en la habitación de los diferentes restaurantes es lo que falta.","Asignar Diego Cambronero",null,"Menus Nuevos ",43405,1,128]
["2018-09-06",897,303,"Se queja porque no hay cajero automatico.","N/A",null,null,"N/A",1,128]
["2018-09-06",896,303,"Huésped se queja porque no se ofrece comida local. La comida fue mediocre, el esposo pidió un sandwich de pollo que tenía muy poco pollo y mucho pan. Si yo fuera el chef, preferiría ofrecer comida que comen los locales y no comida que se puede conseguir en USA.","Asignar Diego Cambronero",null,"Menus Nuevos ",43405,1,128]
["2018-09-09",895,707,"Anoche fuimos testigos de una situación en el Bar Sushi acerca de que se acabó el Sushi, nos pareció que son asuntos operativos que los clientes no deben enterarse. Sabemos que son cosas que pasan y que es positivo porque es sinonimo de venta, sin embargo debería de manejarse de una mejor manera.","Asignar Diego Cambronero",null,"Se hablo con el encargado del Bar Humedo y Sushi ","SI",1,128]
["2018-09-09",894,106,"Se queja porque no venden la crema de miel con vainilla que se ofrece en las habitaciones.","N/A",null,null,"N/A",1,128]
["2018-09-09",893,212,"Se queja por no tener servicio antes de las 10:00am disponible en el sushi y bar húmedo.","N/A",null,null,"N/A",1,128]
["2018-09-09",892,106,"No hay actividades recreativas ni entretenimiento en el hotel.","Asignar Mainor Castro",null,"Areas de juegos ",43709,1,128]
["2018-09-10",891,210,"Quisimos un day-pass para un familiar que estaba hospedado en otro hotel y nos salieron cobrando 120 dólares. Deberían haber excepciones o deberían tener el pase de un día.","N/A",null,null,"N/A",1,128]
["2018-09-08",890,108,"Nos parecio excesivo el precio de las comidas en el Rest. Italiano","Asignar Diego Cambronero",null,"Menus Nuevos ","SI",1,128]
["2018-09-11",889,212,"Tener servicio antes de las 10:00am disponible","N/A",null,null,"N/A",1,128]
["2018-09-06",888,312,"Cuando hay poca gente en el desayuno los comentarios de los empleados molestan ya que comentan cosas que no son del trabajo, haya poca o mucha gente los empleados deben saber ser profesionales y abtenerse de risas, comentarios, etc.","Asignar Diego Cambronero",null,"Hablaron con el personal de cocina ","SI ",1,128]
["6/9/2018",887,"306","Huésped molesto por ruido de refrigerador, indica que no lo deja dormir.","Asignar Dariel Miranda",null,"se cambio la refrigeradora ","si",1,128]
["2018-09-04",886,106,"Camas muy duras, es lo único que cambiariamos.","N/A",null,null,"N/A",1,128]
["2018-09-02",885,211,"Huésped se queja de la no información acerca de los canales de TV, no sabía cuales estaban disponibles ni cuales eran en ingles.","Asignar Greivin Arredondo",null,"Se colocó guia de canales ","SI",1,128]
["2018-09-03",884,611,"Huésped molesto se queja de la capacidad del agua caliente, según indica el agua caliente solamente dura 3 minutos y luego no sale mas caliente. Y esto a perjudicado su estancia ya que todos los días sucedió lo mismo.","Asignar Jairo Garcia",null,"Cambio de tanque ","SI",1,128]
["2018-08-31",883,302,"Debería de haber una silla plastica para discapacitados en el área de duchas","Asignar Estibaliz Aguilar","Sillas ya cotizadas, pendiente aprobación de Don Minor","Cotizacion ","NO",1,128]
["2018-08-31",882,308,"El precio que se debe pagar por todo el hotel hace pensar que es de muy alta calidad, sin embargo esto no es así","Asignar Diego Cambronero",null,null,"N/A",1,128]
["2018-08-31",881,308,"Los precios de los restaurantes son muy caros y la comida muy mediocre","Asignar Diego Cambronero",null,"Menus Nuevos ",43405,1,128]
["2018-08-31",880,308,"El mini bar debería rellenarse diaramente","N/A",null,null,"N/A",1,128]
["2018-08-31",879,308,"El servicio de lavandería es muy caro","N/A",null,null,"N/A",1,128]
["2018-08-31",878,308,"El chicken gyoza en el bar húmedo es muy malo y los precios son muy caros ","Asignar Diego Cambronero",null,"Menus Nuevos ",43405,1,128]
["2018-08-31",877,308,"Contar con un servicio de shuttle al pueblo sería algo útil","N/A",null,null,"N/A",1,128]
["2018-09-01",876,505,"Reducir el ruido producido por el aire acondicionado, durante la noche se escucha mucho","Asignar Jairo Garcia",null,"Sonido normal A/C","SI",1,128]
["2018-09-01",875,901,"Mejores alternativas de alimentación, excepto el desayuno el cual es muy bueno","Asignar Diego Cambronero",null,"Menus Nuevos ",43405,1,128]
["2018-08-31",874,307,"El vino es muy caro en los restaurantes","Asignar Diego Cambronero",null," Menu Carta ",43405,1,128]
["2018-09-01",873,null,"Al ir a cubrir al compañero de lockers para que pudiera ir a almorzar, un huésped me comenta que deberiamos de tener más basureros al alcance en toda el area de piscinas ya que solo hay unos cerca de lockers, y cuando uno como huésped se encuentra en el area de las pergolas por ejemplo tiene que ir hasta ahí para depositar los desechos que uno tenga, lo que se hace un poco tedioso.","Asignar Greivin Arredondo",null,"compra  de basureos ",43756,1,128]
["2018-08-30",872,308,"El brochure de información del hotel necesita ser actualizado, hay muchas cosas con las que ya no se cuenta y otras en las que se ha mejorado.","Asignar Greivin Arredondo",null,"Reunion con imprenta ",43449,1,128]
["2018-08-30",871,904,"La construcción inicia muy temprano sus labores, y eso  imposibilita dormir un poco más.","Asignar Mario Lezama",null,"Bloquiar 900","Si",1,128]
["2018-08-30",870,904,"Poner etiquetas a todos los tomas, son tantos que uno no sabe cual es cual.","Asignar Mainor Castro",null,"Rotulos de apagadores ",43388,1,128]
["2018-08-30",869,904,"Los pancakes se secan mucho al estar expuestos al aire libre","Asignar Greivin Salazar ",null,"se acortaron los tiempos de preparación ","SI",1,128]
["2018-08-29",868,302,"Mejorar el flujo de agua caliente en el grifo del baño","Asignar Jairo Garcia",null,"Duracion de salida de agua ","SI",1,128]
["2018-08-26",867,508,"Huésped se queja de los precios que son muy elevados.","Asignar Diego Cambronero",null,"Menus Nuevos ",43405,1,128]
["2018-08-26",866,508,"La comida en el buffet es escasa y muy repetitiva.","Asignar Greivin Salazar ",null,"Proceso aprobacion de sugerencias",43429,1,128]
["2018-08-24",865,208,"Huésped molesto porque se le sirvió un pollo crudo y él indica que eso es de mucho cuidado porque puede enfermar a una persona, esto provocó que se fueran muy temprano del hotel al check-out porque querían visitar otro restaurante.","Asignar Greivin Salazar ",null,"Se incorporó mas personal ","SI",1,128]
["2018-08-26",864,111,"Huéspedes se quejan porque el teléfono de su habitación no recibe llamadas, recepción no es capaz de contactarlas y eso a ellas les preocupa. ","Asignar Randall Salazar",null,null,"SI",1,128]
["2018-08-26",863,512,"La novia de la boda la señora Yara al momento de hacer check-out se mostró muy molesta cuando se le cobró un factura correspondiente a un manicure y un pedicure del Spa. Ella nos dijo que solamente saliendo del spa el pedicure se le cayó y que fue un trabajo pésimo por el cúal no iba a pagar, ella dijo  que había hablado con un funcionario del Spa ( que no recordaba el nombre) que le dijo que no se preocupara y que no le ibamos a cobrar ese tratamiento, sin embargo nunca se informó nada a recepción ni a servicio al cliente al respecto. ","Asignar Estibaliz Aguilar","Sugerencia al SPA para uso de esmaltes de mayor calidad.","se sugiere trabajar con esmaltes de gel ","SI",1,128]
["2018-08-25",862,505,"Huésped indica que debemos mejorar en el tema de alimentos y calidad.","Asignar Greivin Salazar ",null,"Menú nuevo",43411,1,128]
["2018-08-25",861,312,"Huéspedes reportan al check out, que la habitación tiene una gotera la cual cae sobre la cama que está más cercana a la puerta principal","Asignar Jairo Garcia",null,"Se cambiaron tornillos ","SI",1,128]
["2018-08-23",860,506,"Tener más opciones de comida nacional","Asignar Greivin Salazar ",null,"Menú nuevo",43411,1,128]
["2018-08-23",859,504,"Seguir implementando desarrollo sostenible","Asignar Dariel Miranda",null,null,"Si",1,128]
["2018-08-23",858,305,"Falta ofrecer pan libre de glutten como opción. ","Asignar Greivin Salazar ",null,"Desestimada ","n/A",1,128]
["2018-08-22",857,508,"La presentación del hotel en la pagina web y otros es muy pobre en comparación con la realidad. Nos hemos llevado una grata sorpresa.","Asignar Mainor Castro",null,"Fin de obras y actualizacion de la pagina ",43449,1,128]
["2018-08-22",856,506,"Hacen falta areas infantiles y zonas de esparcimiento como por ejemplo toboganes y columpios.","Asignar Mainor Castro",null,"Instalacion de play ",43480,1,128]
["2018-08-22",855,408,"Deberían tener ocio nocturno","Asignar Mainor Castro",null,null,43709,1,128]
["2018-08-22",854,408,"Mas variedad en restaurantes.","Asignar Greivin Salazar ",null,"Menus Nuevos ",43411,1,128]
["2018-08-21",853,711,"El desayuno es bueno pero estaba muy lleno por lo que sería bueno tener algunas cosas precocinadas como los huevos revueltos.","Asignar Greivin Salazar ",null,"Se agregó una plancha más para agilizar la coccipon de huevos","SI",1,128]
["2018-08-21",852,604,"Deberian tener mejores opciones vegetarianas y harinas integrales","Asignar Greivin Salazar ",null,null,43411,1,128]
["2018-08-21",851,506,"El área de recepción es más para restaurantes que para ser utilizada como lobby. NO hay suficiente campo para que las familias se sienten a esperar y cuando llueve no hay donde ponerse.","Asignar Mainor Castro",null,"Se reabre Ti Cain ",43388,1,128]
["2018-08-21",850,506,"EL hotel está pensado solo para adultos. NO hay areas infantiles ni salas de juego donde ellos puedan despejarse y divertirse.","Asignar Mainor Castro",null,"Areas de juegos ",43480,1,128]
["2018-08-17",849,null,"Los precios de lavandería son una broma. Preferí llevar mi ropa a lavar a la Fortuna.","N/A",null," ","N/A",1,128]
["2018-08-17",848,null,"Las bebidas y comida en la piscina son muy caras.","Asignar Diego Cambronero",null,"Menus Nuevos ",43405,1,128]
["2018-08-17",847,null,"La habitación es muy pequeña y no hay suficiente espacio para equipaje.","N/A",null,null,"N/A",1,128]
["2018-08-17",846,null,"La comida italiana esta sobrevalorada y sin buen sabor, además las porciones son muy pequeñas.","Asignar Greivin Salazar ",null,"Menus Nuevos ",43411,1,128]
["2018-08-13",845,101,"Los restaurantes son muy caros y la comida mas o menos.","Asignar Greivin Salazar ",null,"Menus Nuevos ",43411,1,128]
["2018-08-20",844,802,"Huésped se queja del Internet y de la lentitud del mismo.","Asignar Arnaldo Moreira",null,null,"SI",1,128]
["2018-08-16",843,306,"No se podía transferir llamadas de recepción a la hab, huésped tenía una emergencia y estaba molesto por mal funcionamiento e ineficiencia de los teléfonos del hotel.","Asignar Mainor Castro",null,"Resuelto con Randall ","SI",1,128]
["2018-08-16",842,102,"Teléfono no funciona","Asignar Mainor Castro",null,"Resuelto con Randall ","SI",1,128]
["2018-08-16",841,"205-206","Teléfonos no funcionan","Asignar Mainor Castro",null,"Resuelto con Randall ","SI",1,128]
["2018-08-16",840,110,"Teléfono no sirve","Asignar Mainor Castro",null,"Resuelto con Randall ","SI",1,128]
["2018-08-15",839,102,"Teléfono no sirve","Asignar Mainor Castro",null,"Resuelto con Randall ","SI",1,128]
["2018-08-20",838,105,"Un mejor rotulo en la carretera que muestre bien la dirección del Hotel","Asignar Mainor Castro",null,"Se va a lavar el rotulo ","SI",1,128]
["2018-08-20",837,504,"Se puede mejorar el desayuno","Asignar Greivin Salazar ",null,null,43405,1,128]
["2018-08-19",836,301,"Servicio muy lento","Asignar Diego Cambronero",null,"Establecer un estándar de serviios en el area de A&B",43411,1,128]
["2018-08-19",835,401,"Necesita más basureros alrededor del hotel","N/A",null,null,"SI",1,128]
["2018-08-18",834,506,"Muchas moscas en el desayuno","Asignar Greivin Arredondo","Colocación de lámparas ","Equipo para capturar moscas ","SI",1,128]
["2018-08-19",833,null,"Sería bueno colocar una grada entre la piscina de agua termal de bar las iguana y que lleve al jacuzzi","Asignar Mainor Castro",null,"Desestimada ","N/A",1,128]
["2018-08-19",832,703,"Mejorar wifi en la habitación","Asignar Arnaldo Moreira",null,null,"SI",1,128]
["2018-08-15",831,"414-415","Huéspedes se quejan porque la temperatura del agua en las habitaciones no es caliente lo suficiente, además indican que el jacuzzi al momento de llenarse no aguanta la presión del agua y al parecer el tapon se safa y se comienza a drenar el agua.","Asignar Jairo Garcia",null,"Preguntar Mainor Porras ",43405,1,128]
["2018-08-15",830,405,"Huésped se queja que en la lista de canales se muestra el canal italiano sin embargo a la hora de buscarlo no está, pide que actualicen la lista de canales ya que están brindando información falsa y engañosa.","Asignar Greivin Arredondo",null,"Se colocó guia de canales ","SI",1,128]
["2018-04-05",829,"Mary Blackport","La comida en los restaurantes estuvo horrible, yo no recomendaria ir a comer ahí","Asignar Greivin Salazar ",null,"Cambio de chef","si",1,128]
["2018-03-30",828,"Perry Pawelka","la única área para mejorar sería un poco más que hacer en el sitio y / o una forma un poco más fácil de llegar a la ciudad","Asignar Mainor Castro",null,null,"N/A",1,128]
["2018-03-31",827,"Heather Burgess","El servicio estuvo mas o menos. Y las opciones de cenas no nos inspiraron por lo que decidimos ir al pueblo a cenar.","Asignar Greivin Salazar ",null,null,"SI",1,128]
["2018-06-16",826,"Damary Santiago","Las opciones de almuerzo y cena estuvieron muy caras y limitadas.","Asignar Greivin Salazar ",null,"Menus Nuevos ",43411,1,128]
["2018-04-14",825,"Sara Parent","Horribles e incómodas camas.","N/A",null,null,"SI",1,128]
["2018-06-23",824,"Tim Brinkley","La variedad y selección de la comida estuvo muy por debajo del promedio","Asignar Greivin Salazar ",null,"Menus Nuevos ",43411,1,128]
["2018-08-14",823,601,"Los brazaletes son algo ridículo y ademas incomodos, me sentí como si fuera un ganado que etiquetan.","Asignar Mainor Castro",null,null,"N/A",1,128]
["2018-08-14",822,904,"Necesita variedad en las opciones de comidas y un menú mas barato en el bar.","Asignar Greivin Salazar ",null,"Menus Nuevos ",43411,1,128]
["2018-08-14",821,401,"El baño debería tener una superficie no resbaloso como algún tipo de alfombra de hule.","Asignar Jairo Garcia","Poner Producto antideslizante ","Aplicar en los  baños de todas la habitacion el producto antideslizante ",43422,1,128]
["2018-08-12",820,"414-415","Huésped se queja por el funcionamiento del aire y porque en la 415 si hay agua caliente y en la 414 no.","Asignar Jairo Garcia",null,"se cambio tanque por calentador, EL A/C tenia fuga  ","SI",1,128]
["2018-08-12",819,203,"Necesitan actividades para huéspedes como música, bailes.","Asignar Mainor Castro",null,null,"N/A",1,128]
["2018-08-12",818,711,"El aire acondicionado esta descompuesto y se cambia de temperatura solo, además en la ducha había un tornillo del techo.","Asignar Jairo Garcia",null,null,43408,1,128]
["2018-08-12",817,704,"Spa tiene precios muy elevados.","Asignar Yeimy Miranda",null,"Precios según el estandar ","SI",1,95]
["2018-08-12",816,704,"Restaurantes tiene precios muy elevados.","Asignar Diego Cambronero",null,"Menus Nuevos ",43411,1,128]
["2018-08-11",815,504,"La comida es muy cara, por favor tener opciones mas cómodas.","Asignar Greivin Salazar ",null,"Menu Nuevo",43411,1,128]
["2018-08-12",814,null,"Huésped se queja de los precios excesivos en el Sushi e Italiano.","Asignar Diego Cambronero",null,"Menu Nuevo",43411,1,128]
["2018-08-11",813,406,"Huésped reporta que piensan que el colchon tiene bichillos porque al despertar tenían picaduras en todo el cuerpo","N/A",null,null,"SI",1,128]
["2018-08-11",812,406,"Huésped se queja al check out, que los tomas no funcionan bien","Asignar Jairo Garcia","Eliminar el apagador ",null,"SI",1,128]
["2018-08-06",811,109,"Necesitan Mayor variedad en frutas y dulces en el desayuno como pastelitos.","Asignar Diego Cambronero",null,null,"SI",1,128]
["2018-08-06",810,null,"El hotel requiere actualización en el area de piscinas y en las habitaciones.","N/A",null,null,"SI",1,128]
["2018-08-07",809,508,"Cambien los menus en ambos restaurantes","Asignar Diego Cambronero",null,"Menus Nuevos ",43405,1,128]
["2018-08-07",808,508,"Se necesita ás espacio para almacenar cosas en la habitación y también sillas. Además no había suficientes ganchos.","Asignar Roberto Escoto",null,null,"SI",1,128]
["2018-08-05",807,103,"Se queja porque no hay clases de yoga en la tarde y porque el gimnasio es muy pequeño","N/A",null,null,"N/A",1,128]
["2018-08-03",806,210,"Sería muy bueno tener menus en la habitación.","Asignar Diego Cambronero",null,"Menus Nuevos ",43405,1,128]
["2018-08-03",805,210,"Precios elevados.","Asignar Diego Cambronero",null,"Menus Nuevos ",43405,1,128]
["2018-08-05",804,307,"Mejorar el Wi-fi ya que es muy inconsistente","Asignar Arnaldo Moreira",null,null,"SI",1,128]
["2018-08-06",803,611,"No tenían agua caliente","Asignar Jairo Garcia",null,null,"SI",1,128]
["2018-08-06",802,610,"No tenían agua caliente","Asignar Jairo Garcia",null,null,"SI",1,128]
["2018-08-05",801,108,"Teléfono no sirve","Asignar Mainor Castro",null,"Resuelto con Randall ","SI",1,128]
["2018-08-05",800,202,"Teléfono no sirve","Asignar Mainor Castro",null,"Resuelto con Randall ","SI",1,128]
["2018-08-05",799,102,"Teléfono no sirve","Asignar Mainor Castro",null,"Resuelto con Randall ","SI",1,128]
["2018-08-05",798,101,"Teléfono no sirve","Asignar Mainor Castro",null,"Resuelto con Randall ","SI",1,128]
["2018-08-05",797,706,"Teléfono no sirve","Asignar Mainor Castro",null,"Resuelto con Randall ","SI",1,128]
["2018-08-05",796,106,"Teléfono no sirve","Asignar Mainor Castro",null,"Resuelto con Randall ","SI",1,128]
["2018-08-05",795,110,"Teléfono no sirve","Asignar Mainor Castro",null,"Resuelto con Randall ","SI",1,128]
["2018-08-04",794,null,"Se queja de la comida de los restaurantes los cuales fueron una estafa, muy baja calidad en las comidas. La pizza fue la peor que ha comido, muy mala. Además precios sumamente caros por nada especial a cambio.","Asignar Greivin Salazar ",null,"Se estableció la temeratura adecuada del horno",43411,1,128]
["2018-08-04",793,null,"Huésped se queja del uso de brazaletes y de los tiquetes para intercambiar toallas y paraguas indicando que le recuerda a los hoteles baratos de Cancún. Además no les gustó escuchar a los vecinos ni tampoco los colchones los cuales consideraron raros e incómodos. ","N/A",null,null,"SI",1,128]
["2018-08-02",792,null,"Precios del restaurante y de los bares muy elevados","Asignar Diego Cambronero",null,"Menus Nuevos ",43405,1,128]
["2018-08-01",791,null,"El hotel parece estar expandiendose y sino estas en algún tour es sumamente molesto el ruido de la construcción mientras estas en la habitación","Asignar Mainor Castro",null,null,"N/A",1,128]
["2018-08-01",790,109,"Porciones ridiculamente pequeñas y el sushi estaba mediocre, mas arroz que pescado. ","Asignar Antonio Ferreto ","Entrevista a Josph","Menus Nuevos ","SI",1,128]
["2018-08-02",789,"609-610","Bastante caro el Italiano.","Asignar Diego Cambronero",null,"Menus Nuevos ",43405,1,128]
["2018-08-03",788,"201-202","Ruidos extraños en el techo ( pájaros o ratas) que nos mantuvo despiertos en la noche.","Asignar Jairo Garcia",null,null,"SI",1,128]
["2018-08-03",787,"201-202","Huésped sugiere que el hotel no promueva Natura Park como una opción ya que es una experiencia mediocre y muy cara.","N/A",null,null,"N/A",1,128]
["2018-08-04",786,511,"Variedad limitada en opciones de glutten, problemas con inocuidad.","Asignar Greivin Salazar ",null,"Desestimada ","SI",1,128]
["2018-08-04",785,512,"Más opciones libres de glutten son muy necesarias","Asignar Greivin Salazar ",null,"Desestimada ","SI",1,128]
["2018-08-04",784,401,"La comida en el Italiano muy cara.","Asignar Greivin Salazar ",null,"Menu Nuevo",43411,1,128]
["2018-08-04",783,703,"Huéspedes se quejan de la inconsistencia del agua caliente.","Asignar Jairo Garcia",null,null,"SI",1,128]
["2018-08-02",782,801,"Huéspedes se quejan que las porciones del restaurante italiano son pequeñas y muy caras.","Asignar Greivin Salazar ",null,"Menu Nuevo",43411,1,128]
["2018-08-02",781,204,"Huéspedes se quejan de los precios, reclaman mejores precios.","Asignar Diego Cambronero",null,"Menus Nuevos ",43405,1,128]
["2018-08-03",780,"701-904","Huéspedes reclaman que no tiene agua en las habitaciones.","Asignar Jairo Garcia",null,null,"SI",1,128]
["2018-08-02",779,708,"Huéspedes molestos porque se les indicó que al llegar al hotel a las 3:30pm todas las habitaciones de su grupo iban a estar listas, sin embargo la hab 707 presentó problemas con el aire que al final no pudo ser reparado a pesar de que los huéspedes habian decidio esperar a que se reparara con tal de estar en la habitación junto a su familia,  procedimos a cambiarlos de hab sin embargo ellos se enojaron porque no les gustó la situación ni tampoco como fue manejada. El guía Cesar me dice que ellos ya llamaron a Swiss Travel a dar las quejas y que esta agencia quiere respuesta dado que son muy amigos de los dueños de Swiss Travel.","Asignar Jairo Garcia",null,null,"SI",1,128]
["2018-08-02",778,503,"Huéspedes molestos porque desde las 7 am entregaron lavandería y llegaron a las 7:00pm a preguntar a recepción y aún no estaba lista.","Asignar Roberto Escoto","En espera de estandar de servicio","respuesta pasada no justifica la solucion ",43435,1,128]
["2018-08-01",777,411,"Huésped se queja que la lista de canales no coincide con los canales que se proyectan en el televisor, molesto primero porque indicá que un hotel en San José si pudo cambiar el audio a Inglés y aquí no.","Asignar Roberto Escoto",null,null,"SI",1,128]
["2018-07-31",776,609,"Agua caliente del baño sale demasiado caliente al instante además las paredes parecen hechas de papel ya que se escucha absolutamente todo de los vecinos.","N/A",null,null,"N/A",1,128]
["2018-07-30",775,107,"Tortillas del bar húmedo que sirvieron tenían  moho. Además deberían tener opciones para personas alergicas a la lactosa.","Asignar Diego Cambronero",null,null,"SI",1,128]
["2018-07-30",774,303,"La habitación es inferior a una junior suite.","N/A",null,null,"N/A",1,128]
["2018-07-30",773,303,"Precios muy elevados en las comidas.","Asignar Diego Cambronero",null,"Menus Nuevos ",43405,1,128]
["2018-07-29",772,604,"No había agua caliente y el control deo aire no funcionó.","Asignar Jairo Garcia",null,null,"SI",1,128]
["2018-07-26",771,null,"La comida del restaurante italiano fue deficiente","Asignar Diego Cambronero",null,"Menus Nuevos ",43405,1,128]
["2018-07-17",770,null,"El restaurante principal de la cena en sí es bastante caro y nada especial. No había nada de malo en ello, pero nos habíamos acostumbrado a grandes porciones de Costa Rica, y nuestra cena aquí era mucho más pequeña y no estuvo a la altura de la comida que tuvimos en otro lugar en nuestro viaje.","Asignar Greivin Salazar ",null,"Menu Nuevo",43411,1,128]
["2018-07-13",769,null,"El aire acondicionado no funcionó bien la última noche","N/A",null,null,"SI",1,128]
["2018-07-04",768,null,"EN el desayuno vimos varias moscas sobre los alimentos, incluso habían 2 ahogadas en el yogurt por lo que evitamos esos alimentos","Asignar Mainor Castro",null,"Fumigacion ","SI",1,128]
["2018-07-04",767,null,". Además ojala y pudieran brindar juegos para la habitación o algo para que se entretengan los niños.","Asignar Mainor Castro",null,"Areas de play ",43480,1,128]
["2018-07-04",766,null,"LA caja de seguridad es muy pequeña y vieja ( no pude guardar mi laptop)","",null,null,null,1,128]
["2018-07-02",765,null," la selección de los alimentos en el desayuno es pobre, mi esposo quería salchicha o tocino y no fue posible. Además las cenas son muy caras y las porciones muy pequeñas.","Asignar Greivin Salazar ",null,"Se le dará seguimiento a las propuestas de desayuno",43398,1,128]
["2018-07-01",764,null,"Como otros comentarios de otros huéspedes también terminamos decepcionados de la cena,  los precios son demasiado elevados y la calidad de la comida en relación a otros hoteles quedó debiendo","Asignar Greivin Salazar ",null,"Menu Nuevo",43411,1,128]
["2018-07-27",763,112,"Limpieza en términos de insectos debe mejorar con algún spray en el closet o baño para eliminar insectos.","Asignar Jairo Garcia",null,"Plan de fumigacion aplicado ","SI",1,128]
["2018-07-28",762,109,"Un Cajero Automático en Recepción sería muy útil ","N/A",null,null,"N/A",1,128]
["2018-07-28",761,710,"Cambiar las cajas de seguridad por cajas modernas y fáciles de utilizar. Las que hay son complejas de operar.","N/A",null,null,"N/A",1,128]
["2018-07-28",760,308,"La conexión a Internet debería ser mejor y más estable. Conexión buena es lo que falta","Asignar Arnaldo Moreira",null,null,"SI",1,128]
["2018-07-28",759,307,"Internet no funcionó bien en la habitación.","Asignar Arnaldo Moreira",null,null,"SI",1,128]
["2018-07-27",758,801,"Poner precios mas bajos en los restaurantes ya que son muy caros.","Asignar Diego Cambronero",null,"Menus Nuevos ",43405,1,128]
["2018-07-28",757,404,"la limpieza de la habitación el día de ayer no las satisfizo, me muestran que no les reemplazaron los vasos sucios, las camas no fueron bien acomodadas, que no se les agrego más bolsitas de té, y que no se les hizo tampoco ninguna decoración con las toallas como sí se les hizo a las otras habitaciones (405-406) que vienen con ellos","Asignar Roberto Escoto",null,null,"SI",1,128]
["2018-07-27",756,801,"  también que existe un gran espacio entre el marco y la puerta misma que permite ingresar mosquitos y demás insectos","Asignar Jairo Garcia",null,null,"SI",1,128]
[null,755,801," además del teléfono que no funciona, ","",null,null,"NO",1,128]
[null,754,801,"los huéspedes expresaron su disconformidad y molestia debido a los problemas ocasionados por el aire acondicionado de la habitación","",null,null,"SI",1,128]
["2018-07-25",753,904,"Baño huele muy mal como a cañería, además habían insectos, hormigas y lagartijas en la habitación","Asignar Jairo Garcia",null,null,"SI",1,128]
["2018-07-23",752,409,"Huésped se queja que durante el buffet del sábado vió muy poca etiquetas en las comidas y hace falta rotulación.","Asignar Diego Cambronero",null,null,"SI",1,128]
["2018-07-22",751,411,"En las habitaciones hay polvo, mejorar la limpieza","Asignar Roberto Escoto","POR FAVOR IMPELTAR Y ADAPTAR A SU GUSTO EL CHECK LIST PARA LAS HABITACIONES.","No hay evidencia del chequeo que se realiza. ","NO",1,128]
["2018-07-23",750,312,"Huésped se queja de gotera en la ventana.","Asignar Jairo Garcia",null,null,"SI",1,128]
["2018-07-24",749,null,"La impresora de comandas da problemas porque no imprime de manera correcta las amenidades que se comandan a cocina, presenta un error al parecer que provoca que se imprima en blanco gran cantidad de papel en blanco.","N/A",null,null,"N/A",1,128]
["2018-07-23",748,"403-211","El siguiente correo es para notificar acerca de una misma situación en la cual se  vieron afectadas 2 habitaciones, las mismas serian 403 – 211 , alrededor de las 6 pm se recibe el informe de ambas habitaciones en el cual los huéspedes informan que desde sus baños provienen olores muy fuertes y desagradables y ambos lo describen como un olor a cloaca y humedad y que les perturba su estadía en el hotel, inmediatamente se coordina con las compañeras de áreas públicas para verificar el estado de la situación, ellas nos informan que dichos olores efectivamente provienen del desagüe del baño de las duchas, ellas hacen la limpieza respectiva y de igual forma dejan fragancias en las habitaciones para disminuir dichos olores, se esperan alrededor de 30 min y mi persona juntamente con la compañera nos dirigimos para corroborar que todo se encuentre en orden, la hab 211 no posee ningún inconveniente, sin embargo la hab 403 aun contaba con un poco de olor. A los huéspedes se les ofrece el traslado de habitaciones pero ellos desean permanecer en sus habitaciones respectivas e indican que si el problema persiste aceptarán dichos cambios. Quiero hacer la connotación de que dichas situaciones al parecer es producto de las constantes lluvias y por este motivo los desagües se rebalsan emitiendo dichos olores. Favor darle el seguimiento respectivo a la situación ocurrida, cualquier consulta estoy para servirles.","Asignar Mario Lezama",null,"respiraderos al tamque septico ","SI",1,128]
["2018-07-22",747,"209-210","fuerte reclamo de su parte por el hecho de que se les dieron habitaciones diferentes a las que se les prometió cuando reservaron. Cuando se les realizó el check-in los huéspedes daban por hecho que se les iban a otorgar las habitaciones 311 y 312 debido a que en frente de estas habitaciones hay jardines y zonas verdes que básicamente a lo que nos dicen fue por esa la razón principal de su visita. A la hora de abordar la queja, a la señora se le explica que las habitaciones 209-210 tienen exactamente las mismas características ( Puertas Conectadas, 1 cama King y 2 camas Queen), sin embargo ella muy decepcionada y molesta nos insiste en un explicación del porque se le está entregando algo diferente si eso no fue lo acordado. Por más que se le intentó explicar la similitud de las habitaciones ella solicitó hablar con los encargados de las reservas, pero esto no fue posible debido a que no se encontraban. Les expliqué que no podríamos cumplir su solicitud ni hoy ni mañana porque no podíamos sacar a los huéspedes de las habitaciones 311-312 y que estos salían hasta el día 24/07/2018. La opción más viable fue compensarles con la cena carta paquete cortesía. Quisiera resaltar que fue necesario hablar con ellos en dos ocasiones frente a frente y una por teléfono para poder llegar a un acuerdo y que aceptaran la compensación. Me di a la tarea de ofrecerles las disculpas porque no se pudo cumplir lo que solicitaron e indiqué que nos hacíamos responsables de la situación y que esperábamos pudieran pasar una muy buena estadía . ","Asignar Mainor Castro",null,"Hablo con Miguel Munera ","SI",1,128]
["2018-07-22",746,511,"Huéspedes se quejan de gotera justo arriba de su cama, debido a esto se les mojó su ropa de cama.","Asignar Jairo Garcia",null,null,"SI",1,128]
["2018-07-22",745,"Grupo Patty Searcy","Señoras se quejan de la oscuridad y peligro que existe cuando los huéspedes caminan de noche por el hotel, una de las señoras del grupo sufrió una caída doblandose uno de sus tobillos y cayendo estrepitosamente en unos de los caños, el problema que ellas me indican es el desnivel que existe entre el pavimento y el caño. La caída se dió por las habitaciones 501-502 donde se confirma que la visibilidad es casi nula y no es posible apreciar el desnivel que causó caída.","Asignar Estibaliz Aguilar","Se va a reparar la orilla del caño y verificar luz ","se cambio bombillos","Si",1,128]
["2018-07-22",744,"Recepción","Buenos días compañeros\nEspero se encuentren bien, quiero hacer de su conocimiento un problema que hemos tenido en reiteradas ocasiones y ha estado entorpeciendo nuestra labor al momento de realizar un cobro:\nEn primera instancia el datafono de Credomatic de recepción comenzó a duplicar montos y solo podemos usarlo para tarjetas American Express dado que es la única a la que no duplica, está mañana también comenzamos a tener problemas con los 2 datafonos del banco nacional, tuvimos que hacer uso del datafono del departamento de reservas, esto provoca que nuestro servicio sea lento y mediocre, dado que tenemos que pedirle a los huéspedes pasar a la oficina de reservas cuando la  tarjeta necesita un código pin para poder realizar un cargo, les solicitamos que por favor nos ayuden los más pronto posible con el tema para poder brindar un mejor y más rápido servicio, muchas gracias.\n","",null,null,"NO",1,128]
["2018-07-21",743,902,"Huésped reporta un fuerte olor en la habitación que los mantiene inconformes","Asignar Mario Lezama",null,"Se limpieran sifones ","SI",1,128]
["2018-07-19",742,705,"Huésped no pudo dormir durante dos horas a partir de las 3 am, debido a que se había ido la electricidad y el generador producía mucho ruido.","Asignar Jairo Garcia",null,null,"SI",1,128]
["2018-07-19",741,"207-208","Telefonos no funcionan y huéspedes no pudieron recibir el wake up call","Asignar Randall Salazar",null,null,"SI",1,128]
["2018-07-18",740,208,"Mal olor en habitación","Asignar Mario Lezama",null,"Se puso respiradero al tanque septico ","SI",1,128]
["2018-07-21",739,"204-210-304,,,","Las puertas principales en estos días, seguramente por el clima, han estado presentando fallas a la hora de cerrar, esto de dos formas, la primera cuesta queda como baja y cuesta mucho abrirla, y la segunda es que cuesta que cierre bien.","Asignar Jairo Garcia",null,null,"SI",1,128]
["2018-07-21",738,302,"Al realizar la llamada de bienvenida el huésped molesto reporta su malestar por que se duró mucho tiempo en entregarle la habitación","Asignar Roberto Escoto",null,null,"SI",1,128]
["2018-07-21",737,708,"Huésped reporta hormigas en la habitación","Asignar Jairo Garcia",null,null,"SI",1,128]
["2018-07-20",736,706,"Huésped se queja del ruido generado en la construcción, nos comenta que el problema es que inicia muy temprano a realizar los trabajos.","Asignar Mario Lezama",null,"habitaciones 700 bloquiadas ","SI",1,128]
["2018-07-18",735,null,"Buen día Jefa!\nEs para informarte que la noche de hoy al check-in de 5 personas (Habitaciones 101 y 102) no se les entrego coctel de bienvenida pues no habían disponibles.\nNo hizo mucha falta a decir verdad dado que los clientes venían muy cansados sin embargo, si me manifestaron que tenían mucha hambre.\nHoy en particular venía muy lleno por lo que les ofrecí mi cena. Estaba un poco “seca” entonces le agregue un poco de chimichurri y aguacate que fue lo que encontré en el restaurante italiano. Además les di  5 manzanas que tome de la cámara del barril.\nPasado el tiempo me llamo la cliente diciendo que si podía tener agua, que no había en la habitación a lo q le respondí que en el mini-bar debía tener pero me dijo que no vio ninguna.\nPor esta razón tome 5 botellas de la bodega de los botones y las envié pero una vez entregadas me dijo que la disculpara. Que ya había encontrado las botellas de agua.\nComo vez es un reporte informativo más que cualquier otra cosa, no sé por el tema de control de inventarios si debe esto ser del conocimiento de alguien más pero lo dejo a tu criterio.\nAdemás de la oportunidad de mejorar en algunos detalles sin embargo los clientes muy contentos y agradecidos con la empatía y el servicio.\nCualquier consulta estoy para servirte!\nGelipe","",null,null,"SI",1,128]
["2018-07-18",734,null,"Buenos Días Diego,\n\nEspero se encuentre bien. \nLe escribo para solicitarle ayuda con algo que a mi parecer se ha vuelto reiterado y hasta desgastante para recepción, botones, ama de llaves y servicio al cliente. \nEl tema aquí tiene que ver con las amenidades y los detalles especiales que Servicio al Cliente se encarga de solicitar a cocina con un día de anticipación por dos medios ( correo y en físico ). Yo mismo he sido testigo que existe un claro desorden de comunicación o de asignación de funciones ya que unos días si se le da seguimiento al reporte de detalles especiales y otros al parecer nadie se quiere hacer cargo. En este sentido yo me apego al procedimiento que mi superior Liz Aguilar nos ha solicitado, sin embargo mi duda es si el 100% de su departamento conoce el procedimiento? \nHablando con los botones ellos me indican que los han devuelto varias veces diciendo que nadie les ha pedido amenidades, y ellos ante esta respuesta acuden a mi persona en donde yo he tenido que llamar y solicitar que por favor revisen la hoja que se deja pegada en la pizarra de cocina. Muchas veces he tenido que acudir a Don Gerardo Meléndez el cual muy amablemente ha tratado de que se mejore en este aspecto, de hecho cuando se encuentra en el hotel, es el único que responde los correos en donde me hace ver que ya conocen de las amenidades requeridas y que le darán seguimiento, él hasta me ha sugerido que yo pida una firma de entregado pero creo que esto no es necesario cuando existe un compromiso por el trabajo.  La intención de compartirle todo esto es con el único fin de mejorar siempre pensando en nuestros huéspedes, hablando con Melissa ella me sugiere la posibilidad de dejar las bolsas de frutas listas la noche antes o que exista una hora de la mañana en donde se tengan listas siempre y cuando sea temprano.  Como usted puede ver es algo que está afectando a más de un departamento y como se lo pedí al inicio me gustaría contar con su ayuda para mejorar estos detalles que aunque parezcan simples tienen peso a la hora de que no se prepara un queque, de que no mandamos las bolsas de frutas correctamente, entre otras cosas que han pasado. \nMuchas gracias de antemano y cualquier consulta estoy a la orden.\nSaludos!\n","N/A",null,null,"N/A",1,128]
["2018-07-18",733,403,"Muy señores nuestros, \nMi nombre es Naresh Lakhwani y estuvimos alojados en la habitacion 403 de su hotel del 13 al 15 de este mes (Julio) junto a mi esposa Juliana Sánchez a cuyo nombre estaba la reserva , al check out del hotel tuvimos la desgracia de dejar olvidado una carpeta con nuestra documentación, itinerario de viaje y 950 euros en efectivo.\nAl llegar a nuestro hotel en Monteverde llamamos a vuestro hotel y nos dijeron que estaba allí, supuestamente intacta, y que la mandarian por empresa de transporte al nuevo destino. Hoy día 16 hemos recibido el envío que nos han entregado en un sobre cerrado y al abrirlo nos hemos dado cuenta que han sustraído 200 euros del efectivo además de haber cambiado el dinero de compartimento (sabíamos exactamente la cantidad que había y donde estaba guardado porque era exactamente el importe de algo que íbamos a comprar)\nHe llamado personalmente y hablado con atención al cliente de ustedes y me comentan que entregaron a la empresa de transporte el paquete ya cerrado con lo cual en algún momento se ha sustraído ese dinero.\nEl motivo de ponerme en contacto con ustedes es hacerles saber que no tanto por la cuantía económica, que también, sino más por el agravio, hemos decidido denunciar lo ocurrido a la policía y postear todo lo ocurrido y la denuncia en todos los medios a nuestro alcance. Seguramente no recuperemos nada puesto que solo nos quedamos en el pais 4 dias mas, pero por lo menos daremos a conocer lo ocurrido a la mayor cantidad de gente posible nombrandolos tanto a ustedes como a la empresa de transporte.\nLo ocurrido ha sido la única mancha en nuestra luna de miel ya que su país tanto como la mayor parte de su gente son encantadores pero no nos parece justo lo sucedido!!\n\nSin otro particular, le saluda atentamente: \n\nNaresh Lakhwani \n","Asignar Estibaliz Aguilar",null,null,"SI",1,128]
["2018-07-18",732,208,"Huéspedes se quejan por mal olor.","Asignar Jairo Garcia",null,null,"SI",1,128]
["2018-07-18",731,512,"Gotera justo encima de la cama","Asignar Jairo Garcia",null,null,"SI",1,128]
["2018-07-17",730,201,"Huésped se queja de fuerte ruido en el techo del lado del panel","Asignar Jairo Garcia",null,null,"SI",1,128]
["2018-07-18",729,null,"Teléfonos de las habitaciones no funcionan correctamente ni tampoco el de caseta","Asignar Randall Salazar",null,null,"SI",1,128]
["2018-07-16",728,901,"Canoa en el balcón tiene fuga, y por esto se mete mucha agua al balcón.","Asignar Jairo Garcia",null,null,"SI",1,128]
["2018-07-16",727,901,"Fuerto olor a agua estancada en el baño","Asignar Jairo Garcia",null,null,"SI",1,128]
["2018-07-13",726,904,"Huéspedes muy molestos por transfer contratado con nosotros que no llegó a recogerlos a la hora y el día acordado, por lo que los huéspedes pagaron una transfer privado hasta el hotel.","Asignar Mainor Castro",null,"Resuelto ","SI",1,128]
["2018-07-13",725,406,"NO hay variedad en menú para niños.","Asignar Greivin Salazar ",null,"Menu Nuevo",43411,1,128]
["2018-07-10",724,107,"Las instrucciones del coffee maker no están claras, es para hervir agua o solo calentarla? Si no lo dice no lo sabran los huéspedes. Además las instrucciones de como encender el ventilador de techo no se ven.","Asignar Greivin Arredondo",null,"Se va a cambiar el coffemaker",43419,1,128]
["2018-07-10",723,107,"Caminos cruzando por el pasto muy húmedos y resbalosos que podrían causar una caída, talvez colocar piedras para facilitar caminar por ahí.","N/A",null,null,"N/A",1,128]
["2018-07-13",722,502,"Poner espejo fuera del baño.","N/A",null,null,"N/A",1,128]
["2018-07-14",721,509,"Huespedes molestos tuvieron que cancelar masaje de luna de miel por jacuzzi en mal estado (tapon dañado)","N/A",null,null,"SI",1,128]
["2018-07-13",720,202,"Habitación sin agua caliente","Asignar Jairo Garcia",null,null,"SI",1,128]
["2018-07-12",719,302,"Colocar rotulación llamativa o colorida que indique por ejemplo cual es el Souvenir, cual es el Tour Operador, cual es Servicio al cliente, cual es la recepción, etc. ","Asignar Mainor Castro",null,null,null,1,128]
["2018-07-12",718,302,"Renovar la recepción que es anticuada, fea y no va acorde con el hotel.","Asignar Mainor Castro",null,null,null,1,128]
["2018-07-11",717,312,"En la Habitación hay una gotera","Asignar Jairo Garcia",null,null,"SI",1,128]
["2018-07-11",716,309,"Huéspedes se quejan de las computadoras del lobby las cuales no les funciona la unidad de CD-Room y no fue posible leer un disco de fotos que necesitaban compartir entre ellos.","Asignar Arnaldo Moreira",null,null,"SI",1,128]
["2018-09-09",715,null,"Por este medio le comunico que hoy tuve una situación con Katia debido a un cambio que se hizo a última hora. \nTeníamos una reserva del señor Oscar Molina quien es un cliente frecuente en la 104 y él dijo que si la habitación 105 estaba disponible le gustaría esa en vez de la 104. \nAl venir todos los años se le hizo un arreglo el cual teníamos que mover a la 105 – esta habitación ya estaba lista- era solo de mover las cosas. Solicite un 21 a Katia ya que el cliente estaba en frente de mí, pero la compañera se alteró de una manera muy inadecuada diciendo que la habitación estaba lista y que como la íbamos a poner a correr “estamos en el agua”, y que además no le estaba dando una explicación de por qué moverlos. Y de la misma manera molesta me dijo que iba a estar en 20 minutos, le dije que porque si ya estaba lista, y era solo de pasar las cosas, ella me repitió lo mismo muy alterada y que si quería que fuera adentro para que viera como estaban ellas. \nSimplemente le dije que no había razón para que me alzara la voz de esta manera, y decidí colgar el teléfono. \nLuego a los 5 minutos me pasó la habitación lista el compañero Oscar, me dijo que él fue y movió las cosas ya que era lo único que había que hacer.","Asignar Roberto Escoto",null,null,"SI",1,128]
["2018-07-10",714,null,"Le informo que le día de hoy , durante3 el desayuno, pudimos detectar a tiempo la presencia de una cucaracha.\nEn realidad una huésped de la habitación 402, fue quien alerto al compañero José Quirós. M la misma se encontraba sobre la mesa y esta estaba desocupada. El compañero la retiro rápida y discretamente.\nPuedo decir que dicho evento, no causo mayor relevancia, nadie más se dio cuenta y no tuvo mayor repercusión.\n\n\n","Asignar Jairo Garcia",null,null,"SI",1,128]
["2018-07-10",713,107,"Cajas fuertes más grandes, que puedan caber laptops","N/A",null,null,"N/A",1,128]
["2018-07-09",712,401,"Promover actividades para adolescentes donde se reúnan, compartan y se conozcan.","Asignar Mainor Castro",null,"Area de fuegos ",43709,1,128]
["2018-07-10",711,null,"Debería haber más variedad de opciones en el desayuno ","Asignar Diego Cambronero",null,null,"SI",1,128]
["2018-07-10",710,707,"Deberían haber ganchos para poder colgar las capas","N/A",null,null,"N/A",1,128]
["2018-07-10",709,707,"Deben haber más ganchos para poder colgar las toallas en el baño","N/A",null,null,"N/A",1,128]
["2018-07-10",708,405,"El refrigerador de la habitación tiene un ruido muy fuerte","Asignar Roberto Escoto",null,null,"SI",1,128]
["2018-07-09",707,"103-502","Habitaciones fumigadas con el piso resbaloso y fuerte olor. Al parecer no hubo comunicación entre los compañeros de fumigación y las mucamas por lo que en recepción se nos informó que estas habitaciones estaban listas para entregar lo cual fue vergonzoso ya que al llevar a los huéspedes a las habitaciones se toparon con la sorpresa de que las habitaciones no estaban aptas debido al humo y olor.","Asignar Roberto Escoto",null,null,"SI",1,128]
["2018-07-09",706,201,"Cliente llama para informar que no tienen agua caliente en la habitacion, y que son 5 personas en la habitación. ","Asignar Jairo Garcia",null,null,"SI",1,128]
["2018-07-09",705,609,"Cliente de caravan comunica que no tiene electricidad en la habitación, al parecer no estaba sirviendo el tarjetero. ","Asignar Jairo Garcia",null,null,"SI",1,128]
["2018-07-09",704,306,"Huésped se queja de la hoja de evaluación que se deja en las habitaciones para que los huéspedes la llenen antes de irse, el mismo indica que tiene errores gramaticales tanto en Inglés como en Alemán y que eso es mal visto ya que el hotel debería de ser profesional en ese aspecto. ","Asignar Iván Ramírez","Nueva hoja de evaluacion",null,"si",1,128]
["2018-07-07",703,104,"aiRE ACONDICIONADO nunca funcionó.","Asignar Roberto Escoto",null,null,"SI",1,128]
["2018-07-07",702,110,"Red WiFi funcionaba bien en restaurantes pero en el cuarto nunca funcionó bien","Asignar Arnaldo Moreira",null,null,"SI",1,128]
["2018-07-07",701,110,"Por favor modernizar instalaciones del gimnasio. Como pueden ver, todo fue calificado como excelente pero las maquinas del gimnasio no estan acordes con la calidad del hotel.","Asignar Mainor Castro",null,"Analisis para temporada baja ",43709,1,128]
["2018-07-07",700,505,"Espejo frente al inodoro es raro y además las sabanas no son cómodas.","Asignar Iván Ramírez","Desestiamda",null,"si",1,128]
["2018-07-08",699,"205-206","Huésped se queja de la mala actitud de uno de nuestros empleados llamado Marco del bar húmedo, el mismo indica que no le gustó la manera en que lo atendió y que cuando le pidió le cambiara un vaso caliente por uno frío la solución no fue la que esperaba además de que ni empatía le mostró, lo cual indica el señor debe ser indispensable en esa área. Se le ofrecieron disculpas al señor y se le agradeció por la retroalimentación, que iba ser tomada en cuenta para mejorar.","Asignar Diego Cambronero",null,null,"SI",1,128]
["2018-07-05",698,602,"El espejo del baño debe ser mas grande ya que no me gusta sentarme en el sanitario para mirarme en el espejo.","Asignar Iván Ramírez","Desestiamda",null,"Si",1,128]
["2018-07-05",697,505,"El internet está muy mal, no sirve en la habitación","N/A",null,null,"SI",1,128]
["2018-07-05",696,902,"Mejorar el internet","Asignar Arnaldo Moreira",null,null,"SI",1,128]
["2018-07-04",695,405,"Se activa el panel de la 403, indican que las alarma se activó en la habitacion  405  procedemos a llamar a la habitacion para consultarle a los clientes si todo estaba bien, los mismos nos indican que todo está en orden, una vez verificado el estado de las habitaciones con los huéspedes  el compañero Kenneth procede a  apagar el panel","",null,null,"N/A",1,128]
["2018-07-04",694,207,"Al ser las 6:45pm de hoy 04/07/2018 el compañero Kenneth de seguridad reporta que se activaron las alarmas, específicamente  los paneles de las habitaciones  203 y 403, estos indican que las alarmas se activaron en las habitaciones 207 y 405 respectivamente, procedemos a llamar a las habitaciones para consultarle a los clientes si todo estaba bien en las habitaciones, los mismos nos indican que todo está en orden, una vez verificado el estado de las habitaciones con los huéspedes  el compañero Kenneth procede a  desactivar las alarmas.","",null,null,"N/A",1,128]
["2018-07-04",693,904,"Poner alfombra a la entrada de las escaleras, ya que el piso es resbaloso","Asignar Roberto Escoto",null,null,"SI",1,128]
["2018-07-04",692,202,"Al ser las 8:15pm los huéspedes llaman indicando que hay una víbora en su habitación y que por favor les ayuden ya que no quieren que los niños se den cuenta.","N/A",null,null,"N/A",1,128]
["2018-07-04",691,null,"Huéspedes se quejan que en el desayuno habían moscas dentro del yogurt y además en algunas otras comidas que estaban en el buffet, dicen que nunca habían sido testigos de esto en los paseos que han realizado.","Asignar Jairo Garcia",null,null,"SI",1,128]
["2018-07-04",690,201,"Huésped se queja que durante la noche de ayer 03-07-18, hubo un ruido que los pertubó, el ruido al parecer venía del techo","Asignar Jairo Garcia",null,null,"SI",1,128]
["2018-07-03",689,312,"Huésped se encuentra enfermo según ellos esto les pasó después de almorzar en el hotel unos fetuccini di mari, ","N/A",null,null,"N/A",1,128]
["2018-07-03",688,null,"Precios de la cena muy elevados","Asignar Diego Cambronero",null,"Menus Nuevos ",43405,1,128]
["2018-07-03",687,null,"Al ser las 10:15 am aproximadamente el servicio de Internet del hotel se cae imposibilitando realizar cobros con el datafono, entre otras cosas. Varios huéspedes se vieron afectados tanto haciendo check-out como otros que llamaban preguntando por el Wi-Fi del hotel ya que no les servía.","Asignar Arnaldo Moreira",null,null,"SI",1,128]
["2018-07-03",686,504,"Huéspedes se quejan ya que el documento que le envió la agencia a recepción para ser entregado a los huéspedes no se les dió, los señores no pudieron ir a un tour ya que no fueron informados y se encontraban inconformes con el error que se dió en recepción al enviar un documento en español que no correspondía con el que envió la agencia.","Asignar Estibaliz Aguilar",null,null,"SI",1,128]
["2018-07-02",685,512,"Cliente indica el agua del baño apenas es tibia incluso abriendola toda. Y necesitaban tomar un baño. ","Asignar Jairo Garcia",null,null,"SI",1,128]
["2018-07-02",684,107,"Cuando se le aborda al huésped mediante la llamada de bienvenida reporta un olor desagradable y muy fuerte.","Asignar Jairo Garcia",null,null,"SI",1,128]
["2018-07-01",683,606,"Huésped molesto porque no hay servicio de desayuno a la habitación.","Asignar Diego Cambronero",null,null,"N/A",1,128]
["2018-06-30",682,515,"Todos los días que estuvimos hospedados tuvimos problemas con cucarachas grandes y pequeñas, el veneno hizo que salieran cada día más, por las noches la situación era peor.","Asignar Jairo Garcia",null,null,"SI",1,128]
["2018-06-29",681,411,"Mejor selección en calidad de las comidas.","Asignar Greivin Salazar ",null,"Menu Nuevo",43411,1,128]
["2018-06-30",680,203,"La refrigeradora hace mucho ruido","Asignar Dariel Miranda",null,"se cambio la refrigeradora ","SI",1,128]
["2018-07-02",679,null,"Cena muy limitada y con precio elevado.","Asignar Greivin Salazar ",null,"Menu Nuevo",43411,1,128]
["2018-07-02",678,null,"La selección de opciones de desayuno no es buena, no hay tocino. ","Asignar Diego Cambronero",null,null,"N/A",1,128]
["2018-07-01",677,null,"Muy decepcionados con la cena, precios muy caros y calidad de la comida no es equivalente a los que cobran en comparación con otros hoteles de la zona.","Asignar Greivin Salazar ",null,"Menu Nuevo",43411,1,128]
["2018-06-19",676,null,"El costo de las comidas es muy caro y es mejor ir a alguna soda en el pueblo.","Asignar Diego Cambronero",null,"Menus Nuevos ",43405,1,128]
["2018-06-16",675,null,"Cenas y bar de la piscina con precios muy elevados.","Asignar Diego Cambronero",null,"Menus Nuevos ",43405,1,128]
["2018-06-13",674,null,"El sushi es pésimo, la calidad de los ingredientes es terrible (cero frescos), las combinaciones de sabor fatal, el arroz no tiene la textura adecuada y tampoco buena presentación. \r\nNo entiendo como un hotel tan bello puede ofrecer un sushi tan terrible :(\r\n","Asignar Mainor Castro",null,"Cheff nuevo ","SI",1,128]
["2018-06-29",673,710,"Huésped reporta que hay cucarachas en la habitación","Asignar Jairo Garcia",null,null,"SI",1,128]
["2018-06-29",672,"111-112","Huéspedes se quejan que se les hizo entrega de l acajaita de desayuno y no incluía cucharas o tenedores para comer. Tuvieron que bajarse del carro y venir a recepción porque se les había indicado que si llevaban cucharas de acuerdo a lo que se indicó de parte de los compañeros de salón a recepción.","Asignar Diego Cambronero",null,null,"SI",1,128]
["2018-06-28",671,"514-515","Huésped bastante decepcionado y molesto ya que en su habitación no dejan de salir cucarachas principalmente del lado del mueble cerca del televisor, el muchacho se acercó a recepción indicando que está cansado de esto y que jamás pensó que el hotel fuera un cucarachero, se fumigó horas antes y debido a eso salen las cucarachas atontadas y esto molestó más al huésped. El dice que va estar 2 noches más en el hotel y que no esperaba vivir esto.","Asignar Jairo Garcia",null,null,"SI",1,128]
["2018-06-28",670,105,"Precios sumamente caros en las comidas, deberían poner un transporte a la fortuna donde se pueda ir y comer y que ofrezcan precios razonables","Asignar Diego Cambronero",null,"Menus Nuevos ",43405,1,128]
["2018-06-28",669,105,"Huéspedes se quejan que el servicio de internet no les funciona y aunque aparecen conectados no es posible usar el internet.","Asignar Arnaldo Moreira",null,null,"SI",1,128]
["2018-06-28",668,801,"Las instrucciones en alemán están mal redactadas y con mala ortografía también.","Asignar Iván Ramírez","Desestiamda",null,"SI",1,128]
["2018-06-24",667,504,"El baño de la habitación expide un olor desagradable","Asignar Jairo Garcia",null,null,"SI",1,128]
["2018-06-27",666,301,"Tener productos que sean organicos","Asignar Greivin Salazar ",null,"Menu Nuevo",43411,1,128]
["2018-06-27",665,301,"Menú para niños","Asignar Greivin Salazar ",null,"Menu Nuevo",43411,1,128]
["2018-06-27",664,602,"El restaurante nacional debería de tener más decoración costarricense, más musica típica para el desayuno e instrumental para la noche","Asignar Mainor Castro",null,"Reunion con Vanessa ",43480,1,128]
["2018-06-27",663,515,"Cucarachas en la habitación ","Asignar Jairo Garcia",null,null,"SI",1,128]
["2018-06-25",662,408,"Más opciones en las comidas y mejorar servicio en el bar de psicinas.","Asignar Diego Cambronero",null,null,"SI",1,128]
["2018-06-25",661,304,"Solo hay una mesa de noche y deberían haber dos para poner cosas.","Asignar Roberto Escoto",null,null,"SI",1,128]
["2018-06-24",660,304,"Alrededor del hotel deberían haber mas senderos o areas para ver aves y flores.","FINCA",null,null,"N/A",1,128]
["2018-04-24",659,211,"Es necesario tener mas opciones para personas diabéticas.","Asignar Diego Cambronero",null,null,"N/A",1,128]
["2018-06-24",658,407,"El espejo con aumento en el baño esta muy alto.","EL ESPEJO DE AUMENTO TIENE AJUSTE VERTICAL",null,null,"N/A",1,128]
["2018-06-23",657,705,"Sería bueno tener un espejo grande en la habitación fuera del baño","Asignar Roberto Escoto",null,null,"SI",1,128]
["2018-06-23",656,111,"El huésped menciona que el día miercoles 20 al ser las 9 de la mañana cuando fueron al desayuno, los muchachos del restaurante se veían más apurado por limpiar y terminar que por servir al huésped","Asignar Diego Cambronero",null,null,"SI",1,128]
["2018-06-22",655,612,"Tienen muchos bichos en la habitación, ","Asignar Jairo Garcia",null,null,"SI",1,128]
["2018-06-22",654,"309-310","Tienen muchas hormigas y bichos en la habitación. Es el segundo reporte durante la estadía. ","Asignar Jairo Garcia",null,null,"SI",1,128]
["2018-06-20",653,502,"Huésped muy decepcionado del servicio de Internet que le ofrecemos, el mismo no puede utilizar un celular que usa para negocios ya que a pesar de que le sale conectado no es posible hacer uso del internet.","Asignar Arnaldo Moreira",null,null,"SI",1,128]
["2018-06-20",652,602,"Equipo del gym no funciona apropiadamente.","Asignar Jairo Garcia",null,null,"SI",1,128]
["2018-06-19",651,512,"El jacuzzi de la habitación no le funciona el agua termal","Asignar Greivin Arredondo",null,"Se rotulo el grifo ","SI",1,128]
["2018-06-19",650,103,"El basurero del servicio de la habitación debería tener tapa","SE CAMBIARON BASUREROS",null,null,"SI",1,128]
["2018-06-20",649,104,"Sería bueno tener gavetas más amplias en el baño","N/A",null,null,"N/A",1,128]
["2018-06-20",648,407,"Algunos insectos en la habitación","Asignar Jairo Garcia",null,null,"Si",1,128]
["2018-06-17",647,603,"Muchas Hormigas en la habitación.","Asignar Jairo Garcia",null,null,"Si",1,128]
["2018-06-17",646,403,"Huésped se queja de que a la hora de reservar en el hotel acordó una cena romántica especial  cual le vendieron y prometieron y no se cumplió, el señor estaba bastante molesto porque pagó más de 100 dólares por la cena y el menú que le brindaron era el mismo menú que se le ofrece a todos los clientes, el señor argumenta que  no hay nada especial en lo que se le ofreció y lo que le molesta es que le hayan mentido, el mismo prefirió que se le reintegrara el dinero y que iba a pagar lo que consumiera como otro huésped más común y corriente. ","Asignar Greivin Salazar ",null,"Establecer menú para cenas romanticas",43422,1,128]
["2018-06-17",645,503,"Huésped se queja que el internet le funciona en la hab 503 pero en la de la par no le sirve del todo lo cual le parece bastante extraño.","Asignar Arnaldo Moreira",null,null,"SI",1,128]
["2018-06-17",644,"Grupo de la Mora","A continuación hacemos de su conocimiento una situación que se presentó en el restaurante Ti-Cain durante la cena del “Grupo de La Mora”.\nAl ser las 9:20pm se aproximó a recepción  el encargado del Grupo de La Mora, el mismo nos preguntó si se encontraba Miguel Munera en el hotel, ya que deseaba externarle el malestar por la mala atención que recibieron a la hora de la cena, nos comenta que el servicio fue lento y que la comida simplemente no estuvo bien, también nos hace saber que la tour leader le pidió por favor para la cena de mañana buscar un restaurante en el centro en el cual les brinden un buen servicio rápido y oportuno.\n","Asignar Diego Cambronero",null,null,"SI",1,128]
["2018-06-13",643,607,"\"Una cuchara pequeña que utilicé para endulzar mi café, no me di cuenta pero estaba sucia con huevo\" huésped nos recomienda entonces tener más cuidado con esto","Asignar Jairo Garcia",null,null,"Si",1,128]
["2018-06-13",642,709,"El baño necesita mejor iluminación // Coordinar poner dos bombillos por lámpara","Asignar Roberto Escoto",null,null,"SI",1,128]
["2018-06-16",641,109,"Hormigas en la habitacion","Asignar Jairo Garcia",null,null,"Si",1,128]
["2018-06-16",640,504,"Huesped  se queja de hormigas en la habitación.","Asignar Jairo Garcia",null,null,"Si",1,128]
["2018-06-15",639,"111-112","Huesped  se queja de hormigas en la habitación.","Asignar Jairo Garcia",null,null,"Si",1,128]
["2018-06-14",638,302,"Huesped se queja de hormigas en toda la habitación.","Asignar Jairo Garcia",null,null,"SI",1,128]
["2018-06-13",637,307,"Se queja de la altura de la cama ya que es de baja estatura y le fue muy dificil bajarse.","Asignar Gilberth Mejías",null,null,"SI",1,128]
["2018-06-14",636,902,"Huésped se queja que ellos nunca pusieron letrero de no molestar en la habitación, y que alguien lo hizo, lo cual esto provocó que no les hicieran la limpieza.","N/A",null,null,"N/A",1,128]
["2018-06-14",635,303,"Huésped se queja que su teléfono no conecta a internet de ninguna manera.","Asignar Arnaldo Moreira",null,null,"SI",1,128]
["2018-06-11",634,202,"Promover una noche para bailar, o bien tener más buena música.","Asignar Mainor Castro",null,null,"N/A",1,128]
["2018-06-11",633,202,"Más botellas de agua en la habitación sería un buen detalle","N/A",null,"Altos Costos","N/A",1,128]
["2018-06-11",632,202,"Sería genial tener una silla en la habitación","Asignar Greivin Arredondo","Sillas en camino.","Sillas nuevas ",43419,1,128]
["2018-06-11",631,202,"El shampoo podría ser mejor","Asignar Dariel Miranda",null,null,43405,1,128]
["2018-06-11",630,null,"Más comida tradicional de Costa Rica en los menú, ya que cuando estuvimos hospedados solo estaba abierto el restaurante italiano y japones.","Asignar Greivin Salazar ",null,"Menu Nuevo",43411,1,128]
["2018-06-11",629,403,"Huésped se queja de un ruido constante como un pito justo detrás de su habitación que no le permite dormir.","Asignar Jairo Garcia",null,null,"Si",1,128]
["2018-06-11",628,610,"Huéspedes se quejan de hormigas y cucarachas en la habitación.","Asignar Jairo Garcia",null,null,"Si",1,128]
["2018-06-09",627,510,"Al bañarse la segunda persona el agua era muy fria. El agua caliete solo dura dos minutos","Asignar Jairo Garcia",null,null,"Si",1,128]
["2018-06-09",626,510,"El wifi o es muy lento o no funciona en la habitación","Asignar Arnaldo Moreira",null,null,"SI",1,128]
["2018-06-09",625,509,"El agua caliente a veces no funciona bien.","Asignar Jairo Garcia",null,null,"SI",1,128]
["2018-06-09",624,509,"El wifi no funciona bien","Asignar Arnaldo Moreira",null,null,"SI",1,128]
["2018-06-09",623,312,"El jacuzzi debería tener rotulos para saber donde se debe presionar para obtener las burbujas","Asignar Greivin Arredondo",null,null,"SI",1,128]
["2018-06-05",622,712,"Unos cuantos insectos en la habitación","Asignar Jairo Garcia",null,null,"SI",1,128]
["2018-06-07",621,610,"Las porciones de comida no están acorde con el precio","Asignar Greivin Salazar ",null,"Menu Nuevo",43411,1,128]
["2018-06-07",620,705,"Más opciones de comida vegetariana en el restaurante principal.","Asignar Greivin Salazar ",null,"Menu Nuevo",43411,1,128]
["2018-06-08",619,712,"El internet no funcionó bien, muy lento cuando pudimos recibir algo de señal.","Asignar Arnaldo Moreira",null,null,"SI",1,128]
["2018-06-08",618,712,"El refrigerador produce demasiado ruido","Asignar Dariel Miranda",null,null,43393,1,128]
["2018-06-07",617,"414-415","Cliente indica que no puede conectarse al Wifi, y luego cuando logró la conexion, la misma es muy debil y no le permite accesar correctamente. ","Asignar Arnaldo Moreira",null,null,"SI",1,128]
["2018-06-05",616,305,"Huésped se queja de los precios de los restaurantes, muy altos ","Asignar Diego Cambronero",null,null,"Si",1,128]
["2018-06-05",615,305,"Huésped se queja que reservó 22 días antes y solicitó una hab para adulta mayor y cerca a todas las areas comunes, sin embargo no tuvo respuesta.","INDAGAR CON MIGUEL SOBRE ESTE CASO",null,null,"Si",1,128]
["2018-06-02",614,206,"Huésped se queja de las limitadas opciones en las comidas del bar de la piscina, le gustaria como hamburguesas. Además se queja del mal servicio recibido especialmente en el Italiano.","Asignar Diego Cambronero",null,null,"Si",1,128]
["2018-06-05",613,504,"Hubieramos podido usar los vasos, si estos estuviesen limpios.","COMENTAR CON MELISSA",null,null,"Si",1,128]
["2018-06-05",612,504,"Huesped se queja de hormigas en el area del baño.","N/A",null,null,"Si",1,128]
["2018-06-04",611,111,"Huesped se queja de hormigas dentro de la  habitación y fuera. ","N/A",null,null,"Si",1,128]
["2018-06-04",610,608,"NO hay silla en la habitación y es necesaria","SILLAS VIENEN EN CAMINO",null,null,"Si",1,128]
["2018-06-04",609,605,"Se quejan porque no hay coca cola zero ni tampoco menú para celiacos.","Asignar Diego Cambronero",null,null,"Si",1,128]
["2018-06-02",608,309,"Huésped se queja del restaurante Italiano el cual en ese momento se encontraba trabajando como el restaurante principal debido al cierre del Ti-Cain, se queja de que no hay en realidad opciones de comida costarricense, los precios muy altos en comparación con la cantidad y calidad de la comida.","Asignar Diego Cambronero",null,null,"Si",1,128]
["2018-06-03",607,211,"Probamos dos rollos de sushi y un sashimi y la calidad fue muy mala, el pescado no estaba fresco y la combinación de sabores no era la mejor, además la presentación de los rollos deficiente y la calidad del arroz no estaba al nivel de un restaurante aceptable de sushi. Y precios sumamente elevados en relación a la calidad.","Asignar Diego Cambronero",null,null,"Si",1,128]
["2018-05-31",606,104,"Muchas hormigas pequeñas en el baño y el  teléfono no funcionaba.","N/A",null,null,"Si",1,128]
["2018-06-03",605,406,"Huésped indica que sería muy bueno tener sombrillas en la habitación.","ELEVA COSTOS",null,null,"Si",1,128]
["2018-06-02",604,108,"Hormigas en la habitación, hormigas en el coffee maker, hormigas en la cama.","N/A",null,null,"Si",1,128]
["2018-06-03",603,510,"Huésped comenta a modo de recomendación que los compañeros de los bares en la piscina, deberían utilizar siempre guantes al realizar las distintas labores que realizan ahí, dado que muchas veces se limpian las manos en sus camisas y por el tipo de camisas y el calor que se produce ahí, pasan sudando por lo que es anti higienico","Asignar Diego Cambronero",null,null,"Si",1,128]
["2018-06-03",602,103,"Huesped reporta que tiene cucarachas en la habitación en la noche. ","N/A",null,null,"Si",1,128]
["2018-06-03",601,107,"Huesped reporta hormigas en la habitación. ","N/A",null,null,"Si",1,128]
["2018-06-02",600,205,"Huésped reporta que tenía una pizza en la habitación, y que la compañera mucama al realizar la limpieza la tiró a la basura.","MANTENER COMIDA DENTRO DE LA HABITACIÓN PROPICIA TENER INSECTOS, LA MUCAMA TRATA DE MANTENER ESTE OBJETIVO",null,null,"Si",1,128]
["2018-05-31",599,601,"El hotel debería de tener un area designada para juegos de mesa con sillas y mesas para juegos mientras llueve.","COMENTAR CON GERENCIA",null,null,"Si",1,128]
["2018-05-30",598,505,"La señal de Internet es mala y débil especialmente en las habitaciones.","Asignar Arnaldo Moreira",null,null,"Si",1,128]
["2018-05-31",597,310,"En la noche debería haber alguna actividad nocturna de entretenimiento.","VA EN CONTRA DEL CONCEPTO FAMILIAR DEL HOTEL",null,null,"Si",1,128]
["2018-05-31",596,111,"No hay paraguas en la habitación.","ELEVA COSTOS",null,null,"Si",1,128]
["2018-05-31",595,305,"No hay opciones en el desayuno libres de glutten y el restaurante Italiano muy bajo en servicio.","NO SE VA A ASUMIR RESPONSABILIDAD DE CELIACOS",null,null,"Si",1,128]
["2018-05-31",594,506,"Una silla en la habitación es necesaria","SILLAS VIENEN EN CAMINO",null,null,"Si",1,128]
["2018-05-31",593,506,"Pan fresco todas las mañanas.","N/A",null,null,"Si",1,128]
["2018-05-30",592,null,"Menú limitado en el Italiano","Asignar Diego Cambronero",null,null,"Si",1,128]
["2018-05-30",591,303,"Huespedes se quejan que ante el mal clima y que desde las 2:30pm comenzó a llover el hotel debería tener alguna opcion de entretenimiento como sala de peliculas, bingo, karaoke, juegos de trivia ya que es aburrido estar en la habitación encerrados.","COMENTAR CON GERENCIA",null,null,"Si",1,128]
["2018-05-30",590,309,"Hormigas e insectos en la habitción.","COMENTAR CON JAIRO",null,null,"Si",1,128]
["2018-05-30",589,104,"Reduzcan los precios de los los bares y restaurantes porque son muy elevados.","Asignar Diego Cambronero",null,null,"Si",1,128]
["2018-05-30",588,709,"Una silla en la habitación para ponerse zapatos y pantalon, la cama es muy alta.","SILLAS VIENEN EN CAMINO",null,null,"Si",1,128]
["2018-05-29",587,515,"Huésped comenta que dos veces han solicitado room service y al entregarlo no les llevan platos ni cubertería.","Asignar Diego Cambronero",null,null,"Si",1,128]
["2018-05-28",586,410,"Sería bueno tener una banca en el gimnasio para poder hacer las pesas","LAS MAQUINAS OFRECEN UNA ESTACIÓN PARA ALZAR PESAS",null,null,"Si",1,128]
["2018-05-28",585,410,"Yoga sería mejor si las clases fueran avanzadas","SE ESTABLECIÓ CLASES BÁSICAS PARA QUE TODOS LOS CLIENTES PUEDAN APROVECHAR LAS SESIONES",null,null,"Si",1,128]
["2018-05-26",584,null,"Menu limitado especialmente si el restaurante principal está cerrado,  no hay variedad de comida costarricense.","Asignar Diego Cambronero",null,null,"Si",1,128]
["2018-05-23",583,null,"Opciones limitadas en los restaurantes.","Asignar Diego Cambronero",null,null,"Si",1,128]
["2018-05-23",582,null,"Comidas limitadas y menú de ensaladas no es amplio.","Asignar Diego Cambronero",null,null,"Si",1,128]
["2018-05-22",581,null,"Habitación pequeña y con pequeños insectos , las paredes son delgadas y se escucha todo además durante la noche había un ruido extraño en el techo que interrumpía el sueño.","VALIDAR CON MELISSA Y JAIRO QUÉ HABITACIONES TIENEN RUIDO",null,null,"Si",1,128]
["2018-05-22",580,null,"Precios increiblemente elevados ","Asignar Diego Cambronero",null,null,"Si",1,128]
["2018-05-14",579,null,"Precio elevado de los restaurantes","Asignar Diego Cambronero",null,null,"Si",1,128]
["2018-05-14",578,null,"El desayuno puede mejorar, Costa Rica tiene muchas frutas y deberían incluirse en el desayuno ya que solamente había piña y banano como únicas opciones.","Asignar Diego Cambronero",null,null,"Si",1,128]
["2018-05-12",577,null,"Variedad de opciones en el desayuno no es muy amplia.","Asignar Diego Cambronero",null,null,"Si",1,128]
["2018-05-09",576,null,"El costo de las bebidas de los bares y las cmoidas en restaurantes es elevado.","Asignar Diego Cambronero",null,null,"Si",1,128]
["2018-05-08",575,null,"Los precios de los restaurantes son un poco caros.","Asignar Diego Cambronero",null,null,"Si",1,128]
["2018-05-08",574,null,"El ventilador no se puede apagar a menos que se desactive la electricidad de toda la habitación.","ETIQUETAR LOS APAGADORES",null,null,"Si",1,128]
["2018-05-08",573,null,"El hotel es bueno excepto por la comida (de regular a mediocre) y algunos empleados, como por ejemplo la persona en recepción que no quiso cambiar dólares. ","Asignar Diego Cambronero",null,null,"Si",1,128]
["2018-05-08",572,null,"Comida y servicios no se comparan con precio, esperaba más para el dinero que cuesta el hospedaje.","Asignar Diego Cambronero",null,null,"Si",1,128]
["2018-05-07",571,null,"Opciones en las comidas de los restaurantes son muy limitadas.","Asignar Diego Cambronero",null,null,"Si",1,128]
["2018-05-07",570,null,"Limitadas y pequeñas areas de piscina","NO ES UN CONCEPTO DE BALNEARIO",null,null,"Si",1,128]
["2018-05-07",569,null,"Los alimentos no son de buena calidad y muy básicos, el desayuno es muy rutinario y es necesario tener mas variedad de opciones.  Además el precio no se compara con el servicio y calidad.","Asignar Diego Cambronero",null,null,"Si",1,128]
["2018-05-03",568,null,"Opciones de almuerzo y cena muy limitadas","Asignar Diego Cambronero",null,null,"Si",1,128]
["2018-05-26",567,504,"Hab necesita mejor luz","Asignar Greivin Arredondo",null,null,"Si",1,128]
["2018-05-26",566,504,"Muy mala experiencia en el restaurante con un salonero, el cual no fue atento, con un mal servicio.","Asignar Diego Cambronero",null,null,"Si",1,128]
["2018-05-27",565,512,"No hay carne en el desayuno, la variedad de la comida es limitada, y el tamaño de las sopas no es el ideal","Asignar Diego Cambronero",null,null,"Si",1,128]
["2018-05-27",564,903,"necesitamos mejor comida en los restaurantes","Asignar Diego Cambronero",null,null,"Si",1,128]
["2018-05-26",563,205,"Huespedes se quejan de la poca variedad en las comidas ","Asignar Diego Cambronero",null,null,"Si",1,128]
["2018-05-26",562,404,"Él botones llega a la habitación a dejar el check in y encuentran una cerveza por la mitad en la refri ","COMENTAR CON EL EQUIPO DE AMA DE LLAVES",null,null,"Si",1,128]
["2018-05-26",561,306,"huespedes nos informan de foma traquila que la alarma los despertó la noche anterior mas no se encontraban molestos al respecto ","El 28/05 LAS PERSONAS DE INSOTEK REALIZARON CAMBIOS EN LA CONFIGURACIÓN",null,null,"Si",1,128]
["2018-05-26",560,"207-208","huespedes se apersonaron muy molestos al area de recepción para quejarse por que no pudieron dormir debido a que la alarma de incendios se activó la noche anterior, se activó a las 2am y de nuevo 5am, no dieron chance a ninguna solución mas que hablar con el gerente. ","El 28/05 LAS PERSONAS DE INSOTEK REALIZARON CAMBIOS EN LA CONFIGURACIÓN",null,null,"Si",1,128]
["2018-05-26",559,206,"huespedes se apersonaron muy molestos al area de recepción para quejarse por que no pudieron dormir debido a que la alarma de incendios se activó la noche anterior, se activó a las 2am y de nuevo 5am, no dieron chance a ninguna solución mas que hablar con el gerente. ","El 28/05 LAS PERSONAS DE INSOTEK REALIZARON CAMBIOS EN LA CONFIGURACIÓN",null,null,"Si",1,128]
["2018-05-25",558,null,"La huésped comenta que al haber pedido algo en el sushi cuando se lo entregaron el botones no fue amable.","COMENTAR CON LIZ",null,null,"Si",1,128]
["2018-05-25",557,null,"La relación precio calidad de los restaurantes es mala, como ejemplo dice que la ultima noche pidió comida en el sushi bar y esto fue según ella una desgracia.","Asignar Diego Cambronero",null,null,"Si",1,128]
["2018-05-25",556,null,"Huésped recomienda que se deberia cambiar el nombre de las habitaciones, ya que según su opinión el nombre Junior Suite no va con las características que tienen nuestras habitaciones, de hecho comenta que la habitación le pareció estupenda y da como ejemplo de nombre Premium","N/A",null,null,"Si",1,128]
["2018-05-25",555,901,"Huésped reporta que encontró muchos insectos  incluyendo 2 cucarachas .","HABITACIONES YA FUERON FUMIGADAS",null,null,"Si",1,128]
["2018-05-25",554,210,"Restaurantes muy caros, mejor si hubiera mas comida tipica y con precios mas bajos.","Asignar Diego Cambronero",null,null,"Si",1,128]
["2018-05-25",553,null,"aL ser las 11:30am el encargado de lockers Javier reporta que el area del gimnasio, lockers y hamacas  presenta un acceso complicado debido a que los compañeros de restaurantes estaban lavando el piso del Ti Cain, la caída de jabón y agua era constante impidiendo el acceso de una cosiderable cantidad de huespedes presentes en las piscinas, era complicado entrar por el área principal de lockers. El jabón estaba en las aceras lo cuál pudo provocar que algun huesped sufriera una caída. ","SE DEBE DE COMUNICA CUALQUIER ACCION QUE ALTERE LA OPERACIÓN DE OTRAS ÁREAS",null,null,"Si",1,128]
["2018-05-25",552,304,"Huéspedes se quejan del tamaño de la habitación e indican que es muy ajustada para 3 o 4 personas, además dicen que se ocupan 2 sanitarios y 2 lavatorios especialmente cuando hay 4 personas en la misma habitación.","EXISTEN CATEGORIAS DE HABITACIONES QUE SUPLEN ESTA NECESIDAD",null,null,"Si",1,128]
["2018-05-24",551,411,"Huesped indica que el hotel debería tener un poco de baile por la tarde o noche, como un salón de baile con algún entretenimiento.","VA EN CONTRA DEL CONCEPTO FAMILIAR DEL HOTEL",null,null,"Si",1,128]
["2018-05-22",550,112,"\"El único problema fue que habían pequeños ciempies en el baño\"","FUMIGAR",null,null,"Si",1,128]
["2018-05-22",549,507,"La huésped se mostró muy molesta poe que no tenia un maletero extra , el cual había solicitado varias veces.","REVISAR QUIEN ERA EL ANFITRIÓN / NO SE ENCONTRÓ EVIDENCIA QUE SUSTENTARA ESTA AFIRMACIÓN",null,null,"Si",1,128]
["2018-05-21",548,609,"Huéspedes de Caravan les salió una cucaracha de la mesa mientras se encontraban comiendo.","Asignar Jairo Garcia",null,null,"Si",1,128]
["2018-05-21",547,207,"Huéspedes se quejan porque no es permitido ingresar invitados o amigos de otros hoteles, indican que parece un hospital o una carcel.","Elaborar rotulos informando la restricción",null,null,"Si",1,128]
["2018-05-21",546,207,"Huéspedes se quejan de los brazaletes, solicitan que se eliminen ya que eso es barato y se ve mal.","Asignar Mainor Castro",null,null,"Si",1,128]
["2018-05-21",545,207,"Mejores camas de bronceado y más sombra en el area de piscinas.","COMENTAR LA NECESIDAD LA NECESIDAD CON DON Minor ",null,null,"Si",1,128]
["2018-05-21",544,207,"Se quejan de que no hay espejo en la habitación.","MELISSA VA A REVISAR / SI EXISTE EL ESPEJO",null,null,"Si",1,128]
["2018-05-21",543,601,"Huéspedes se quejan de que el baño huele a cigarro como si hubieran fumado, además se queja que el agua caliente es muy caliente y es peligrosa.","PONER LAS SEÑALIZACIÓN EN LA DUCHA",null,null,"Si",1,128]
["2018-05-21",542,204,"Cuando el botones está entregando la hab al check-in, encuentra en el mini bar una botellita pequeña de vino rosa a la mitad posiblemente de los huéspedes anteriores.","IMPLEMENTACIÓN DE CHECK LIST HABITACIONES",null,null,"Si",1,128]
["2018-05-20",541,509,"Cuando el botones está entregando la habitación al check in, encuantra en la refri un a botella grade metálica de los clientes que estuvieron anteriormente ahí ","IMPLEMENTACIÓN DE CHECK LIST HABITACIONES",null,null,"Si",1,128]
["2018-05-20",540,903,"Huéspedes se quejan porque no hay ventiladores en los restaurantes y porque no hay gran variedad de opciones.","Asignar Diego Cambronero",null,null,"Si",1,128]
["2018-05-20",539,604,"Huésped reporta que encontró un raton muerto en la parte alta de las termales.","MUY DIFICIL CONTROLAR UN AREA ABIERTA",null,null,"Si",1,128]
["2018-05-20",538,604,"Huésped reporta que durante el desayuno una cucaracha apareción en su mesa.","FUMIGAR",null,null,"Si",1,128]
["2018-05-19",537,207,"Cliente está molesta por que quiere traer amigos a cenar con ella y las políticas del hotel no lo permiten y tampoco hay información sobre esto en ningún lado ","Elaborar rotulos informando la restricción",null,null,"Si",1,128]
["2018-05-18",536,408,"Necesidad de mas sombras en el area de piscinas","COMENTAR LA NECESIDAD LA NECESIDAD CON DON Minor ",null,null,"Si",1,128]
["2018-05-18",535,405,"Vino muy caro en comparación con otros hoteles en los que hemos estado en costa rica","Asignar Diego Cambronero",null,null,"Si",1,128]
["2018-05-17",534,308,"Paraguas en la habitación","SUBE COSTOS ",null,null,"Si",1,128]
["2018-05-18",533,203,"En el bar las bebidas no siempre son servidas de igual forma, una vez nos dieron el coctel tipo frozen y otra a las rocas","Asignar Diego Cambronero",null,null,"Si",1,128]
["2018-05-17",532,202,"Sería delicioso poder tener aguacate en el desayuno","SUBE COSTOS",null,null,"Si",1,128]
["2018-05-09",531,304,"No habia lugar en el armario, solo los percheros","NO HAY ESPACIO PARA AMPLIAR ROPEROS",null,null,"Si",1,128]
["2018-05-05",530,304,"Huespedes se quejan de la falta de gavetas para la ropa.","NO ESOOACIO PARA MAS GAVETAS ",null,null,"Si",1,128]
["2018-05-04",529,606,"Se quejan del estaurante italiano e indican que debería cambiarse y tener un restaurante de mariscos.","NO HAY POSIBILIDAD DE OTRO REST",null,null,"Si",1,128]
[null,528,null,null,"",null,null,"Si",1,128]
["2018-05-17",527,212,"Huesped se queja de la presencia de hormigas en la habitación, se encuentra disgustada y quiere que le eliminen los insectos.","PROGRAMAR PLAN DE FUMIGACIÓN ",null,null,"Si",1,128]
["2018-05-17",526,201,"Huespedes se quejan de ruidos en el techo durante toda la noche, indican que son animales y que provocan mucho ruido.","VALIDAR LO QUE DICE EL CLIENTE",null,null,"Si",1,128]
["2018-05-15",525,403,"Se podría tener una maquina de hielo más cerca a la habitacion","VALORAR LA POSIBILIDAD DE PONER UNA MÁQUINA DE HIELO",null,null,"Si",1,128]
["2018-05-15",524,108,"Falta una cafeteria para el almuerzo ligero, por ejemplo ensaladas sandwiches","EXISTEN LAS OPCIONES",null,null,"Si",1,128]
["2018-05-15",523,108,"Relación precio-calidad muy costoso por lo que es.","Asignar Diego Cambronero",null,null,"Si",1,128]
["2018-05-15",522,"201-304","Huéspedes llaman indicando que no hay agua en las habitaciones.","SOLUCIONADO - KEYLOR ACCIDENTALMENTE CERRO LA LLAVE",null,null,"Si",1,128]
["2018-05-15",521,null,"La noche del 14/05/18 mientras varios huéspedes se encontraban cenando se presentaron varias goteras con una cantidad importante de agua ingresando la cual no pudo ser controlada sin que los huéspedes se enteraran ante el aguacero tan fuerte. El agua mojó un poco unos sillones y unas mesas cerca.","SOLUCIONADO - SE DESATERRARON LOS TUBOS",null,null,"Si",1,128]
["2018-05-14",520,303,"El pescado que sirvieron en el sushi no estaba fresco y no fue una buena experiencia.","Asignar Diego Cambronero",null,null,"Si",1,128]
["2018-05-14",519,904,"Huéspedes se quejan de gritos y ruidos fuertes en hab 903, al parecer discutiendo","SOLUCIONADO",null,null,"Si",1,128]
["2018-05-13",518,201,"Los paneles solares para calentar agua parece que estan flojos en el techo y causan mucho ruido especialmente en las noches.","PARECE SER QUE EL TUBO ESTÁ FLOJO",null,null,"Si",1,128]
["2018-05-03",517,801,"Se quejan de que hace falta un basurero en la habitación para residuos NO reciclables, ya que únicamente hay para reciclaje aunque no se indica que tipo de desechos reciclables se pueden depositar.","Asignar Greivin Arredondo",null,null,"Si",1,128]
["2018-05-10",516,702,"La ducha tiene una fuga que cae fuera del baño","VALIDAR LO QUE DICE EL CLIENTE",null,null,"Si",1,128]
["2018-05-12",515,801,"El desayuno esta bien, pero podría beneficiarse con frutas y jugos mas frescos","EXISTEN LAS OPCIONES",null,null,"Si",1,128]
["2018-05-10",514,603,"Huéspedes se quejan de las clases de yoga,  los mismos indican que debería ser solo para adultos,  que el niño que se encontraba haciendo yoga con ellos de otra habitación solo los interrumpía y no permitía que las clases fueran tranquilas.","RECEPCIÓN DEBE DE FUNCIONAR COMO FILTRO / OPORTUNIDAD DE SERVICIO DE GUARDERIA",null,null,"Si",1,128]
["2018-05-10",513,603,"Huespedes se quejan que solamente en el desayuno se ofrecen frutas, los señores me explican que en Europa ellos acostumbran a comer frutas tambíen al almuerzo y a la cena por lo que indican tengamos en cuenta este aspecto para un futuro tener mas huéspedes satisfechos.","Asignar Diego Cambronero",null,null,"Si",1,128]
["2018-05-08",512,"109 (Inspector de agencia)","La única crítica constructiva seria el cambiar las láminas de el techo de luz, ya que estan bastante tostadas por el sol y con un poco de moho, esto al menos en la habitación en la cual estuve.","REVISAR LA CONDICION DE ESA LÁMINA ",null,null,"Si",1,128]
["2018-05-09",511,null,"El servicio está dañado, el tanque no se llena y el  agua queda directa. Tiene muchisimo tiempo de estar así y se le ha dicho infinitas veces a mantemiento","Asignar Jairo Garcia",null,null,"Si",1,128]
["2018-05-09",510,107,"Poner una silla en la habitacion sería util","SILLAS VIENEN EN CAMINO",null,null,"Si",1,128]
["2018-05-09",509,304,"Camas muy altas","PEDIR LAS GRADAS A GILBERT",null,null,"Si",1,128]
["2018-05-09",508,405,"A veces los empleados no entienden lo que uno pregunta,pura barrera del lenguaje","REVALORAR EL NIVEL DE INGLÉS QUE TIENEN LAS PRINCIPALES ÁREAS DE SERVICIO Y BUSCAR UN MECANISMO DE MEJORA",null,null,"Si",1,128]
["2018-05-09",507,null,"A veces los empleados no entienden lo que uno pregunta,pura barrera del lenguaje","",null,null,"Si",1,128]
["2018-05-09",506,305,"Habia comida vieja en la refri de las personas que estuvieron antes que nosotros","QUE LAS SUPERVISORAS DE HABITACIONES TENGAN  MAS CUIDADO ",null,null,"Si",1,128]
["2018-05-09",505,606,"Ayer solicité un masaje en el Spa, más alla de haber sido una experiencia relajante, quede toda adolorida e inflamada del mal uso de la tecnica , recomiendo para futuros clientes que supervisen el entrenamiento del personal.","HABLAR CON YEIMY",null,null,"Si",1,128]
["2018-05-07",504,706,"Huesped se queja de la poca variedad en comidas y pide mayor variedad en las opciones.","Asignar Diego Cambronero",null,null,"Si",1,128]
["2018-05-08",503,510,"El sol de la tarde pega directo a la habitación, deberia haber una pantalla que cubra esto","Asignar Diego Cambronero",null,null,"Si",1,128]
["2018-05-08",502,510,"La tapa de coffee maker esta rota","Asignar Diego Cambronero",null,null,"Si",1,128]
["2018-05-07",501,503,"Más vegetales con la carne","Asignar Diego Cambronero",null,null,"Si",1,128]
["2018-05-07",500,212,"Cuando uno esta esperando un huésped, sería genial tener una habitación fria, toma un tiempo para que esta se enfrie","Asignar Diego Cambronero",null,null,"Si",1,128]
["2018-05-07",499,509,"Más variedad de frutas y cereales calientes como avena","Asignar Diego Cambronero",null,null,"Si",1,128]
["2018-05-06",498,709,"La música del restaurante muy alta, al final del día necesitamos descansar y cenar en una tranquila y silenciosa atmosfera","Asignar Diego Cambronero",null,null,"Si",1,128]
["2018-05-06",497,410,"A/C bajo rendimiento, sería recomendable tenerlos encendidos antes que los huéspedes lleguen a la habitación.","Asignar Diego Cambronero",null,null,"Si",1,128]
["2018-05-06",496,612,"Un basurero con tapa sería mejor para el baño, especialmente porque este contiene papel higienico usado","Asignar Diego Cambronero",null,null,"Si",1,128]
["2018-05-04",495,109,"La caja fuerte no funcionó en toda la estadía, huespedes reclaman que se quedó cerrada los 2 días y no permitía ingresar un código.","Asignar Diego Cambronero",null,null,"Si",1,128]
["2018-05-04",494,204,"Huesped se queja de la iluminación de la habitación, indica que es pobre y no es suficiente. Además se queja de que no hay una silla  y que el control del TV solo funciona desde una cama y no de las 2.","Asignar Diego Cambronero",null,null,"Si",1,128]
["2018-05-04",493,107,"Huesped se queja de lo limitado del menú con opciones vegetarianas y reclama por mas opciones.","Asignar Diego Cambronero",null,null,"Si",1,128]
["2018-05-06",492,609,"Huesped se queja de que el hotel no dispone de un area de juegos para los niños, la señora me indica que quedaron encantados con el lugar pero debido a que su familia tiene varios niños pues consideran que es necesario tener un area con pequeño playground.","DARLE SIGUIMIENTO AL AREA PARA NIÑOS",null,null,"Si",1,128]
["2018-05-05",491,304,"Huesped se queja que el detector de humo se encendió a las 12:30am y comenzó a hacer beep, el mismo se queja que tuvo que llamar a la mañana siguiente para que el staff se diera cuenta.","QUITAR TODOS LOS DETECTORES VIEJOS",null,null,"Si",1,128]
["2018-05-04",490,601,"Huespedes se quejan porque el hotel deberia considerar tener menus de los restaurantes en las habitaciones y así facilitar el servicio a la habitación.","Asignar Diego Cambronero",null,null,"Si",1,128]
["2018-05-05",489,702,"Huesped indica que talvez un spray´insecticida pequeño sería útil para los insectos que aparezcan durante la estadía.","PLAN DE FUMIGACIÓN",null,null,"Si",1,128]
["2018-05-05",488,702,"Huesped se queja de que el hotel debería de tener mas opciones de ensaladas.","REVISAR LA CANTIDAD",null,null,"Si",1,128]
["2018-05-04",487,701,"Pequeñas hormigas en el baño, en el area de la caja de manicure","PLAN DE FUMIGACIÓN",null,null,"Si",1,128]
["2018-05-03",486,111,"Huespedes se quejan de tratamiento recibido en el SPA, se muestran molestos y decepcionados porque no quedaron satisfechos con el trabajo que se llevó a cabo en un pedicure, se quejaron de la silla que es muy incómoda, de que no les masajearon los pies mas de 4 minutos a  pesar de que el tratamiento duraba 60 minutos y además  aclaran que no se le tenía agua caliente para colocar los pies y sentirse relajada. ","HABLAR CON YEIMY",null,null,"Si",1,128]
["2018-05-03",485,101,"Cliente reporta que se metieron a la habitacion y extrajeron dinero en efectivo y un celular, mientras ellos estaban en la cena. ","CONSIDERAR CERCA ELÉCTRICA  // ASIGNAR QUIEN SUPERVISE RECORRIDO DE GUARDAS ",null,null,"Si",1,128]
["2018-05-02",484,411,"Huesped se queja debido a que el hotel no cuenta con una acera o camino especial para personas discapacitadas desde las habitaciones hasta las areas comunes, piscinas y restaurantes. Además se queja que en la noche no hay señalización iluminada y que cuando se transita los carritos de golf pasan muy cerca de los peatones.","Considerar acera ",null,null,"Si",1,128]
["2018-05-01",483,604,"El té de la habitación de manzanilla tiene sabor a tierra","VER LA FECHA DEL LOTE DE LAS CAJAS DE TE DE MANZANILLA",null,null,"Si",1,128]
["2018-05-01",482,410,"Hacer que uno se sirva el café","N/A",null,null,"Si",1,128]
["2018-05-01",481,509,"La comida es muy cara y regular, la comida de las sodas de afuera es mucho mejor y menos cara","Asignar Diego Cambronero",null,null,"Si",1,128]
["2018-05-01",480,208,"El chef de la piscina fue muy descortés al no dejar que los niños jueguen en la piscina.","Asignar Diego Cambronero",null,null,"Si",1,128]
["2018-04-30",479,708,"Las camas son un poco duras","Validar lo informado por el cliente",null,null,"Si",1,128]
["2018-04-29",478,302,"Un basurero cerrado en el baño, sería bueno","Asignar Greivin Arredondo",null,null,"Si",1,128]
["2018-04-29",477,302,"El jugo de naranja podrá ser hecho con frutas a mano ","JUGO ES ARTESANAL",null,null,"Si",1,128]
["2018-05-01",476,402,"Mejorar la calidad del champú-gel manzana","Asignar Diego Cambronero",null,null,"Si",1,128]
["2018-05-01",475,402,"Mejorar la calidad del café en el desayuno","HABLAR CON GERENCIA",null,null,"Si",1,128]
["2018-04-30",474,110,"Los cocteles y bebidas en general muy caros y con mejoras pendientes en calidad","Asignar Diego Cambronero",null,null,"Si",1,128]
["2018-05-01",473,307,"Huesped se acerca a recepcion disgustado acerca de una situacion acontecida en el Rest Italiano, indica que solicitó una pizza cuya cual venia con un pedazo de plastico y nos informa que al expresar su disgusto con el compañero presente hizo caso omiso a su reclamo, el nos expresa que firmó la factura inconforme por lo tanto vino a Recepcion a mostrar su descontento, solicitando una solucipon al respecto. (huesped vino resintiendo su malestar, cubriendo su abdomen con su mano)","COBRAR POR PARTES IGUALES LA PIZZA Y LAS BEBIDAS DE CORTESÍAS",null,null,"Si",1,128]
["2018-04-30",472,409,"Sería bueno que tuvieran sangría en todos los bares","YA SE HICIERON LOS AJUSTES PARA OFRECER SANGRÍA EN TODOS LOS BARES",null,null,"Si",1,128]
["2018-04-30",471,305,"\"Mi esposo queria un masaje de envoltura o exfoliación com decía que cerraban a las 8 pm, esperabamos que nos pudieran atender después de las 3 pm, pero nos dijeron que no porque las muchachas salian a las 6 pm, además no había recepcionista para buscar la info tuvimos que interrumpir una sesión.","COMENTAR CON YEIMY",null,null,"Si",1,128]
["2018-04-29",470,201,"Huesped indica que deberían agregar mas espacios en la piscina para descansar, ejemplo: camitas de piedra en el agua y no solo asientos.","COMENTAR CON GERENCIA",null,null,"Si",1,128]
["2018-04-29",469,311,"El mojito estaba horrible y muy caro","Asignar Diego Cambronero",null,null,"Si",1,128]
["2018-04-29",468,306,"Huesped sequeja del sonido que se percibe desde las otras habitaciones ","SE VA A CREAR UN EQUIPO DE INVESTIGACIÓN DE SONIDOS",null,null,"Si",1,128]
["2018-04-29",467,106,"Puerta del baño se encuentra mala y caída.","Asignar Jairo Garcia",null,null,"Si",1,128]
["2018-04-29",466,111,"Huesped solicita mejor la calidad del pepperoni de las pizzas.","Asignar Jairo Garcia",null,null,"Si",1,128]
["2018-04-29",465,901,"Huesped al hacer check-out se queja del funcionamiento del Aire Acondicionado, indica que no enfría y que nunca pudieron refrescar la habitación como lo deseaban.","Asignar Jairo Garcia",null,null,"Si",1,128]
["2018-04-28",464,106,"Huesped indica que la música del bar húmedo podría mejorar y no ser aburrida y desactualizada.","Asignar Jairo Garcia",null,null,"Si",1,128]
["2018-04-28",463,402,"Huesped se queja que el gimnasio necesita mejor equipo.","Asignar Jairo Garcia",null,null,"Si",1,128]
["2018-04-27",462,null,"Ayer note que hay falta de iluminación en el jacuzzi, les pregunte a mantenimiento y me dijeron que están esperando unas lámparas. Solamente para que tomen nota de esto, asi nos evitamos un accidente.","Asignar Jairo Garcia",null,null,"Si",1,128]
["2018-04-26",461,104,"La ceramica de la hab es muy resbalosa y cuando esta mojada es muy dificl caminar para las personas que tenemos problemas caminando","Asignar Jairo Garcia",null,null,"Si",1,128]
["2018-04-27",460,103,"Mas opciones para el menu de desayuno, todos los días lo mismo no nos hace felices","Asignar Jairo Garcia",null,null,"Si",1,128]
["2018-04-27",459,510,"Huespedes se acercan molestos arecepción para reclamar que como puede ser posible que no haya ni una sola silla en la habitación, ellos son una pareja de baja estatura y solicitan se les dé una silla a la habitación.","Asignar Greivin Arredondo",null,null,43405,1,128]
["2018-04-27",458,406,"demasiado ruido causado por el generador","Asignar Jairo Garcia",null,null,"Si",1,128]
["2018-04-27",457,502,"demasiado ruido causado por el generador","Asignar Jairo Garcia",null,null,"Si",1,128]
["2018-04-26",456,509,"Huesped indica que se necesita mas variedad en el desayuno.","Asignar Jairo Garcia",null,null,"Si",1,128]
["2018-04-25",455,401,"Huesped se queja que habían insectos viniendo atraves de las paredes.","Asignar Jairo Garcia",null,null,"Si",1,128]
["2018-04-25",454,415,"La pared donde esta el aire acondicionado va tener problemas a futuro debido a que el condensador gotea","Asignar Jairo Garcia",null,null,"Si",1,128]
["2018-04-25",453,415,"Deberiamos de pensar en quitar las lineas amarillas de la calle, no hay necesidad de ellas porque los carros no van a altas velocidades y a su vez estas lineas afean la belleza de las instalaciones en conjunto con la naturaleza","Asignar Jairo Garcia",null,null,"Si",1,128]
["2018-04-24",452,602,"Una sola cama y un sillón sería mucho mejor que dos camas y ningún sitio donde sentarse","Asignar Greivin Arredondo",null,null,43405,1,128]
["2018-04-24",451,602,"Una sombrilla por habitación, reduciría el uso de los carritos de golf","Asignar Jairo Garcia",null,null,"Si",1,128]
["2018-04-24",450,602,"Huésped encontró una piedrita en el piso al majarla y escribe que fue un verdadero Ouch! Y además dice que el resto de la habitación no parecia que estuviera bien limpia","Asignar Jairo Garcia",null,null,"Si",1,128]
["2018-04-24",449,106,"Huésped comenta que los grupos de niños son muy ruidosos y si el hotel vende tranquilidad debería de cumplirse, se sintío inconforme en areas comunes e incluso en la habitación. ","Asignar Jairo Garcia",null,null,"Si",1,128]
["2018-04-24",448,308,"Huesped solicitó transporte para 2 personas dado la lluvia sin embargo ningun compañero fue por ellos, ella muy molesta se vino caminando desde su habitacion.","Asignar Jairo Garcia",null,null,"Si",1,128]
["2018-04-22",447,201,"Pusimos el rotulo de no cambiar las toallas pero si las cambiaron.","Asignar Jairo Garcia",null,null,"Si",1,128]
["2018-04-23",446,211,"Hay muchos niños, no esperabamos tener que hacer fila para poder conseguir omelets, pancakes o frutas.","Asignar Jairo Garcia",null,null,"Si",1,128]
["2018-04-23",445,211,"Para un hotel como este uno espera que haya batas de baño en la habitación","Asignar Jairo Garcia",null,null,"Si",1,128]
["2018-04-21",444,210,"Huesped se queja que las opciones vegetarianas son muy limitadas para la epoca en la que nos encontramos, el mismo indica que al haber muchas personas vegetarianas, el hotel debería mejorar.","Asignar Jairo Garcia",null,null,"Si",1,128]
["2018-04-21",443,310,"Huesped indica que debería haber un tomacorriente especial cerca de la mesa para cargar la computadora","Asignar Jairo Garcia",null,null,"Si",1,128]
["2018-04-22",442,408,"Huesped se acerca a Recepción muy molesto debido a que llamó para solicitar hielo y nunca lo recibió, el señor no permite ni que le ayudemos, se queja muy fuerte por el mal servicio, tambien se queja por que en la maquina de hielo no hay bolsas y solo pide una bolsa para seguidamente indicarnos que no quiere ningún carrito de golf y que se irá caminando apesar de la lluvia. ","Asignar Jairo Garcia",null,null,"Si",1,128]
["2018-04-21",441,702,"Si se etiquetaran las apagadores de la habitación sería mas funcional, ya que no se sabe cual es para cada cosa.","Asignar Jairo Garcia",null,null,"Si",1,128]
["2018-04-21",440,702,"Una linea para tender la ropa fuera de la habitación sería util","Asignar Jairo Garcia",null,null,"Si",1,128]
["2018-04-21",439,702,"La ducha podría usar menos agua si estuviera mejor calibrada ","Asignar Jairo Garcia",null,null,"Si",1,128]
["2018-04-21",438,702,"Las lamparas que hay en la habitación no sirven para leer","Asignar Jairo Garcia",null,null,"Si",1,128]
["2018-04-21",437,702,"Podría haber una o dos sillas en la habitación, incluso pueden estar guardadas en el closet","Asignar Greivin Arredondo",null,null,43405,1,128]
["2018-04-21",436,901,"Hay un fuerte olor que sale del baño","Asignar Jairo Garcia",null,null,"Si",1,128]
["2018-04-21",435,901,"La puerta del baño no se cierra o abre bien.","Asignar Jairo Garcia",null,null,"Si",1,128]
["2018-04-20",434,309,"Sería bueno tener al menos una sombrilla por habitación","COSTOS ELEVADOS",null,null,"Si",1,128]
["2018-04-20",433,108,"Después de haberlos cambiado de la 601 a la habitación 108, la señora Brandi reporta que hay una cucaracha dentro de la habitación y por este motivo estaba muy molesta","COMENTAR CON JAIRO",null,null,"Si",1,128]
["2018-04-20",432,601,"Huésped reporta que tiene muchas hormigas dentro de la habitación, que hasta están en las maletas.","COMENTAR CON JAIRO",null,null,"Si",1,128]
["2018-04-20",431,601,"Huésped solicitó transporte para venir al parqueo para irse a tour, pero el carrito de golf no llegó por ellos, debieron venirse caminando entonces","MAYOR CUIDADO POR PARTE DEL ANFITRIÓN",null,null,"Si",1,128]
["2018-04-19",430,706,"Huesped se queja porque no hay silla en la habitación, las camas son muy altas y ellos huespedes de baja estatura.","Asignar Greivin Arredondo",null,null,43756,1,128]
["2018-04-19",429,904,"Huesped reporta que ocasionalmente el lavatorio desprendia fuertes olores a alcantarilla y cloaca.","Asignar Jairo Garcia",null,null,"Si",1,128]
["2018-04-18",428,710,"Huesped llama quejandose por hormigas en el lavatorio y en el area del baño.","COMENTAR CON JAIRO",null,null,"Si",1,128]
["2018-04-17",427,706,"Huesped se queja porque no hay pan libre de gluten en el desayuno.","Asignar Diego Cambronero",null,null,"Si",1,128]
["2018-04-18",426,111,"Huesped se queja que entre las 5 y 7 pm deberían haber mas bartenders ya que hay que esperar mucho para ser atendido y mas tiempo para que le hagan un cocktail. ","Asignar Diego Cambronero",null,null,"Si",1,128]
["2018-04-18",425,112,"Huesped indica que se necesita un espejo afuera del baño.","YA EXISTE ESPEJOS DE CUERPO ENTERO",null,null,"Si",1,128]
["2018-04-18",424,601,"Huesped se queja de hormigas en el area del baño.","COMENTAR CON JAIRO",null,null,"Si",1,128]
[null,null,null,null,null,null,null,"No",1,128]
["2018-10-13",962,206,"Caja de seguridad no funciona","Asignar Roberto Escoto","POR FAVOR LEVANTAR LISTA DE LOS DEMÁS TECLADOS DETERIORADOS","Se cambió el teclado de la caja","NO",127]
["2018-10-14",955,403,"Huésped se queja de las camas e indica que el hotel debe mejorar teniendo camas más suaves.","Asignar Roberto Escoto","Evidenciar la implementación del progama a un 100%",null,"NO",127]
["2018-10-15",952,602,"Señora Kristine dueña de la agencia LatinEscapes se queja fuertemente indicando que ella conoce este hotel y que lo ha visitado en varias ocasiones pero que esta vez le han dado la peor habitación, ella se queja que la ducha no es regulable y que al momento de abrirla el agua sale disparada por todo lado sin poder bañarse o lavarse el pelo como ella quiere, además ella reclama por el ruido del ventilador del techo que se encuentra mal pegado y no los deja dormir. Ella nos hace ver que si pudiera irse se iría ahora mismo porque no se encuentra a gusto.","Asignar Roberto Escoto","presentar CHECK LIST PARA LAS HABITACIONES.","Se cambió el ventilador ","No",127]
["2018-09-21",924,312,"Huéspedes extremadamente molestos se acercan a recepción porque durante la noche fueron picados por piojos o chinches que según indican invadieron el colchón, ellos se encontraban con toda su espalda y brazos irritados y comentaron que han estado en todo tipo de hoteles baratos y que nunca pensaron que en un hotel bueno donde celebraban su luna de miel hubieran tenido que llegar a los extremos de revisar los colchones hasta encontrar estos piojos. Muy disconformes nos dicen que esta situación ha afectado sus vacaciones y que van para la clínica a revisarse. Ellos tenían fotos de los piojos que según indican usaran para poner una reclamación.","Asignar Roberto Escoto","POR FAVOR IMPELTAR Y ADAPTAR A SU GUSTO EL CHECK LIST PARA LAS HABITACIONES.","Se controló la plaga","NO",127]
["2018-07-22",751,411,"En las habitaciones hay polvo, mejorar la limpieza","Asignar Roberto Escoto","POR FAVOR IMPELTAR Y ADAPTAR A SU GUSTO EL CHECK LIST PARA LAS HABITACIONES.","No hay evidencia del chequeo que se realiza. ","NO",127]
["2018-10-30",1001,301,"Huésped llama a recepción porque su A/C no funciona correctamente.","Asignar Mainor Castro",null,null,"NO",126]
["2018-08-30",870,904,"Poner etiquetas a todos los tomas, son tantos que uno no sabe cual es cual.","Asignar Mainor Castro",null,"Rotulos de apagadores ",43388,126]
["2018-08-21",851,506,"El área de recepción es más para restaurantes que para ser utilizada como lobby. NO hay suficiente campo para que las familias se sienten a esperar y cuando llueve no hay donde ponerse.","Asignar Mainor Castro",null,"Se reabre Ti Cain ",43388,126]
["2018-11-05",1012,209,"El aire acondicionado de la habitación no estaba configurado cuando llegamos, necesita reemplazarse por uno moderno ya que es ruidoso y la caracteristica de moverse para que aire vaya a diferentes direcciones no funcionó nunca.","Asignar Jairo Garcia",null,null,"NO",125]
["2018-11-04",1009,903,"Huésped se acerca a recepción molesta indicando que hoy por la mañana su habitación y la de sus familiares a la par (904) despues de 3 minutos en la ducha solamente sale agua fría, nos pide revisar las duchas de las habitaciones para poder ducharse con agua caliente ya que tienen a su hija y es necesario que les brindemos una solución.","Asignar Jairo Garcia",null,null,"NO",125]
["2018-10-18",968,125,"Habitaciones 125-126 reportadas por el chofer y guía con cucarachas entre el aire acondicionado, se quejan de una posible plaga la cual intentaron matar con insecticidad pero aún así salieron más en la noche.","Asignar Jairo Garcia","Entregar programa de fumigación",null,"NO",125]
["2018-10-14",960,107,"Toallas de piscina ya son beige y no azules como lo dice los rótulos en el área de las termales. Ver rotulación y renovarla.","Asignar Jairo Garcia","Retirrar rótulo con información errónea.",null,"NO",125]
["2018-08-15",831,"414-415","Huéspedes se quejan porque la temperatura del agua en las habitaciones no es caliente lo suficiente, además indican que el jacuzzi al momento de llenarse no aguanta la presión del agua y al parecer el tapon se safa y se comienza a drenar el agua.","Asignar Jairo Garcia",null,"Preguntar Mainor Porras ",43405,125]
["2018-08-12",818,711,"El aire acondicionado esta descompuesto y se cambia de temperatura solo, además en la ducha había un tornillo del techo.","Asignar Jairo Garcia",null,null,43408,125]
["2018-10-29",1000,506,"los precios de la comida y especialmente las bebidas son muy altos.","Asignar Greivin Salazar ",null,null,"NO",124]
["2018-10-29",996,205,"Huésped se queja por no haber mayor oferta gastronomica en el hotel ni mejores opciones libres de gluten.","Asignar Greivin Salazar ",null,null,"NO",124]
["2018-10-25",994,209,"Bueno el desayuno pero terminè decepcionado porque estuvo cerrado nuestra estadìa entera, no tuve oportunidad de experimentar de la cultura tica porque siempre estuvo cerrado.La comida estuvo mas o menos en general, lo digo porque las porciones eran pequeñas.","Asignar Greivin Salazar ",null,null,"No",124]
["2018-10-27",993,208,"Como visitante de temporada baja me gustarìa ver mas y mejores opciones de almuerzo y cena.","Asignar Greivin Salazar ",null,null,"NO",124]
["2018-10-27",991,208,"Menù muy limitado y extremadamente caro","Asignar Greivin Salazar ",null,null,"NO",124]
["2018-10-25",988,108,"El servicio muy bueno pero el sabor del arroz con camarones no era el mejor.","Asignar Greivin Salazar ",null,null,"NO",124]
["2018-08-20",837,504,"Se puede mejorar el desayuno","Asignar Greivin Salazar ",null,null,43405,124]
["2018-07-02",765,null," la selección de los alimentos en el desayuno es pobre, mi esposo quería salchicha o tocino y no fue posible. Además las cenas son muy caras y las porciones muy pequeñas.","Asignar Greivin Salazar ",null,"Se le dará seguimiento a las propuestas de desayuno",43398,124]
["2018-10-08",943,405,"Huésped se queja porque habían muchas moscas durante el desayuno.","Asignar Greivin Arredondo",null,null,43410,123]
["2018-04-27",459,510,"Huespedes se acercan molestos arecepción para reclamar que como puede ser posible que no haya ni una sola silla en la habitación, ellos son una pareja de baja estatura y solicitan se les dé una silla a la habitación.","Asignar Greivin Arredondo",null,null,43405,123]
["2018-04-24",452,602,"Una sola cama y un sillón sería mucho mejor que dos camas y ningún sitio donde sentarse","Asignar Greivin Arredondo",null,null,43405,123]
["2018-04-21",437,702,"Podría haber una o dos sillas en la habitación, incluso pueden estar guardadas en el closet","Asignar Greivin Arredondo",null,null,43405,123]
["2018-11-01",1006,608,"Huésped se queja porque no hay una buena iluminación a los lados de la cama para poder leer, y además reclama por no haber una silla en la habitación.","Asignar Gilberth Mejías",null,null,"NO",122]
["2018-11-04",1013,403,"Huésped se queja porque la persona encargada de entregar toallas no se encontraba cuando llegó por su toalla.","Asignar Estibaliz Aguilar",null,null,"NO",121]
["2018-08-31",883,302,"Debería de haber una silla plastica para discapacitados en el área de duchas","Asignar Estibaliz Aguilar","Sillas ya cotizadas, pendiente aprobación de Don Minor","Cotizacion ","NO",121]
["2018-11-04",1008,304,"Podrìan mejorar con algún tipo de entretenimiento nocturno como música en vivo o algun show similar.","Asignar Don Mainor Castro",null,null,"NO",120]
["2018-10-30",1003,208,"Expandir el souvenir ya que es muy pequeño y que puedan proveer un lugar conveniente con bebidas y comida.","Asignar Don Mainor Castro",null,null,"NO",120]
["2018-10-26",995,411,"Huèsped se queja por la poca iluminaciòn en las esquinas de cada callejòn, menciona que le encantarìa ver mejor iluminaciòn con los nùmeros de las habitaciones alumbrando.","Asignar Don Mainor Castro",null,null,"No",120]
["2018-10-21",983,111,"Huésped se queja por no haber ventiladores en los restaurantes que permitan un mejor flujo de aire.","Asignar Don Mainor Castro",null,null,"No",120]
["2018-11-01",1005,404,"Huésped se queja que los precios deberian de ser mas bajos en el sushi y en el bar de la piscina, es inclusive mas caro que una bebida en europa.","Asignar Diego Cambronero",null,null,"NO",119]
["2018-10-16","966",602,"Cable HDMI en muy mal estado, no permitió llevar a cabo una charla de chocolate planeada para el grupo ROAD SCHOLAR ( Arenal Manoa).","Asignar Diego Cambronero",null,"En espera del cable, coordinar con Greivin ","NO",119]
["2018-09-18",921,403,"Muy caro y el sabor no es bueno en las comidas","Asignar Diego Cambronero",null,"Menus Nuevos ",43405,119]
["2018-09-16",907,110,"Comida del italiano de poca calidad","Asignar Diego Cambronero",null,"Menus Nuevos ",43405,119]
["2018-09-15",906,405,"Restaurate italiano lo encontramos con precios un poco caros.","Asignar Diego Cambronero",null,"Menus Nuevos ",43405,119]
["2018-09-13",903,401,"Precios del bar del Sushi muy elevados","Asignar Diego Cambronero",null,"Menus Nuevos ",43405,119]
["2018-09-13",902,101,"No hay suficientes opciones","Asignar Diego Cambronero",null,"Menus Nuevos ",43405,119]
["2018-09-11",899,201,"Precios muy elevados.","Asignar Diego Cambronero",null,"Menus Nuevos ",43405,119]
["2018-09-05",898,311,"Un menú en la habitación de los diferentes restaurantes es lo que falta.","Asignar Diego Cambronero",null,"Menus Nuevos ",43405,119]
["2018-09-06",896,303,"Huésped se queja porque no se ofrece comida local. La comida fue mediocre, el esposo pidió un sandwich de pollo que tenía muy poco pollo y mucho pan. Si yo fuera el chef, preferiría ofrecer comida que comen los locales y no comida que se puede conseguir en USA.","Asignar Diego Cambronero",null,"Menus Nuevos ",43405,119]
["2018-08-31",881,308,"Los precios de los restaurantes son muy caros y la comida muy mediocre","Asignar Diego Cambronero",null,"Menus Nuevos ",43405,119]
["2018-08-31",878,308,"El chicken gyoza en el bar húmedo es muy malo y los precios son muy caros ","Asignar Diego Cambronero",null,"Menus Nuevos ",43405,119]
["2018-09-01",875,901,"Mejores alternativas de alimentación, excepto el desayuno el cual es muy bueno","Asignar Diego Cambronero",null,"Menus Nuevos ",43405,119]
["2018-08-31",874,307,"El vino es muy caro en los restaurantes","Asignar Diego Cambronero",null," Menu Carta ",43405,119]
["2018-08-26",867,508,"Huésped se queja de los precios que son muy elevados.","Asignar Diego Cambronero",null,"Menus Nuevos ",43405,119]
["2018-08-17",848,null,"Las bebidas y comida en la piscina son muy caras.","Asignar Diego Cambronero",null,"Menus Nuevos ",43405,119]
["2018-08-07",809,508,"Cambien los menus en ambos restaurantes","Asignar Diego Cambronero",null,"Menus Nuevos ",43405,119]
["2018-08-03",806,210,"Sería muy bueno tener menus en la habitación.","Asignar Diego Cambronero",null,"Menus Nuevos ",43405,119]
["2018-08-03",805,210,"Precios elevados.","Asignar Diego Cambronero",null,"Menus Nuevos ",43405,119]
["2018-08-02",792,null,"Precios del restaurante y de los bares muy elevados","Asignar Diego Cambronero",null,"Menus Nuevos ",43405,119]
["2018-08-02",789,"609-610","Bastante caro el Italiano.","Asignar Diego Cambronero",null,"Menus Nuevos ",43405,119]
["2018-08-02",781,204,"Huéspedes se quejan de los precios, reclaman mejores precios.","Asignar Diego Cambronero",null,"Menus Nuevos ",43405,119]
["2018-07-30",773,303,"Precios muy elevados en las comidas.","Asignar Diego Cambronero",null,"Menus Nuevos ",43405,119]
["2018-07-26",771,null,"La comida del restaurante italiano fue deficiente","Asignar Diego Cambronero",null,"Menus Nuevos ",43405,119]
["2018-07-27",758,801,"Poner precios mas bajos en los restaurantes ya que son muy caros.","Asignar Diego Cambronero",null,"Menus Nuevos ",43405,119]
["2018-07-03",688,null,"Precios de la cena muy elevados","Asignar Diego Cambronero",null,"Menus Nuevos ",43405,119]
["2018-06-19",676,null,"El costo de las comidas es muy caro y es mejor ir a alguna soda en el pueblo.","Asignar Diego Cambronero",null,"Menus Nuevos ",43405,119]
["2018-06-16",675,null,"Cenas y bar de la piscina con precios muy elevados.","Asignar Diego Cambronero",null,"Menus Nuevos ",43405,119]
["2018-06-28",670,105,"Precios sumamente caros en las comidas, deberían poner un transporte a la fortuna donde se pueda ir y comer y que ofrezcan precios razonables","Asignar Diego Cambronero",null,"Menus Nuevos ",43405,119]
["2018-10-05",937,101,"Huésped no cuenta con internet ","Asignar Arnaldo Moreira",null,null,"No",118]
["2018-11-03",1011,109,"Huésped se queja por el uso de pajillas.","Asignar Antonio Ferreto ",null,null,"NO",117]
["2018-10-13",962,206,"Caja de seguridad no funciona","Asignar Roberto Escoto","POR FAVOR LEVANTAR LISTA DE LOS DEMÁS TECLADOS DETERIORADOS","Se cambió el teclado de la caja","NO",116]
["2018-10-14",955,403,"Huésped se queja de las camas e indica que el hotel debe mejorar teniendo camas más suaves.","Asignar Roberto Escoto","Evidenciar la implementación del progama a un 100%",null,"NO",116]
["2018-10-15",952,602,"Señora Kristine dueña de la agencia LatinEscapes se queja fuertemente indicando que ella conoce este hotel y que lo ha visitado en varias ocasiones pero que esta vez le han dado la peor habitación, ella se queja que la ducha no es regulable y que al momento de abrirla el agua sale disparada por todo lado sin poder bañarse o lavarse el pelo como ella quiere, además ella reclama por el ruido del ventilador del techo que se encuentra mal pegado y no los deja dormir. Ella nos hace ver que si pudiera irse se iría ahora mismo porque no se encuentra a gusto.","Asignar Roberto Escoto","presentar CHECK LIST PARA LAS HABITACIONES.","Se cambió el ventilador ","No",116]
["2018-09-21",924,312,"Huéspedes extremadamente molestos se acercan a recepción porque durante la noche fueron picados por piojos o chinches que según indican invadieron el colchón, ellos se encontraban con toda su espalda y brazos irritados y comentaron que han estado en todo tipo de hoteles baratos y que nunca pensaron que en un hotel bueno donde celebraban su luna de miel hubieran tenido que llegar a los extremos de revisar los colchones hasta encontrar estos piojos. Muy disconformes nos dicen que esta situación ha afectado sus vacaciones y que van para la clínica a revisarse. Ellos tenían fotos de los piojos que según indican usaran para poner una reclamación.","Asignar Roberto Escoto","POR FAVOR IMPELTAR Y ADAPTAR A SU GUSTO EL CHECK LIST PARA LAS HABITACIONES.","Se controló la plaga","NO",116]
["2018-07-22",751,411,"En las habitaciones hay polvo, mejorar la limpieza","Asignar Roberto Escoto","POR FAVOR IMPELTAR Y ADAPTAR A SU GUSTO EL CHECK LIST PARA LAS HABITACIONES.","No hay evidencia del chequeo que se realiza. ","NO",116]
["2018-10-30",1001,301,"Huésped llama a recepción porque su A/C no funciona correctamente.","Asignar Mainor Castro",null,null,"NO",115]
["2018-08-30",870,904,"Poner etiquetas a todos los tomas, son tantos que uno no sabe cual es cual.","Asignar Mainor Castro",null,"Rotulos de apagadores ",43388,115]
["2018-08-21",851,506,"El área de recepción es más para restaurantes que para ser utilizada como lobby. NO hay suficiente campo para que las familias se sienten a esperar y cuando llueve no hay donde ponerse.","Asignar Mainor Castro",null,"Se reabre Ti Cain ",43388,115]
["2018-10-13",963,204,"Televisor de Recepción es horrible. Esto es algo que deberían mejorar","Asignar Luis Carlos ",null,null,43398,114]
["2018-10-28",984,"N/A","Buenos días Compañeros \n\nTengan muy buen día todas y todos.\n\nLes comparto el siguiente  incidente , durante el desayuno de hoy.\n\nLa mañana de hoy la compañera Karen Núñez se acercó a mi persona y me indico , que aparentemente estaban cayendo del cielo raso, excremento de ratas.\n\nEstaba en espera de  terminar el desayuno , para informar al señor Jairo.\n\nLamentablemente, ella no se equivocaba.\n\nMinutos después , cayó muy cerca de una de las mesas, una rata.  La compañera Hazel y el señor Ariel, pudieron recogerla y disponer de ella, pero lamentablemente los huéspedes    , en el salón B , se dieron cuenta.\n\nLas habitaciones a nombre de la familia LAINES, son 603-703-903.\n\nMi recomendación seria , entrar lo más pronto posible en un programa de exterminio y/o previsión a l asunto.\n\nEspero que la información sea de ayuda.\n","Asignar Jairo Garcia",null,null,"No",113]
["2018-10-18",976,402,"Los botones del jacuzzi no funcionaban bien a ciertas horas.","Asignar Jairo Garcia",null,null,"NO",113]
["2018-10-18",968,125,"Habitaciones 125-126 reportadas por el chofer y guía con cucarachas entre el aire acondicionado, se quejan de una posible plaga la cual intentaron matar con insecticidad pero aún así salieron más en la noche.","Asignar Jairo Garcia",null,null,"NO",113]
["2018-10-14",960,107,"Toallas de piscina ya son beige y no azules como lo dice los rótulos en el área de las termales. Ver rotulación y renovarla.","Asignar Jairo Garcia",null,null,"NO",113]
["2018-09-23",926,204,"El baño está mal diseñado, el servicio sanitario debe de estar por lo menos 50cm de la pared lateral, la ducha debe de tener un piso antideslizante. EN el cuarto los adornos laterales de la cama sobran, no se puede accesar a ese lado de la cama y además son peligrosos para niños.","Asignar Jairo Garcia",null,null,"NO",113]
["2018-10-28",985,202,"Cama nido que se colocò a peticiòn de huèsped se encontraba en muy mal estado, quebrada y no en las mejores condiciones.","Asignar Greivin Arredondo",null,null,"No",112]
["2018-10-08",944,901,"Huéspedes se quejan de las camas que son duras.","Asignar Greivin Arredondo",null,null,43391,112]
["2018-09-23",933,207,"Sería bueno tener una silla baja dentro de la habitación, ayuda a los adultos mayores","Asignar Greivin Arredondo",null,null,43391,112]
["2018-09-19",920,"N/A","Fuerte olor a boñiga en toda la recepción y restaurante italiano.","Asignar Greivin Arredondo",null,"Tapa para las pilas ",43388,112]
["2018-08-18",834,506,"Muchas moscas en el desayuno","Asignar Greivin Arredondo",null,"Equipo para capturar moscas ",43381,112]
["2018-06-11",632,202,"Sería genial tener una silla en la habitación","Asignar Greivin Arredondo",null,"Sillas nuevas ",43388,112]
["2018-10-24",990,904,"Pueden mejorar su servicio con una mejor ayuda con la conversión de dinero. Me dijeron que un taxi cuesta 12 dolares a la Fortuna pero la \"maria\" marca 5000 colones, se supone que son 10 dòlares. No entendì porque.","Asignar Estibaliz Aguilar",null,null,"NO",111]
["2018-10-18",977,"N/A","Locker #18 de los hombres posee número erroneo en su llavero. Revisar estado y números de los llaveros.","Asignar Estibaliz Aguilar",null,43413,"No",111]
["2018-08-31",883,302,"Debería de haber una silla plastica para discapacitados en el área de duchas","Asignar Estibaliz Aguilar",null,"Cotizacion ",43398,111]
["2018-08-26",863,512,"La novia de la boda la señora Yara al momento de hacer check-out se mostró muy molesta cuando se le cobró un factura correspondiente a un manicure y un pedicure del Spa. Ella nos dijo que solamente saliendo del spa el pedicure se le cayó y que fue un trabajo pésimo por el cúal no iba a pagar, ella dijo  que había hablado con un funcionario del Spa ( que no recordaba el nombre) que le dijo que no se preocupara y que no le ibamos a cobrar ese tratamiento, sin embargo nunca se informó nada a recepción ni a servicio al cliente al respecto. ","Asignar Estibaliz Aguilar",null,"se sugiere trabajar con esmaltes de gel ",43398,111]
["2018-10-30",1003,208,"Expandir el souvenir ya que es muy pequeño y que puedan proveer un lugar conveniente con bebidas y comida.","Asignar Don Mainor Castro",null,null,"NO",110]
["2018-10-26",995,411,"Huèsped se queja por la poca iluminaciòn en las esquinas de cada callejòn, menciona que le encantarìa ver mejor iluminaciòn con los nùmeros de las habitaciones alumbrando.","Asignar Don Mainor Castro",null,null,"No",110]
["2018-10-21",983,111,"Huésped se queja por no haber ventiladores en los restaurantes que permitan un mejor flujo de aire.","Asignar Don Mainor Castro",null,null,"No",110]
["2018-10-29",997,503,"Precios excesivamente caros.","Asignar Diego Cambronero",null,null,"No",109]
["2018-10-27",992,208,"Insectos en los helados. No fue una buena opciòn comprar ahì.","Asignar Diego Cambronero",null,null,"NO",109]
["2018-10-16","966",602,"Cable HDMI en muy mal estado, no permitió llevar a cabo una charla de chocolate planeada para el grupo ROAD SCHOLAR ( Arenal Manoa).","Asignar Diego Cambronero",null,"En espera del cable, coordinar con Greivin ","NO",109]
["2018-10-14",951,121,"El guía de Collete el señor Ricardo Howell presentó la queja con respecto al menú que se le ofreció luego de traer a su grupo a cenar a nuestro restaurante, él mismo quedó disconforme ya que en otras ocasiones se le ha ofrecido menú abierto y esta vez tanto en el Rest Italiano como en el Ti-cain se le dió un menú carta paquete el cual no le agrado. Nos mencionó que la próxima vez su grupo iría a cenar afuera y se encontraba molesto por el accionar del hotel.","Asignar Diego Cambronero",null,"Se solcita que por favor difunda las politicas de cortecias.","NO",109]
["2018-10-06",942,206,"El frigorifico hace mucho ruido y es bastante molesto en la noche.","Asignar Dariel Miranda",null,null,"No",108]
["2018-06-08",618,712,"El refrigerador produce demasiado ruido","Asignar Dariel Miranda",null,null,43393,108]
["2018-10-05",937,101,"Huésped no cuenta con internet ","Asignar Arnaldo Moreira",null,null,"No",107]
["2018-10-14",961,107,"Huésped se queja de precios. Crema de hongos cuesta igual que una pizza hawaiana","Asignar Diego Cambronero",null,null,"NO",92]
["2018-10-14",957,409,"Huésped se queja de los precios de los restaurantes, 40 000 un almuerzo? ","Asignar Diego Cambronero",null,null,"NO",92]
["2018-10-14",954,403,"Huésped se queja de las opciones de comida, pide mejores opciones ya que para él la comida fue solo buena y no encontró nada especial en ella.","Asignar Diego Cambronero",null,null,"NO",92]
["2018-10-14",951,121,"El guía de Collete el señor Ricardo Howell presentó la queja con respecto al menú que se le ofreció luego de traer a su grupo a cenar a nuestro restaurante, él mismo quedó disconforme ya que en otras ocasiones se le ha ofrecido menú abierto y esta vez tanto en el Rest Italiano como en el Ti-cain se le dió un menú carta paquete el cual no le agrado. Nos mencionó que la próxima vez su grupo iría a cenar afuera y se encontraba molesto por el accionar del hotel.","Asignar Diego Cambronero",null,null,"NO",92]
["2018-08-26",863,512,"La novia de la boda la señora Yara al momento de hacer check-out se mostró muy molesta cuando se le cobró un factura correspondiente a un manicure y un pedicure del Spa. Ella nos dijo que solamente saliendo del spa el pedicure se le cayó y que fue un trabajo pésimo por el cúal no iba a pagar, ella dijo  que había hablado con un funcionario del Spa ( que no recordaba el nombre) que le dijo que no se preocupara y que no le ibamos a cobrar ese tratamiento, sin embargo nunca se informó nada a recepción ni a servicio al cliente al respecto. ","Asignar Yeimy Miranda",null,"Solucitar que trabajen con esmaltes permanente","Si",91]
["2018-08-12",817,704,"Spa tiene precios muy elevados.","Asignar Yeimy Miranda",null,null,"NO ",91]
["2018-10-08",939,211,"Huésped se acerca a recepción indicando que anoche al abrir su closet y sacar la cobija, la misma se encontraba mojada y no la pudo utilizar en toda la noche.","Asignar Roberto Escoto",null,null,"No",90]
["2018-10-07",938,201,"Huésped se queja de la mala señal de TV","Asignar Roberto Escoto",null,null,"No",90]
["2018-09-22",927,304,"El control del aire tenía problemas y no funcionaba bien.","Asignar Roberto Escoto",null,null,"NO",90]
["2018-09-23",926,204,"El baño está mal diseñado, el servicio sanitario debe de estar por lo menos 50cm de la pared lateral, la ducha debe de tener un piso antideslizante. EN el cuarto los adornos laterales de la cama sobran, no se puede accesar a ese lado de la cama y además son peligrosos para niños.","Asignar Roberto Escoto",null,null,"NO",90]
["2018-09-21",924,312,"Huéspedes extremadamente molestos se acercan a recepción porque durante la noche fueron picados por piojos o chinches que según indican invadieron el colchón, ellos se encontraban con toda su espalda y brazos irritados y comentaron que han estado en todo tipo de hoteles baratos y que nunca pensaron que en un hotel bueno donde celebraban su luna de miel hubieran tenido que llegar a los extremos de revisar los colchones hasta encontrar estos piojos. Muy disconformes nos dicen que esta situación ha afectado sus vacaciones y que van para la clínica a revisarse. Ellos tenían fotos de los piojos que según indican usaran para poner una reclamación.","Asignar Roberto Escoto",null,null,"NO",90]
["2018-08-02",778,503,"Huéspedes molestos porque desde las 7 am entregaron lavandería y llegaron a las 7:00pm a preguntar a recepción y aún no estaba lista.","Asignar Roberto Escoto",null,"respuesta pasada no justifica la solucion ","NO",90]
["2018-07-22",751,411,"En las habitaciones hay polvo, mejorar la limpieza","Asignar Roberto Escoto",null,"No hay evidencia del chequeo que se realiza. ","NO",90]
["2018-09-29",940,201,"Primero, el hotel Arenal Springs nos parece ser una muy buena opción para nuestros clientes que quieren relajación y confort. Las aguas termales incluidas en el hotel son un valor agregado enorme. Además, esta zona termal está muy bien pensada con los dos bares, los jardines y las diferentes categorías de « piscinas » que hay. Solamente pensamos que el segundo bar (el que propone solamente bebidas y no el Sushi bar) merecería un poquito más de decoración para ser más acogedor todavía. ","Asignar Mainor Castro",null,null,"No",89]
["2018-08-31",879,308,"El servicio de lavandería es muy caro","Asignar Mainor Castro",null,null,"No",89]
["2018-08-22",855,408,"Deberían tener ocio nocturno","Asignar Mainor Castro",null,null,"No",89]
["2018-08-21",850,506,"EL hotel está pensado solo para adultos. NO hay areas infantiles ni salas de juego donde ellos puedan despejarse y divertirse.","Asignar Mainor Castro",null,null,"NO",89]
["2018-08-17",849,null,"Los precios de lavandería son una broma. Preferí llevar mi ropa a lavar a la Fortuna.","Asignar Mainor Castro",null,null,"NO",89]
["2018-07-09",704,306,"Huésped se queja de la hoja de evaluación que se deja en las habitaciones para que los huéspedes la llenen antes de irse, el mismo indica que tiene errores gramaticales tanto en Inglés como en Alemán y que eso es mal visto ya que el hotel debería de ser profesional en ese aspecto. ","Asignar Iván Ramírez",null,null,"NO",88]
["2018-07-07",700,505,"Espejo frente al inodoro es raro y además las sabanas no son cómodas.","Asignar Iván Ramírez",null,null,"NO",88]
["2018-07-05",698,602,"El espejo del baño debe ser mas grande ya que no me gusta sentarme en el sanitario para mirarme en el espejo.","Asignar Iván Ramírez",null,null,"NO",88]
["2018-06-28",668,801,"Las instrucciones en alemán están mal redactadas y con mala ortografía también.","Asignar Iván Ramírez",null,null,43300,88]
["2018-08-20",837,504,"Se puede mejorar el desayuno","Asignar Greivin Salazar ",null,null,43335,87]
["2018-10-08",943,405,"Huésped se queja porque habían muchas moscas durante el desayuno.","Asignar Greivin Arredondo",null,null,"No",86]
["2018-08-18",834,506,"Muchas moscas en el desayuno","Asignar Greivin Arredondo",null,"Equipo para capturar moscas ",43381,86]
["2018-07-22",745,"Grupo Patty Searcy","Señoras se quejan de la oscuridad y peligro que existe cuando los huéspedes caminan de noche por el hotel, una de las señoras del grupo sufrió una caída doblandose uno de sus tobillos y cayendo estrepitosamente en unos de los caños, el problema que ellas me indican es el desnivel que existe entre el pavimento y el caño. La caída se dió por las habitaciones 501-502 donde se confirma que la visibilidad es casi nula y no es posible apreciar el desnivel que causó caída.","Asignar Estibaliz Aguilar",null,"Se va a reparar la orilla del caño y verificar luz ","NO",85]
["2018-10-06",942,206,"El frigorifico hace mucho ruido y es bastante molesto en la noche.","Asignar Dariel Miranda",null,null,"No",84]
["2018-10-05",937,101,"Huésped no cuenta con internet ","Asignar Arnaldo Moreira",null,null,"No",83]
["2018-10-03",936,409,"Huésped indica que las sillas del italiano se resbalan facilmente, deberían de tener algo en las \"patas\" que no permita que se deslicen.","Asignar Antonio Ferreto ",null,null,"No",82]
["2018-08-26",863,512,"La novia de la boda la señora Yara al momento de hacer check-out se mostró muy molesta cuando se le cobró un factura correspondiente a un manicure y un pedicure del Spa. Ella nos dijo que solamente saliendo del spa el pedicure se le cayó y que fue un trabajo pésimo por el cúal no iba a pagar, ella dijo  que había hablado con un funcionario del Spa ( que no recordaba el nombre) que le dijo que no se preocupara y que no le ibamos a cobrar ese tratamiento, sin embargo nunca se informó nada a recepción ni a servicio al cliente al respecto. ","Asignar Yeimy Miranda",null,null,"No",81]
["2018-08-12",817,704,"Spa tiene precios muy elevados.","Asignar Yeimy Miranda",null,null,"NO ",81]
["2018-08-31",879,308,"El servicio de lavandería es muy caro","Asignar Mainor Castro",null,null,"No",80]
["2018-08-22",855,408,"Deberían tener ocio nocturno","Asignar Mainor Castro",null,null,"No",80]
["2018-08-21",850,506,"EL hotel está pensado solo para adultos. NO hay areas infantiles ni salas de juego donde ellos puedan despejarse y divertirse.","Asignar Mainor Castro",null,null,"NO",80]
["2018-08-17",849,null,"Los precios de lavandería son una broma. Preferí llevar mi ropa a lavar a la Fortuna.","Asignar Mainor Castro",null,null,"NO",80]
["2018-10-03",935,410,"Huésped se queja debido a que los tomacorrientes de la habitación no funcionan correctamente, se encontraba molesta porque colocó su teléfono a cargar creyendo que iba a cargarse y luego se percató que no funcionaba, además cuando solicitó mover las camas y poner las dos mesas de noche juntas para poner ambas lamparas de noche, no fue posible conectar las dos debido a que el tomacorriente estaba sin electricidad.","Asignar Jairo Garcia",null,null,"NO",79]
["2018-09-25",929,104,"Huésped indica que el aire acondicionado no enfrió correctamente, a veces estaba bien y por ratos no","Asignar Jairo Garcia",null,null,"NO",79]
["2018-08-25",861,312,"Huéspedes reportan al check out, que la habitación tiene una gotera la cual cae sobre la cama que está más cercana a la puerta principal","Asignar Jairo Garcia",null,"Se cambiaron tornillos ","No",79]
["2018-08-15",831,"414-415","Huéspedes se quejan porque la temperatura del agua en las habitaciones no es caliente lo suficiente, además indican que el jacuzzi al momento de llenarse no aguanta la presión del agua y al parecer el tapon se safa y se comienza a drenar el agua.","Asignar Jairo Garcia",null,"Preguntar Mainor Porras ","NO",79]
["2018-08-14",821,401,"El baño debería tener una superficie no resbaloso como algún tipo de alfombra de hule.","Asignar Jairo Garcia",null,"Poner Producto antideslizante ","NO ",79]
["2018-08-11",812,406,"Huésped se queja al check out, que los tomas no funcionan bien","Asignar Jairo Garcia",null,"Eliminar el apagador ","NO ",79]
["2018-04-27",459,510,"Huespedes se acercan molestos arecepción para reclamar que como puede ser posible que no haya ni una sola silla en la habitación, ellos son una pareja de baja estatura y solicitan se les dé una silla a la habitación.","Asignar Jairo Garcia",null,null,43373,79]
["2018-04-24",452,602,"Una sola cama y un sillón sería mucho mejor que dos camas y ningún sitio donde sentarse","Asignar Jairo Garcia",null,null,43373,79]
["2018-04-21",437,702,"Podría haber una o dos sillas en la habitación, incluso pueden estar guardadas en el closet","Asignar Jairo Garcia",null,null,43373,79]
["2018-07-09",704,306,"Huésped se queja de la hoja de evaluación que se deja en las habitaciones para que los huéspedes la llenen antes de irse, el mismo indica que tiene errores gramaticales tanto en Inglés como en Alemán y que eso es mal visto ya que el hotel debería de ser profesional en ese aspecto. ","Asignar Iván Ramírez",null,null,"NO",78]
["2018-07-07",700,505,"Espejo frente al inodoro es raro y además las sabanas no son cómodas.","Asignar Iván Ramírez",null,null,"NO",78]
["2018-07-05",698,602,"El espejo del baño debe ser mas grande ya que no me gusta sentarme en el sanitario para mirarme en el espejo.","Asignar Iván Ramírez",null,null,"NO",78]
["2018-06-28",668,801,"Las instrucciones en alemán están mal redactadas y con mala ortografía también.","Asignar Iván Ramírez",null,null,43300,78]
["2018-08-30",869,904,"Los pancakes se secan mucho al estar expuestos al aire libre","Asignar Greivin Salazar ",null,null,"No",77]
["2018-08-26",866,508,"La comida en el buffet es escasa y muy repetitiva.","Asignar Greivin Salazar ",null,null,"No",77]
["2018-08-24",865,208,"Huésped molesto porque se le sirvió un pollo crudo y él indica que eso es de mucho cuidado porque puede enfermar a una persona, esto provocó que se fueran muy temprano del hotel al check-out porque querían visitar otro restaurante.","Asignar Greivin Salazar ",null,null,"No",77]
["2018-08-25",862,505,"Huésped indica que debemos mejorar en el tema de alimentos y calidad.","Asignar Greivin Salazar ",null,null,"No",77]
["2018-08-23",860,506,"Tener más opciones de comida nacional","Asignar Greivin Salazar ",null,null,"No",77]
["2018-08-23",858,305,"Falta ofrecer pan libre de glutten como opción. ","Asignar Greivin Salazar ",null,null,"No",77]
["2018-08-22",854,408,"Mas variedad en restaurantes.","Asignar Greivin Salazar ",null,null,"No",77]
["2018-08-21",853,711,"El desayuno es bueno pero estaba muy lleno por lo que sería bueno tener algunas cosas precocinadas como los huevos revueltos.","Asignar Greivin Salazar ",null,null,"No",77]
["2018-08-21",852,604,"Deberian tener mejores opciones vegetarianas y harinas integrales","Asignar Greivin Salazar ",null,null,43335,77]
["2018-08-17",846,null,"La comida italiana esta sobrevalorada y sin buen sabor, además las porciones son muy pequeñas.","Asignar Greivin Salazar ",null,null,43335,77]
["2018-08-13",845,101,"Los restaurantes son muy caros y la comida mas o menos.","Asignar Greivin Salazar ",null,null,43335,77]
["2018-08-20",837,504,"Se puede mejorar el desayuno","Asignar Greivin Salazar ",null,null,43335,77]
["2018-04-05",829,"Mary Blackport","La comida en los restaurantes estuvo horrible, yo no recomendaria ir a comer ahí","Asignar Greivin Salazar ",null,null,"NO ",77]
["2018-03-31",827,"Heather Burgess","El servicio estuvo mas o menos. Y las opciones de cenas no nos inspiraron por lo que decidimos ir al pueblo a cenar.","Asignar Greivin Salazar ",null,null,"NO ",77]
["2018-06-16",826,"Damary Santiago","Las opciones de almuerzo y cena estuvieron muy caras y limitadas.","Asignar Greivin Salazar ",null,null,"NO ",77]
["2018-06-23",824,"Tim Brinkley","La variedad y selección de la comida estuvo muy por debajo del promedio","Asignar Greivin Salazar ",null,null,"NO ",77]
["2018-08-14",822,904,"Necesita variedad en las opciones de comidas y un menú mas barato en el bar.","Asignar Greivin Salazar ",null,null,"NO ",77]
["2018-08-11",815,504,"La comida es muy cara, por favor tener opciones mas cómodas.","Asignar Greivin Salazar ",null,null,"NO ",77]
["2018-08-04",794,null,"Se queja de la comida de los restaurantes los cuales fueron una estafa, muy baja calidad en las comidas. La pizza fue la peor que ha comido, muy mala. Además precios sumamente caros por nada especial a cambio.","Asignar Greivin Salazar ",null,null,43334,77]
["2018-08-04",786,511,"Variedad limitada en opciones de glutten, problemas con inocuidad.","Asignar Greivin Salazar ",null,null,43335,77]
["2018-08-04",785,512,"Más opciones libres de glutten son muy necesarias","Asignar Greivin Salazar ",null,null,43335,77]
["2018-08-04",784,401,"La comida en el Italiano muy cara.","Asignar Greivin Salazar ",null,null,43335,77]
["2018-08-02",782,801,"Huéspedes se quejan que las porciones del restaurante italiano son pequeñas y muy caras.","Asignar Greivin Salazar ",null,null,43335,77]
["2018-07-17",770,null,"El restaurante principal de la cena en sí es bastante caro y nada especial. No había nada de malo en ello, pero nos habíamos acostumbrado a grandes porciones de Costa Rica, y nuestra cena aquí era mucho más pequeña y no estuvo a la altura de la comida que tuvimos en otro lugar en nuestro viaje.","Asignar Greivin Salazar ",null,null,43335,77]
["2018-07-02",765,null," la selección de los alimentos en el desayuno es pobre, mi esposo quería salchicha o tocino y no fue posible. Además las cenas son muy caras y las porciones muy pequeñas.","Asignar Greivin Salazar ",null,null,43335,77]
["2018-07-01",764,null,"Como otros comentarios de otros huéspedes también terminamos decepcionados de la cena,  los precios son demasiado elevados y la calidad de la comida en relación a otros hoteles quedó debiendo","Asignar Greivin Salazar ",null,null,43335,77]
["2018-07-13",725,406,"NO hay variedad en menú para niños.","Asignar Greivin Salazar ",null,null,43335,77]
["2018-06-29",681,411,"Mejor selección en calidad de las comidas.","Asignar Greivin Salazar ",null,null,43335,77]
["2018-07-02",679,null,"Cena muy limitada y con precio elevado.","Asignar Greivin Salazar ",null,null,43335,77]
["2018-07-01",677,null,"Muy decepcionados con la cena, precios muy caros y calidad de la comida no es equivalente a los que cobran en comparación con otros hoteles de la zona.","Asignar Greivin Salazar ",null,null,43335,77]
["2018-06-27",666,301,"Tener productos que sean organicos","Asignar Greivin Salazar ",null,null,43335,77]
["2018-06-27",665,301,"Menú para niños","Asignar Greivin Salazar ",null,null,43335,77]
["2018-06-17",646,403,"Huésped se queja de que a la hora de reservar en el hotel acordó una cena romántica especial  cual le vendieron y prometieron y no se cumplió, el señor estaba bastante molesto porque pagó más de 100 dólares por la cena y el menú que le brindaron era el mismo menú que se le ofrece a todos los clientes, el señor argumenta que  no hay nada especial en lo que se le ofreció y lo que le molesta es que le hayan mentido, el mismo prefirió que se le reintegrara el dinero y que iba a pagar lo que consumiera como otro huésped más común y corriente. ","Asignar Greivin Salazar ",null,null,43335,77]
["2018-06-11",630,null,"Más comida tradicional de Costa Rica en los menú, ya que cuando estuvimos hospedados solo estaba abierto el restaurante italiano y japones.","Asignar Greivin Salazar ",null,null,43335,77]
["2018-06-07",621,610,"Las porciones de comida no están acorde con el precio","Asignar Greivin Salazar ",null,null,43331,77]
["2018-06-07",620,705,"Más opciones de comida vegetariana en el restaurante principal.","Asignar Greivin Salazar ",null,null,43335,77]
["2018-09-01",873,null,"Al ir a cubrir al compañero de lockers para que pudiera ir a almorzar, un huésped me comenta que deberiamos de tener más basureros al alcance en toda el area de piscinas ya que solo hay unos cerca de lockers, y cuando uno como huésped se encuentra en el area de las pergolas por ejemplo tiene que ir hasta ahí para depositar los desechos que uno tenga, lo que se hace un poco tedioso.","Asignar Greivin Arredondo",null,"compra  de basureos ","No",76]
["2018-04-19",430,706,"Huesped se queja porque no hay silla en la habitación, las camas son muy altas y ellos huespedes de baja estatura.","Asignar Greivin Arredondo",null,null,43373,76]
["2018-09-25",930,104,"El huésped hace la observación de que si a ud como huésped al llegar al Hotel en Caseta le preguntan los datos sobre la reservación, debería entonces al llegar al parqueo las personas llamarlos por el nombre y mucho menos que en Recepción vuelvan a preguntarles por el dato de la reserva.","Asignar Estibaliz Aguilar",null,null,"NO",75]
["2018-08-31",883,302,"Debería de haber una silla plastica para discapacitados en el área de duchas","Asignar Estibaliz Aguilar",null,null,"NO",75]
["2018-07-22",745,"Grupo Patty Searcy","Señoras se quejan de la oscuridad y peligro que existe cuando los huéspedes caminan de noche por el hotel, una de las señoras del grupo sufrió una caída doblandose uno de sus tobillos y cayendo estrepitosamente en unos de los caños, el problema que ellas me indican es el desnivel que existe entre el pavimento y el caño. La caída se dió por las habitaciones 501-502 donde se confirma que la visibilidad es casi nula y no es posible apreciar el desnivel que causó caída.","Asignar Estibaliz Aguilar",null,"Se va a reparar la orilla del caño y verificar luz ","NO",75]
["2018-10-02",934,121,"Chofer del grupo Grand Tour#47 se acerca sumamente molesto a recepción porque estuvo 20 minutos esperando que lo atendieran para cenar y nunca recibió la atención que esperaba, se retira molesto diciendo que ya no piensa cenar y que no puede ser posible que solo por no ser un huésped no le brinden un trato de calidad, si él igual iba a pagar la cena que se iba a comer.","Asignar Diego Cambronero",null,null,"NO",74]
["2018-09-19",923,410,"El personal en el desayuno el primer día fue bueno y amable pero en el segundo día no fue bueno, deben estar atentos a las necesidades individuales para no hacerte sentir como un huésped irritante.","Asignar Diego Cambronero",null,null,"NO",74]
["2018-09-18",921,403,"Muy caro y el sabor no es bueno en las comidas","Asignar Diego Cambronero",null,null,"NO",74]
["2018-08-17",848,null,"Las bebidas y comida en la piscina son muy caras.","Asignar Diego Cambronero",null,null,43335,74]
["2018-08-19",836,301,"Servicio muy lento","Asignar Diego Cambronero",null,null,"NO",74]
["2018-08-12",816,704,"Restaurantes tiene precios muy elevados.","Asignar Diego Cambronero",null,null,"NO ",74]
["2018-08-12",814,null,"Huésped se queja de los precios excesivos en el Sushi e Italiano.","Asignar Diego Cambronero",null,null,"NO ",74]
["2018-08-07",809,508,"Cambien los menus en ambos restaurantes","Asignar Diego Cambronero",null,null,43335,74]
["2018-08-03",806,210,"Sería muy bueno tener menus en la habitación.","Asignar Diego Cambronero",null,null,43335,74]
["2018-08-03",805,210,"Precios elevados.","Asignar Diego Cambronero",null,null,43335,74]
["2018-08-02",792,null,"Precios del restaurante y de los bares muy elevados","Asignar Diego Cambronero",null,null,43335,74]
["2018-08-02",789,"609-610","Bastante caro el Italiano.","Asignar Diego Cambronero",null,null,43335,74]
["2018-08-02",781,204,"Huéspedes se quejan de los precios, reclaman mejores precios.","Asignar Diego Cambronero",null,null,43335,74]
["2018-07-30",773,303,"Precios muy elevados en las comidas.","Asignar Diego Cambronero",null,null,43335,74]
["2018-07-26",771,null,"La comida del restaurante italiano fue deficiente","Asignar Diego Cambronero",null,null,43335,74]
["2018-07-27",758,801,"Poner precios mas bajos en los restaurantes ya que son muy caros.","Asignar Diego Cambronero",null,null,43335,74]
["2018-07-03",688,null,"Precios de la cena muy elevados","Asignar Diego Cambronero",null,null,43335,74]
["2018-06-19",676,null,"El costo de las comidas es muy caro y es mejor ir a alguna soda en el pueblo.","Asignar Diego Cambronero",null,null,43335,74]
["2018-06-16",675,null,"Cenas y bar de la piscina con precios muy elevados.","Asignar Diego Cambronero",null,null,43335,74]
["2018-06-28",670,105,"Precios sumamente caros en las comidas, deberían poner un transporte a la fortuna donde se pueda ir y comer y que ofrezcan precios razonables","Asignar Diego Cambronero",null,null,43335,74]
["2018-09-18",922,"N/A","Mejorar con un entrenamiento del personal encargado del desayuno, en la evaluación califico con un 2 la experiencia.","Asignar Antonio Ferreto ",null,null,"NO",73]
["2018-08-01",790,109,"Porciones ridiculamente pequeñas y el sushi estaba mediocre, mas arroz que pescado. ","Asignar Antonio Ferreto ","Entrevista a Josph","Manu nuevo","No",73]
["2018-08-26",863,512,"La novia de la boda la señora Yara al momento de hacer check-out se mostró muy molesta cuando se le cobró un factura correspondiente a un manicure y un pedicure del Spa. Ella nos dijo que solamente saliendo del spa el pedicure se le cayó y que fue un trabajo pésimo por el cúal no iba a pagar, ella dijo  que había hablado con un funcionario del Spa ( que no recordaba el nombre) que le dijo que no se preocupara y que no le ibamos a cobrar ese tratamiento, sin embargo nunca se informó nada a recepción ni a servicio al cliente al respecto. ","Asignar Yeimy Miranda",null,null,"No",72]
["2018-08-12",817,704,"Spa tiene precios muy elevados.","Asignar Yeimy Miranda",null,null,"NO ",72]
["2018-09-18",916,108,"Huesped que estuvo hospedado del 13 al 16 de septiembre con reserva a nombre de Carlos Urrego envió correo a Servicio al Cliente preguntando por un objeto olvidado descrito como un medicamento utilizado para su insulina que estaba dentro de un recipiente azul en el refrigerador de la habitación 108, al momento de recibir la solicitud se consulta a las mucamas para que revisen y a recepción para buscar en lost&found pero ambos indican que no hay nada por lo que se procede a responder que desafortunadamente no se encontró nada, el hecho fue que el señor hizo caso omiso al correo  y se vino manejando desde Guanacaste hasta el hotel donde pidió lo dejaran entrar para hablar con Servicio al Cliente, cuando el señor llega el insiste en que el dejó su objeto ahí por lo que amable y abiertamente le dije que aunque las mucamas no encontraron nada yo mismo iba ir a revisar a esa habitación, a pesar de que estaba fumigada y llena de humo por completo ingresé hasta el refrigerador y busqué hasta encontrar lo que el señor aseguraba había dejado. Debido a esta situación me ví por la pena de pedir disculpas por el correo enviado asegurando que no había nada y por el reporte de las mucamas que no había nada ahí, el señor solicitó fueramos mas cuidadosos con las  cosas olvidadas y me agradeció por ir a buscar minuciosamente.  ","Asignar Roberto Escoto",null,null,"No",71]
["2018-08-02",778,503,"Huéspedes molestos porque desde las 7 am entregaron lavandería y llegaron a las 7:00pm a preguntar a recepción y aún no estaba lista.","Asignar Roberto Escoto",null,null,"NO",71]
["2018-07-22",751,411,"En las habitaciones hay polvo, mejorar la limpieza","Asignar Roberto Escoto",null,null,"NO",71]
["2018-08-30",871,904,"La construcción inicia muy temprano sus labores, y eso  imposibilita dormir un poco más.","Asignar Mario Lezama",null,null,"No",70]
["2018-07-23",748,"403-211","El siguiente correo es para notificar acerca de una misma situación en la cual se  vieron afectadas 2 habitaciones, las mismas serian 403 – 211 , alrededor de las 6 pm se recibe el informe de ambas habitaciones en el cual los huéspedes informan que desde sus baños provienen olores muy fuertes y desagradables y ambos lo describen como un olor a cloaca y humedad y que les perturba su estadía en el hotel, inmediatamente se coordina con las compañeras de áreas públicas para verificar el estado de la situación, ellas nos informan que dichos olores efectivamente provienen del desagüe del baño de las duchas, ellas hacen la limpieza respectiva y de igual forma dejan fragancias en las habitaciones para disminuir dichos olores, se esperan alrededor de 30 min y mi persona juntamente con la compañera nos dirigimos para corroborar que todo se encuentre en orden, la hab 211 no posee ningún inconveniente, sin embargo la hab 403 aun contaba con un poco de olor. A los huéspedes se les ofrece el traslado de habitaciones pero ellos desean permanecer en sus habitaciones respectivas e indican que si el problema persiste aceptarán dichos cambios. Quiero hacer la connotación de que dichas situaciones al parecer es producto de las constantes lluvias y por este motivo los desagües se rebalsan emitiendo dichos olores. Favor darle el seguimiento respectivo a la situación ocurrida, cualquier consulta estoy para servirles.","Asignar Mario Lezama",null,null,"NO",70]
["2018-07-21",743,902,"Huésped reporta un fuerte olor en la habitación que los mantiene inconformes","Asignar Mario Lezama",null,null,"NO",70]
["2018-07-18",740,208,"Mal olor en habitación","Asignar Mario Lezama",null,null,"NO",70]
["2018-07-20",736,706,"Huésped se queja del ruido generado en la construcción, nos comenta que el problema es que inicia muy temprano a realizar los trabajos.","Asignar Mario Lezama",null,null,"NO",70]
["2018-09-16",908,901,"Huéspedes se quejan de que no hay un billar o futbolín para para entretenimiento.","Asignar Mainor Castro",null,null,"No",69]
["2018-09-16",904,108,"Huésped se queja porque considera que a las aguas termales se les debería se sacar mayor provecho creando baños turcos con el vapor o con algún tipo de sauna. Además sugiere que hayan canchas de tennis o volleyball, hasta inclusive mesas de ping pong en alguna área.","Asignar Mainor Castro",null,null,"No",69]
["2018-09-09",892,106,"No hay actividades recreativas ni entretenimiento en el hotel.","Asignar Mainor Castro",null,null,"No",69]
["2018-08-31",879,308,"El servicio de lavandería es muy caro","Asignar Mainor Castro",null,null,"No",69]
["2018-09-01",873,null,"Al ir a cubrir al compañero de lockers para que pudiera ir a almorzar, un huésped me comenta que deberiamos de tener más basureros al alcance en toda el area de piscinas ya que solo hay unos cerca de lockers, y cuando uno como huésped se encuentra en el area de las pergolas por ejemplo tiene que ir hasta ahí para depositar los desechos que uno tenga, lo que se hace un poco tedioso.","Asignar Mainor Castro",null,null,"No",69]
["2018-08-30",872,308,"El brochure de información del hotel necesita ser actualizado, hay muchas cosas con las que ya no se cuenta y otras en las que se ha mejorado.","Asignar Mainor Castro",null,null,"No",69]
["2018-08-30",870,904,"Poner etiquetas a todos los tomas, son tantos que uno no sabe cual es cual.","Asignar Mainor Castro",null,null,"No",69]
["2018-08-22",857,508,"La presentación del hotel en la pagina web y otros es muy pobre en comparación con la realidad. Nos hemos llevado una grata sorpresa.","Asignar Mainor Castro",null,null,"No",69]
["2018-08-22",856,506,"Hacen falta areas infantiles y zonas de esparcimiento como por ejemplo toboganes y columpios.","Asignar Mainor Castro",null,null,"No",69]
["2018-08-22",855,408,"Deberían tener ocio nocturno","Asignar Mainor Castro",null,null,"No",69]
["2018-08-21",851,506,"El área de recepción es más para restaurantes que para ser utilizada como lobby. NO hay suficiente campo para que las familias se sienten a esperar y cuando llueve no hay donde ponerse.","Asignar Mainor Castro",null,null,"NO",69]
["2018-08-16",843,306,"No se podía transferir llamadas de recepción a la hab, huésped tenía una emergencia y estaba molesto por mal funcionamiento e ineficiencia de los teléfonos del hotel.","Asignar Mainor Castro",null,null,"NO",69]
["2018-08-16",842,102,"Teléfono no funciona","Asignar Mainor Castro",null,null,"NO",69]
["2018-08-16",841,"205-206","Teléfonos no funcionan","Asignar Mainor Castro",null,null,"NO",69]
["2018-08-16",840,110,"Teléfono no sirve","Asignar Mainor Castro",null,null,"NO",69]
["2018-08-15",839,102,"Teléfono no sirve","Asignar Mainor Castro",null,null,"NO",69]
["2018-08-20",838,105,"Un mejor rotulo en la carretera que muestre bien la dirección del Hotel","Asignar Mainor Castro",null,null,"NO",69]
["2018-08-19",833,null,"Sería bueno colocar una grada entre la piscina de agua termal de bar las iguana y que lleve al jacuzzi","Asignar Mainor Castro",null,null,"NO",69]
["2018-03-30",828,"Perry Pawelka","la única área para mejorar sería un poco más que hacer en el sitio y / o una forma un poco más fácil de llegar a la ciudad","Asignar Mainor Castro",null,null,"NO ",69]
["2018-08-14",823,601,"Los brazaletes son algo ridículo y ademas incomodos, me sentí como si fuera un ganado que etiquetan.","Asignar Mainor Castro",null,null,"NO ",69]
["2018-08-12",819,203,"Necesitan actividades para huéspedes como música, bailes.","Asignar Mainor Castro",null,null,"NO ",69]
["2018-08-05",801,108,"Teléfono no sirve","Asignar Mainor Castro",null,null,"NO",69]
["2018-08-05",800,202,"Teléfono no sirve","Asignar Mainor Castro",null,null,"NO",69]
["2018-08-05",799,102,"Teléfono no sirve","Asignar Mainor Castro",null,null,"NO",69]
["2018-08-05",798,101,"Teléfono no sirve","Asignar Mainor Castro",null,null,"NO",69]
["2018-08-05",797,706,"Teléfono no sirve","Asignar Mainor Castro",null,null,"NO",69]
["2018-08-05",796,106,"Teléfono no sirve","Asignar Mainor Castro",null,null,"NO",69]
["2018-08-05",795,110,"Teléfono no sirve","Asignar Mainor Castro",null,null,"NO",69]
["2018-08-01",791,null,"El hotel parece estar expandiendose y sino estas en algún tour es sumamente molesto el ruido de la construcción mientras estas en la habitación","Asignar Mainor Castro",null,null,"NO",69]
["2018-08-01",790,109,"Porciones ridiculamente pequeñas y el sushi estaba mediocre, mas arroz que pescado. ","Asignar Mainor Castro",null,null,"NO",69]
["2018-07-04",768,null,"EN el desayuno vimos varias moscas sobre los alimentos, incluso habían 2 ahogadas en el yogurt por lo que evitamos esos alimentos","Asignar Mainor Castro",null,null,"NO",69]
["2018-07-04",767,null,". Además ojala y pudieran brindar juegos para la habitación o algo para que se entretengan los niños.","Asignar Mainor Castro",null,null,"NO",69]
["2018-07-22",747,"209-210","fuerte reclamo de su parte por el hecho de que se les dieron habitaciones diferentes a las que se les prometió cuando reservaron. Cuando se les realizó el check-in los huéspedes daban por hecho que se les iban a otorgar las habitaciones 311 y 312 debido a que en frente de estas habitaciones hay jardines y zonas verdes que básicamente a lo que nos dicen fue por esa la razón principal de su visita. A la hora de abordar la queja, a la señora se le explica que las habitaciones 209-210 tienen exactamente las mismas características ( Puertas Conectadas, 1 cama King y 2 camas Queen), sin embargo ella muy decepcionada y molesta nos insiste en un explicación del porque se le está entregando algo diferente si eso no fue lo acordado. Por más que se le intentó explicar la similitud de las habitaciones ella solicitó hablar con los encargados de las reservas, pero esto no fue posible debido a que no se encontraban. Les expliqué que no podríamos cumplir su solicitud ni hoy ni mañana porque no podíamos sacar a los huéspedes de las habitaciones 311-312 y que estos salían hasta el día 24/07/2018. La opción más viable fue compensarles con la cena carta paquete cortesía. Quisiera resaltar que fue necesario hablar con ellos en dos ocasiones frente a frente y una por teléfono para poder llegar a un acuerdo y que aceptaran la compensación. Me di a la tarea de ofrecerles las disculpas porque no se pudo cumplir lo que solicitaron e indiqué que nos hacíamos responsables de la situación y que esperábamos pudieran pasar una muy buena estadía . ","Asignar Mainor Castro",null,null,"NO",69]
["2018-07-22",745,"Grupo Patty Searcy","Señoras se quejan de la oscuridad y peligro que existe cuando los huéspedes caminan de noche por el hotel, una de las señoras del grupo sufrió una caída doblandose uno de sus tobillos y cayendo estrepitosamente en unos de los caños, el problema que ellas me indican es el desnivel que existe entre el pavimento y el caño. La caída se dió por las habitaciones 501-502 donde se confirma que la visibilidad es casi nula y no es posible apreciar el desnivel que causó caída.","Asignar Mainor Castro",null,null,"NO",69]
["2018-07-13",726,904,"Huéspedes muy molestos por transfer contratado con nosotros que no llegó a recogerlos a la hora y el día acordado, por lo que los huéspedes pagaron una transfer privado hasta el hotel.","Asignar Mainor Castro",null,null,"NO",69]
["2018-07-09",712,401,"Promover actividades para adolescentes donde se reúnan, compartan y se conozcan.","Asignar Mainor Castro",null,null,"NO",69]
["2018-07-07",701,110,"Por favor modernizar instalaciones del gimnasio. Como pueden ver, todo fue calificado como excelente pero las maquinas del gimnasio no estan acordes con la calidad del hotel.","Asignar Mainor Castro",null,null,"NO",69]
["2018-06-13",674,null,"El sushi es pésimo, la calidad de los ingredientes es terrible (cero frescos), las combinaciones de sabor fatal, el arroz no tiene la textura adecuada y tampoco buena presentación. \r\nNo entiendo como un hotel tan bello puede ofrecer un sushi tan terrible :(\r\n","Asignar Mainor Castro",null,null,"NO",69]
["2018-06-27",664,602,"El restaurante nacional debería de tener más decoración costarricense, más musica típica para el desayuno e instrumental para la noche","Asignar Mainor Castro",null,null,"NO",69]
["2018-06-11",634,202,"Promover una noche para bailar, o bien tener más buena música.","Asignar Mainor Castro",null,null,"NO",69]
["2018-09-18",919,802,"Huéspedes enfadados por fumigación en el rest Ti Cain que provocó una nube de humo en las termales.","Asignar Jairo Garcia",null,null,"No",68]
["2018-09-18",918,801,"Huésped se acerca a lockers quejandose porque la fumigación que se lleva a cabo en el Ti-Cain provoca que todo el humo se vaya para las termales donde se encuentran sus niños, y eso le molestó mucho. El mismo reclamó que como iban a hacer eso mientras estaban ellos bañandose y disfrutando de las termales.","Asignar Jairo Garcia",null,null,"No",68]
["2018-09-18",915,312,"Huésped reporta que no pudieron dormir debido a que en la habitación hay bichos.","Asignar Jairo Garcia",null,null,"NO",68]
["2018-09-17",913,902,"Aire Acondicionado no funciona","Asignar Jairo Garcia",null,null,"No",68]
["2018-09-15",905,606,"Huéspedes se quejan por mal funcionamiento del A/C, el mismo no enfría bien y las huéspedes no estan a gusto a pesar que mantenimiento fue a revisar. Según ellas la potencia no es la que debería de tener.","Asignar Jairo Garcia",null,null,"No",68]
["2018-09-03",884,611,"Huésped molesto se queja de la capacidad del agua caliente, según indica el agua caliente solamente dura 3 minutos y luego no sale mas caliente. Y esto a perjudicado su estancia ya que todos los días sucedió lo mismo.","Asignar Jairo Garcia",null,null,"NO",68]
["2018-09-01",876,505,"Reducir el ruido producido por el aire acondicionado, durante la noche se escucha mucho","Asignar Jairo Garcia",null,null,"No",68]
["2018-08-29",868,302,"Mejorar el flujo de agua caliente en el grifo del baño","Asignar Jairo Garcia",null,null,"No",68]
["2018-08-25",861,312,"Huéspedes reportan al check out, que la habitación tiene una gotera la cual cae sobre la cama que está más cercana a la puerta principal","Asignar Jairo Garcia",null,null,"No",68]
["2018-08-15",831,"414-415","Huéspedes se quejan porque la temperatura del agua en las habitaciones no es caliente lo suficiente, además indican que el jacuzzi al momento de llenarse no aguanta la presión del agua y al parecer el tapon se safa y se comienza a drenar el agua.","Asignar Jairo Garcia",null,null,"NO",68]
["2018-08-14",821,401,"El baño debería tener una superficie no resbaloso como algún tipo de alfombra de hule.","Asignar Jairo Garcia",null,null,"NO ",68]
["2018-08-12",820,"414-415","Huésped se queja por el funcionamiento del aire y porque en la 415 si hay agua caliente y en la 414 no.","Asignar Jairo Garcia",null,null,"NO ",68]
["2018-08-12",818,711,"El aire acondicionado esta descompuesto y se cambia de temperatura solo, además en la ducha había un tornillo del techo.","Asignar Jairo Garcia",null,null,"NO ",68]
["2018-08-11",812,406,"Huésped se queja al check out, que los tomas no funcionan bien","Asignar Jairo Garcia",null,null,"NO ",68]
["2018-07-27",763,112,"Limpieza en términos de insectos debe mejorar con algún spray en el closet o baño para eliminar insectos.","Asignar Jairo Garcia",null,null,43333,68]
["2018-09-19",920,"N/A","Fuerte olor a boñiga en toda la recepción y restaurante italiano.","Asignar Greivin Arredondo",null,null,"No",67]
["2018-09-02",885,211,"Huésped se queja de la no información acerca de los canales de TV, no sabía cuales estaban disponibles ni cuales eran en ingles.","Asignar Greivin Arredondo",null,null,"NO",67]
["2018-08-18",834,506,"Muchas moscas en el desayuno","Asignar Greivin Arredondo",null,null,"NO",67]
["2018-08-15",830,405,"Huésped se queja que en la lista de canales se muestra el canal italiano sin embargo a la hora de buscarlo no está, pide que actualicen la lista de canales ya que están brindando información falsa y engañosa.","Asignar Greivin Arredondo",null,null,"NO",67]
["2018-07-10",724,107,"Las instrucciones del coffee maker no están claras, es para hervir agua o solo calentarla? Si no lo dice no lo sabran los huéspedes. Además las instrucciones de como encender el ventilador de techo no se ven.","Asignar Greivin Arredondo",null,null,43358,67]
["2018-06-19",651,512,"El jacuzzi de la habitación no le funciona el agua termal","Asignar Greivin Arredondo",null,null,43321,67]
["2018-06-11",632,202,"Sería genial tener una silla en la habitación","Asignar Greivin Arredondo",null,null,43349,67]
["2018-09-18",917,405,"Huésped muy molesto se acercó a recepción reclamando que Edward le vendió un Tour de perezosos donde iba ver algunos perezosos y vida silvestre, sin embargo dice que no vió nada más que un tucán muerto. Ël mismo canceló los tour del siguiente día y se encontraba bastante enfadado por lo que le prometieron y no se cumplió.","Asignar Estibaliz Aguilar",null,null,"No",66]
["2018-09-17",910,104,"Huésped se queja de la manera en que no la dejaron ingresar al rest. Italiano, a la señora la mantuvieron esperando en recepción sin indicarle nada mientras iban a preguntar a un superior si podía o no entrar como andaba vestida, ella se molestó porque otra mujer andaba vestida muy parecido y si la dejaron entrar. Ella al hacer check-out nos hizo la observación que se sintió insultada y que fue totalmente inapropiado que la mantuvieran sin entrar durante unos minutos.","Asignar Diego Cambronero",null,null,"No",65]
["2018-09-16",907,110,"Comida del italiano de poca calidad","Asignar Diego Cambronero",null,null,"No",65]
["2018-09-15",906,405,"Restaurate italiano lo encontramos con precios un poco caros.","Asignar Diego Cambronero",null,null,"No",65]
["2018-09-13",903,401,"Precios del bar del Sushi muy elevados","Asignar Diego Cambronero",null,null,"No",65]
["2018-09-13",902,101,"No hay suficientes opciones","Asignar Diego Cambronero",null,null,"No",65]
["2018-09-11",899,201,"Precios muy elevados.","Asignar Diego Cambronero",null,null,"No",65]
["2018-09-05",898,311,"Un menú en la habitación de los diferentes restaurantes es lo que falta.","Asignar Diego Cambronero",null,null,"No",65]
["2018-09-06",896,303,"Huésped se queja porque no se ofrece comida local. La comida fue mediocre, el esposo pidió un sandwich de pollo que tenía muy poco pollo y mucho pan. Si yo fuera el chef, preferiría ofrecer comida que comen los locales y no comida que se puede conseguir en USA.","Asignar Diego Cambronero",null,null,"No",65]
["2018-09-09",895,707,"Anoche fuimos testigos de una situación en el Bar Sushi acerca de que se acabó el Sushi, nos pareció que son asuntos operativos que los clientes no deben enterarse. Sabemos que son cosas que pasan y que es positivo porque es sinonimo de venta, sin embargo debería de manejarse de una mejor manera.","Asignar Diego Cambronero",null,null,"No",65]
["2018-09-08",890,108,"Nos parecio excesivo el precio de las comidas en el Rest. Italiano","Asignar Diego Cambronero",null,null,"No",65]
["2018-09-06",888,312,"Cuando hay poca gente en el desayuno los comentarios de los empleados molestan ya que comentan cosas que no son del trabajo, haya poca o mucha gente los empleados deben saber ser profesionales y abtenerse de risas, comentarios, etc.","Asignar Diego Cambronero",null,null,"No",65]
["2018-08-31",882,308,"El precio que se debe pagar por todo el hotel hace pensar que es de muy alta calidad, sin embargo esto no es así","Asignar Diego Cambronero",null,null,"NO",65]
["2018-08-31",881,308,"Los precios de los restaurantes son muy caros y la comida muy mediocre","Asignar Diego Cambronero",null,null,"NO",65]
["2018-08-31",878,308,"El chicken gyoza en el bar húmedo es muy malo y los precios son muy caros ","Asignar Diego Cambronero",null,null,"NO",65]
["2018-09-01",875,901,"Mejores alternativas de alimentación, excepto el desayuno el cual es muy bueno","Asignar Diego Cambronero",null,null,"No",65]
["2018-08-31",874,307,"El vino es muy caro en los restaurantes","Asignar Diego Cambronero",null,null,"No",65]
["2018-08-30",869,904,"Los pancakes se secan mucho al estar expuestos al aire libre","Asignar Diego Cambronero",null,null,"No",65]
["2018-08-26",867,508,"Huésped se queja de los precios que son muy elevados.","Asignar Diego Cambronero",null,null,"No",65]
["2018-08-26",866,508,"La comida en el buffet es escasa y muy repetitiva.","Asignar Diego Cambronero",null,null,"No",65]
["2018-08-24",865,208,"Huésped molesto porque se le sirvió un pollo crudo y él indica que eso es de mucho cuidado porque puede enfermar a una persona, esto provocó que se fueran muy temprano del hotel al check-out porque querían visitar otro restaurante.","Asignar Diego Cambronero",null,null,"No",65]
["2018-08-25",862,505,"Huésped indica que debemos mejorar en el tema de alimentos y calidad.","Asignar Diego Cambronero",null,null,"No",65]
["2018-08-23",860,506,"Tener más opciones de comida nacional","Asignar Diego Cambronero",null,null,"No",65]
["2018-08-23",858,305,"Falta ofrecer pan libre de glutten como opción. ","Asignar Diego Cambronero",null,null,"No",65]
["2018-08-22",854,408,"Mas variedad en restaurantes.","Asignar Diego Cambronero",null,null,"No",65]
["2018-08-21",853,711,"El desayuno es bueno pero estaba muy lleno por lo que sería bueno tener algunas cosas precocinadas como los huevos revueltos.","Asignar Diego Cambronero",null,null,"No",65]
["2018-08-21",852,604,"Deberian tener mejores opciones vegetarianas y harinas integrales","Asignar Diego Cambronero",null,null,43335,65]
["2018-08-17",848,null,"Las bebidas y comida en la piscina son muy caras.","Asignar Diego Cambronero",null,null,43335,65]
["2018-08-17",846,null,"La comida italiana esta sobrevalorada y sin buen sabor, además las porciones son muy pequeñas.","Asignar Diego Cambronero",null,null,43335,65]
["2018-08-13",845,101,"Los restaurantes son muy caros y la comida mas o menos.","Asignar Diego Cambronero",null,null,43335,65]
["2018-08-20",837,504,"Se puede mejorar el desayuno","Asignar Diego Cambronero",null,null,43335,65]
["2018-08-19",836,301,"Servicio muy lento","Asignar Diego Cambronero",null,null,"NO",65]
["2018-04-05",829,"Mary Blackport","La comida en los restaurantes estuvo horrible, yo no recomendaria ir a comer ahí","Asignar Diego Cambronero",null,null,"NO ",65]
["2018-03-31",827,"Heather Burgess","El servicio estuvo mas o menos. Y las opciones de cenas no nos inspiraron por lo que decidimos ir al pueblo a cenar.","Asignar Diego Cambronero",null,null,"NO ",65]
["2018-06-16",826,"Damary Santiago","Las opciones de almuerzo y cena estuvieron muy caras y limitadas.","Asignar Diego Cambronero",null,null,"NO ",65]
["2018-06-23",824,"Tim Brinkley","La variedad y selección de la comida estuvo muy por debajo del promedio","Asignar Diego Cambronero",null,null,"NO ",65]
["2018-08-14",822,904,"Necesita variedad en las opciones de comidas y un menú mas barato en el bar.","Asignar Diego Cambronero",null,null,"NO ",65]
["2018-08-12",816,704,"Restaurantes tiene precios muy elevados.","Asignar Diego Cambronero",null,null,"NO ",65]
["2018-08-11",815,504,"La comida es muy cara, por favor tener opciones mas cómodas.","Asignar Diego Cambronero",null,null,"NO ",65]
["2018-08-12",814,null,"Huésped se queja de los precios excesivos en el Sushi e Italiano.","Asignar Diego Cambronero",null,null,"NO ",65]
["2018-08-07",809,508,"Cambien los menus en ambos restaurantes","Asignar Diego Cambronero",null,null,43335,65]
["2018-08-03",806,210,"Sería muy bueno tener menus en la habitación.","Asignar Diego Cambronero",null,null,43335,65]
["2018-08-03",805,210,"Precios elevados.","Asignar Diego Cambronero",null,null,43335,65]
["2018-08-04",794,null,"Se queja de la comida de los restaurantes los cuales fueron una estafa, muy baja calidad en las comidas. La pizza fue la peor que ha comido, muy mala. Además precios sumamente caros por nada especial a cambio.","Asignar Diego Cambronero",null,null,43334,65]
["2018-08-02",792,null,"Precios del restaurante y de los bares muy elevados","Asignar Diego Cambronero",null,null,43335,65]
["2018-08-02",789,"609-610","Bastante caro el Italiano.","Asignar Diego Cambronero",null,null,43335,65]
["2018-08-04",786,511,"Variedad limitada en opciones de glutten, problemas con inocuidad.","Asignar Diego Cambronero",null,null,43335,65]
["2018-08-04",785,512,"Más opciones libres de glutten son muy necesarias","Asignar Diego Cambronero",null,null,43335,65]
["2018-08-04",784,401,"La comida en el Italiano muy cara.","Asignar Diego Cambronero",null,null,43335,65]
["2018-08-02",782,801,"Huéspedes se quejan que las porciones del restaurante italiano son pequeñas y muy caras.","Asignar Diego Cambronero",null,null,43335,65]
["2018-08-02",781,204,"Huéspedes se quejan de los precios, reclaman mejores precios.","Asignar Diego Cambronero",null,null,43335,65]
["2018-07-30",773,303,"Precios muy elevados en las comidas.","Asignar Diego Cambronero",null,null,43335,65]
["2018-07-26",771,null,"La comida del restaurante italiano fue deficiente","Asignar Diego Cambronero",null,null,43335,65]
["2018-07-17",770,null,"El restaurante principal de la cena en sí es bastante caro y nada especial. No había nada de malo en ello, pero nos habíamos acostumbrado a grandes porciones de Costa Rica, y nuestra cena aquí era mucho más pequeña y no estuvo a la altura de la comida que tuvimos en otro lugar en nuestro viaje.","Asignar Diego Cambronero",null,null,43335,65]
["2018-07-02",765,null," la selección de los alimentos en el desayuno es pobre, mi esposo quería salchicha o tocino y no fue posible. Además las cenas son muy caras y las porciones muy pequeñas.","Asignar Diego Cambronero",null,null,43335,65]
["2018-07-01",764,null,"Como otros comentarios de otros huéspedes también terminamos decepcionados de la cena,  los precios son demasiado elevados y la calidad de la comida en relación a otros hoteles quedó debiendo","Asignar Diego Cambronero",null,null,43335,65]
["2018-07-27",758,801,"Poner precios mas bajos en los restaurantes ya que son muy caros.","Asignar Diego Cambronero",null,null,43335,65]
["2018-07-13",725,406,"NO hay variedad en menú para niños.","Asignar Diego Cambronero",null,null,43335,65]
["2018-07-03",688,null,"Precios de la cena muy elevados","Asignar Diego Cambronero",null,null,43335,65]
["2018-06-29",681,411,"Mejor selección en calidad de las comidas.","Asignar Diego Cambronero",null,null,43335,65]
["2018-07-02",679,null,"Cena muy limitada y con precio elevado.","Asignar Diego Cambronero",null,null,43335,65]
["2018-07-01",677,null,"Muy decepcionados con la cena, precios muy caros y calidad de la comida no es equivalente a los que cobran en comparación con otros hoteles de la zona.","Asignar Diego Cambronero",null,null,43335,65]
["2018-06-19",676,null,"El costo de las comidas es muy caro y es mejor ir a alguna soda en el pueblo.","Asignar Diego Cambronero",null,null,43335,65]
["2018-06-16",675,null,"Cenas y bar de la piscina con precios muy elevados.","Asignar Diego Cambronero",null,null,43335,65]
["2018-06-28",670,105,"Precios sumamente caros en las comidas, deberían poner un transporte a la fortuna donde se pueda ir y comer y que ofrezcan precios razonables","Asignar Diego Cambronero",null,null,43335,65]
["2018-06-27",666,301,"Tener productos que sean organicos","Asignar Diego Cambronero",null,null,43335,65]
["2018-06-27",665,301,"Menú para niños","Asignar Diego Cambronero",null,null,43335,65]
["2018-06-17",646,403,"Huésped se queja de que a la hora de reservar en el hotel acordó una cena romántica especial  cual le vendieron y prometieron y no se cumplió, el señor estaba bastante molesto porque pagó más de 100 dólares por la cena y el menú que le brindaron era el mismo menú que se le ofrece a todos los clientes, el señor argumenta que  no hay nada especial en lo que se le ofreció y lo que le molesta es que le hayan mentido, el mismo prefirió que se le reintegrara el dinero y que iba a pagar lo que consumiera como otro huésped más común y corriente. ","Asignar Diego Cambronero",null,null,43335,65]
["2018-06-11",630,null,"Más comida tradicional de Costa Rica en los menú, ya que cuando estuvimos hospedados solo estaba abierto el restaurante italiano y japones.","Asignar Diego Cambronero",null,null,43335,65]
["2018-06-07",621,610,"Las porciones de comida no están acorde con el precio","Asignar Diego Cambronero",null,null,43331,65]
["2018-06-07",620,705,"Más opciones de comida vegetariana en el restaurante principal.","Asignar Diego Cambronero",null,null,43335,65]
["6/9/2018",887,"306","Huésped molesto por ruido de refrigerador, indica que no lo deja dormir.","Asignar Dariel Miranda",null,null,"No",64]
["2018-08-31",883,302,"Debería de haber una silla plastica para discapacitados en el área de duchas","Asignar Dariel Miranda",null,null,"NO",64]
["2018-08-21",850,506,"EL hotel está pensado solo para adultos. NO hay areas infantiles ni salas de juego donde ellos puedan despejarse y divertirse.","Asignar Dariel Miranda",null,null,"NO",64]
["2018-08-17",849,null,"Los precios de lavandería son una broma. Preferí llevar mi ropa a lavar a la Fortuna.","Asignar Dariel Miranda",null,null,"NO",64]
["2018-06-30",680,203,"La refrigeradora hace mucho ruido","Asignar Dariel Miranda",null,null,43321,64]
["2018-06-11",631,202,"El shampoo podría ser mejor","Asignar Dariel Miranda",null,null,43321,64]
["2018-06-08",618,712,"El refrigerador produce demasiado ruido","Asignar Dariel Miranda",null,null,43321,64]
["2018-09-05",898,311,"Un menú en la habitación de los diferentes restaurantes es lo que falta.","Asignar Diego Cambronero",null,null,"No",63]
["2018-09-06",896,303,"Huésped se queja porque no se ofrece comida local. La comida fue mediocre, el esposo pidió un sandwich de pollo que tenía muy poco pollo y mucho pan. Si yo fuera el chef, preferiría ofrecer comida que comen los locales y no comida que se puede conseguir en USA.","Asignar Diego Cambronero",null,null,"No",63]
["2018-09-09",895,707,"Anoche fuimos testigos de una situación en el Bar Sushi acerca de que se acabó el Sushi, nos pareció que son asuntos operativos que los clientes no deben enterarse. Sabemos que son cosas que pasan y que es positivo porque es sinonimo de venta, sin embargo debería de manejarse de una mejor manera.","Asignar Diego Cambronero",null,null,"No",63]
["2018-09-08",890,108,"Nos parecio excesivo el precio de las comidas en el Rest. Italiano","Asignar Diego Cambronero",null,null,"No",63]
["2018-09-06",888,312,"Cuando hay poca gente en el desayuno los comentarios de los empleados molestan ya que comentan cosas que no son del trabajo, haya poca o mucha gente los empleados deben saber ser profesionales y abtenerse de risas, comentarios, etc.","Asignar Diego Cambronero",null,null,"No",63]
["6/9/2018",887,"306","Huésped molesto por ruido de refrigerador, indica que no lo deja dormir.","Asignar Dariel Miranda",null,null,"No",62]
["2018-09-09",892,106,"No hay actividades recreativas ni entretenimiento en el hotel.","Asignar Mainor Castro",null,null,"No",61]
["6/9/2018",887,"306","Huésped molesto por ruido de refrigerador, indica que no lo deja dormir.","Asignar Dariel Miranda",null,null,"No",61]
["2018-04-30",474,110,"Los cocteles y bebidas en general muy caros y con mejoras pendientes en calidad",null,null,null,null,60]
["2018-04-29",470,201,"Huesped indica que deberían agregar mas espacios en la piscina para descansar, ejemplo: camitas de piedra en el agua y no solo asientos.",null,null,null,null,60]
["2018-04-29",469,311,"El mojito estaba horrible y muy caro",null,null,null,null,60]
["2018-04-29",467,106,"Puerta del baño se encuentra mala y caída.",null,null,null,null,60]
["2018-04-29",466,111,"Huesped solicita mejor la calidad del pepperoni de las pizzas.",null,null,null,null,60]
["2018-04-28",464,106,"Huesped indica que la música del bar húmedo podría mejorar y no ser aburrida y desactualizada.",null,null,null,null,60]
["2018-04-26",461,104,"La ceramica de la hab es muy resbalosa y cuando esta mojada es muy dificl caminar para las personas que tenemos problemas caminando",null,null,null,null,60]
["2018-04-27",460,103,"Mas opciones para el menu de desayuno, todos los días lo mismo no nos hace felices",null,null,null,null,60]
["2018-04-24",449,106,"Huésped comenta que los grupos de niños son muy ruidosos y si el hotel vende tranquilidad debería de cumplirse, se sintío inconforme en areas comunes e incluso en la habitación. ",null,null,null,null,60]
["2018-04-22",447,201,"Pusimos el rotulo de no cambiar las toallas pero si las cambiaron.",null,null,null,null,60]
["2018-04-21",443,310,"Huesped indica que debería haber un tomacorriente especial cerca de la mesa para cargar la computadora",null,null,null,null,60]
["2018-04-20",433,108,"Después de haberlos cambiado de la 601 a la habitación 108, la señora Brandi reporta que hay una cucaracha dentro de la habitación y por este motivo estaba muy molesta",null,null,null,null,60]
["2018-04-18",426,111,"Huesped se queja que entre las 5 y 7 pm deberían haber mas bartenders ya que hay que esperar mucho para ser atendido y mas tiempo para que le hagan un cocktail. ",null,null,null,null,60]
["2018-04-18",425,112,"Huesped indica que se necesita un espejo afuera del baño.",null,null,null,null,60]
["2018-04-30",474,110,"Los cocteles y bebidas en general muy caros y con mejoras pendientes en calidad",null,null,null,null,59]
["2018-04-29",470,201,"Huesped indica que deberían agregar mas espacios en la piscina para descansar, ejemplo: camitas de piedra en el agua y no solo asientos.",null,null,null,null,59]
["2018-04-29",469,311,"El mojito estaba horrible y muy caro",null,null,null,null,59]
["2018-04-29",467,106,"Puerta del baño se encuentra mala y caída.",null,null,null,null,59]
["2018-04-29",466,111,"Huesped solicita mejor la calidad del pepperoni de las pizzas.",null,null,null,null,59]
["2018-04-28",464,106,"Huesped indica que la música del bar húmedo podría mejorar y no ser aburrida y desactualizada.",null,null,null,null,59]
["2018-04-26",461,104,"La ceramica de la hab es muy resbalosa y cuando esta mojada es muy dificl caminar para las personas que tenemos problemas caminando",null,null,null,null,59]
["2018-04-27",460,103,"Mas opciones para el menu de desayuno, todos los días lo mismo no nos hace felices",null,null,null,null,59]
["2018-04-24",449,106,"Huésped comenta que los grupos de niños son muy ruidosos y si el hotel vende tranquilidad debería de cumplirse, se sintío inconforme en areas comunes e incluso en la habitación. ",null,null,null,null,59]
["2018-04-22",447,201,"Pusimos el rotulo de no cambiar las toallas pero si las cambiaron.",null,null,null,null,59]
["2018-04-21",443,310,"Huesped indica que debería haber un tomacorriente especial cerca de la mesa para cargar la computadora",null,null,null,null,59]
["2018-04-20",433,108,"Después de haberlos cambiado de la 601 a la habitación 108, la señora Brandi reporta que hay una cucaracha dentro de la habitación y por este motivo estaba muy molesta",null,null,null,null,59]
["2018-04-18",426,111,"Huesped se queja que entre las 5 y 7 pm deberían haber mas bartenders ya que hay que esperar mucho para ser atendido y mas tiempo para que le hagan un cocktail. ",null,null,null,null,59]
["2018-04-18",425,112,"Huesped indica que se necesita un espejo afuera del baño.",null,null,null,null,59]
["-","Digite aquí el # Queja","-","-",null,null,null,"No",58]
["2018-09-10",892,905,"esta muy feo","Asignar Mario Lezama",null,null,"No",58]
["2018-09-10",891,105,"akjshdlaksdhdlasdhlsdajhlsdakjhlkhsdflkjhslkjghlksahlsdakhdsfhdslfakjhsdalkhlsdfh","Asignar Greivin Arredondo",null,null,"No",58]
["2018-09-10",890,102,"asdfhasjfhdkalsjhsflkajhsflkashflkajshflkjhlkasjfhdasdkjhfsakljhfdkjashsfkjasdhfkahfsdfhj","Asignar Arnaldo Moreira",null,null,"No",58]
["2018-09-06",888,312,"Cuando hay poca gente en el desayuno los comentarios de los empleados molestan ya que comentan cosas que no son del trabajo, haya poca o mucha gente los empleados deben saber ser profesionales y abtenerse de risas, comentarios, etc.",null,null,null,"No",58]
["2018-09-06",887,"306","Huésped molesto por ruido de refrigerador, indica que no lo deja dormir.",null,null,null,"No",58]
[null,null,null,null,null,null,null,"No",58]
["1900-01-01"]

{"sheet":"Matriz","index":6,"n_rows":9,"n_cols":8,"rows_kept":9,"cut":false,"hidden":false,"merged":[[0,3,0,5],[2,1,4,1]]}
[null,null,null,"OCURRENCIA",null,null,null,"Tipo Cliente"]
[null,null,null,"BAJO","MEDIO","ALTO",null,"C1"]
[null,"IMPACTO","ALTO",null,null,null,null,"C2"]
[null,null,"MEDIO",null,null,null,null,"C-2 C-3"]
[null,null,"BAJO",null,null,null,null,"C3"]
[]
[null,null,null,"CATEGORIA","ROJA","24 HORAS"]
[null,null,null,null,"AMARILLO","3 A 8 DÍAS"]
[null,null,null,null,"VERDE","15 DÍAS"]

{"sheet":"Datos","index":7,"n_rows":140,"n_cols":16,"rows_kept":140,"cut":false,"hidden":false,"merged":[]}
["Nombres","Puestos","Quien puso la queja","Tipo Cliente","Areas de Quejas","Medotodo de Capturación","Valoración","Codi","Designación","Departamento","Respuesta","Tipo infor","#Hab","Codigo","Payasos","Columna1"]
["Marianela Sancho ","Servicio Cliente","Huésped","C1","Ti-Cain","Tripadvisor","Roja","01","Asignar Arnaldo Moreira","A&B","Si","Queja",101,1,"A/C",{"$f":"COUNTIF(Resumen_payasos[Payaso],Tabla_Payasos[[#This Row],[Payasos]])","v":25}]
["Deyvin Aguirre ","Recepción","Guía","C2","Sushi","Hj Evaluacion Gen","Amarilla","02","Asignar Dariel Miranda","Recpción","No","Sugerencia",102,2,"Acera para transitar ",{"$f":"COUNTIF(Resumen_payasos[Payaso],Tabla_Payasos[[#This Row],[Payasos]])","v":2}]
["Erika Vanegas","Supervisora Recep","Colaborador","C3","Italiano","HJ Evaluacion Agencia","Verde","03","Asignar Dayana Miranda","Compras","N/A","N/A",103,3,"Actividad nocturna",{"$f":"COUNTIF(Resumen_payasos[Payaso],Tabla_Payasos[[#This Row],[Payasos]])","v":2}]
["Felipe Mendez","Capitán","Mayorista","C4","Barril","Llamada a Recepción","Desestimada","04","Asignar Diego Cambronero","Sostenibilidad","Sin Resolucion",null,104,4,"Agua caliente",{"$f":"COUNTIF(Resumen_payasos[Payaso],Tabla_Payasos[[#This Row],[Payasos]])","v":13}]
["Fernando Sandoval","Botones","Agencia","C2-C3","Habitaciones","Check-out",null,"05","Asignar Estibaliz Aguilar","Ama de Llaves",null,null,105,5,"Agua llovida italiano",{"$f":"COUNTIF(Resumen_payasos[Payaso],Tabla_Payasos[[#This Row],[Payasos]])","v":1}]
["Gerardo Melendez","Lockers",null,"N/A","Bar Húmedo","Servicio al Cliente",null,"06","Asignar Gilberth Mejías","Lavaderia",null,null,106,6,"Agua potable",{"$f":"COUNTIF(Resumen_payasos[Payaso],Tabla_Payasos[[#This Row],[Payasos]])","v":2}]
["Javier Arias","Gerente",null,null,"Recepción","Recepción",null,"07","Asignar Greivin Arredondo","N/A",null,null,107,7,"Alarmas ",{"$f":"COUNTIF(Resumen_payasos[Payaso],Tabla_Payasos[[#This Row],[Payasos]])","v":5}]
["Jean Pierre Brenes",null,null,null,"Hotel","Llamada de bienvenida",null,"08","Asignar Iván Ramírez","Gerente",null,null,108,8,"Alfombra en escaleras",{"$f":"COUNTIF(Resumen_payasos[Payaso],Tabla_Payasos[[#This Row],[Payasos]])","v":1}]
["Jose Hernandez ",null,null,null,"Souvenir","Retroalimentación Inspección",null,"09","Asignar Jairo Garcia","Mantenimientos",null,null,109,9,"Amenidades",{"$f":"COUNTIF(Resumen_payasos[Payaso],Tabla_Payasos[[#This Row],[Payasos]])","v":3}]
["Liz Aguilar ",null,null,null,"Aguas Termales",null,null,"10","Asignar Don Minor Castro","Galería ",null,null,110,10,"Área  para niños ",{"$f":"COUNTIF(Resumen_payasos[Payaso],Tabla_Payasos[[#This Row],[Payasos]])","v":3}]
["Luis Carlos Navarro ",null,null,null,"Tour Desk",null,null,"11","Asignar Roberto Escoto",null,null,null,111,11,"Aseo en habitación",{"$f":"COUNTIF(Resumen_payasos[Payaso],Tabla_Payasos[[#This Row],[Payasos]])","v":1}]
["Oscar Retana",null,null,null,"Piscina",null,null,"12","Asignar Randall Salazar",null,null,null,112,12,"Baño resbalozo ",{"$f":"COUNTIF(Resumen_payasos[Payaso],Tabla_Payasos[[#This Row],[Payasos]])","v":1}]
[null,null,null,null,"Spa",null,null,"13","Asignar Mario Lezama",null,null,null,201,13,"Basurero baño",{"$f":"COUNTIF(Resumen_payasos[Payaso],Tabla_Payasos[[#This Row],[Payasos]])","v":2}]
[null,null,null,null,"Salón Manantial",null,null,"14","Asignar Miguel Múnera",null,null,null,202,14,"Basurero jardines",{"$f":"COUNTIF(Resumen_payasos[Payaso],Tabla_Payasos[[#This Row],[Payasos]])","v":2}]
[null,null,null,null,"Lockers",null,null,"15","Asignar Yeimy Miranda",null,null,null,203,15,"Batas de baño",{"$f":"COUNTIF(Resumen_payasos[Payaso],Tabla_Payasos[[#This Row],[Payasos]])","v":1}]
[null,null,null,null,"Parqueo",null,null,"16","N/A",null,null,null,204,16,"Brazaletes",{"$f":"COUNTIF(Resumen_payasos[Payaso],Tabla_Payasos[[#This Row],[Payasos]])","v":4}]
[null,null,null,null,null,null,null,"17","Asignar Antonio Ferreto ",null,null,null,205,17,"Cable tica ",{"$f":"COUNTIF(Resumen_payasos[Payaso],Tabla_Payasos[[#This Row],[Payasos]])","v":2}]
[null,null,null,null,null,null,null,"18","Asignar Greivin Salazar ",null,null,null,206,18,"Calida Desayuno",{"$f":"COUNTIF(Resumen_payasos[Payaso],Tabla_Payasos[[#This Row],[Payasos]])","v":15}]
[null,null,null,null,null,null,null,"19","Asignar Luis Carlos ",null,null,null,207,19,"Calidad comida",{"$f":"COUNTIF(Resumen_payasos[Payaso],Tabla_Payasos[[#This Row],[Payasos]])","v":70}]
[null,null,null,null,null,null,null,"20","Oscar Retana Muñoz",null,null,null,208,20,"Calidad precio",{"$f":"COUNTIF(Resumen_payasos[Payaso],Tabla_Payasos[[#This Row],[Payasos]])","v":8}]
[null,null,null,null,null,null,null,null,null,null,null,null,209,21,"Calidad Sushi",{"$f":"COUNTIF(Resumen_payasos[Payaso],Tabla_Payasos[[#This Row],[Payasos]])","v":7}]
[null,null,null,null,null,null,null,null,null,null,null,null,210,22,"Camas altas ",{"$f":"COUNTIF(Resumen_payasos[Payaso],Tabla_Payasos[[#This Row],[Payasos]])","v":2}]
[null,null,null,null,null,null,null,null,null,null,null,null,211,23,"Central telefonica",{"$f":"COUNTIF(Resumen_payasos[Payaso],Tabla_Payasos[[#This Row],[Payasos]])","v":16}]
[null,null,null,null,null,null,null,null,null,null,null,null,212,24,"Clases de yoga",{"$f":"COUNTIF(Resumen_payasos[Payaso],Tabla_Payasos[[#This Row],[Payasos]])","v":1}]
[null,null,null,null,null,null,null,null,null,null,null,null,301,25,"Cockteles bares",{"$f":"COUNTIF(Resumen_payasos[Payaso],Tabla_Payasos[[#This Row],[Payasos]])","v":5}]
[null,null,null,null,null,null,null,null,null,null,null,null,302,26,"Colchon duro",{"$f":"COUNTIF(Resumen_payasos[Payaso],Tabla_Payasos[[#This Row],[Payasos]])","v":5}]
[null,null,null,null,null,null,null,null,null,null,null,null,303,27,"Comidas snacks",{"$f":"COUNTIF(Resumen_payasos[Payaso],Tabla_Payasos[[#This Row],[Payasos]])","v":1}]
[null,null,null,null,null,null,null,null,null,null,null,null,304,28,"Computadoras de recepción",{"$f":"COUNTIF(Resumen_payasos[Payaso],Tabla_Payasos[[#This Row],[Payasos]])","v":1}]
[null,null,null,null,null,null,null,null,null,null,null,null,305,29,"Construcción",{"$f":"COUNTIF(Resumen_payasos[Payaso],Tabla_Payasos[[#This Row],[Payasos]])","v":4}]
[null,null,null,null,null,null,null,null,null,null,null,null,306,30,"Datafonos",{"$f":"COUNTIF(Resumen_payasos[Payaso],Tabla_Payasos[[#This Row],[Payasos]])","v":1}]
[null,null,null,null,null,null,null,null,null,null,null,null,307,31,"Desestimado",{"$f":"COUNTIF(Resumen_payasos[Payaso],Tabla_Payasos[[#This Row],[Payasos]])","v":29}]
[null,null,null,null,null,null,null,null,null,null,null,null,308,32,"Encuentas de satisfacción",{"$f":"COUNTIF(Resumen_payasos[Payaso],Tabla_Payasos[[#This Row],[Payasos]])","v":1}]
[null,null,null,null,null,null,null,null,null,null,null,null,309,33,"Entretenimiento",{"$f":"COUNTIF(Resumen_payasos[Payaso],Tabla_Payasos[[#This Row],[Payasos]])","v":7}]
[null,null,null,null,null,null,null,null,null,null,null,null,310,34,"Espejo grande fuera del baño",{"$f":"COUNTIF(Resumen_payasos[Payaso],Tabla_Payasos[[#This Row],[Payasos]])","v":4}]
[null,null,null,null,null,null,null,null,null,null,null,null,311,35,"Etiquetas en apagadores",{"$f":"COUNTIF(Resumen_payasos[Payaso],Tabla_Payasos[[#This Row],[Payasos]])","v":1}]
[null,null,null,null,null,null,null,null,null,null,null,null,312,36,"Falta de comunicación",{"$f":"COUNTIF(Resumen_payasos[Payaso],Tabla_Payasos[[#This Row],[Payasos]])","v":1}]
[null,null,null,null,null,null,null,null,null,null,null,null,401,37,"Fujas de agua",{"$f":"COUNTIF(Resumen_payasos[Payaso],Tabla_Payasos[[#This Row],[Payasos]])","v":1}]
[null,null,null,null,null,null,null,null,null,null,null,null,402,38,"Gimnasio",{"$f":"COUNTIF(Resumen_payasos[Payaso],Tabla_Payasos[[#This Row],[Payasos]])","v":4}]
[null,null,null,null,null,null,null,null,null,null,null,null,403,39,"Goteras",{"$f":"COUNTIF(Resumen_payasos[Payaso],Tabla_Payasos[[#This Row],[Payasos]])","v":6}]
[null,null,null,null,null,null,null,null,null,null,null,null,404,40,"Grupos estudiantes",{"$f":"COUNTIF(Resumen_payasos[Payaso],Tabla_Payasos[[#This Row],[Payasos]])","v":1}]
[null,null,null,null,null,null,null,null,null,null,null,null,405,41,"Habitaciones",{"$f":"COUNTIF(Resumen_payasos[Payaso],Tabla_Payasos[[#This Row],[Payasos]])","v":54}]
[null,null,null,null,null,null,null,null,null,null,null,null,406,42,"Higiene en restaurante",{"$f":"COUNTIF(Resumen_payasos[Payaso],Tabla_Payasos[[#This Row],[Payasos]])","v":1}]
[null,null,null,null,null,null,null,null,null,null,null,null,407,43,"Hojas de evaluación",{"$f":"COUNTIF(Resumen_payasos[Payaso],Tabla_Payasos[[#This Row],[Payasos]])","v":1}]
[null,null,null,null,null,null,null,null,null,null,null,null,408,44,"Iluminación hab closet",{"$f":"COUNTIF(Resumen_payasos[Payaso],Tabla_Payasos[[#This Row],[Payasos]])","v":2}]
[null,null,null,null,null,null,null,null,null,null,null,null,409,45,"Información duchas",{"$f":"COUNTIF(Resumen_payasos[Payaso],Tabla_Payasos[[#This Row],[Payasos]])","v":1}]
[null,null,null,null,null,null,null,null,null,null,null,null,410,46,"Jacuzzi",{"$f":"COUNTIF(Resumen_payasos[Payaso],Tabla_Payasos[[#This Row],[Payasos]])","v":4}]
[null,null,null,null,null,null,null,null,null,null,null,null,411,47,"Lampara de lectura",{"$f":"COUNTIF(Resumen_payasos[Payaso],Tabla_Payasos[[#This Row],[Payasos]])","v":2}]
[null,null,null,null,null,null,null,null,null,null,null,null,412,48,"Lavanderia",{"$f":"COUNTIF(Resumen_payasos[Payaso],Tabla_Payasos[[#This Row],[Payasos]])","v":3}]
[null,null,null,null,null,null,null,null,null,null,null,null,414,49,"Limpieza en habitación",{"$f":"COUNTIF(Resumen_payasos[Payaso],Tabla_Payasos[[#This Row],[Payasos]])","v":8}]
[null,null,null,null,null,null,null,null,null,null,null,null,415,50,"Lobby",{"$f":"COUNTIF(Resumen_payasos[Payaso],Tabla_Payasos[[#This Row],[Payasos]])","v":1}]
[null,null,null,null,null,null,null,null,null,null,null,null,501,51,"Lockers",{"$f":"COUNTIF(Resumen_payasos[Payaso],Tabla_Payasos[[#This Row],[Payasos]])","v":4}]
[null,null,null,null,null,null,null,null,null,null,null,null,502,52,"Mal olor habitación",{"$f":"COUNTIF(Resumen_payasos[Payaso],Tabla_Payasos[[#This Row],[Payasos]])","v":8}]
[null,null,null,null,null,null,null,null,null,null,null,null,503,53,"Malos olores",{"$f":"COUNTIF(Resumen_payasos[Payaso],Tabla_Payasos[[#This Row],[Payasos]])","v":2}]
[null,null,null,null,null,null,null,null,null,null,null,null,504,54,"Maquina de hielo",{"$f":"COUNTIF(Resumen_payasos[Payaso],Tabla_Payasos[[#This Row],[Payasos]])","v":1}]
[null,null,null,null,null,null,null,null,null,null,null,null,505,55,"Menú Celiacos",{"$f":"COUNTIF(Resumen_payasos[Payaso],Tabla_Payasos[[#This Row],[Payasos]])","v":7}]
[null,null,null,null,null,null,null,null,null,null,null,null,506,56,"Menú niños",{"$f":"COUNTIF(Resumen_payasos[Payaso],Tabla_Payasos[[#This Row],[Payasos]])","v":2}]
[null,null,null,null,null,null,null,null,null,null,null,null,507,57,"Menú room service",{"$f":"COUNTIF(Resumen_payasos[Payaso],Tabla_Payasos[[#This Row],[Payasos]])","v":2}]
[null,null,null,null,null,null,null,null,null,null,null,null,508,58,"Menú típico",{"$f":"COUNTIF(Resumen_payasos[Payaso],Tabla_Payasos[[#This Row],[Payasos]])","v":5}]
[null,null,null,null,null,null,null,null,null,null,null,null,509,59,"Menú vegetariano",{"$f":"COUNTIF(Resumen_payasos[Payaso],Tabla_Payasos[[#This Row],[Payasos]])","v":4}]
[null,null,null,null,null,null,null,null,null,null,null,null,510,60,"Minibar habitaciones",{"$f":"COUNTIF(Resumen_payasos[Payaso],Tabla_Payasos[[#This Row],[Payasos]])","v":2}]
[null,null,null,null,null,null,null,null,null,null,null,null,511,61,"Musica restaurantes",{"$f":"COUNTIF(Resumen_payasos[Payaso],Tabla_Payasos[[#This Row],[Payasos]])","v":1}]
[null,null,null,null,null,null,null,null,null,null,null,null,512,62,"N/A",{"$f":"COUNTIF(Resumen_payasos[Payaso],Tabla_Payasos[[#This Row],[Payasos]])","v":44}]
[null,null,null,null,null,null,null,null,null,null,null,null,514,63,"Objetos en la comida",{"$f":"COUNTIF(Resumen_payasos[Payaso],Tabla_Payasos[[#This Row],[Payasos]])","v":2}]
[null,null,null,null,null,null,null,null,null,null,null,null,515,64,"Piscinas fria",{"$f":"COUNTIF(Resumen_payasos[Payaso],Tabla_Payasos[[#This Row],[Payasos]])","v":0}]
[null,null,null,null,null,null,null,null,null,null,null,null,601,65,"Piscinas termal",{"$f":"COUNTIF(Resumen_payasos[Payaso],Tabla_Payasos[[#This Row],[Payasos]])","v":1}]
[null,null,null,null,null,null,null,null,null,null,null,null,602,66,"Piso resbaloso",{"$f":"COUNTIF(Resumen_payasos[Payaso],Tabla_Payasos[[#This Row],[Payasos]])","v":1}]
[null,null,null,null,null,null,null,null,null,null,null,null,603,67,"Plagas en restaurante",{"$f":"COUNTIF(Resumen_payasos[Payaso],Tabla_Payasos[[#This Row],[Payasos]])","v":2}]
[null,null,null,null,null,null,null,null,null,null,null,null,604,68,"Plagas Habitaciones",{"$f":"COUNTIF(Resumen_payasos[Payaso],Tabla_Payasos[[#This Row],[Payasos]])","v":49}]
[null,null,null,null,null,null,null,null,null,null,null,null,605,69,"Plato de frutas",{"$f":"COUNTIF(Resumen_payasos[Payaso],Tabla_Payasos[[#This Row],[Payasos]])","v":1}]
[null,null,null,null,null,null,null,null,null,null,null,null,606,70,"Precios Souvenir",{"$f":"COUNTIF(Resumen_payasos[Payaso],Tabla_Payasos[[#This Row],[Payasos]])","v":3}]
[null,null,null,null,null,null,null,null,null,null,null,null,607,71,"Proceso de reservas",{"$f":"COUNTIF(Resumen_payasos[Payaso],Tabla_Payasos[[#This Row],[Payasos]])","v":2}]
[null,null,null,null,null,null,null,null,null,null,null,null,608,72,"Publicidad Web",{"$f":"COUNTIF(Resumen_payasos[Payaso],Tabla_Payasos[[#This Row],[Payasos]])","v":1}]
[null,null,null,null,null,null,null,null,null,null,null,null,609,73,"Puerta de baño",{"$f":"COUNTIF(Resumen_payasos[Payaso],Tabla_Payasos[[#This Row],[Payasos]])","v":2}]
[null,null,null,null,null,null,null,null,null,null,null,null,610,74,"Puerta de habitación",{"$f":"COUNTIF(Resumen_payasos[Payaso],Tabla_Payasos[[#This Row],[Payasos]])","v":1}]
[null,null,null,null,null,null,null,null,null,null,null,null,611,75,"Reciclaje",{"$f":"COUNTIF(Resumen_payasos[Payaso],Tabla_Payasos[[#This Row],[Payasos]])","v":1}]
[null,null,null,null,null,null,null,null,null,null,null,null,612,76,"Refrigerio nocturno",{"$f":"COUNTIF(Resumen_payasos[Payaso],Tabla_Payasos[[#This Row],[Payasos]])","v":1}]
[null,null,null,null,null,null,null,null,null,null,null,null,701,77,"Restaurante",{"$f":"COUNTIF(Resumen_payasos[Payaso],Tabla_Payasos[[#This Row],[Payasos]])","v":2}]
[null,null,null,null,null,null,null,null,null,null,null,null,702,78,"Robo en habitaciones",{"$f":"COUNTIF(Resumen_payasos[Payaso],Tabla_Payasos[[#This Row],[Payasos]])","v":3}]
[null,null,null,null,null,null,null,null,null,null,null,null,703,79,"Room service",{"$f":"COUNTIF(Resumen_payasos[Payaso],Tabla_Payasos[[#This Row],[Payasos]])","v":2}]
[null,null,null,null,null,null,null,null,null,null,null,null,704,80,"Rotulación Carretera",{"$f":"COUNTIF(Resumen_payasos[Payaso],Tabla_Payasos[[#This Row],[Payasos]])","v":1}]
[null,null,null,null,null,null,null,null,null,null,null,null,705,81,"Rotulación cena",{"$f":"COUNTIF(Resumen_payasos[Payaso],Tabla_Payasos[[#This Row],[Payasos]])","v":1}]
[null,null,null,null,null,null,null,null,null,null,null,null,706,82,"Rotulación Jacuzzi",{"$f":"COUNTIF(Resumen_payasos[Payaso],Tabla_Payasos[[#This Row],[Payasos]])","v":4}]
[null,null,null,null,null,null,null,null,null,null,null,null,707,83,"Rotulación ventilador",{"$f":"COUNTIF(Resumen_payasos[Payaso],Tabla_Payasos[[#This Row],[Payasos]])","v":3}]
[null,null,null,null,null,null,null,null,null,null,null,null,708,84,"Ruido generadores",{"$f":"COUNTIF(Resumen_payasos[Payaso],Tabla_Payasos[[#This Row],[Payasos]])","v":3}]
[null,null,null,null,null,null,null,null,null,null,null,null,709,85,"Ruido habitación",{"$f":"COUNTIF(Resumen_payasos[Payaso],Tabla_Payasos[[#This Row],[Payasos]])","v":15}]
[null,null,null,null,null,null,null,null,null,null,null,null,710,86,"Ruido sistema solar",{"$f":"COUNTIF(Resumen_payasos[Payaso],Tabla_Payasos[[#This Row],[Payasos]])","v":1}]
[null,null,null,null,null,null,null,null,null,null,null,null,711,87,"Sala de juegos",{"$f":"COUNTIF(Resumen_payasos[Payaso],Tabla_Payasos[[#This Row],[Payasos]])","v":3}]
[null,null,null,null,null,null,null,null,null,null,null,null,712,88,"Señalización",{"$f":"COUNTIF(Resumen_payasos[Payaso],Tabla_Payasos[[#This Row],[Payasos]])","v":1}]
[null,null,null,null,null,null,null,null,null,null,null,null,801,89,"Servicio al cliente ",{"$f":"COUNTIF(Resumen_payasos[Payaso],Tabla_Payasos[[#This Row],[Payasos]])","v":4}]
[null,null,null,null,null,null,null,null,null,null,null,null,802,90,"Servicio cliente bar humedo",{"$f":"COUNTIF(Resumen_payasos[Payaso],Tabla_Payasos[[#This Row],[Payasos]])","v":5}]
[null,null,null,null,null,null,null,null,null,null,null,null,803,91,"Servicio cliente botones",{"$f":"COUNTIF(Resumen_payasos[Payaso],Tabla_Payasos[[#This Row],[Payasos]])","v":6}]
[null,null,null,null,null,null,null,null,null,null,null,null,804,92,"Servicio cliente cocina",{"$f":"COUNTIF(Resumen_payasos[Payaso],Tabla_Payasos[[#This Row],[Payasos]])","v":1}]
[null,null,null,null,null,null,null,null,null,null,null,null,805,93,"Servicio cliente mucamas",{"$f":"COUNTIF(Resumen_payasos[Payaso],Tabla_Payasos[[#This Row],[Payasos]])","v":2}]
[null,null,null,null,null,null,null,null,null,null,null,null,806,94,"Servicio cliente recepción",{"$f":"COUNTIF(Resumen_payasos[Payaso],Tabla_Payasos[[#This Row],[Payasos]])","v":14}]
[null,null,null,null,null,null,null,null,null,null,null,null,807,95,"Servicio cliente restaurante ",{"$f":"COUNTIF(Resumen_payasos[Payaso],Tabla_Payasos[[#This Row],[Payasos]])","v":25}]
[null,null,null,null,null,null,null,null,null,null,null,null,808,96,"Servicio cliente spa",{"$f":"COUNTIF(Resumen_payasos[Payaso],Tabla_Payasos[[#This Row],[Payasos]])","v":2}]
[null,null,null,null,null,null,null,null,null,null,null,null,809,97,"Servicio cliente sushi",{"$f":"COUNTIF(Resumen_payasos[Payaso],Tabla_Payasos[[#This Row],[Payasos]])","v":1}]
[null,null,null,null,null,null,null,null,null,null,null,null,810,98,"Silla en habitación",{"$f":"COUNTIF(Resumen_payasos[Payaso],Tabla_Payasos[[#This Row],[Payasos]])","v":13}]
[null,null,null,null,null,null,null,null,null,null,null,null,901,99,"Sombrillas",{"$f":"COUNTIF(Resumen_payasos[Payaso],Tabla_Payasos[[#This Row],[Payasos]])","v":2}]
[null,null,null,null,null,null,null,null,null,null,null,null,902,100,"Spa",{"$f":"COUNTIF(Resumen_payasos[Payaso],Tabla_Payasos[[#This Row],[Payasos]])","v":4}]
[null,null,null,null,null,null,null,null,null,null,null,null,903,101,"Tardanza en entrega de habitación",{"$f":"COUNTIF(Resumen_payasos[Payaso],Tabla_Payasos[[#This Row],[Payasos]])","v":0}]
[null,null,null,null,null,null,null,null,null,null,null,null,904,102,"Teléfonos",{"$f":"COUNTIF(Resumen_payasos[Payaso],Tabla_Payasos[[#This Row],[Payasos]])","v":4}]
[null,null,null,null,null,null,null,null,null,null,null,null,905,103,"Transfer",{"$f":"COUNTIF(Resumen_payasos[Payaso],Tabla_Payasos[[#This Row],[Payasos]])","v":1}]
[null,null,null,null,null,null,null,null,null,null,null,null,906,104,"Variedad desayuno",{"$f":"COUNTIF(Resumen_payasos[Payaso],Tabla_Payasos[[#This Row],[Payasos]])","v":4}]
[null,null,null,null,null,null,null,null,null,null,null,null,907,105,"Vistas de huespedes",{"$f":"COUNTIF(Resumen_payasos[Payaso],Tabla_Payasos[[#This Row],[Payasos]])","v":2}]
[null,null,null,null,null,null,null,null,null,null,null,null,908,106,"Wifi",{"$f":"COUNTIF(Resumen_payasos[Payaso],Tabla_Payasos[[#This Row],[Payasos]])","v":23}]
[null,null,null,null,null,null,null,null,null,null,null,null,909,107,"Publicidad doc Informativo",{"$f":"COUNTIF(Resumen_payasos[Payaso],Tabla_Payasos[[#This Row],[Payasos]])","v":2}]
[null,null,null,null,null,null,null,null,null,null,null,null,910,108,"Precios vino",{"$f":"COUNTIF(Resumen_payasos[Payaso],Tabla_Payasos[[#This Row],[Payasos]])","v":3}]
[null,null,null,null,null,null,null,null,null,null,null,null,"N/A",109,"Variedad platos",{"$f":"COUNTIF(Resumen_payasos[Payaso],Tabla_Payasos[[#This Row],[Payasos]])","v":2}]
[null,null,null,null,null,null,null,null,null,null,null,null,121,110,"Precios Lavanderia ",{"$f":"COUNTIF(Resumen_payasos[Payaso],Tabla_Payasos[[#This Row],[Payasos]])","v":1}]
[null,null,null,null,null,null,null,null,null,null,null,null,125,111,"Sillas Discapacitados ",{"$f":"COUNTIF(Resumen_payasos[Payaso],Tabla_Payasos[[#This Row],[Payasos]])","v":2}]
[null,null,null,null,null,null,null,null,null,null,null,null,126,112,"Camas duras",{"$f":"COUNTIF(Resumen_payasos[Payaso],Tabla_Payasos[[#This Row],[Payasos]])","v":0}]
[null,null,null,null,null,null,null,null,null,null,null,null,123,113,"Ruido Refri",{"$f":"COUNTIF(Resumen_payasos[Payaso],Tabla_Payasos[[#This Row],[Payasos]])","v":2}]
[null,null,null,null,null,null,null,null,null,null,null,null,124,114,"Precios Comidas Italiano",{"$f":"COUNTIF(Resumen_payasos[Payaso],Tabla_Payasos[[#This Row],[Payasos]])","v":11}]
[null,null,null,null,null,null,null,null,null,null,null,null,122,115,"Precios Comidas sushi",{"$f":"COUNTIF(Resumen_payasos[Payaso],Tabla_Payasos[[#This Row],[Payasos]])","v":1}]
[null,null,null,null,null,null,null,null,null,null,null,null,null,116,"Calidad comida Italiano",{"$f":"COUNTIF(Resumen_payasos[Payaso],Tabla_Payasos[[#This Row],[Payasos]])","v":5}]
[null,null,null,null,null,null,null,null,null,null,null,null,null,117,"Chequeo habitaciones",{"$f":"COUNTIF(Resumen_payasos[Payaso],Tabla_Payasos[[#This Row],[Payasos]])","v":8}]
[null,null,null,null,null,null,null,null,null,null,null,null,null,118,"Servicio cliente tour operador",{"$f":"COUNTIF(Resumen_payasos[Payaso],Tabla_Payasos[[#This Row],[Payasos]])","v":1}]
[null,null,null,null,null,null,null,null,null,null,null,null,null,119,"Fumigación",{"$f":"COUNTIF(Resumen_payasos[Payaso],Tabla_Payasos[[#This Row],[Payasos]])","v":2}]
[null,null,null,null,null,null,null,null,null,null,null,null,null,120,"Fumadores ",{"$f":"COUNTIF(Resumen_payasos[Payaso],Tabla_Payasos[[#This Row],[Payasos]])","v":3}]
[null,null,null,null,null,null,null,null,null,null,null,null,null,121,"Sillas Italiano",{"$f":"COUNTIF(Resumen_payasos[Payaso],Tabla_Payasos[[#This Row],[Payasos]])","v":1}]
[null,null,null,null,null,null,null,null,null,null,null,null,null,122,"Señal TV",{"$f":"COUNTIF(Resumen_payasos[Payaso],Tabla_Payasos[[#This Row],[Payasos]])","v":4}]
[null,null,null,null,null,null,null,null,null,null,null,null,null,123,"Remodelación",{"$f":"COUNTIF(Resumen_payasos[Payaso],Tabla_Payasos[[#This Row],[Payasos]])","v":1}]
[null,null,null,null,null,null,null,null,null,null,null,null,null,124,"Proyector Manantial ",{"$f":"COUNTIF(Resumen_payasos[Payaso],Tabla_Payasos[[#This Row],[Payasos]])","v":1}]
[null,null,null,null,null,null,null,null,null,null,null,null,null,125,"Servicio C. Tienda",{"$f":"COUNTIF(Resumen_payasos[Payaso],Tabla_Payasos[[#This Row],[Payasos]])","v":5}]
[null,null,null,null,null,null,null,null,null,null,null,null,null,126,"Precios tienda",{"$f":"COUNTIF(Resumen_payasos[Payaso],Tabla_Payasos[[#This Row],[Payasos]])","v":1}]
[null,null,null,null,null,null,null,null,null,null,null,null,null,127,"NETFLIX",{"$f":"COUNTIF(Resumen_payasos[Payaso],Tabla_Payasos[[#This Row],[Payasos]])","v":1}]
[null,null,null,null,null,null,null,null,null,null,null,null,null,128,"Ventilación Restaurantes",{"$f":"COUNTIF(Resumen_payasos[Payaso],Tabla_Payasos[[#This Row],[Payasos]])","v":1}]
[null,null,null,null,null,null,null,null,null,null,null,null,null,129,"Camas nidos",{"$f":"COUNTIF(Resumen_payasos[Payaso],Tabla_Payasos[[#This Row],[Payasos]])","v":1}]
[null,null,null,null,null,null,null,null,null,null,null,null,null,130,"Precios",{"$f":"COUNTIF(Resumen_payasos[Payaso],Tabla_Payasos[[#This Row],[Payasos]])","v":5}]
[null,null,null,null,null,null,null,null,null,null,null,null,null,131,"Iluminación Jardines",{"$f":"COUNTIF(Resumen_payasos[Payaso],Tabla_Payasos[[#This Row],[Payasos]])","v":3}]
[null,null,null,null,null,null,null,null,null,null,null,null,null,132,"Precios Sushi",{"$f":"COUNTIF(Resumen_payasos[Payaso],Tabla_Payasos[[#This Row],[Payasos]])","v":1}]
[null,null,null,null,null,null,null,null,null,null,null,null,null,133,"Suministros Bares",{"$f":"COUNTIF(Resumen_payasos[Payaso],Tabla_Payasos[[#This Row],[Payasos]])","v":1}]
[null,null,null,null,null,null,null,null,null,null,null,null,null,134,"Infraestructura ",{"$f":"COUNTIF(Resumen_payasos[Payaso],Tabla_Payasos[[#This Row],[Payasos]])","v":1}]
[null,null,null,null,null,null,null,null,null,null,null,null,null,135,null,{"$f":"COUNTIF(Resumen_payasos[Payaso],Tabla_Payasos[[#This Row],[Payasos]])","v":0}]
[null,null,null,null,null,null,null,null,null,null,null,null,null,136,null,{"$f":"COUNTIF(Resumen_payasos[Payaso],Tabla_Payasos[[#This Row],[Payasos]])","v":0}]
[null,null,null,null,null,null,null,null,null,null,null,null,null,137,null,{"$f":"COUNTIF(Resumen_payasos[Payaso],Tabla_Payasos[[#This Row],[Payasos]])","v":0}]
[null,null,null,null,null,null,null,null,null,null,null,null,null,138,null,{"$f":"COUNTIF(Resumen_payasos[Payaso],Tabla_Payasos[[#This Row],[Payasos]])","v":0}]
[null,null,null,null,null,null,null,null,null,null,null,null,null,139,null,{"$f":"COUNTIF(Resumen_payasos[Payaso],Tabla_Payasos[[#This Row],[Payasos]])","v":0}]

{"sheet":"Reportes","index":8,"n_rows":639,"n_cols":2,"rows_kept":639,"cut":false,"hidden":false,"merged":[]}
["Fecha","(Todas)"]
[]
["Etiquetas de fila","Cuenta de Descp"]
[0,64]
[0,3]
["A/C",1]
["Agua llovida italiano",1]
["Área  para niños ",1]
["Basurero jardines",1]
["Brazaletes",1]
["Calida Desayuno",2]
["Calidad comida",26]
["Calidad precio",2]
["Calidad Sushi",3]
["Desestimado",3]
["Etiquetas en apagadores",1]
["Falta de comunicación",1]
["Habitaciones",1]
["Lavanderia",1]
["Lockers",1]
["Menú típico",1]
["Piscinas ",3]
["Plagas Habitaciones",1]
["Refrigerio nocturno",1]
["Rotulación Jacuzzi",1]
["RUIDO",1]
["Ruido habitación",1]
["Servicio cliente botones",1]
["Servicio cliente cocina",1]
["Servicio cliente mucamas",1]
["Servicio cliente restaurante ",1]
["Teléfonos",1]
["Wifi",1]
[101,6]
["Calidad precio",1]
["Central telefonica",1]
["Mal olor habitación",1]
["Menú Celiacos",1]
["Robo en habitaciones",1]
["Wifi",1]
[102,5]
["Central telefonica",3]
["Habitaciones",1]
["Fumadores ",1]
[103,5]
[0,1]
["Calida Desayuno",1]
["Habitaciones",1]
["Plagas Habitaciones",1]
["Ruido habitación",1]
[104,8]
["A/C",2]
["Calidad comida",1]
["Desestimado",1]
["Piso resbaloso",1]
["Plagas Habitaciones",1]
["Servicio cliente restaurante ",1]
["Servicio cliente recepción",1]
[105,3]
["Calidad comida",1]
["Rotulación Carretera",1]
["Wifi",1]
[106,8]
[0,1]
["Actividad nocturna",1]
["Central telefonica",1]
["Colchon duro",1]
["Grupos estudiantes",1]
["N/A",2]
["Puerta de baño",1]
[107,11]
["Brazaletes",1]
["Calidad comida",1]
["Desestimado",2]
["Mal olor habitación",1]
["Menú vegetariano",1]
["Piscinas ",1]
["Plagas Habitaciones",1]
["Rotulación ventilador",1]
["Silla en habitación",1]
["Calidad comida Italiano",1]
[108,10]
["Calidad comida",1]
["Central telefonica",1]
["Comidas snacks",1]
["Entretenimiento",1]
["N/A",1]
["Plagas Habitaciones",2]
["Calidad comida Italiano",1]
["Chequeo habitaciones",1]
["Precios Comidas Ita",1]
[109,8]
[0,1]
["Amenidades",1]
["Calida Desayuno",1]
["Calidad comida",1]
["Calidad Sushi",1]
["HABITACIONES ",1]
["Plagas Habitaciones",1]
["Servicio cliente restaurante ",1]
[110,6]
["Central telefonica",2]
["Cockteles bares",1]
["Gimnasio",1]
["Wifi",1]
["Calidad comida Italiano",1]
[111,8]
[0,1]
["Desestimado",1]
["Plagas Habitaciones",1]
["Servicio cliente bar humedo",1]
["Servicio cliente restaurante ",1]
["Spa",1]
["Teléfonos",1]
["Ventilación Restaurantes",1]
[112,3]
["Espejo Grande",1]
["Plagas Habitaciones",2]
[201,11]
[0,1]
["Agua caliente",1]
["Alarmas ",1]
["Limpieza en habitación",1]
["N/A",1]
["Ruido habitación",2]
["Ruido sistema solar",1]
["Señal TV",1]
["Remodelación",1]
["Precios Comidas Ita",1]
[202,11]
["Agua caliente",1]
["Amenidades",1]
["Calida Desayuno",1]
["Central telefonica",1]
["Desestimado",2]
["Entretenimiento",1]
["N/A",1]
["Silla en habitación",1]
["Camas nidos",1]
["Espejo grande fuera del baño",1]
[203,3]
["Cockteles bares",1]
["Entretenimiento",1]
["Habitaciones",1]
[204,6]
["Calidad comida",1]
["Habitaciones",3]
["HABITACIONES ",1]
["Servicio cliente recepción",1]
[205,5]
["Calidad comida",1]
["Desestimado",1]
["Menú Celiacos",2]
["Servicio cliente recepción",1]
[206,4]
["Calidad comida",1]
["Habitaciones",1]
["Servicio cliente botones",1]
["Ruido Refri",1]
[207,8]
["Brazaletes",1]
["Desestimado",1]
["Habitaciones",1]
["Lockers",1]
["Piscinas ",1]
["Silla en habitación",1]
["Vistas de huespedes",2]
[208,10]
["Calidad comida",1]
["Calidad precio",1]
["Mal olor habitación",2]
["N/A",1]
["Servicio cliente sushi",1]
["Variedad platos",1]
["Señal TV",1]
["Servicio C. Tienda",2]
[210,5]
["Calidad comida",3]
["Menú vegetariano",1]
["N/A",1]
[211,7]
["Batas de baño",1]
["Cable tica ",1]
["Calida Desayuno",1]
["Calidad comida",1]
["Desestimado",1]
["Lavanderia",1]
["#N/A",1]
[212,5]
["A/C",1]
["N/A",2]
["Plagas Habitaciones",1]
["Señal TV",1]
[301,4]
["A/C",1]
["Calidad comida",1]
["Menú niños",1]
["Servicio cliente restaurante ",1]
[302,9]
[0,4]
["Agua caliente",1]
["N/A",1]
["Plagas Habitaciones",1]
["Room service",1]
["Sillas Discapacitados ",1]
[303,7]
["Calidad comida",1]
["Calidad Sushi",1]
["Habitaciones",1]
["Menú típico",1]
["N/A",1]
["Sala de juegos",1]
["Wifi",1]
[304,9]
[0,1]
["A/C",1]
["Alarmas ",1]
["Camas altas ",1]
["Desestimado",2]
["Entretenimiento",1]
["Habitaciones",1]
["HABITACIONES ",1]
[305,7]
["Calidad comida",1]
["Desestimado",1]
["HABITACIONES ",1]
["Menú Celiacos",1]
["Proceso de reservas",1]
["Servicio cliente spa",1]
["Chequeo habitaciones",1]
[306,5]
["Alarmas ",1]
["Central telefonica",1]
["Hojas de evaluación",1]
["Ruido habitación",1]
["Servicio C. Tienda",1]
[307,6]
["Camas altas ",1]
["N/A",1]
["Objetos en la comida",1]
["Precios vino",1]
["Wifi",2]
[308,11]
[0,3]
["Calidad precio",3]
["Habitaciones",1]
["Precios Lavanderia ",1]
["Publicidad doc Informativo",1]
["Servicio cliente botones",1]
["Wifi",1]
[309,4]
["Calidad comida",1]
["Computadoras de recepción",1]
["Plagas Habitaciones",1]
["Sombrillas",1]
[310,2]
[0,1]
["Desestimado",1]
[311,2]
["Cockteles bares",1]
["Menú room service",1]
[312,9]
["Cockteles bares",1]
["Desestimado",1]
["Goteras",3]
["Plagas Habitaciones",2]
["Rotulación Jacuzzi",1]
["Servicio cliente restaurante ",1]
[401,6]
["Baño resbalozo ",1]
["Basurero jardines",1]
["Calidad comida",1]
["Plagas Habitaciones",1]
["Sala de juegos",1]
["Precios Comidas sushi",1]
[402,4]
[0,2]
["Gimnasio",1]
["Jacuzzi",1]
[403,8]
["Alarmas ",1]
["Calidad comida",1]
["Calidad precio",1]
["Colchon duro",1]
["Lockers",1]
["Maquina de hielo",1]
["SERVICIO AL CLIENTE RECEPCIÓN",1]
["Calidad comida Italiano",1]
[404,3]
["Habitaciones",1]
["Limpieza en habitación",1]
["Precios",1]
[405,8]
["Cable tica ",1]
["Cockteles bares",1]
["Desestimado",1]
["Ruido habitación",1]
["Servicio al cliente ",1]
["Precios Comidas Italiano",1]
["Plagas en restaurante",1]
["Servicio cliente tour operador",1]
[406,5]
["Desestimado",1]
["HABITACIONES ",1]
["Menú niños",1]
["Plagas Habitaciones",1]
["Ruido generadores",1]
[407,2]
["Desestimado",1]
["Plagas Habitaciones",1]
[408,5]
["Actividad nocturna",1]
["Piscinas ",1]
["Servicio cliente botones",1]
["Servicio cliente restaurante ",1]
["Variedad desayuno",1]
[409,4]
[0,1]
["Rotulación cena",1]
["Precios Comidas Italiano",1]
["Sillas Italiano",1]
[410,7]
[0,1]
["A/C",2]
["Desestimado",2]
["Habitaciones",1]
["Servicio cliente restaurante ",1]
[411,6]
["Acera para transitar ",1]
["Aseo en habitación",1]
["Calidad comida",1]
["Desestimado",1]
["Habitaciones",1]
["Iluminación Jardines",1]
[415,3]
[0,1]
["N/A",1]
["Señalización",1]
[502,3]
["Desestimado",1]
["Ruido generadores",1]
["Wifi",1]
[503,5]
["A/C",1]
["Calidad comida",1]
["Lavanderia",1]
["Wifi",1]
["Precios Sushi",1]
[504,12]
["Calida Desayuno",1]
["Calidad comida",1]
["Habitaciones",2]
["Iluminación hab closet",1]
["N/A",2]
["Plagas Habitaciones",2]
["Servicio al cliente ",1]
["Servicio cliente restaurante ",1]
["Precios",1]
[505,7]
["A/C",1]
["Calidad comida",1]
["Espejo Grande",1]
["Wifi",2]
["Precios Comidas Italiano",1]
["Precios tienda",1]
[506,8]
["Área  para niños ",1]
["Calida Desayuno",1]
["Entretenimiento",1]
["Lobby",1]
["Menú típico",1]
["Plagas Habitaciones",1]
["Silla en habitación",1]
["Precios Comidas Italiano",1]
[507,3]
["Calida Desayuno",1]
["N/A",1]
["Plagas Habitaciones",1]
[508,5]
["Calidad comida",1]
["Habitaciones",1]
["Precios Souvenir",1]
["Publicidad Web",1]
["Variedad desayuno",1]
[509,7]
["Agua caliente",1]
["Calida Desayuno",1]
["Calidad comida",2]
["Habitaciones",1]
["Rotulación Jacuzzi",1]
["Wifi",1]
[510,6]
[0,1]
["Agua caliente",1]
["HABITACIONES ",2]
["Higiene en restaurante",1]
["Wifi",1]
[511,2]
["Goteras",1]
["Menú Celiacos",1]
[512,7]
["Agua caliente",1]
["Calidad comida",1]
["Goteras",1]
["Menú Celiacos",1]
["Rotulación Jacuzzi",1]
["Spa",1]
["Chequeo habitaciones",1]
[515,3]
["Plagas Habitaciones",2]
["Room service",1]
[601,7]
["Brazaletes",1]
["Habitaciones",1]
["Menú room service",1]
["Plagas Habitaciones",2]
["Sala de juegos",1]
["Servicio cliente botones",1]
[602,10]
["A/C",1]
["Espejo Grande",1]
["Gimnasio",1]
["Limpieza en habitación",1]
["Menú típico",1]
["N/A",1]
["Ruido habitación",1]
["Silla en habitación",1]
["Sombrillas",1]
["Proyector Manantial ",1]
[603,3]
["Clases de yoga",1]
["Plagas Habitaciones",1]
["Plato de frutas",1]
[604,5]
["A/C",1]
["Menú vegetariano",1]
["Minibar habitaciones",1]
["Plagas Habitaciones",2]
[605,2]
["Calidad comida",1]
["Chequeo habitaciones",1]
[606,4]
["A/C",1]
["Calidad comida",1]
["Desestimado",1]
["Spa",1]
[607,1]
["Plagas Habitaciones",1]
[608,3]
[0,1]
["Silla en habitación",1]
["Iluminación Habitación",1]
[609,5]
["Área  para niños ",1]
["Habitaciones",2]
["Plagas Habitaciones",1]
["Señal TV",1]
[610,3]
["Agua caliente",1]
["Calidad comida",1]
["Plagas Habitaciones",1]
[611,3]
["Agua caliente",2]
["Calidad Sushi",1]
[612,2]
["Basurero baño",1]
["Plagas Habitaciones",1]
[701,4]
["Calidad Sushi",1]
["Plagas Habitaciones",1]
["Silla en habitación",1]
["NETFLIX",1]
[702,8]
[0,1]
["Calidad comida",1]
["Fujas de agua",1]
["Información duchas",1]
["Lampara de lectura",1]
["Plagas Habitaciones",1]
["Rotulación ventilador",1]
["Silla en habitación",1]
[703,2]
["Agua caliente",1]
["Wifi",1]
[704,2]
["Calidad comida",1]
["Spa",1]
[705,5]
["Construcción",1]
["Habitaciones",1]
["Menú vegetariano",1]
["Ruido generadores",1]
["Ruido habitación",1]
[706,5]
["Calidad comida",1]
["Central telefonica",1]
["Construcción",1]
["Menú Celiacos",1]
["Silla en habitación",1]
[707,3]
["Desestimado",2]
["Servicio cliente bar humedo",1]
[708,3]
["A/C",1]
["Colchon duro",1]
["Plagas Habitaciones",1]
[709,4]
["Habitaciones",1]
["Musica restaurantes",1]
["Precios Souvenir",1]
["Silla en habitación",1]
[710,3]
[0,1]
["Plagas Habitaciones",2]
[711,2]
["Calida Desayuno",1]
["HABITACIONES ",1]
[712,3]
["Habitaciones",1]
["Plagas Habitaciones",1]
["Wifi",1]
[801,10]
["A/C",1]
["Calidad comida",2]
["Desestimado",1]
["Encuentas de satisfacción",1]
["N/A",1]
["Plagas Habitaciones",1]
["Reciclaje",1]
["Teléfonos",1]
["Fumigación",1]
[802,2]
["Wifi",1]
["Fumigación",1]
[901,9]
["A/C",1]
["Colchon duro",1]
["Entretenimiento",1]
["Goteras",1]
["Mal olor habitación",2]
["Plagas Habitaciones",1]
["Puerta de baño",1]
["Variedad platos",1]
[902,5]
["A/C",1]
["Desestimado",1]
["Mal olor habitación",1]
["Precios Souvenir",1]
["Wifi",1]
[903,5]
["Agua caliente",1]
["Calidad comida",1]
["Objetos en la comida",1]
["Restaurante",1]
["Servicio cliente restaurante ",1]
[904,10]
["Alfombra en escaleras",1]
["Calida Desayuno",1]
["Calidad comida",1]
["Construcción",1]
["Mal olor habitación",1]
["Plagas Habitaciones",1]
["Rotulación ventilador",1]
["Ruido habitación",1]
["Transfer",1]
["Precios",1]
["103-502",1]
["Plagas Habitaciones",1]
["109 (Inspector de agencia)",1]
["HABITACIONES ",1]
["111-112",2]
["Calida Desayuno",1]
["Plagas Habitaciones",1]
["201-202",2]
[0,1]
["Plagas Habitaciones",1]
["201-304",1]
["Agua potable",1]
["204-210-304,,,",1]
["Puerta de habitación",1]
["205-206",2]
["Central telefonica",1]
["Servicio cliente restaurante ",1]
["207-208",2]
["Alarmas ",1]
["Teléfonos",1]
["209-210",1]
["Proceso de reservas",1]
["306",1]
["Ruido Refri",1]
["309-310",1]
["Plagas Habitaciones",1]
["403-211",1]
["Mal olor habitación",1]
["414-415",3]
["HABITACIONES ",2]
["Wifi",1]
["514-515",1]
["Plagas Habitaciones",1]
["609-610",1]
["Calidad comida",1]
["701-904",1]
["Agua caliente",1]
["Damary Santiago",1]
["Calidad comida",1]
["Grupo de la Mora",1]
["Calidad comida",1]
["Grupo Patty Searcy",1]
["Acera para transitar ",1]
["Heather Burgess",1]
["Calidad comida",1]
["Mary Blackport",1]
["Calidad comida",1]
["Perry Pawelka",1]
["Entretenimiento",1]
["Recepción",1]
["Datafonos",1]
["Sara Parent",1]
["Colchon duro",1]
["Tim Brinkley",1]
["Calidad comida",1]
["N/A",6]
["Lockers",1]
["Servicio cliente restaurante ",1]
["Precios",2]
["Plagas en restaurante",1]
["Malos olores",1]
[414,1]
["N/A",1]
[209,2]
["A/C",1]
["Menú típico",1]
[501,1]
["Silla en habitación",1]
[125,1]
["Plagas Habitaciones",1]
[121,2]
["Servicio cliente restaurante ",2]
["Total general",601]

{"sheet":"Hoja15","index":9,"n_rows":0,"n_cols":0,"rows_kept":0,"cut":false,"hidden":false,"merged":[]}

{"sheet":"Resumen","index":10,"n_rows":716,"n_cols":4,"rows_kept":716,"cut":false,"hidden":false,"merged":[]}
["# Hab","Fecha","Descp","Payaso"]
[{"$f":"'Historico Valoracion Quejas '!D3","v":803},{"$f":"'Historico Valoracion Quejas '!B3","v":"2018-12-24"},{"$f":"'Historico Valoracion Quejas '!G3","v":"Huésped se queja que la caja fuerte no tiene instrucciones y es difícil de usar."},{"$f":"'Historico Valoracion Quejas '!V3","v":"Habitaciones"}]
[{"$f":"'Historico Valoracion Quejas '!D4","v":906},{"$f":"'Historico Valoracion Quejas '!B4","v":"2018-12-24"},{"$f":"'Historico Valoracion Quejas '!G4","v":"Huéspedes se quejan de la presión de agua en sus habitaciones, los mismos indican que es muy baja y que dificilmente les llega agua."},{"$f":"'Historico Valoracion Quejas '!V4","v":"Agua potable"}]
[{"$f":"'Historico Valoracion Quejas '!D5","v":902},{"$f":"'Historico Valoracion Quejas '!B5","v":"2018-12-22"},{"$f":"'Historico Valoracion Quejas '!G5","v":"EL presente correo tiene como fin informarles por escrito de la situación que vivieron los huéspedes Braden Coffin y Robin Boddy la noche de ayer,  ellos nos reportaron que alguien ingresó a su habitación en el momento en que salieron a cenar y cuando llegaron las gavetas estaban desordenadas y había un faltante de dinero, este dinero que según dicen los huéspedes era equivalente a 1300 dólares se encontraba en la caja fuerte de la habitación que por cierto ellos mismos dicen habían dejado sin cerrar, indican además que dejaron la puerta del balcón sin cerradura y por ahí fue precisamente por donde hicieron ingreso los sospechosos y sustrajeron el dinero. Ante esta situación nosotros como hotel hemos decidido tomar responsabilidad de lo sucedido y se les ha hecho efectiva la devolución total de los 1300 dólares y además se han eliminado los cargos de la habitación buscando de alguna manera generar satisfacción. Esto con la idea de que nuestros huéspedes no se lleven con ellos una mala experiencia o un sabor amargo a pesar de haber tenido una muy agradable estadía. \n"},{"$f":"'Historico Valoracion Quejas '!V5","v":"Robo en habitaciones"}]
[{"$f":"'Historico Valoracion Quejas '!D6","v":801},{"$f":"'Historico Valoracion Quejas '!B6","v":"2018-12-22"},{"$f":"'Historico Valoracion Quejas '!G6","v":"Buenas noches compañeros \nLa siguiente es para hacer de su conocimiento, que hoy 21/12/2018 al ser las 8:50pm los clientes de las habitaciones 801 y 802 bajo el nombre de GUINN ROBERT de la agencia Travel Excellence, se aproximaron a la recepción y nos reportan que al regresar de la cena a sus respectivas habitaciones, se percataron de que tanto   una  laptop con su respectivo cargador y también  unos regalos que tenían dentro de una de las maletas habían  sido sustraídos de la habitación 801, procedemos a revisar la habitación junto a los clientes para verificar que  no los hubieran guardado en alguna otra maleta, al llegar la habitación tanto las ventanas como la puerta principal no presentan  signos de  haber sido forzadas, por protocolo de la empresa procedemos a llamar a la Policía Turística quien es el ente encargado de levantar el acta de lo sucedido y nos comentan que mañana a las 7 am se pueden aproximar a confeccionar el acta, esto debido a que en este momento se encuentran atendiendo otro incidente. \n"},{"$f":"'Historico Valoracion Quejas '!V6","v":"Robo en habitaciones"}]
[{"$f":"'Historico Valoracion Quejas '!D7","v":108},{"$f":"'Historico Valoracion Quejas '!B7","v":"2018-12-23"},{"$f":"'Historico Valoracion Quejas '!G7","v":"Huéspedes llaman a recepción quejandose del ruido ocasionado por los vecinos en  la hab 107."},{"$f":"'Historico Valoracion Quejas '!V7","v":"Ruido habitación"}]
[{"$f":"'Historico Valoracion Quejas '!D8","v":805},{"$f":"'Historico Valoracion Quejas '!B8","v":"2018-12-24"},{"$f":"'Historico Valoracion Quejas '!G8","v":"Huésped se queja del sonido se las habitaciones de arriba, les molesta bastante el sonido que produce la gente al caminar, dicen que suena como elefantes andantes."},{"$f":"'Historico Valoracion Quejas '!V8","v":"Ruido habitación"}]
[{"$f":"'Historico Valoracion Quejas '!D9","v":807},{"$f":"'Historico Valoracion Quejas '!B9","v":"2018-12-23"},{"$f":"'Historico Valoracion Quejas '!G9","v":"Huéspedes se quejan porque la habitación no tiene caja fuerte."},{"$f":"'Historico Valoracion Quejas '!V9","v":"N/A"}]
[{"$f":"'Historico Valoracion Quejas '!D10","v":803},{"$f":"'Historico Valoracion Quejas '!B10","v":"2018-12-21"},{"$f":"'Historico Valoracion Quejas '!G10","v":"Los huéspedes reportan que no tienen agua caliente, se le reporta a mantenimiento pero nos indican que por parte de ellos hacen lo posible por solucionarlo pero que la falla es de Mario Lezama, los huéspedes llevaban dos días sin agua caliente."},{"$f":"'Historico Valoracion Quejas '!V10","v":"Habitaciones"}]
[{"$f":"'Historico Valoracion Quejas '!D11","v":904},{"$f":"'Historico Valoracion Quejas '!B11","v":"2018-12-21"},{"$f":"'Historico Valoracion Quejas '!G11","v":"Huéspedes que anteriormente estaban en la 703 se tuvieron que cambiar porque la señora era alergica a las plantas y aromatizantes, los huéspedes vieron que desde las 11am ya los huéspedes de la 904 habian hecho check-out por lo tanto se acercaron a recepción a las 12:30pm solicitando si su hab estaba lista, al volver a consultar a las mucamas las mismas nos indican que va estar lista hasta las 2pm y eso molestó mucho a los huéspedes los cuales pidieron una solución mas eficiente a su movimiento de habitación."},{"$f":"'Historico Valoracion Quejas '!V11","v":"Servicio cliente mucamas"}]
[{"$f":"'Historico Valoracion Quejas '!D12","v":508},{"$f":"'Historico Valoracion Quejas '!B12","v":"2018-12-21"},{"$f":"'Historico Valoracion Quejas '!G12","v":"Huésped reporta caída en el baño por accidente y el mismo quebró el espejo de cuerpo, nos indicó que los espejos tienen un espacio entre la pared y el espejo que con solo apoyarse o tocarlo se quiebra y eso fue lo que ocurrió cuando se cayó. "},{"$f":"'Historico Valoracion Quejas '!V12","v":"Habitaciones"}]
[{"$f":"'Historico Valoracion Quejas '!D13","v":515},{"$f":"'Historico Valoracion Quejas '!B13","v":"2018-12-20"},{"$f":"'Historico Valoracion Quejas '!G13","v":"Huésped molesto indica que el A/C de su habitación tiene una fuga la cual causó un gran charco de agua y nos dice que no piensa perder el tiempo soportando estas situaciones si recién viene llegando al hotel."},{"$f":"'Historico Valoracion Quejas '!V13","v":"A/C"}]
[{"$f":"'Historico Valoracion Quejas '!D14","v":202},{"$f":"'Historico Valoracion Quejas '!B14","v":"2018-12-20"},{"$f":"'Historico Valoracion Quejas '!G14","v":"Huésped se queja al momento del check-out indicando que la ducha de la habitación debe revisarse porque no distribuye el agua bien, en la medida de lo posible colocar una de mejor calidad."},{"$f":"'Historico Valoracion Quejas '!V14","v":"Habitaciones"}]
[{"$f":"'Historico Valoracion Quejas '!D15","v":212},{"$f":"'Historico Valoracion Quejas '!B15","v":"2018-12-20"},{"$f":"'Historico Valoracion Quejas '!G15","v":"Huésped se acercó a recepción indicando que le gustaría que tuvieramos la bandera de reino unido, que como era posible que no la tuvieramos si a Costa Rica la visitaba mucho turista de Europa."},{"$f":"'Historico Valoracion Quejas '!V15","v":"Servicio al cliente "}]
[{"$f":"'Historico Valoracion Quejas '!D16","v":902},{"$f":"'Historico Valoracion Quejas '!B16","v":"2018-12-19"},{"$f":"'Historico Valoracion Quejas '!G16","v":"Huésped se queja porque su aire acondicionado no funciona correctamente."},{"$f":"'Historico Valoracion Quejas '!V16","v":"A/C"}]
[{"$f":"'Historico Valoracion Quejas '!D17","v":110},{"$f":"'Historico Valoracion Quejas '!B17","v":"2018-12-15"},{"$f":"'Historico Valoracion Quejas '!G17","v":"Huésped se queja por el tiempo de la estación de café, pide que se extienda a más tiempo."},{"$f":"'Historico Valoracion Quejas '!V17","v":"Servicio cliente restaurante "}]
[{"$f":"'Historico Valoracion Quejas '!D18","v":110},{"$f":"'Historico Valoracion Quejas '!B18","v":"2018-12-15"},{"$f":"'Historico Valoracion Quejas '!G18","v":"Calidad no es buena en comparación con el valor."},{"$f":"'Historico Valoracion Quejas '!V18","v":"Precios Comidas Italiano"}]
[{"$f":"'Historico Valoracion Quejas '!D19","v":305},{"$f":"'Historico Valoracion Quejas '!B19","v":"2018-12-16"},{"$f":"'Historico Valoracion Quejas '!G19","v":"Huésped se queja debido a que su baño tiene muchas hormigas y eso no ocurre en las habitaciones del resto de su familia."},{"$f":"'Historico Valoracion Quejas '!V19","v":"Plagas Habitaciones"}]
[{"$f":"'Historico Valoracion Quejas '!D20","v":102},{"$f":"'Historico Valoracion Quejas '!B20","v":"2018-12-16"},{"$f":"'Historico Valoracion Quejas '!G20","v":"Colaboradora  nos reporta que durante su estadía en el hotel notó que la cama se encontraba con polilla, huecos y en mal estado. Consultó a una mucama y la misma le dijo que eso llevaba meses así. "},{"$f":"'Historico Valoracion Quejas '!V20","v":"Chequeo habitaciones"}]
[{"$f":"'Historico Valoracion Quejas '!D21","v":104},{"$f":"'Historico Valoracion Quejas '!B21","v":"2018-12-15"},{"$f":"'Historico Valoracion Quejas '!G21","v":"Huésped se queja porque las instrucciones del pulsador BOSH no estan en español."},{"$f":"'Historico Valoracion Quejas '!V21","v":"Habitaciones"}]
[{"$f":"'Historico Valoracion Quejas '!D22","v":104},{"$f":"'Historico Valoracion Quejas '!B22","v":"2018-12-15"},{"$f":"'Historico Valoracion Quejas '!G22","v":"Huésped se queja porque la caminadora del gimnasio la cual es demasiado básica y carece de mantenimiento al igual que el resto de equipos."},{"$f":"'Historico Valoracion Quejas '!V22","v":"Gimnasio"}]
[{"$f":"'Historico Valoracion Quejas '!D23","v":104},{"$f":"'Historico Valoracion Quejas '!B23","v":"2018-12-15"},{"$f":"'Historico Valoracion Quejas '!G23","v":"Huésped se queja porque en el check-out no le entregaron el voucher manual de garantía."},{"$f":"'Historico Valoracion Quejas '!V23","v":"Servicio cliente recepción"}]
[{"$f":"'Historico Valoracion Quejas '!D24","v":104},{"$f":"'Historico Valoracion Quejas '!B24","v":"2018-12-15"},{"$f":"'Historico Valoracion Quejas '!G24","v":"Huésped indica que es necesaria información en el hotel de que hacer en caso de emergencia ( fuego, terremoto, etc)."},{"$f":"'Historico Valoracion Quejas '!V24","v":"Habitaciones"}]
[{"$f":"'Historico Valoracion Quejas '!D25","v":504},{"$f":"'Historico Valoracion Quejas '!B25","v":"2018-12-14"},{"$f":"'Historico Valoracion Quejas '!G25","v":"Huésped se queja de las copas plasticas que se entregan en el aréa del bar húmedo, hace que el lugar se sienta como barato."},{"$f":"'Historico Valoracion Quejas '!V25","v":"Servicio cliente bar humedo"}]
[{"$f":"'Historico Valoracion Quejas '!D26","v":504},{"$f":"'Historico Valoracion Quejas '!B26","v":"2018-12-14"},{"$f":"'Historico Valoracion Quejas '!G26","v":"Restaurante demasiado caro."},{"$f":"'Historico Valoracion Quejas '!V26","v":"Precios Comidas Italiano"}]
[{"$f":"'Historico Valoracion Quejas '!D27","v":611},{"$f":"'Historico Valoracion Quejas '!B27","v":"2018-12-14"},{"$f":"'Historico Valoracion Quejas '!G27","v":"Parece como que el personal disfruta estar hablando juntos aquí. Además la tienda necesita expandirse."},{"$f":"'Historico Valoracion Quejas '!V27","v":"Servicio C. Tienda"}]
[{"$f":"'Historico Valoracion Quejas '!D28","v":503},{"$f":"'Historico Valoracion Quejas '!B28","v":"2018-12-16"},{"$f":"'Historico Valoracion Quejas '!G28","v":"Puerta del baño en recepción se encuentra en mal estado, pega en el piso y hace ruido."},{"$f":"'Historico Valoracion Quejas '!V28","v":"Infraestructura "}]
[{"$f":"'Historico Valoracion Quejas '!D29","v":503},{"$f":"'Historico Valoracion Quejas '!B29","v":"2018-12-16"},{"$f":"'Historico Valoracion Quejas '!G29","v":"Huésped se queja del precio del churrasco en el restaurante Italiano."},{"$f":"'Historico Valoracion Quejas '!V29","v":"Precios Comidas Italiano"}]
[{"$f":"'Historico Valoracion Quejas '!D30","v":503},{"$f":"'Historico Valoracion Quejas '!B30","v":"2018-12-16"},{"$f":"'Historico Valoracion Quejas '!G30","v":"Huésped se queja porque en el souvenir no hay tantos objetos alusivos al volcán Arenal, sugiere mas souvenirs con el nombre del volcán impreso."},{"$f":"'Historico Valoracion Quejas '!V30","v":"Servicio C. Tienda"}]
[{"$f":"'Historico Valoracion Quejas '!D31","v":104},{"$f":"'Historico Valoracion Quejas '!B31","v":"2018-12-13"},{"$f":"'Historico Valoracion Quejas '!G31","v":"Huésped se queja que en su habitación el café y las tazas son exclusivamente para dos personas sin embargo ellos pagaron por 3 personas y consideran debe haber tazas y café para cada huésped que paga."},{"$f":"'Historico Valoracion Quejas '!V31","v":"Minibar habitaciones"}]
[{"$f":"'Historico Valoracion Quejas '!D32","v":515},{"$f":"'Historico Valoracion Quejas '!B32","v":"2018-12-12"},{"$f":"'Historico Valoracion Quejas '!G32","v":"Huéspedes de la master suite se quejan por el mal funcionamiento del jacuzzi en su habitación."},{"$f":"'Historico Valoracion Quejas '!V32","v":"Jacuzzi"}]
[{"$f":"'Historico Valoracion Quejas '!D33","v":410},{"$f":"'Historico Valoracion Quejas '!B33","v":"2018-12-11"},{"$f":"'Historico Valoracion Quejas '!G33","v":"Huésped se queja del ruido entre habitaciones, el aislante es muy pobre y se escucha hasta cuando hablan o toman una ducha."},{"$f":"'Historico Valoracion Quejas '!V33","v":"Ruido habitación"}]
[{"$f":"'Historico Valoracion Quejas '!D34","v":105},{"$f":"'Historico Valoracion Quejas '!B34","v":"2018-12-10"},{"$f":"'Historico Valoracion Quejas '!G34","v":"Huésped se queja porque al colocar la llave en el tarjetero de la habitación no se activa la electricidad."},{"$f":"'Historico Valoracion Quejas '!V34","v":"Chequeo habitaciones"}]
[{"$f":"'Historico Valoracion Quejas '!D35","v":211},{"$f":"'Historico Valoracion Quejas '!B35","v":"2018-12-09"},{"$f":"'Historico Valoracion Quejas '!G35","v":"Cambiar filtro de la piscina grande, cuando el agua fluye trae objetos flotando."},{"$f":"'Historico Valoracion Quejas '!V35","v":"Piscinas termal"}]
[{"$f":"'Historico Valoracion Quejas '!D36","v":211},{"$f":"'Historico Valoracion Quejas '!B36","v":"2018-12-09"},{"$f":"'Historico Valoracion Quejas '!G36","v":"Iluminación de la habitación es deficiente, no es buena para leer, las luces no son ajustables."},{"$f":"'Historico Valoracion Quejas '!V36","v":"Lampara de lectura"}]
[{"$f":"'Historico Valoracion Quejas '!D37","v":515},{"$f":"'Historico Valoracion Quejas '!B37","v":"2018-12-08"},{"$f":"'Historico Valoracion Quejas '!G37","v":"Huésped se queja que el trato en recepción no fue amigable."},{"$f":"'Historico Valoracion Quejas '!V37","v":"Servicio cliente recepción"}]
[{"$f":"'Historico Valoracion Quejas '!D38","v":308},{"$f":"'Historico Valoracion Quejas '!B38","v":"2018-12-08"},{"$f":"'Historico Valoracion Quejas '!G38","v":"Para el precio de este hotel la expectativa era encontrar todos los restaurantes abiertos."},{"$f":"'Historico Valoracion Quejas '!V38","v":"Servicio cliente restaurante "}]
[{"$f":"'Historico Valoracion Quejas '!D39","v":108},{"$f":"'Historico Valoracion Quejas '!B39","v":"2018-12-09"},{"$f":"'Historico Valoracion Quejas '!G39","v":"Huésped se queja porque el refrigerador de la hab no se encuentra frío cuando el huésped ingresa."},{"$f":"'Historico Valoracion Quejas '!V39","v":"Chequeo habitaciones"}]
[{"$f":"'Historico Valoracion Quejas '!D40","v":402},{"$f":"'Historico Valoracion Quejas '!B40","v":"2018-12-06"},{"$f":"'Historico Valoracion Quejas '!G40","v":"Se necesita café o té a la llegada en el desayuno, se tiene que esperar demasiado para que le ofrezcan alguna de las opciones. Cuando se pidió fue servido pero debería de haber ya café y té."},{"$f":"'Historico Valoracion Quejas '!V40","v":"Servicio cliente restaurante "}]
[{"$f":"'Historico Valoracion Quejas '!D41","v":303},{"$f":"'Historico Valoracion Quejas '!B41","v":"2018-12-08"},{"$f":"'Historico Valoracion Quejas '!G41","v":"Huésped se queja por calidad en desayuno. Los zumos en el desayuno deberían ser naturales."},{"$f":"'Historico Valoracion Quejas '!V41","v":"Calida Desayuno"}]
[{"$f":"'Historico Valoracion Quejas '!D42","v":601},{"$f":"'Historico Valoracion Quejas '!B42","v":"2018-12-06"},{"$f":"'Historico Valoracion Quejas '!G42","v":"Precios muy altos para una copa de vino."},{"$f":"'Historico Valoracion Quejas '!V42","v":"Precios vino"}]
[{"$f":"'Historico Valoracion Quejas '!D43","v":506},{"$f":"'Historico Valoracion Quejas '!B43","v":"2018-12-07"},{"$f":"'Historico Valoracion Quejas '!G43","v":"Huésped se queja porque el hotel no tiene suficientes tiendas."},{"$f":"'Historico Valoracion Quejas '!V43","v":"N/A"}]
[{"$f":"'Historico Valoracion Quejas '!D44","v":"N/A"},{"$f":"'Historico Valoracion Quejas '!B44","v":"2018-12-07"},{"$f":"'Historico Valoracion Quejas '!G44","v":"El Guía de Collette el señor Ricardo Howell se acercó a Recepción muy molesto quejándose por una confirmación que recibió de 3 masajes correspondientes a su grupo y que al momento de llegar al SPA no estaban en el sistema, al guía un día antes de ingresar al hotel se le confirmó las reservas que estaban ya en el sistema y fueron chequeadas por el recepcionista Ignacio, el propio Ricardo solicitó le pasaran una llamada al SPA y minutos después recepción llamó al SPA para ver si todo estaba bien y si se le había ayudado al guía con lo que solicitaba, Ignacio indica que hasta se le reservó mas espacio porque siempre se sabía que Ricardo enviaba mas personas al SPA y fue por este motivo que se dió todo por acordado. Cuando los huéspedes llegaron al SPA, no estaban en el sistema porque más temprano otros  huéspedes de collete que NO habían reservado con Howell  los confundieron y asumieron que esos huéspedes eran los de la reserva ya hecha, pero resulta que eran otros huéspedes que venían a reservar directamente. Esto ocasionó que no se les diera el servicio esperado y como consecuencia el guía a cargo demostró mucho enojo y descontento con el SPA y la reacción del recepcionista ante lo que sucedió."},{"$f":"'Historico Valoracion Quejas '!V44","v":"Servicio cliente spa"}]
[{"$f":"'Historico Valoracion Quejas '!D45","v":902},{"$f":"'Historico Valoracion Quejas '!B45","v":"2018-12-08"},{"$f":"'Historico Valoracion Quejas '!G45","v":"Huéspedes muy molestos por el ruido ocasionado por la construcción, al momento del check-out comparten su disgusto."},{"$f":"'Historico Valoracion Quejas '!V45","v":"Construcción"}]
[{"$f":"'Historico Valoracion Quejas '!D46","v":506},{"$f":"'Historico Valoracion Quejas '!B46","v":"2018-12-08"},{"$f":"'Historico Valoracion Quejas '!G46","v":"Colaboradora mucama nos reporta que el murito de afuera de la hab se encuentra en muy mal estado ( pieza de madera podrida ). Tiene aspecto de que no se le da mantenimiento a las instalaciones."},{"$f":"'Historico Valoracion Quejas '!V46","v":"Habitaciones"}]
[{"$f":"'Historico Valoracion Quejas '!D47","v":405},{"$f":"'Historico Valoracion Quejas '!B47","v":"2018-11-22"},{"$f":"'Historico Valoracion Quejas '!G47","v":"Huéspedes solicitan se mejore la calidad de las frutas."},{"$f":"'Historico Valoracion Quejas '!V47","v":"Variedad desayuno"}]
[{"$f":"'Historico Valoracion Quejas '!D48","v":405},{"$f":"'Historico Valoracion Quejas '!B48","v":"2018-11-22"},{"$f":"'Historico Valoracion Quejas '!G48","v":"Huésped se queja porque no haybun trato igualitario entre turistas extranjeros y nacionales"},{"$f":"'Historico Valoracion Quejas '!V48","v":"Servicio al cliente "}]
[{"$f":"'Historico Valoracion Quejas '!D49","v":702},{"$f":"'Historico Valoracion Quejas '!B49","v":"2018-12-03"},{"$f":"'Historico Valoracion Quejas '!G49","v":"Huésped molesto se queja del àrea de fumado, y solicita un lugar cercano para poder fumar."},{"$f":"'Historico Valoracion Quejas '!V49","v":"Fumadores "}]
[{"$f":"'Historico Valoracion Quejas '!D50","v":307},{"$f":"'Historico Valoracion Quejas '!B50","v":"2018-12-04"},{"$f":"'Historico Valoracion Quejas '!G50","v":"No más pajillas de plastico, usen de otro tipo de material."},{"$f":"'Historico Valoracion Quejas '!V50","v":"Suministros Bares"}]
[{"$f":"'Historico Valoracion Quejas '!D51","v":604},{"$f":"'Historico Valoracion Quejas '!B51","v":"2018-12-04"},{"$f":"'Historico Valoracion Quejas '!G51","v":"Huésped se queja de que en la habitación una silla no es suficiente."},{"$f":"'Historico Valoracion Quejas '!V51","v":"Silla en habitación"}]
[{"$f":"'Historico Valoracion Quejas '!D52","v":301},{"$f":"'Historico Valoracion Quejas '!B52","v":"2018-12-05"},{"$f":"'Historico Valoracion Quejas '!G52","v":"Aire acondicionado no funciona ni tampoco ventilador de techo."},{"$f":"'Historico Valoracion Quejas '!V52","v":"A/C"}]
[{"$f":"'Historico Valoracion Quejas '!D53","v":503},{"$f":"'Historico Valoracion Quejas '!B53","v":"2018-12-01"},{"$f":"'Historico Valoracion Quejas '!G53","v":"Llegamos en la noche y nuestra primera interacción fue con el recepcionista quien fue muy impersonal y poco cálido."},{"$f":"'Historico Valoracion Quejas '!V53","v":"Servicio cliente recepción"}]
[{"$f":"'Historico Valoracion Quejas '!D54","v":205},{"$f":"'Historico Valoracion Quejas '!B54","v":"2018-12-04"},{"$f":"'Historico Valoracion Quejas '!G54","v":"Se que tienen una ley que prohibe fumar en lugares públicos , pero no entiendo que un hotel grande no disponga de una zona interna para fumar, el camino hacia la entrada en la noche debido a los animales de la zona es peligroso."},{"$f":"'Historico Valoracion Quejas '!V54","v":"Fumadores "}]
[{"$f":"'Historico Valoracion Quejas '!D55","v":105},{"$f":"'Historico Valoracion Quejas '!B55","v":"2018-12-02"},{"$f":"'Historico Valoracion Quejas '!G55","v":"La comida a nivel general del hotel esta sobrevalorada y no es buena en lo absoluto."},{"$f":"'Historico Valoracion Quejas '!V55","v":"Calidad comida"}]
[{"$f":"'Historico Valoracion Quejas '!D56","v":111},{"$f":"'Historico Valoracion Quejas '!B56","v":"2018-12-01"},{"$f":"'Historico Valoracion Quejas '!G56","v":"Huésped se queja del desayuno e indica que puede mejorar teniendo mejores opciones en panes y queques."},{"$f":"'Historico Valoracion Quejas '!V56","v":"Variedad desayuno"}]
[{"$f":"'Historico Valoracion Quejas '!D57","v":611},{"$f":"'Historico Valoracion Quejas '!B57","v":"2018-12-03"},{"$f":"'Historico Valoracion Quejas '!G57","v":"Huéspedes se quejan fuertemente porque al llegar su Internet no funciona y piden tener ese servicio habilitado lo mas pronto posible."},{"$f":"'Historico Valoracion Quejas '!V57","v":"Wifi"}]
[{"$f":"'Historico Valoracion Quejas '!D58","v":606},{"$f":"'Historico Valoracion Quejas '!B58","v":"2018-12-03"},{"$f":"'Historico Valoracion Quejas '!G58","v":"No funciona el Internet, huésped llama quejandose por el mal servicio de Internet que tiene el hotel."},{"$f":"'Historico Valoracion Quejas '!V58","v":"Wifi"}]
[{"$f":"'Historico Valoracion Quejas '!D59","v":712},{"$f":"'Historico Valoracion Quejas '!B59","v":"2018-12-03"},{"$f":"'Historico Valoracion Quejas '!G59","v":"Huéspedes se quejan por el mal funcionamiento del Internet, a su llegada reportan que no tienen señal de Wi-Fi."},{"$f":"'Historico Valoracion Quejas '!V59","v":"Wifi"}]
[{"$f":"'Historico Valoracion Quejas '!D60","v":310},{"$f":"'Historico Valoracion Quejas '!B60","v":"2018-12-01"},{"$f":"'Historico Valoracion Quejas '!G60","v":"Huéspedes se quejan porque la acera de la habitación es muy oscura y no hay oluminación adecuada lo cual hace peligroso el caminar por ahí."},{"$f":"'Historico Valoracion Quejas '!V60","v":"Iluminación Jardines"}]
[{"$f":"'Historico Valoracion Quejas '!D61","v":606},{"$f":"'Historico Valoracion Quejas '!B61","v":"2018-12-01"},{"$f":"'Historico Valoracion Quejas '!G61","v":"Huésped se queja porque el hotel no dispone de jabón en gel, no le gusta el jabón de barra."},{"$f":"'Historico Valoracion Quejas '!V61","v":"N/A"}]
[{"$f":"'Historico Valoracion Quejas '!D62","v":210},{"$f":"'Historico Valoracion Quejas '!B62","v":"2018-11-30"},{"$f":"'Historico Valoracion Quejas '!G62","v":"Huésped se queja de la manera en que se maneja el cambio de toallas en las habitaciones, él mismo indica que sería muy bueno si seguimos el procedimiento que aparece en la información que se brinda ( solo las toallas en el suelo serán cambiadas, las que se mantienen colgando que se dejen ahi) El huésped se queja porque a pesar de no dejar ninguna toalla en el suelo, todas sus toallas fueron cambiadas."},{"$f":"'Historico Valoracion Quejas '!V62","v":"Limpieza en habitación"}]
[{"$f":"'Historico Valoracion Quejas '!D63","v":503},{"$f":"'Historico Valoracion Quejas '!B63","v":"2018-11-30"},{"$f":"'Historico Valoracion Quejas '!G63","v":"Huésped se queja de que durante su estadía el restaurante principal nunca estuvo abierto."},{"$f":"'Historico Valoracion Quejas '!V63","v":"Servicio cliente restaurante "}]
[{"$f":"'Historico Valoracion Quejas '!D64","v":401},{"$f":"'Historico Valoracion Quejas '!B64","v":"2018-11-29"},{"$f":"'Historico Valoracion Quejas '!G64","v":"Huésped se queja del Shampoo y acondicionador en botellas plasticas, sugiere un dispensador."},{"$f":"'Historico Valoracion Quejas '!V64","v":"N/A"}]
[{"$f":"'Historico Valoracion Quejas '!D65","v":410},{"$f":"'Historico Valoracion Quejas '!B65","v":"2018-11-28"},{"$f":"'Historico Valoracion Quejas '!G65","v":"Restaurante muy pobre en calidad y demasiado caro. La pasta fue de bja calidad."},{"$f":"'Historico Valoracion Quejas '!V65","v":"Calidad comida Italiano"}]
[{"$f":"'Historico Valoracion Quejas '!D66","v":801},{"$f":"'Historico Valoracion Quejas '!B66","v":"2018-11-27"},{"$f":"'Historico Valoracion Quejas '!G66","v":"La puerta del baño no cierra bien, se encuentra desmontada y no calza con el marco."},{"$f":"'Historico Valoracion Quejas '!V66","v":"Habitaciones"}]
[{"$f":"'Historico Valoracion Quejas '!D67","v":509},{"$f":"'Historico Valoracion Quejas '!B67","v":"2018-11-26"},{"$f":"'Historico Valoracion Quejas '!G67","v":"Huéspedes se quejan porque al momento de que se les recibió se les entregó toallas y bebida pero no les dieron tiempo de disfrutar de la bebida y poder sentarse tranquilos cuando venían con equipaje y cosas, ellos dicen que los obligaron a ir a recepcion inmediatamente y hacer el check-in a pesar de que venían cansados, alegan que no se debe recibir a un huésped de esa manera."},{"$f":"'Historico Valoracion Quejas '!V67","v":"Servicio cliente botones"}]
[{"$f":"'Historico Valoracion Quejas '!D68","v":509},{"$f":"'Historico Valoracion Quejas '!B68","v":"2018-11-26"},{"$f":"'Historico Valoracion Quejas '!G68","v":"Huéspedes se quejan porque al momento de que se les recibió se les entregó toallas y bebida pero no les dieron tiempo de disfrutar de la bebida y poder sentarse tranquilos cuando venían con equipaje y cosas, ellos dicen que los obligaron a ir a recepcion inmediatamente y hacer el check-in a pesar de que venían cansados, alegan que no se debe recibir a un huésped de esa manera."},{"$f":"'Historico Valoracion Quejas '!V68","v":"Servicio cliente recepción"}]
[{"$f":"'Historico Valoracion Quejas '!D69","v":307},{"$f":"'Historico Valoracion Quejas '!B69","v":"2018-11-26"},{"$f":"'Historico Valoracion Quejas '!G69","v":"Huésped en llamada de bienvenida indica que su aire no funciona como debería y que no enfría."},{"$f":"'Historico Valoracion Quejas '!V69","v":"Servicio cliente recepción"}]
[{"$f":"'Historico Valoracion Quejas '!D70","v":509},{"$f":"'Historico Valoracion Quejas '!B70","v":"2018-11-26"},{"$f":"'Historico Valoracion Quejas '!G70","v":"A/C no enfría bien y huésped muy molesto indica a recepción que esta decepcionado del hotel."},{"$f":"'Historico Valoracion Quejas '!V70","v":"Servicio cliente recepción"}]
[{"$f":"'Historico Valoracion Quejas '!D71","v":"N/A"},{"$f":"'Historico Valoracion Quejas '!B71","v":"2018-11-26"},{"$f":"'Historico Valoracion Quejas '!G71","v":"Colaboradores botones reportan que constantemente escuchan a los huéspedes hablar que el área del parqueo es oscura y que necesita una mejor iluminación. Ellos coinciden en que se necesita colocar bombillos mas fuertes y un par de lámparas adicionales."},{"$f":"'Historico Valoracion Quejas '!V71","v":"Iluminación Jardines"}]
[{"$f":"'Historico Valoracion Quejas '!D72","v":404},{"$f":"'Historico Valoracion Quejas '!B72","v":"2018-11-25"},{"$f":"'Historico Valoracion Quejas '!G72","v":"Huésped se acerca a recepción indicando que el A/C no funciona y no enfría nada, nos pide que se revise mañana porque tiene a sus hijas durmiendo ahora mismo."},{"$f":"'Historico Valoracion Quejas '!V72","v":"A/C"}]
[{"$f":"'Historico Valoracion Quejas '!D73","v":509},{"$f":"'Historico Valoracion Quejas '!B73","v":"2018-11-26"},{"$f":"'Historico Valoracion Quejas '!G73","v":"Huéspedes disconformes en general desde su llegada se acercan a recepción informando de una queja más, esta vez alegan que el TV es pésimo y que la señal no es buena."},{"$f":"'Historico Valoracion Quejas '!V73","v":"Chequeo habitaciones"}]
[{"$f":"'Historico Valoracion Quejas '!D74","v":102},{"$f":"'Historico Valoracion Quejas '!B74","v":"2018-11-25"},{"$f":"'Historico Valoracion Quejas '!G74","v":"La recepción debe de tener un mejor botiquín equipado con lo bàsico y necesario para los huéspedes en caso de algún incidente. A la hora de solicitarlo estaba muy escaso."},{"$f":"'Historico Valoracion Quejas '!V74","v":"Servicio cliente recepción"}]
[{"$f":"'Historico Valoracion Quejas '!D75","v":205},{"$f":"'Historico Valoracion Quejas '!B75","v":"2018-11-25"},{"$f":"'Historico Valoracion Quejas '!G75","v":"Huéspedes de Inglaterra decepcionados de la habitación con la que se fueron a encontrar, ellos reclaman que no es una juniro suite y que el espacio es muy reducido, llaman a recepción quejandose porque no es lo que esperaban y que adicional al lado de su habitación hay mucho ruido de otros huéspedes que hace aún más decepcionante su estadía."},{"$f":"'Historico Valoracion Quejas '!V75","v":"N/A"}]
[{"$f":"'Historico Valoracion Quejas '!D76","v":404},{"$f":"'Historico Valoracion Quejas '!B76","v":"2018-11-24"},{"$f":"'Historico Valoracion Quejas '!G76","v":"Huéspedes se quejan del acceso a la habitación 404, indica que como pueden llamar a esa habitación una habitación para discapacitados si no se puede accesar con silla de ruedas por si solo, el muchacho utiliza silla para movilizarse todo el tiempo pero no es posible pasar de la calle a la habitación sin sufrir una caída."},{"$f":"'Historico Valoracion Quejas '!V76","v":"Sillas Discapacitados "}]
[{"$f":"'Historico Valoracion Quejas '!D77","v":904},{"$f":"'Historico Valoracion Quejas '!B77","v":"2018-11-23"},{"$f":"'Historico Valoracion Quejas '!G77","v":"Huésped se queja debido a que no encontró información de los precios del mini bar en la habitación. Nadie le informó nada al respecto."},{"$f":"'Historico Valoracion Quejas '!V77","v":"Servicio cliente recepción"}]
[{"$f":"'Historico Valoracion Quejas '!D78","v":410},{"$f":"'Historico Valoracion Quejas '!B78","v":"2018-11-24"},{"$f":"'Historico Valoracion Quejas '!G78","v":"Precios de los vinos demasiado caros."},{"$f":"'Historico Valoracion Quejas '!V78","v":"Precios vino"}]
[{"$f":"'Historico Valoracion Quejas '!D79","v":606},{"$f":"'Historico Valoracion Quejas '!B79","v":"2018-11-24"},{"$f":"'Historico Valoracion Quejas '!G79","v":"Huespédes se quejan porque el telefono de la habitacion no sirve para hablar a restaurantes o transferir sus llamadas."},{"$f":"'Historico Valoracion Quejas '!V79","v":"Central telefonica"}]
[{"$f":"'Historico Valoracion Quejas '!D80","v":102},{"$f":"'Historico Valoracion Quejas '!B80","v":"2018-11-24"},{"$f":"'Historico Valoracion Quejas '!G80","v":"Huéspedes se quejan porque no es posible transferir sus llamadas a restaurantes u otros puntos de venta."},{"$f":"'Historico Valoracion Quejas '!V80","v":"Central telefonica"}]
[{"$f":"'Historico Valoracion Quejas '!D81","v":208},{"$f":"'Historico Valoracion Quejas '!B81","v":"2018-11-24"},{"$f":"'Historico Valoracion Quejas '!G81","v":"Huéspedes se quejan porque desde sus habitaciones no se pueden transferir las llamadas, no es posible contactarlos con restaurantes u otros puntos de venta. "},{"$f":"'Historico Valoracion Quejas '!V81","v":"Central telefonica"}]
[{"$f":"'Historico Valoracion Quejas '!D82","v":703},{"$f":"'Historico Valoracion Quejas '!B82","v":"2018-11-24"},{"$f":"'Historico Valoracion Quejas '!G82","v":"Huésped molesta llama a recepción por segunda vez indicando que anteriormente llamó solicitando el room service para retirar los platos y nunca llegaron por ellos a pesar que le indicaron que iban para allà, su primera llamada fue a las 7pm y luego volvió a llamar a las 9pm porque no le habían retirado sus platos."},{"$f":"'Historico Valoracion Quejas '!V82","v":"Servicio cliente restaurante "}]
[{"$f":"'Historico Valoracion Quejas '!D83","v":102},{"$f":"'Historico Valoracion Quejas '!B83","v":"2018-11-22"},{"$f":"'Historico Valoracion Quejas '!G83","v":"Colaborador Fernando reporta que al momento de cambiar a los huéspedes de la 110 a la 102 a eso de las 9:30pm, al mostrar la hab la misma no tenía paños en ninguna parte."},{"$f":"'Historico Valoracion Quejas '!V83","v":"Limpieza en habitación"}]
[{"$f":"'Historico Valoracion Quejas '!D84","v":110},{"$f":"'Historico Valoracion Quejas '!B84","v":"2018-11-22"},{"$f":"'Historico Valoracion Quejas '!G84","v":"Huésped se queja porque en su hab no hay agua caliente."},{"$f":"'Historico Valoracion Quejas '!V84","v":"Agua caliente"}]
[{"$f":"'Historico Valoracion Quejas '!D85","v":514},{"$f":"'Historico Valoracion Quejas '!B85","v":"2018-11-22"},{"$f":"'Historico Valoracion Quejas '!G85","v":"Aire acondicionado no funciona correctamente, la primera noche huéspedes informan de la situación ya que no enfría bien. La segunda noche llaman de nuevo porque a pesar de que les dijeron que estaba reparado, nuevamente no enfría."},{"$f":"'Historico Valoracion Quejas '!V85","v":"A/C"}]
[{"$f":"'Historico Valoracion Quejas '!D86","v":514},{"$f":"'Historico Valoracion Quejas '!B86","v":"2018-11-22"},{"$f":"'Historico Valoracion Quejas '!G86","v":"Huéspedes minutos después del check-in e ingreso de habitación reclaman porque se encuentran varios bombillos de la habitación quemados."},{"$f":"'Historico Valoracion Quejas '!V86","v":"Limpieza en habitación"}]
[{"$f":"'Historico Valoracion Quejas '!D87","v":110},{"$f":"'Historico Valoracion Quejas '!B87","v":"2018-11-21"},{"$f":"'Historico Valoracion Quejas '!G87","v":"Huésped se queja porque considera que el hotel debería tener mejor y completa información en la habitación, por ejemplo horarios de restaurantes, menús, servicios del hotel,etc."},{"$f":"'Historico Valoracion Quejas '!V87","v":"Publicidad doc Informativo"}]
[{"$f":"'Historico Valoracion Quejas '!D88","v":415},{"$f":"'Historico Valoracion Quejas '!B88","v":"2018-11-21"},{"$f":"'Historico Valoracion Quejas '!G88","v":"Favor cambiar el piso del restaurante ya que es muy resbaloso y peligroso."},{"$f":"'Historico Valoracion Quejas '!V88","v":"Restaurante"}]
[{"$f":"'Historico Valoracion Quejas '!D89","v":205},{"$f":"'Historico Valoracion Quejas '!B89","v":"2018-11-20"},{"$f":"'Historico Valoracion Quejas '!G89","v":"Huésped se queja porque en el sanitario el agua sale constantemente y no hay alguna tapon que detenga el agua, esto le molesta porque en realidad el hotel no preserva el agua."},{"$f":"'Historico Valoracion Quejas '!V89","v":"Limpieza en habitación"}]
[{"$f":"'Historico Valoracion Quejas '!D90","v":205},{"$f":"'Historico Valoracion Quejas '!B90","v":"2018-11-20"},{"$f":"'Historico Valoracion Quejas '!G90","v":"Restaurante con precios muy elevados."},{"$f":"'Historico Valoracion Quejas '!V90","v":"Precios Comidas Italiano"}]
[{"$f":"'Historico Valoracion Quejas '!D91","v":205},{"$f":"'Historico Valoracion Quejas '!B91","v":"2018-11-20"},{"$f":"'Historico Valoracion Quejas '!G91","v":"Máquina de café y copas de la habitación se encontraban sucias."},{"$f":"'Historico Valoracion Quejas '!V91","v":"Limpieza en habitación"}]
[{"$f":"'Historico Valoracion Quejas '!D92","v":710},{"$f":"'Historico Valoracion Quejas '!B92","v":"2018-11-20"},{"$f":"'Historico Valoracion Quejas '!G92","v":"Huéspedes extremadamente molestos al momento de llegar a la habitación se percatan del fuerte ruido de la construcción y deciden no bajarse de su auto hasta que se les dé otra habitación donde puedan estar tranquilos."},{"$f":"'Historico Valoracion Quejas '!V92","v":"Ruido habitación"}]
[{"$f":"'Historico Valoracion Quejas '!D93","v":708},{"$f":"'Historico Valoracion Quejas '!B93","v":"2018-11-19"},{"$f":"'Historico Valoracion Quejas '!G93","v":"Huéspedes se quejan por ruido ocasionado por la construcción, llaman molestos indicando que así no es posible descansar ni vacacionar."},{"$f":"'Historico Valoracion Quejas '!V93","v":"Ruido habitación"}]
[{"$f":"'Historico Valoracion Quejas '!D94","v":512},{"$f":"'Historico Valoracion Quejas '!B94","v":"2018-11-19"},{"$f":"'Historico Valoracion Quejas '!G94","v":"Huésped molesto porque el agua del jacuzzi no es caliente, practicamente lo que calienta es nulo y no se encuentra a gusto. Solicita revisar el funcionamiento del jacuzzi."},{"$f":"'Historico Valoracion Quejas '!V94","v":"Jacuzzi"}]
[{"$f":"'Historico Valoracion Quejas '!D95","v":601},{"$f":"'Historico Valoracion Quejas '!B95","v":"2018-11-19"},{"$f":"'Historico Valoracion Quejas '!G95","v":"Huésped se queja del reloj alarma de las habitaciones, una vez que el botones va y lo configura todo bien pero al momento de que los huéspedes salen de su habitación se vuelve a desconfigurar, cuestionan como un reloj va estar parado y como pretenden que se use un reloj así."},{"$f":"'Historico Valoracion Quejas '!V95","v":"Habitaciones"}]
[{"$f":"'Historico Valoracion Quejas '!D96","v":710},{"$f":"'Historico Valoracion Quejas '!B96","v":"2018-11-18"},{"$f":"'Historico Valoracion Quejas '!G96","v":"Huésped se queja de recepción, ya que faltó que les informaran que debían abrir crédito antes de usar las instalaciones."},{"$f":"'Historico Valoracion Quejas '!V96","v":"N/A"}]
[{"$f":"'Historico Valoracion Quejas '!D97","v":703},{"$f":"'Historico Valoracion Quejas '!B97","v":"2018-11-17"},{"$f":"'Historico Valoracion Quejas '!G97","v":"Para las habitaciones de discapacitados poner la altura de la cama adecuada ya que es muy alta para una persona con discapacidad, debe de quedar al nivel de la silla de ruedas para poder llamarse una habitación de discapacitados."},{"$f":"'Historico Valoracion Quejas '!V97","v":"Habitaciones"}]
[{"$f":"'Historico Valoracion Quejas '!D98","v":205},{"$f":"'Historico Valoracion Quejas '!B98","v":"2018-11-18"},{"$f":"'Historico Valoracion Quejas '!G98","v":"Huésped llama muy enojado a Recepción porque en la habitación no hay un tapón para el lavatorio, el nos dice que necesita afeitarse y que es necesario para él llenar el lavatorio hasta arriba, pide que le solucionen inmediatamente y solicita al siguiente día una cita con el gerente."},{"$f":"'Historico Valoracion Quejas '!V98","v":"Habitaciones"}]
[{"$f":"'Historico Valoracion Quejas '!D99","v":901},{"$f":"'Historico Valoracion Quejas '!B99","v":"2018-11-18"},{"$f":"'Historico Valoracion Quejas '!G99","v":"Huésped extremadamente molesto reclama que viene desde Florida y que el A/C de la habitación no enfría, a pesar de reportarlo en la mañana para la noche el aire seguía igual y eso lo tenía muy decepcionado, él comenta que no tiene porque pagar los errores del hotel ya que al momento de llegar mantenimiento le dijeron que el A/C así era como trabajaba ya que no era un aire moderno."},{"$f":"'Historico Valoracion Quejas '!V99","v":"A/C"}]
[{"$f":"'Historico Valoracion Quejas '!D100","v":711},{"$f":"'Historico Valoracion Quejas '!B100","v":"2018-11-17"},{"$f":"'Historico Valoracion Quejas '!G100","v":"Compañero botones reporta que la hab al ser entregada tenía un fuerte olor a pintura y que esto incomodó un poco a los huéspedes cuando estaban entrando a la hab."},{"$f":"'Historico Valoracion Quejas '!V100","v":"Habitaciones"}]
[{"$f":"'Historico Valoracion Quejas '!D101","v":111},{"$f":"'Historico Valoracion Quejas '!B101","v":"2018-11-18"},{"$f":"'Historico Valoracion Quejas '!G101","v":"Botones Jason reporta que la hab 111 al momento de ser entregada se encontraba con varias partes del baño mojadas y con extractos de jabón en una de las paredes, esto fue percibido por los huéspedes los cuales inmediatamente se mostraron molestos alegando que querían una hab que estuviera en condiciones y que no pareciera sucia."},{"$f":"'Historico Valoracion Quejas '!V101","v":"Habitaciones"}]
[{"$f":"'Historico Valoracion Quejas '!D102","v":0},{"$f":"'Historico Valoracion Quejas '!B102","v":"2018-11-18"},{"$f":"'Historico Valoracion Quejas '!G102","v":0},{"$f":"'Historico Valoracion Quejas '!V102","v":"N/A"}]
[{"$f":"'Historico Valoracion Quejas '!D103","v":602},{"$f":"'Historico Valoracion Quejas '!B103","v":"2018-11-16"},{"$f":"'Historico Valoracion Quejas '!G103","v":"Huésped se queja debido a que considera debemos mejorar a la hora de brindar información, otros huéspedes tuvieron que decirme como funcionaba el servicio de lavandería, me dí cuenta de las clases de yoga muy tarde, quería usar el SPA pero nunca me dieron información de los precios o como reservar."},{"$f":"'Historico Valoracion Quejas '!V103","v":"Servicio cliente recepción"}]
[{"$f":"'Historico Valoracion Quejas '!D104","v":504},{"$f":"'Historico Valoracion Quejas '!B104","v":"2018-11-17"},{"$f":"'Historico Valoracion Quejas '!G104","v":"Precios de los vinos cuestan el doble de lo que hemos pagado en todo lado, y son de calidad inferior."},{"$f":"'Historico Valoracion Quejas '!V104","v":"N/A"}]
[{"$f":"'Historico Valoracion Quejas '!D105","v":301},{"$f":"'Historico Valoracion Quejas '!B105","v":"2018-11-17"},{"$f":"'Historico Valoracion Quejas '!G105","v":"Huésped se queja por la secadora de pelo, no calienta correctamente."},{"$f":"'Historico Valoracion Quejas '!V105","v":"Habitaciones"}]
[{"$f":"'Historico Valoracion Quejas '!D106","v":305},{"$f":"'Historico Valoracion Quejas '!B106","v":"2018-11-10"},{"$f":"'Historico Valoracion Quejas '!G106","v":"Huésped sugiere que el hotel podría mejorar si tuviera la opción de TODO INCLUIDO."},{"$f":"'Historico Valoracion Quejas '!V106","v":"N/A"}]
[{"$f":"'Historico Valoracion Quejas '!D107","v":606},{"$f":"'Historico Valoracion Quejas '!B107","v":"2018-11-17"},{"$f":"'Historico Valoracion Quejas '!G107","v":"Huésped se queja porque considera que el espejo grande en frente del sanitario debe de estar en la habitación y que ademas hacen falta mas ganchos para colocar la ropa."},{"$f":"'Historico Valoracion Quejas '!V107","v":"Habitaciones"}]
[{"$f":"'Historico Valoracion Quejas '!D108","v":207},{"$f":"'Historico Valoracion Quejas '!B108","v":"2018-11-16"},{"$f":"'Historico Valoracion Quejas '!G108","v":"Las cajas fuertes de las habitaciones 201,207,209 y 205 necesitan ser reparadas."},{"$f":"'Historico Valoracion Quejas '!V108","v":"Habitaciones"}]
[{"$f":"'Historico Valoracion Quejas '!D109","v":201},{"$f":"'Historico Valoracion Quejas '!B109","v":"2018-11-16"},{"$f":"'Historico Valoracion Quejas '!G109","v":"Huésped se queja de la atención y el mismo dice que tuvo problemas para que las ordenes individuales estuvieran correctas."},{"$f":"'Historico Valoracion Quejas '!V109","v":"Servicio cliente restaurante "}]
[{"$f":"'Historico Valoracion Quejas '!D110","v":708},{"$f":"'Historico Valoracion Quejas '!B110","v":"2018-11-15"},{"$f":"'Historico Valoracion Quejas '!G110","v":"Aire acondicionado no enfriaba en lo absoluto."},{"$f":"'Historico Valoracion Quejas '!V110","v":"A/C"}]
[{"$f":"'Historico Valoracion Quejas '!D111","v":802},{"$f":"'Historico Valoracion Quejas '!B111","v":"2018-11-15"},{"$f":"'Historico Valoracion Quejas '!G111","v":"Huésped se queja debido a que el bartender en el  bar húmedo fue muy rápido para aumentar las ventas y eso se malinterpreta."},{"$f":"'Historico Valoracion Quejas '!V111","v":"Servicio cliente bar humedo"}]
[{"$f":"'Historico Valoracion Quejas '!D112","v":802},{"$f":"'Historico Valoracion Quejas '!B112","v":"2018-11-15"},{"$f":"'Historico Valoracion Quejas '!G112","v":"Wifi no funcionó en la habitación."},{"$f":"'Historico Valoracion Quejas '!V112","v":"Wifi"}]
[{"$f":"'Historico Valoracion Quejas '!D113","v":801},{"$f":"'Historico Valoracion Quejas '!B113","v":"2018-11-15"},{"$f":"'Historico Valoracion Quejas '!G113","v":"El personal del bar húmedo fue muy insistente y presionaba para que comparamos más, ante cada oportunidad querían aumentar la venta."},{"$f":"'Historico Valoracion Quejas '!V113","v":"Servicio cliente bar humedo"}]
[{"$f":"'Historico Valoracion Quejas '!D114","v":601},{"$f":"'Historico Valoracion Quejas '!B114","v":"2018-11-15"},{"$f":"'Historico Valoracion Quejas '!G114","v":"Las llaves de la habitación no funcionaban, tuve que ir a recepción a resetearlas."},{"$f":"'Historico Valoracion Quejas '!V114","v":"Servicio cliente recepción"}]
[{"$f":"'Historico Valoracion Quejas '!D115","v":408},{"$f":"'Historico Valoracion Quejas '!B115","v":"2018-11-13"},{"$f":"'Historico Valoracion Quejas '!G115","v":"Huésped se queja por el mal funcionamiento del telefono, èl necesitaba una wake-up call y tambien llamar a recepción y a pesar de que se le dijo que lo estaban arreglando al llegar de tour no se encontraba reparado."},{"$f":"'Historico Valoracion Quejas '!V115","v":"Central telefonica"}]
[{"$f":"'Historico Valoracion Quejas '!D116","v":415},{"$f":"'Historico Valoracion Quejas '!B116","v":"2018-11-14"},{"$f":"'Historico Valoracion Quejas '!G116","v":"Colaborador Oscar nos reporta que en varias ocasiones los huéspedes han comentado acerca del estado de la llave para drenar el jacuzzi la cual se encuentra afuera de la habitación. ( llave herrumbrada y en un mal estado)"},{"$f":"'Historico Valoracion Quejas '!V116","v":"Jacuzzi"}]
[{"$f":"'Historico Valoracion Quejas '!D117","v":709},{"$f":"'Historico Valoracion Quejas '!B117","v":"2018-11-12"},{"$f":"'Historico Valoracion Quejas '!G117","v":"precios muy caros a nuestra opinión."},{"$f":"'Historico Valoracion Quejas '!V117","v":"Precios Souvenir"}]
[{"$f":"'Historico Valoracion Quejas '!D118","v":"N/A"},{"$f":"'Historico Valoracion Quejas '!B118","v":"2018-11-12"},{"$f":"'Historico Valoracion Quejas '!G118","v":"En el italiano las pizzas son grandes pero las ensaladas vienen pequeñas. Hacer hincapié en eso."},{"$f":"'Historico Valoracion Quejas '!V118","v":"Precios"}]
[{"$f":"'Historico Valoracion Quejas '!D119","v":"N/A"},{"$f":"'Historico Valoracion Quejas '!B119","v":"2018-11-12"},{"$f":"'Historico Valoracion Quejas '!G119","v":"El bar de pileta nos pareció con precios un poco elevados y poca variedad"},{"$f":"'Historico Valoracion Quejas '!V119","v":"Precios"}]
[{"$f":"'Historico Valoracion Quejas '!D120","v":903},{"$f":"'Historico Valoracion Quejas '!B120","v":"2018-11-11"},{"$f":"'Historico Valoracion Quejas '!G120","v":"El cliente dice que el salonero le vendió a la fuerza una botella de vino de $145 , dice que lo presionó cuando él llegó a cenar ya le tenía esa botella fría en lugar de mostrarle el menú."},{"$f":"'Historico Valoracion Quejas '!V120","v":"Servicio cliente restaurante "}]
[{"$f":"'Historico Valoracion Quejas '!D121","v":208},{"$f":"'Historico Valoracion Quejas '!B121","v":"2018-11-11"},{"$f":"'Historico Valoracion Quejas '!G121","v":"NO HAY SEÑAL DE CABLE "},{"$f":"'Historico Valoracion Quejas '!V121","v":"Señal TV"}]
[{"$f":"'Historico Valoracion Quejas '!D122","v":609},{"$f":"'Historico Valoracion Quejas '!B122","v":"2018-11-08"},{"$f":"'Historico Valoracion Quejas '!G122","v":"Señal de televisión muy mala."},{"$f":"'Historico Valoracion Quejas '!V122","v":"Señal TV"}]
[{"$f":"'Historico Valoracion Quejas '!D123","v":212},{"$f":"'Historico Valoracion Quejas '!B123","v":"2018-11-08"},{"$f":"'Historico Valoracion Quejas '!G123","v":"Huéspedes se quejan por el pésimo servicio de cable, la imagen se ve fatal y estan muy decepcionados de un hotel 4 estrellas con televisión por cable tan mala."},{"$f":"'Historico Valoracion Quejas '!V123","v":"Señal TV"}]
[{"$f":"'Historico Valoracion Quejas '!D124","v":701},{"$f":"'Historico Valoracion Quejas '!B124","v":"2018-11-07"},{"$f":"'Historico Valoracion Quejas '!G124","v":"Huésped se queja porque no hay silla en la habitación y porque el lavatorio es muy pequeño."},{"$f":"'Historico Valoracion Quejas '!V124","v":"Silla en habitación"}]
[{"$f":"'Historico Valoracion Quejas '!D125","v":205},{"$f":"'Historico Valoracion Quejas '!B125","v":"2018-11-04"},{"$f":"'Historico Valoracion Quejas '!G125","v":"Huésped se queja porque no encontró menu libre de gluten en los restaurantes y además expresa que debe existir una preparacion y capacitación del personal para atender personas celiacas."},{"$f":"'Historico Valoracion Quejas '!V125","v":"Menú Celiacos"}]
[{"$f":"'Historico Valoracion Quejas '!D126","v":415},{"$f":"'Historico Valoracion Quejas '!B126","v":"2018-11-06"},{"$f":"'Historico Valoracion Quejas '!G126","v":"Huésped se queja porque considera que el hotel debería rellenar el mini bar diariamente."},{"$f":"'Historico Valoracion Quejas '!V126","v":"N/A"}]
[{"$f":"'Historico Valoracion Quejas '!D127","v":414},{"$f":"'Historico Valoracion Quejas '!B127","v":"2018-11-06"},{"$f":"'Historico Valoracion Quejas '!G127","v":"Huésped se queja por el tamaño de las barras de jabón, solicita sean mas grandes."},{"$f":"'Historico Valoracion Quejas '!V127","v":"N/A"}]
[{"$f":"'Historico Valoracion Quejas '!D128","v":403},{"$f":"'Historico Valoracion Quejas '!B128","v":"2018-11-04"},{"$f":"'Historico Valoracion Quejas '!G128","v":"Huésped se queja porque la persona encargada de entregar toallas no se encontraba cuando llegó por su toalla."},{"$f":"'Historico Valoracion Quejas '!V128","v":"Lockers"}]
[{"$f":"'Historico Valoracion Quejas '!D129","v":209},{"$f":"'Historico Valoracion Quejas '!B129","v":"2018-11-05"},{"$f":"'Historico Valoracion Quejas '!G129","v":"El aire acondicionado de la habitación no estaba configurado cuando llegamos, necesita reemplazarse por uno moderno ya que es ruidoso y la caracteristica de moverse para que aire vaya a diferentes direcciones no funcionó nunca."},{"$f":"'Historico Valoracion Quejas '!V129","v":"A/C"}]
[{"$f":"'Historico Valoracion Quejas '!D130","v":109},{"$f":"'Historico Valoracion Quejas '!B130","v":"2018-11-03"},{"$f":"'Historico Valoracion Quejas '!G130","v":"Huésped se queja por el uso de pajillas."},{"$f":"'Historico Valoracion Quejas '!V130","v":"Servicio cliente restaurante "}]
[{"$f":"'Historico Valoracion Quejas '!D131","v":507},{"$f":"'Historico Valoracion Quejas '!B131","v":"2018-11-04"},{"$f":"'Historico Valoracion Quejas '!G131","v":"Huésped se queja por la poca felxibilidad en cuanto a la hora de entrada y salida."},{"$f":"'Historico Valoracion Quejas '!V131","v":"N/A"}]
[{"$f":"'Historico Valoracion Quejas '!D132","v":903},{"$f":"'Historico Valoracion Quejas '!B132","v":"2018-11-04"},{"$f":"'Historico Valoracion Quejas '!G132","v":"Huésped se acerca a recepción molesta indicando que hoy por la mañana su habitación y la de sus familiares a la par (904) despues de 3 minutos en la ducha solamente sale agua fría, nos pide revisar las duchas de las habitaciones para poder ducharse con agua caliente ya que tienen a su hija y es necesario que les brindemos una solución."},{"$f":"'Historico Valoracion Quejas '!V132","v":"Agua caliente"}]
[{"$f":"'Historico Valoracion Quejas '!D133","v":304},{"$f":"'Historico Valoracion Quejas '!B133","v":"2018-11-04"},{"$f":"'Historico Valoracion Quejas '!G133","v":"Podrìan mejorar con algún tipo de entretenimiento nocturno como música en vivo o algun show similar."},{"$f":"'Historico Valoracion Quejas '!V133","v":"Entretenimiento"}]
[{"$f":"'Historico Valoracion Quejas '!D134","v":207},{"$f":"'Historico Valoracion Quejas '!B134","v":"2018-04-11"},{"$f":"'Historico Valoracion Quejas '!G134","v":"Huésped se queja por la mala experiencia con la cual finalizó su estancia en el hotel, ellos tenían 2 habitaciones juntas y solicitaron un late check-out a las 2:00pm, sin embargo al estar lleno el hotel no fue posible y se les dio la posibilidad de utilizar las instalaciones y bañarse en los lockers. Al parecer esto ocasionó una gran molestia, porque los huèspedes indican que el área donde los enviaron a bañarse no es apta y que ahí tuvieron una experiencia muy triste y decepcionante."},{"$f":"'Historico Valoracion Quejas '!V134","v":"Lockers"}]
[{"$f":"'Historico Valoracion Quejas '!D135","v":608},{"$f":"'Historico Valoracion Quejas '!B135","v":"2018-11-01"},{"$f":"'Historico Valoracion Quejas '!G135","v":"Huésped se queja porque no hay una buena iluminación a los lados de la cama para poder leer, y además reclama por no haber una silla en la habitación."},{"$f":"'Historico Valoracion Quejas '!V135","v":"Iluminación hab closet"}]
[{"$f":"'Historico Valoracion Quejas '!D136","v":404},{"$f":"'Historico Valoracion Quejas '!B136","v":"2018-11-01"},{"$f":"'Historico Valoracion Quejas '!G136","v":"Huésped se queja que los precios deberian de ser mas bajos en el sushi y en el bar de la piscina, es inclusive mas caro que una bebida en europa."},{"$f":"'Historico Valoracion Quejas '!V136","v":"Precios"}]
[{"$f":"'Historico Valoracion Quejas '!D137","v":902},{"$f":"'Historico Valoracion Quejas '!B137","v":"2018-10-27"},{"$f":"'Historico Valoracion Quejas '!G137","v":"NO vender el agua a un precio tan elevado."},{"$f":"'Historico Valoracion Quejas '!V137","v":"Precios Souvenir"}]
[{"$f":"'Historico Valoracion Quejas '!D138","v":208},{"$f":"'Historico Valoracion Quejas '!B138","v":"2018-10-30"},{"$f":"'Historico Valoracion Quejas '!G138","v":"Expandir el souvenir ya que es muy pequeño y que puedan proveer un lugar conveniente con bebidas y comida."},{"$f":"'Historico Valoracion Quejas '!V138","v":"Servicio C. Tienda"}]
[{"$f":"'Historico Valoracion Quejas '!D139","v":208},{"$f":"'Historico Valoracion Quejas '!B139","v":"2018-10-30"},{"$f":"'Historico Valoracion Quejas '!G139","v":"Poner ventiladores o ventilación en los baños"},{"$f":"'Historico Valoracion Quejas '!V139","v":"N/A"}]
[{"$f":"'Historico Valoracion Quejas '!D140","v":301},{"$f":"'Historico Valoracion Quejas '!B140","v":"2018-10-30"},{"$f":"'Historico Valoracion Quejas '!G140","v":"Huésped llama a recepción porque su A/C no funciona correctamente."},{"$f":"'Historico Valoracion Quejas '!V140","v":"A/C"}]
[{"$f":"'Historico Valoracion Quejas '!D141","v":506},{"$f":"'Historico Valoracion Quejas '!B141","v":"2018-10-29"},{"$f":"'Historico Valoracion Quejas '!G141","v":"los precios de la comida y especialmente las bebidas son muy altos."},{"$f":"'Historico Valoracion Quejas '!V141","v":"Precios Comidas Italiano"}]
[{"$f":"'Historico Valoracion Quejas '!D142","v":106},{"$f":"'Historico Valoracion Quejas '!B142","v":"2018-10-29"},{"$f":"'Historico Valoracion Quejas '!G142","v":"Huèsped se queja porque no hay sombrillas en las habitaciones."},{"$f":"'Historico Valoracion Quejas '!V142","v":"Servicio cliente restaurante "}]
[{"$f":"'Historico Valoracion Quejas '!D143","v":211},{"$f":"'Historico Valoracion Quejas '!B143","v":"2018-10-28"},{"$f":"'Historico Valoracion Quejas '!G143","v":"La cafetera de la habitación no tiene filtros."},{"$f":"'Historico Valoracion Quejas '!V143","v":"N/A"}]
[{"$f":"'Historico Valoracion Quejas '!D144","v":503},{"$f":"'Historico Valoracion Quejas '!B144","v":"2018-10-29"},{"$f":"'Historico Valoracion Quejas '!G144","v":"Precios excesivamente caros."},{"$f":"'Historico Valoracion Quejas '!V144","v":"Precios Sushi"}]
[{"$f":"'Historico Valoracion Quejas '!D145","v":205},{"$f":"'Historico Valoracion Quejas '!B145","v":"2018-10-29"},{"$f":"'Historico Valoracion Quejas '!G145","v":"Huésped se queja por no haber mayor oferta gastronomica en el hotel ni mejores opciones libres de gluten."},{"$f":"'Historico Valoracion Quejas '!V145","v":"Menú Celiacos"}]
[{"$f":"'Historico Valoracion Quejas '!D146","v":411},{"$f":"'Historico Valoracion Quejas '!B146","v":"2018-10-26"},{"$f":"'Historico Valoracion Quejas '!G146","v":"Huèsped se queja por la poca iluminaciòn en las esquinas de cada callejòn, menciona que le encantarìa ver mejor iluminaciòn con los nùmeros de las habitaciones alumbrando."},{"$f":"'Historico Valoracion Quejas '!V146","v":"Iluminación Jardines"}]
[{"$f":"'Historico Valoracion Quejas '!D147","v":209},{"$f":"'Historico Valoracion Quejas '!B147","v":"2018-10-25"},{"$f":"'Historico Valoracion Quejas '!G147","v":"Bueno el desayuno pero terminè decepcionado porque estuvo cerrado nuestra estadìa entera, no tuve oportunidad de experimentar de la cultura tica porque siempre estuvo cerrado.La comida estuvo mas o menos en general, lo digo porque las porciones eran pequeñas."},{"$f":"'Historico Valoracion Quejas '!V147","v":"Menú típico"}]
[{"$f":"'Historico Valoracion Quejas '!D148","v":208},{"$f":"'Historico Valoracion Quejas '!B148","v":"2018-10-27"},{"$f":"'Historico Valoracion Quejas '!G148","v":"Como visitante de temporada baja me gustarìa ver mas y mejores opciones de almuerzo y cena."},{"$f":"'Historico Valoracion Quejas '!V148","v":"Variedad platos"}]
[{"$f":"'Historico Valoracion Quejas '!D149","v":208},{"$f":"'Historico Valoracion Quejas '!B149","v":"2018-10-27"},{"$f":"'Historico Valoracion Quejas '!G149","v":"Insectos en los helados. No fue una buena opciòn comprar ahì."},{"$f":"'Historico Valoracion Quejas '!V149","v":"Servicio C. Tienda"}]
[{"$f":"'Historico Valoracion Quejas '!D150","v":208},{"$f":"'Historico Valoracion Quejas '!B150","v":"2018-10-27"},{"$f":"'Historico Valoracion Quejas '!G150","v":"Menù muy limitado y extremadamente caro"},{"$f":"'Historico Valoracion Quejas '!V150","v":"Calidad precio"}]
[{"$f":"'Historico Valoracion Quejas '!D151","v":904},{"$f":"'Historico Valoracion Quejas '!B151","v":"2018-10-24"},{"$f":"'Historico Valoracion Quejas '!G151","v":"Pueden mejorar su servicio con una mejor ayuda con la conversión de dinero. Me dijeron que un taxi cuesta 12 dolares a la Fortuna pero la \"maria\" marca 5000 colones, se supone que son 10 dòlares. No entendì porque."},{"$f":"'Historico Valoracion Quejas '!V151","v":"Precios"}]
[{"$f":"'Historico Valoracion Quejas '!D152","v":108},{"$f":"'Historico Valoracion Quejas '!B152","v":"2018-10-25"},{"$f":"'Historico Valoracion Quejas '!G152","v":"Deberìan entregar un brochure con informaciòn del hotel para futuras visitas."},{"$f":"'Historico Valoracion Quejas '!V152","v":"N/A"}]
[{"$f":"'Historico Valoracion Quejas '!D153","v":108},{"$f":"'Historico Valoracion Quejas '!B153","v":"2018-10-25"},{"$f":"'Historico Valoracion Quejas '!G153","v":"El servicio muy bueno pero el sabor del arroz con camarones no era el mejor."},{"$f":"'Historico Valoracion Quejas '!V153","v":"Calidad comida Italiano"}]
[{"$f":"'Historico Valoracion Quejas '!D154","v":504},{"$f":"'Historico Valoracion Quejas '!B154","v":"2018-10-23"},{"$f":"'Historico Valoracion Quejas '!G154","v":"Podrìan mejorar en tener en el hotel servicio de alquiler de carros y un supermercado mas cerca."},{"$f":"'Historico Valoracion Quejas '!V154","v":"N/A"}]
[{"$f":"'Historico Valoracion Quejas '!D155","v":504},{"$f":"'Historico Valoracion Quejas '!B155","v":"2018-10-23"},{"$f":"'Historico Valoracion Quejas '!G155","v":"muy caro, por una cerveza de lata 5 dòlares."},{"$f":"'Historico Valoracion Quejas '!V155","v":"Precios"}]
[{"$f":"'Historico Valoracion Quejas '!D156","v":202},{"$f":"'Historico Valoracion Quejas '!B156","v":"2018-10-28"},{"$f":"'Historico Valoracion Quejas '!G156","v":"Cama nido que se colocò a peticiòn de huèsped se encontraba en muy mal estado, quebrada y no en las mejores condiciones."},{"$f":"'Historico Valoracion Quejas '!V156","v":"Camas nidos"}]
[{"$f":"'Historico Valoracion Quejas '!D157","v":"N/A"},{"$f":"'Historico Valoracion Quejas '!B157","v":"2018-10-28"},{"$f":"'Historico Valoracion Quejas '!G157","v":"Buenos días Compañeros \n\nTengan muy buen día todas y todos.\n\nLes comparto el siguiente  incidente , durante el desayuno de hoy.\n\nLa mañana de hoy la compañera Karen Núñez se acercó a mi persona y me indico , que aparentemente estaban cayendo del cielo raso, excremento de ratas.\n\nEstaba en espera de  terminar el desayuno , para informar al señor Jairo.\n\nLamentablemente, ella no se equivocaba.\n\nMinutos después , cayó muy cerca de una de las mesas, una rata.  La compañera Hazel y el señor Ariel, pudieron recogerla y disponer de ella, pero lamentablemente los huéspedes    , en el salón B , se dieron cuenta.\n\nLas habitaciones a nombre de la familia LAINES, son 603-703-903.\n\nMi recomendación seria , entrar lo más pronto posible en un programa de exterminio y/o previsión a l asunto.\n\nEspero que la información sea de ayuda.\n"},{"$f":"'Historico Valoracion Quejas '!V157","v":"Plagas en restaurante"}]
[{"$f":"'Historico Valoracion Quejas '!D158","v":111},{"$f":"'Historico Valoracion Quejas '!B158","v":"2018-10-21"},{"$f":"'Historico Valoracion Quejas '!G158","v":"Huésped se queja por no haber ventiladores en los restaurantes que permitan un mejor flujo de aire."},{"$f":"'Historico Valoracion Quejas '!V158","v":"Ventilación Restaurantes"}]
[{"$f":"'Historico Valoracion Quejas '!D159","v":701},{"$f":"'Historico Valoracion Quejas '!B159","v":"2018-10-20"},{"$f":"'Historico Valoracion Quejas '!G159","v":"Huésped se queja porque el hotel no tiene NETFLIX con costo agregado en las habitaciones para el hospedaje."},{"$f":"'Historico Valoracion Quejas '!V159","v":"NETFLIX"}]
[{"$f":"'Historico Valoracion Quejas '!D160","v":505},{"$f":"'Historico Valoracion Quejas '!B160","v":"2018-10-17"},{"$f":"'Historico Valoracion Quejas '!G160","v":"Precios muy altos."},{"$f":"'Historico Valoracion Quejas '!V160","v":"Precios tienda"}]
[{"$f":"'Historico Valoracion Quejas '!D161","v":505},{"$f":"'Historico Valoracion Quejas '!B161","v":"2018-10-17"},{"$f":"'Historico Valoracion Quejas '!G161","v":"Comida buena pero sobrevalorada."},{"$f":"'Historico Valoracion Quejas '!V161","v":"Precios Comidas Italiano"}]
[{"$f":"'Historico Valoracion Quejas '!D162","v":705},{"$f":"'Historico Valoracion Quejas '!B162","v":"2018-10-19"},{"$f":"'Historico Valoracion Quejas '!G162","v":"Los trabajos de construcción detrás de nosotros comenzaron muy temprano a las 7am y eran demasiado ruidosos. No fue muy gratificante ni tranquila la estadía por ese motivo."},{"$f":"'Historico Valoracion Quejas '!V162","v":"Ruido habitación"}]
[{"$f":"'Historico Valoracion Quejas '!D163","v":512},{"$f":"'Historico Valoracion Quejas '!B163","v":"2018-10-21"},{"$f":"'Historico Valoracion Quejas '!G163","v":"Huésped al momento del check-out nos comparte la queja que el día 20 de octubre ( día de su boda) se había coordinado la limpieza y decoración respectiva para que cuando llegaran de su boda encontraran la sorpresa, sin embargo cuando la mucama llegó a hacer lo solicitado ellos se encontraban alistandose y preparando todo para la boda por lo que pidieron a la mucama venir más tarde ya cuando se hubieran marchado. La situación que molestó a la huésped fue que cuando llegaron de su boda a celebrar la luna de miel la habitación era un desastre y no había ninguna decoración. Ella nos expresó que habían hecho un esfuerzo muy grande para conseguir disfrutar de su luna de miel en esa habitación y que al final lo que recibieron fue una decepción en lugar de una grata sorpresa. "},{"$f":"'Historico Valoracion Quejas '!V163","v":"Chequeo habitaciones"}]
[{"$f":"'Historico Valoracion Quejas '!D164","v":"N/A"},{"$f":"'Historico Valoracion Quejas '!B164","v":"2018-10-18"},{"$f":"'Historico Valoracion Quejas '!G164","v":"Locker #18 de los hombres posee número erroneo en su llavero. Revisar estado y números de los llaveros."},{"$f":"'Historico Valoracion Quejas '!V164","v":"Lockers"}]
[{"$f":"'Historico Valoracion Quejas '!D165","v":402},{"$f":"'Historico Valoracion Quejas '!B165","v":"2018-10-18"},{"$f":"'Historico Valoracion Quejas '!G165","v":"Los botones del jacuzzi no funcionaban bien a ciertas horas."},{"$f":"'Historico Valoracion Quejas '!V165","v":"Jacuzzi"}]
[{"$f":"'Historico Valoracion Quejas '!D166","v":608},{"$f":"'Historico Valoracion Quejas '!B166","v":"2018-10-17"},{"$f":"'Historico Valoracion Quejas '!G166","v":"NO ofrezcan pajillas para las bebidas a la hora de servir una comida, son muy malas para el medio ambiente."},{"$f":"'Historico Valoracion Quejas '!V166","v":"Servicio cliente restaurante "}]
[{"$f":"'Historico Valoracion Quejas '!D167","v":306},{"$f":"'Historico Valoracion Quejas '!B167","v":"2018-10-18"},{"$f":"'Historico Valoracion Quejas '!G167","v":"Huésped se queja que en el souvenir  las tallas de ropa se encontraban todas mezcladas y en desorden y fue difícil encontrar la ropa."},{"$f":"'Historico Valoracion Quejas '!V167","v":"Servicio C. Tienda"}]
[{"$f":"'Historico Valoracion Quejas '!D168","v":312},{"$f":"'Historico Valoracion Quejas '!B168","v":"2018-10-17"},{"$f":"'Historico Valoracion Quejas '!G168","v":"Las bebidas estuvieron ok pero no fueron algo grandioso."},{"$f":"'Historico Valoracion Quejas '!V168","v":"Cockteles bares"}]
[{"$f":"'Historico Valoracion Quejas '!D169","v":109},{"$f":"'Historico Valoracion Quejas '!B169","v":"2018-10-17"},{"$f":"'Historico Valoracion Quejas '!G169","v":"Solamente teníamos shampoo y acondicionador pero nunca tuvimos gel de baño lo cual sería una muy buena idea."},{"$f":"'Historico Valoracion Quejas '!V169","v":"Amenidades"}]
[{"$f":"'Historico Valoracion Quejas '!D170","v":109},{"$f":"'Historico Valoracion Quejas '!B170","v":"2018-10-17"},{"$f":"'Historico Valoracion Quejas '!G170","v":"Huésped se queja que al desayuno una sola waflera no es suficiente para el número de personas presentes, se necesita demasiado tiempo para un waffle y no le gustó esperar tanto."},{"$f":"'Historico Valoracion Quejas '!V170","v":"Calida Desayuno"}]
[{"$f":"'Historico Valoracion Quejas '!D171","v":103},{"$f":"'Historico Valoracion Quejas '!B171","v":"2018-10-17"},{"$f":"'Historico Valoracion Quejas '!G171","v":"Huésped se queja del ruido ocasionado durante las dos noches de su estadía por el televisor de la habitación adyacente. Indica que pudo escuchar de todo y que hasta se sorprendió de lo que escuchó."},{"$f":"'Historico Valoracion Quejas '!V171","v":"Ruido habitación"}]
[{"$f":"'Historico Valoracion Quejas '!D172","v":501},{"$f":"'Historico Valoracion Quejas '!B172","v":"2018-10-17"},{"$f":"'Historico Valoracion Quejas '!G172","v":"Huésped se queja por no haber una silla en la habitación, dice que es muy difícil ponerse la ropa en una cama alta."},{"$f":"'Historico Valoracion Quejas '!V172","v":"Silla en habitación"}]
[{"$f":"'Historico Valoracion Quejas '!D173","v":125},{"$f":"'Historico Valoracion Quejas '!B173","v":"2018-10-18"},{"$f":"'Historico Valoracion Quejas '!G173","v":"Habitaciones 125-126 reportadas por el chofer y guía con cucarachas entre el aire acondicionado, se quejan de una posible plaga la cual intentaron matar con insecticidad pero aún así salieron más en la noche."},{"$f":"'Historico Valoracion Quejas '!V173","v":"Plagas Habitaciones"}]
[{"$f":"'Historico Valoracion Quejas '!D174","v":605},{"$f":"'Historico Valoracion Quejas '!B174","v":"2018-10-18"},{"$f":"'Historico Valoracion Quejas '!G174","v":"Huésped luego de llegar del check-in llama molesto a recepción porque su aire acondicionado no funciona bien, él mismo pide que le den un tiempo para descansar y que más tarde le intenten solucionar el problema."},{"$f":"'Historico Valoracion Quejas '!V174","v":"Chequeo habitaciones"}]
[{"$f":"'Historico Valoracion Quejas '!D175","v":602},{"$f":"'Historico Valoracion Quejas '!B175","v":"2018-10-16"},{"$f":"'Historico Valoracion Quejas '!G175","v":"Cable HDMI en muy mal estado, no permitió llevar a cabo una charla de chocolate planeada para el grupo ROAD SCHOLAR ( Arenal Manoa)."},{"$f":"'Historico Valoracion Quejas '!V175","v":"Proyector Manantial "}]
[{"$f":"'Historico Valoracion Quejas '!D176","v":611},{"$f":"'Historico Valoracion Quejas '!B176","v":"2018-10-15"},{"$f":"'Historico Valoracion Quejas '!G176","v":"Restaurante del Sushi malo. Además el bar de la piscina debería de dar también al agua fría "},{"$f":"'Historico Valoracion Quejas '!V176","v":"Calidad Sushi"}]
[{"$f":"'Historico Valoracion Quejas '!D177","v":507},{"$f":"'Historico Valoracion Quejas '!B177","v":"2018-10-15"},{"$f":"'Historico Valoracion Quejas '!G177","v":"Mejorar la variedad de los desayunos especialmente cuando se viene varios días."},{"$f":"'Historico Valoracion Quejas '!V177","v":"Calida Desayuno"}]
[{"$f":"'Historico Valoracion Quejas '!D178","v":204},{"$f":"'Historico Valoracion Quejas '!B178","v":"2018-10-13"},{"$f":"'Historico Valoracion Quejas '!G178","v":"Televisor de Recepción es horrible. Esto es algo que deberían mejorar"},{"$f":"'Historico Valoracion Quejas '!V178","v":"Servicio cliente recepción"}]
[{"$f":"'Historico Valoracion Quejas '!D179","v":206},{"$f":"'Historico Valoracion Quejas '!B179","v":"2018-10-13"},{"$f":"'Historico Valoracion Quejas '!G179","v":"Caja de seguridad no funciona"},{"$f":"'Historico Valoracion Quejas '!V179","v":"Habitaciones"}]
[{"$f":"'Historico Valoracion Quejas '!D180","v":107},{"$f":"'Historico Valoracion Quejas '!B180","v":"2018-10-14"},{"$f":"'Historico Valoracion Quejas '!G180","v":"Huésped se queja de precios. Crema de hongos cuesta igual que una pizza hawaiana"},{"$f":"'Historico Valoracion Quejas '!V180","v":"Calidad comida Italiano"}]
[{"$f":"'Historico Valoracion Quejas '!D181","v":107},{"$f":"'Historico Valoracion Quejas '!B181","v":"2018-10-14"},{"$f":"'Historico Valoracion Quejas '!G181","v":"Toallas de piscina ya son beige y no azules como lo dice los rótulos en el área de las termales. Ver rotulación y renovarla."},{"$f":"'Historico Valoracion Quejas '!V181","v":"Piscinas "}]
[{"$f":"'Historico Valoracion Quejas '!D182","v":107},{"$f":"'Historico Valoracion Quejas '!B182","v":"2018-10-14"},{"$f":"'Historico Valoracion Quejas '!G182","v":"Huésped se queja de los brazaletes, sugieren que no sean de plástico."},{"$f":"'Historico Valoracion Quejas '!V182","v":"Brazaletes"}]
[{"$f":"'Historico Valoracion Quejas '!D183","v":701},{"$f":"'Historico Valoracion Quejas '!B183","v":"2018-10-14"},{"$f":"'Historico Valoracion Quejas '!G183","v":"Pedí papas a las 11 y no me las dieron porque el aceite estaba frío."},{"$f":"'Historico Valoracion Quejas '!V183","v":"Calidad Sushi"}]
[{"$f":"'Historico Valoracion Quejas '!D184","v":409},{"$f":"'Historico Valoracion Quejas '!B184","v":"2018-10-14"},{"$f":"'Historico Valoracion Quejas '!G184","v":"Huésped se queja de los precios de los restaurantes, 40 000 un almuerzo? "},{"$f":"'Historico Valoracion Quejas '!V184","v":"Precios Comidas Italiano"}]
[{"$f":"'Historico Valoracion Quejas '!D185","v":204},{"$f":"'Historico Valoracion Quejas '!B185","v":"2018-10-14"},{"$f":"'Historico Valoracion Quejas '!G185","v":"Huésped se queja indicando que hay una necesidad de enmasillar el area entre el techo y el cielo raso en el baño."},{"$f":"'Historico Valoracion Quejas '!V185","v":"Habitaciones"}]
[{"$f":"'Historico Valoracion Quejas '!D186","v":403},{"$f":"'Historico Valoracion Quejas '!B186","v":"2018-10-14"},{"$f":"'Historico Valoracion Quejas '!G186","v":"Huésped se queja de las camas e indica que el hotel debe mejorar teniendo camas más suaves."},{"$f":"'Historico Valoracion Quejas '!V186","v":"Colchon duro"}]
[{"$f":"'Historico Valoracion Quejas '!D187","v":403},{"$f":"'Historico Valoracion Quejas '!B187","v":"2018-10-14"},{"$f":"'Historico Valoracion Quejas '!G187","v":"Huésped se queja de las opciones de comida, pide mejores opciones ya que para él la comida fue solo buena y no encontró nada especial en ella."},{"$f":"'Historico Valoracion Quejas '!V187","v":"Calidad comida Italiano"}]
[{"$f":"'Historico Valoracion Quejas '!D188","v":305},{"$f":"'Historico Valoracion Quejas '!B188","v":"2018-10-15"},{"$f":"'Historico Valoracion Quejas '!G188","v":"Mientras se iba a chequear una habitación con una ducha apta para lo que nos solicitaba un cliente se encontró que la ducha de la hab 305 no esta pegada y que al abrir toda la presión es muy vulonerable a safarse y caer en la cabeza de un huésped."},{"$f":"'Historico Valoracion Quejas '!V188","v":"Chequeo habitaciones"}]
[{"$f":"'Historico Valoracion Quejas '!D189","v":602},{"$f":"'Historico Valoracion Quejas '!B189","v":"2018-10-15"},{"$f":"'Historico Valoracion Quejas '!G189","v":"Señora Kristine dueña de la agencia LatinEscapes se queja fuertemente indicando que ella conoce este hotel y que lo ha visitado en varias ocasiones pero que esta vez le han dado la peor habitación, ella se queja que la ducha no es regulable y que al momento de abrirla el agua sale disparada por todo lado sin poder bañarse o lavarse el pelo como ella quiere, además ella reclama por el ruido del ventilador del techo que se encuentra mal pegado y no los deja dormir. Ella nos hace ver que si pudiera irse se iría ahora mismo porque no se encuentra a gusto."},{"$f":"'Historico Valoracion Quejas '!V189","v":"Ruido habitación"}]
[{"$f":"'Historico Valoracion Quejas '!D190","v":121},{"$f":"'Historico Valoracion Quejas '!B190","v":"2018-10-14"},{"$f":"'Historico Valoracion Quejas '!G190","v":"El guía de Collete el señor Ricardo Howell presentó la queja con respecto al menú que se le ofreció luego de traer a su grupo a cenar a nuestro restaurante, él mismo quedó disconforme ya que en otras ocasiones se le ha ofrecido menú abierto y esta vez tanto en el Rest Italiano como en el Ti-cain se le dió un menú carta paquete el cual no le agrado. Nos mencionó que la próxima vez su grupo iría a cenar afuera y se encontraba molesto por el accionar del hotel."},{"$f":"'Historico Valoracion Quejas '!V190","v":"Servicio cliente restaurante "}]
[{"$f":"'Historico Valoracion Quejas '!D191","v":503},{"$f":"'Historico Valoracion Quejas '!B191","v":"2018-10-15"},{"$f":"'Historico Valoracion Quejas '!G191","v":"503  La señora se queja de que el A/C no le sirvió en toda la noche, se revisa y efectivamente le falta refrigerante "},{"$f":"'Historico Valoracion Quejas '!V191","v":"A/C"}]
[{"$f":"'Historico Valoracion Quejas '!D192","v":410},{"$f":"'Historico Valoracion Quejas '!B192","v":"2018-10-13"},{"$f":"'Historico Valoracion Quejas '!G192","v":"se queja ahora de que el A/C no sirve, efectivamente estaba sin refrigerante "},{"$f":"'Historico Valoracion Quejas '!V192","v":"A/C"}]
[{"$f":"'Historico Valoracion Quejas '!D193","v":705},{"$f":"'Historico Valoracion Quejas '!B193","v":"2018-10-13"},{"$f":"'Historico Valoracion Quejas '!G193","v":"Huéspedes molestos por ruido ocasionado por la construcción."},{"$f":"'Historico Valoracion Quejas '!V193","v":"Construcción"}]
[{"$f":"'Historico Valoracion Quejas '!D194","v":602},{"$f":"'Historico Valoracion Quejas '!B194","v":"2018-10-14"},{"$f":"'Historico Valoracion Quejas '!G194","v":"A/C en mal estado, huésped se se queja porque no funciona como debería."},{"$f":"'Historico Valoracion Quejas '!V194","v":"A/C"}]
[{"$f":"'Historico Valoracion Quejas '!D195","v":903},{"$f":"'Historico Valoracion Quejas '!B195","v":"2018-10-14"},{"$f":"'Historico Valoracion Quejas '!G195","v":"BUENAS NOCHES COMPAÑEROS\n\nLes describo el incidente que sucedió al final de la cena, con los huéspedes de la habitación 903 :\n\nDichos señores son personas muy amables, cenaron por segunda ocasión en este RESTAURANTE.\n\nEllos pidieron un  salmón, el cual viene acompañado de brócoli y coliflor.\n\nAl parecer ; lamentablemente, les salió un pequeño gusano.\n\nLa señora ya había terminado la cena casi por completo.\nEl señor Jhon Pinnel me indica del problema, reviso el plato y efectivamente lo tenía.\nMe aproximo a los huéspedes, quienes se manifestaron al respecto, muy respetuosos, comprensivos, pero me indicaron que la señora era fóbica a estos animalitos.\n\n\n"},{"$f":"'Historico Valoracion Quejas '!V195","v":"Objetos en la comida"}]
[{"$f":"'Historico Valoracion Quejas '!D196","v":205},{"$f":"'Historico Valoracion Quejas '!B196","v":"2018-10-12"},{"$f":"'Historico Valoracion Quejas '!G196","v":"Buenos días compañeros, \nMe gustaría comunicarles una situación que se dio hoy con el señor Eduardo Otero de la habitación 205 durante el check out. \nSe le comunico el monto a pagar por cargos extras, él dijo que iba a pagar en efectivo y en euros. Y bueno ya que se está dando la opción de que lo hagan procedimos a aceptar la moneda. Sin embargo, no aceptó el monto que se le dijo y mencionó que ese no era el tipo de cambio; además agregó que ayer se lo habían cambiado a 650 y que aun así salió perdiendo dinero. \nLe explique que 620 era el tipo de cambio que estaba autorizado a dar y no podía hacer ningún cambio al mismo. El señor ya en un tono más fuerte dijo que entonces estábamos ganando dinero extra  “a costas de su dinero”, pero le mencione que de hecho no se aceptan euros, pero que los recibimos para hacerles un favor ya que sabemos que quizás no tienen tiempo para ir al banco y nuevamente le mencioné que 620 era el cambio establecido por contabilidad. \n\nAl final, el señor pagó sus cargos y el tipo de cambio que se le estaba dando, pero no estaba contento. De mi parte no puedo hacer alguna alteración a lo que ya está esta por los compañeros de contabilidad, pero aun así les hice la consulta pero me dijeron lo mismo que ya le había mencionado al señor Otero. \n\nEstamos ofreciendo una pequeña ayuda a ellos aceptando los euros, pero no me parece respetuoso que ellos vengan a imponer lo que ellos desean cuando ya tenemos las cosas establecidas por los compañeros de contabilidad. Si vamos a otro país nos tenemos que apegar a las normas que rigen al mismo, incluyéndose en esto el tipo de moneda… Estamos siendo flexible al ayudarle a los clientes aceptando Euros, pero hasta cuando quieren cambiar dinero y no se les puede cambiar el monto que desean se enojan con nosotros. \n"},{"$f":"'Historico Valoracion Quejas '!V196","v":"Servicio cliente recepción"}]
[{"$f":"'Historico Valoracion Quejas '!D197","v":901},{"$f":"'Historico Valoracion Quejas '!B197","v":"2018-10-08"},{"$f":"'Historico Valoracion Quejas '!G197","v":"Huéspedes se quejan de las camas que son duras."},{"$f":"'Historico Valoracion Quejas '!V197","v":"Colchon duro"}]
[{"$f":"'Historico Valoracion Quejas '!D198","v":405},{"$f":"'Historico Valoracion Quejas '!B198","v":"2018-10-08"},{"$f":"'Historico Valoracion Quejas '!G198","v":"Huésped se queja porque habían muchas moscas durante el desayuno."},{"$f":"'Historico Valoracion Quejas '!V198","v":"Plagas en restaurante"}]
[{"$f":"'Historico Valoracion Quejas '!D199","v":206},{"$f":"'Historico Valoracion Quejas '!B199","v":"2018-10-06"},{"$f":"'Historico Valoracion Quejas '!G199","v":"El frigorifico hace mucho ruido y es bastante molesto en la noche."},{"$f":"'Historico Valoracion Quejas '!V199","v":"Ruido Refri"}]
[{"$f":"'Historico Valoracion Quejas '!D200","v":201},{"$f":"'Historico Valoracion Quejas '!B200","v":"2018-09-29"},{"$f":"'Historico Valoracion Quejas '!G200","v":"pensamos que la habitación 201 es un poquito pequeña si los clientes son 4 adultos tomando en cuenta que casi todos nuestros clientes tienen cada uno una maleta grande y una maleta pequeña durante su viaje. Entonces, prestaremos atención a la categoría de habitación que reservamos por respecto a la composición de los grupos de clientes. "},{"$f":"'Historico Valoracion Quejas '!V200","v":"N/A"}]
[{"$f":"'Historico Valoracion Quejas '!D201","v":201},{"$f":"'Historico Valoracion Quejas '!B201","v":"2018-09-29"},{"$f":"'Historico Valoracion Quejas '!G201","v":"Primero, el hotel Arenal Springs nos parece ser una muy buena opción para nuestros clientes que quieren relajación y confort. Las aguas termales incluidas en el hotel son un valor agregado enorme. Además, esta zona termal está muy bien pensada con los dos bares, los jardines y las diferentes categorías de « piscinas » que hay. Solamente pensamos que el segundo bar (el que propone solamente bebidas y no el Sushi bar) merecería un poquito más de decoración para ser más acogedor todavía. "},{"$f":"'Historico Valoracion Quejas '!V201","v":"Remodelación"}]
[{"$f":"'Historico Valoracion Quejas '!D202","v":211},{"$f":"'Historico Valoracion Quejas '!B202","v":"2018-10-08"},{"$f":"'Historico Valoracion Quejas '!G202","v":"Huésped se acerca a recepción indicando que anoche al abrir su closet y sacar la cobija, la misma se encontraba mojada y no la pudo utilizar en toda la noche."},{"$f":"'Historico Valoracion Quejas '!V202","v":"Lavanderia"}]
[{"$f":"'Historico Valoracion Quejas '!D203","v":201},{"$f":"'Historico Valoracion Quejas '!B203","v":"2018-10-07"},{"$f":"'Historico Valoracion Quejas '!G203","v":"Huésped se queja de la mala señal de TV"},{"$f":"'Historico Valoracion Quejas '!V203","v":"Señal TV"}]
[{"$f":"'Historico Valoracion Quejas '!D204","v":101},{"$f":"'Historico Valoracion Quejas '!B204","v":"2018-10-05"},{"$f":"'Historico Valoracion Quejas '!G204","v":"Huésped no cuenta con internet "},{"$f":"'Historico Valoracion Quejas '!V204","v":"Wifi"}]
[{"$f":"'Historico Valoracion Quejas '!D205","v":409},{"$f":"'Historico Valoracion Quejas '!B205","v":"2018-10-03"},{"$f":"'Historico Valoracion Quejas '!G205","v":"Huésped indica que las sillas del italiano se resbalan facilmente, deberían de tener algo en las \"patas\" que no permita que se deslicen."},{"$f":"'Historico Valoracion Quejas '!V205","v":"Sillas Italiano"}]
[{"$f":"'Historico Valoracion Quejas '!D206","v":410},{"$f":"'Historico Valoracion Quejas '!B206","v":"2018-10-03"},{"$f":"'Historico Valoracion Quejas '!G206","v":"Huésped se queja debido a que los tomacorrientes de la habitación no funcionan correctamente, se encontraba molesta porque colocó su teléfono a cargar creyendo que iba a cargarse y luego se percató que no funcionaba, además cuando solicitó mover las camas y poner las dos mesas de noche juntas para poner ambas lamparas de noche, no fue posible conectar las dos debido a que el tomacorriente estaba sin electricidad."},{"$f":"'Historico Valoracion Quejas '!V206","v":"Habitaciones"}]
[{"$f":"'Historico Valoracion Quejas '!D207","v":121},{"$f":"'Historico Valoracion Quejas '!B207","v":"2018-10-02"},{"$f":"'Historico Valoracion Quejas '!G207","v":"Chofer del grupo Grand Tour#47 se acerca sumamente molesto a recepción porque estuvo 20 minutos esperando que lo atendieran para cenar y nunca recibió la atención que esperaba, se retira molesto diciendo que ya no piensa cenar y que no puede ser posible que solo por no ser un huésped no le brinden un trato de calidad, si él igual iba a pagar la cena que se iba a comer."},{"$f":"'Historico Valoracion Quejas '!V207","v":"Servicio cliente restaurante "}]
[{"$f":"'Historico Valoracion Quejas '!D208","v":207},{"$f":"'Historico Valoracion Quejas '!B208","v":"2018-09-23"},{"$f":"'Historico Valoracion Quejas '!G208","v":"Sería bueno tener una silla baja dentro de la habitación, ayuda a los adultos mayores"},{"$f":"'Historico Valoracion Quejas '!V208","v":"Silla en habitación"}]
[{"$f":"'Historico Valoracion Quejas '!D209","v":102},{"$f":"'Historico Valoracion Quejas '!B209","v":"2018-09-26"},{"$f":"'Historico Valoracion Quejas '!G209","v":"Huésped indica que el área de la ducha en la habitación tiene poca privacidad"},{"$f":"'Historico Valoracion Quejas '!V209","v":"Habitaciones"}]
[{"$f":"'Historico Valoracion Quejas '!D210","v":102},{"$f":"'Historico Valoracion Quejas '!B210","v":"2018-09-26"},{"$f":"'Historico Valoracion Quejas '!G210","v":"Huésped indica que sería bueno mejorar el área de fumado."},{"$f":"'Historico Valoracion Quejas '!V210","v":"Fumadores "}]
[{"$f":"'Historico Valoracion Quejas '!D211","v":104},{"$f":"'Historico Valoracion Quejas '!B211","v":"2018-09-25"},{"$f":"'Historico Valoracion Quejas '!G211","v":"El huésped hace la observación de que si a ud como huésped al llegar al Hotel en Caseta le preguntan los datos sobre la reservación, debería entonces al llegar al parqueo las personas llamarlos por el nombre y mucho menos que en Recepción vuelvan a preguntarles por el dato de la reserva."},{"$f":"'Historico Valoracion Quejas '!V211","v":"Servicio cliente recepción"}]
[{"$f":"'Historico Valoracion Quejas '!D212","v":104},{"$f":"'Historico Valoracion Quejas '!B212","v":"2018-09-25"},{"$f":"'Historico Valoracion Quejas '!G212","v":"Huésped indica que el aire acondicionado no enfrió correctamente, a veces estaba bien y por ratos no"},{"$f":"'Historico Valoracion Quejas '!V212","v":"A/C"}]
[{"$f":"'Historico Valoracion Quejas '!D213","v":101},{"$f":"'Historico Valoracion Quejas '!B213","v":"2018-09-24"},{"$f":"'Historico Valoracion Quejas '!G213","v":"Huéspedes reportan un olor como a cigarro en su habitación y creen que podría provenir de la hab de la par."},{"$f":"'Historico Valoracion Quejas '!V213","v":"Mal olor habitación"}]
[{"$f":"'Historico Valoracion Quejas '!D214","v":304},{"$f":"'Historico Valoracion Quejas '!B214","v":"2018-09-22"},{"$f":"'Historico Valoracion Quejas '!G214","v":"El control del aire tenía problemas y no funcionaba bien."},{"$f":"'Historico Valoracion Quejas '!V214","v":"A/C"}]
[{"$f":"'Historico Valoracion Quejas '!D215","v":204},{"$f":"'Historico Valoracion Quejas '!B215","v":"2018-09-23"},{"$f":"'Historico Valoracion Quejas '!G215","v":"El baño está mal diseñado, el servicio sanitario debe de estar por lo menos 50cm de la pared lateral, la ducha debe de tener un piso antideslizante. EN el cuarto los adornos laterales de la cama sobran, no se puede accesar a ese lado de la cama y además son peligrosos para niños."},{"$f":"'Historico Valoracion Quejas '!V215","v":"Habitaciones"}]
[{"$f":"'Historico Valoracion Quejas '!D216","v":308},{"$f":"'Historico Valoracion Quejas '!B216","v":"2018-09-23"},{"$f":"'Historico Valoracion Quejas '!G216","v":"Requiere remodelar los muebles, se necesita más espacio para colgar ropa, además en sí la habitación es muy básica"},{"$f":"'Historico Valoracion Quejas '!V216","v":"Habitaciones"}]
[{"$f":"'Historico Valoracion Quejas '!D217","v":312},{"$f":"'Historico Valoracion Quejas '!B217","v":"2018-09-21"},{"$f":"'Historico Valoracion Quejas '!G217","v":"Huéspedes extremadamente molestos se acercan a recepción porque durante la noche fueron picados por piojos o chinches que según indican invadieron el colchón, ellos se encontraban con toda su espalda y brazos irritados y comentaron que han estado en todo tipo de hoteles baratos y que nunca pensaron que en un hotel bueno donde celebraban su luna de miel hubieran tenido que llegar a los extremos de revisar los colchones hasta encontrar estos piojos. Muy disconformes nos dicen que esta situación ha afectado sus vacaciones y que van para la clínica a revisarse. Ellos tenían fotos de los piojos que según indican usaran para poner una reclamación."},{"$f":"'Historico Valoracion Quejas '!V217","v":"Plagas Habitaciones"}]
[{"$f":"'Historico Valoracion Quejas '!D218","v":410},{"$f":"'Historico Valoracion Quejas '!B218","v":"2018-09-19"},{"$f":"'Historico Valoracion Quejas '!G218","v":"El personal en el desayuno el primer día fue bueno y amable pero en el segundo día no fue bueno, deben estar atentos a las necesidades individuales para no hacerte sentir como un huésped irritante."},{"$f":"'Historico Valoracion Quejas '!V218","v":"Servicio cliente restaurante "}]
[{"$f":"'Historico Valoracion Quejas '!D219","v":"N/A"},{"$f":"'Historico Valoracion Quejas '!B219","v":"2018-09-18"},{"$f":"'Historico Valoracion Quejas '!G219","v":"Mejorar con un entrenamiento del personal encargado del desayuno, en la evaluación califico con un 2 la experiencia."},{"$f":"'Historico Valoracion Quejas '!V219","v":"Servicio cliente restaurante "}]
[{"$f":"'Historico Valoracion Quejas '!D220","v":403},{"$f":"'Historico Valoracion Quejas '!B220","v":"2018-09-18"},{"$f":"'Historico Valoracion Quejas '!G220","v":"Muy caro y el sabor no es bueno en las comidas"},{"$f":"'Historico Valoracion Quejas '!V220","v":"Calidad precio"}]
[{"$f":"'Historico Valoracion Quejas '!D221","v":"N/A"},{"$f":"'Historico Valoracion Quejas '!B221","v":"2018-09-19"},{"$f":"'Historico Valoracion Quejas '!G221","v":"Fuerte olor a boñiga en toda la recepción y restaurante italiano."},{"$f":"'Historico Valoracion Quejas '!V221","v":"Malos olores"}]
[{"$f":"'Historico Valoracion Quejas '!D222","v":802},{"$f":"'Historico Valoracion Quejas '!B222","v":"2018-09-18"},{"$f":"'Historico Valoracion Quejas '!G222","v":"Huéspedes enfadados por fumigación en el rest Ti Cain que provocó una nube de humo en las termales."},{"$f":"'Historico Valoracion Quejas '!V222","v":"Fumigación"}]
[{"$f":"'Historico Valoracion Quejas '!D223","v":801},{"$f":"'Historico Valoracion Quejas '!B223","v":"2018-09-18"},{"$f":"'Historico Valoracion Quejas '!G223","v":"Huésped se acerca a lockers quejandose porque la fumigación que se lleva a cabo en el Ti-Cain provoca que todo el humo se vaya para las termales donde se encuentran sus niños, y eso le molestó mucho. El mismo reclamó que como iban a hacer eso mientras estaban ellos bañandose y disfrutando de las termales."},{"$f":"'Historico Valoracion Quejas '!V223","v":"Fumigación"}]
[{"$f":"'Historico Valoracion Quejas '!D224","v":405},{"$f":"'Historico Valoracion Quejas '!B224","v":"2018-09-18"},{"$f":"'Historico Valoracion Quejas '!G224","v":"Huésped muy molesto se acercó a recepción reclamando que Edward le vendió un Tour de perezosos donde iba ver algunos perezosos y vida silvestre, sin embargo dice que no vió nada más que un tucán muerto. Ël mismo canceló los tour del siguiente día y se encontraba bastante enfadado por lo que le prometieron y no se cumplió."},{"$f":"'Historico Valoracion Quejas '!V224","v":"Servicio cliente tour operador"}]
[{"$f":"'Historico Valoracion Quejas '!D225","v":108},{"$f":"'Historico Valoracion Quejas '!B225","v":"2018-09-18"},{"$f":"'Historico Valoracion Quejas '!G225","v":"Huesped que estuvo hospedado del 13 al 16 de septiembre con reserva a nombre de Carlos Urrego envió correo a Servicio al Cliente preguntando por un objeto olvidado descrito como un medicamento utilizado para su insulina que estaba dentro de un recipiente azul en el refrigerador de la habitación 108, al momento de recibir la solicitud se consulta a las mucamas para que revisen y a recepción para buscar en lost&found pero ambos indican que no hay nada por lo que se procede a responder que desafortunadamente no se encontró nada, el hecho fue que el señor hizo caso omiso al correo  y se vino manejando desde Guanacaste hasta el hotel donde pidió lo dejaran entrar para hablar con Servicio al Cliente, cuando el señor llega el insiste en que el dejó su objeto ahí por lo que amable y abiertamente le dije que aunque las mucamas no encontraron nada yo mismo iba ir a revisar a esa habitación, a pesar de que estaba fumigada y llena de humo por completo ingresé hasta el refrigerador y busqué hasta encontrar lo que el señor aseguraba había dejado. Debido a esta situación me ví por la pena de pedir disculpas por el correo enviado asegurando que no había nada y por el reporte de las mucamas que no había nada ahí, el señor solicitó fueramos mas cuidadosos con las  cosas olvidadas y me agradeció por ir a buscar minuciosamente.  "},{"$f":"'Historico Valoracion Quejas '!V225","v":"Chequeo habitaciones"}]
[{"$f":"'Historico Valoracion Quejas '!D226","v":312},{"$f":"'Historico Valoracion Quejas '!B226","v":"2018-09-18"},{"$f":"'Historico Valoracion Quejas '!G226","v":"Huésped reporta que no pudieron dormir debido a que en la habitación hay bichos."},{"$f":"'Historico Valoracion Quejas '!V226","v":"Plagas Habitaciones"}]
[{"$f":"'Historico Valoracion Quejas '!D227","v":602},{"$f":"'Historico Valoracion Quejas '!B227","v":"2018-09-18"},{"$f":"'Historico Valoracion Quejas '!G227","v":"Huésped expresa sentirse incomodo al comer y otras personas estén cerca nadando"},{"$f":"'Historico Valoracion Quejas '!V227","v":"N/A"}]
[{"$f":"'Historico Valoracion Quejas '!D228","v":902},{"$f":"'Historico Valoracion Quejas '!B228","v":"2018-09-17"},{"$f":"'Historico Valoracion Quejas '!G228","v":"Aire Acondicionado no funciona"},{"$f":"'Historico Valoracion Quejas '!V228","v":"A/C"}]
[{"$f":"'Historico Valoracion Quejas '!D229","v":801},{"$f":"'Historico Valoracion Quejas '!B229","v":"2018-09-16"},{"$f":"'Historico Valoracion Quejas '!G229","v":"Me gustaría que el jacuzzi que esta a 39 grados estuviera a una temp mas  baja ya que por estar tan caliente casi no se puede utilizar, no se aguanta el dolor, si fuera de 35 grados podría utilizarse más."},{"$f":"'Historico Valoracion Quejas '!V229","v":"N/A"}]
[{"$f":"'Historico Valoracion Quejas '!D230","v":307},{"$f":"'Historico Valoracion Quejas '!B230","v":"2018-09-17"},{"$f":"'Historico Valoracion Quejas '!G230","v":"Encender el aire acondicionado antes que lleguen los huéspedes. Así cuando estos lleguen encontrarán la habitación fresca"},{"$f":"'Historico Valoracion Quejas '!V230","v":"N/A"}]
[{"$f":"'Historico Valoracion Quejas '!D231","v":104},{"$f":"'Historico Valoracion Quejas '!B231","v":"2018-09-17"},{"$f":"'Historico Valoracion Quejas '!G231","v":"Huésped se queja de la manera en que no la dejaron ingresar al rest. Italiano, a la señora la mantuvieron esperando en recepción sin indicarle nada mientras iban a preguntar a un superior si podía o no entrar como andaba vestida, ella se molestó porque otra mujer andaba vestida muy parecido y si la dejaron entrar. Ella al hacer check-out nos hizo la observación que se sintió insultada y que fue totalmente inapropiado que la mantuvieran sin entrar durante unos minutos."},{"$f":"'Historico Valoracion Quejas '!V231","v":"Servicio cliente restaurante "}]
[{"$f":"'Historico Valoracion Quejas '!D232","v":302},{"$f":"'Historico Valoracion Quejas '!B232","v":"2018-09-16"},{"$f":"'Historico Valoracion Quejas '!G232","v":"Muy mal coordinado el desayuno, nos quejamos del espacio-tiempo en el desayuno."},{"$f":"'Historico Valoracion Quejas '!V232","v":"Servicio cliente restaurante "}]
[{"$f":"'Historico Valoracion Quejas '!D233","v":901},{"$f":"'Historico Valoracion Quejas '!B233","v":"2018-09-16"},{"$f":"'Historico Valoracion Quejas '!G233","v":"Huéspedes se quejan de que no hay un billar o futbolín para para entretenimiento."},{"$f":"'Historico Valoracion Quejas '!V233","v":"Entretenimiento"}]
[{"$f":"'Historico Valoracion Quejas '!D234","v":110},{"$f":"'Historico Valoracion Quejas '!B234","v":"2018-09-16"},{"$f":"'Historico Valoracion Quejas '!G234","v":"Comida del italiano de poca calidad"},{"$f":"'Historico Valoracion Quejas '!V234","v":"Calidad comida Italiano"}]
[{"$f":"'Historico Valoracion Quejas '!D235","v":405},{"$f":"'Historico Valoracion Quejas '!B235","v":"2018-09-15"},{"$f":"'Historico Valoracion Quejas '!G235","v":"Restaurate italiano lo encontramos con precios un poco caros."},{"$f":"'Historico Valoracion Quejas '!V235","v":"Precios Comidas Italiano"}]
[{"$f":"'Historico Valoracion Quejas '!D236","v":606},{"$f":"'Historico Valoracion Quejas '!B236","v":"2018-09-15"},{"$f":"'Historico Valoracion Quejas '!G236","v":"Huéspedes se quejan por mal funcionamiento del A/C, el mismo no enfría bien y las huéspedes no estan a gusto a pesar que mantenimiento fue a revisar. Según ellas la potencia no es la que debería de tener."},{"$f":"'Historico Valoracion Quejas '!V236","v":"A/C"}]
[{"$f":"'Historico Valoracion Quejas '!D237","v":108},{"$f":"'Historico Valoracion Quejas '!B237","v":"2018-09-16"},{"$f":"'Historico Valoracion Quejas '!G237","v":"Huésped se queja porque considera que a las aguas termales se les debería se sacar mayor provecho creando baños turcos con el vapor o con algún tipo de sauna. Además sugiere que hayan canchas de tennis o volleyball, hasta inclusive mesas de ping pong en alguna área."},{"$f":"'Historico Valoracion Quejas '!V237","v":"Entretenimiento"}]
[{"$f":"'Historico Valoracion Quejas '!D238","v":401},{"$f":"'Historico Valoracion Quejas '!B238","v":"2018-09-13"},{"$f":"'Historico Valoracion Quejas '!G238","v":"Precios del bar del Sushi muy elevados"},{"$f":"'Historico Valoracion Quejas '!V238","v":"Precios Comidas sushi"}]
[{"$f":"'Historico Valoracion Quejas '!D239","v":101},{"$f":"'Historico Valoracion Quejas '!B239","v":"2018-09-13"},{"$f":"'Historico Valoracion Quejas '!G239","v":"No hay suficientes opciones"},{"$f":"'Historico Valoracion Quejas '!V239","v":"Menú Celiacos"}]
[{"$f":"'Historico Valoracion Quejas '!D240","v":202},{"$f":"'Historico Valoracion Quejas '!B240","v":"2018-09-12"},{"$f":"'Historico Valoracion Quejas '!G240","v":"Solamente había dos copas para una habitación que era de 3 personas."},{"$f":"'Historico Valoracion Quejas '!V240","v":"N/A"}]
[{"$f":"'Historico Valoracion Quejas '!D241","v":202},{"$f":"'Historico Valoracion Quejas '!B241","v":"2018-09-12"},{"$f":"'Historico Valoracion Quejas '!G241","v":"Huésped se queja porque no hay un espejo afuera del baño en la habitación."},{"$f":"'Historico Valoracion Quejas '!V241","v":"Espejo grande fuera del baño"}]
[{"$f":"'Historico Valoracion Quejas '!D242","v":201},{"$f":"'Historico Valoracion Quejas '!B242","v":"2018-09-11"},{"$f":"'Historico Valoracion Quejas '!G242","v":"Precios muy elevados."},{"$f":"'Historico Valoracion Quejas '!V242","v":"Precios Comidas Italiano"}]
[{"$f":"'Historico Valoracion Quejas '!D243","v":311},{"$f":"'Historico Valoracion Quejas '!B243","v":"2018-09-05"},{"$f":"'Historico Valoracion Quejas '!G243","v":"Un menú en la habitación de los diferentes restaurantes es lo que falta."},{"$f":"'Historico Valoracion Quejas '!V243","v":"Menú room service"}]
[{"$f":"'Historico Valoracion Quejas '!D244","v":303},{"$f":"'Historico Valoracion Quejas '!B244","v":"2018-09-06"},{"$f":"'Historico Valoracion Quejas '!G244","v":"Se queja porque no hay cajero automatico."},{"$f":"'Historico Valoracion Quejas '!V244","v":"N/A"}]
[{"$f":"'Historico Valoracion Quejas '!D245","v":303},{"$f":"'Historico Valoracion Quejas '!B245","v":"2018-09-06"},{"$f":"'Historico Valoracion Quejas '!G245","v":"Huésped se queja porque no se ofrece comida local. La comida fue mediocre, el esposo pidió un sandwich de pollo que tenía muy poco pollo y mucho pan. Si yo fuera el chef, preferiría ofrecer comida que comen los locales y no comida que se puede conseguir en USA."},{"$f":"'Historico Valoracion Quejas '!V245","v":"Menú típico"}]
[{"$f":"'Historico Valoracion Quejas '!D246","v":707},{"$f":"'Historico Valoracion Quejas '!B246","v":"2018-09-09"},{"$f":"'Historico Valoracion Quejas '!G246","v":"Anoche fuimos testigos de una situación en el Bar Sushi acerca de que se acabó el Sushi, nos pareció que son asuntos operativos que los clientes no deben enterarse. Sabemos que son cosas que pasan y que es positivo porque es sinonimo de venta, sin embargo debería de manejarse de una mejor manera."},{"$f":"'Historico Valoracion Quejas '!V246","v":"Servicio cliente bar humedo"}]
[{"$f":"'Historico Valoracion Quejas '!D247","v":106},{"$f":"'Historico Valoracion Quejas '!B247","v":"2018-09-09"},{"$f":"'Historico Valoracion Quejas '!G247","v":"Se queja porque no venden la crema de miel con vainilla que se ofrece en las habitaciones."},{"$f":"'Historico Valoracion Quejas '!V247","v":"N/A"}]
[{"$f":"'Historico Valoracion Quejas '!D248","v":212},{"$f":"'Historico Valoracion Quejas '!B248","v":"2018-09-09"},{"$f":"'Historico Valoracion Quejas '!G248","v":"Se queja por no tener servicio antes de las 10:00am disponible en el sushi y bar húmedo."},{"$f":"'Historico Valoracion Quejas '!V248","v":"N/A"}]
[{"$f":"'Historico Valoracion Quejas '!D249","v":106},{"$f":"'Historico Valoracion Quejas '!B249","v":"2018-09-09"},{"$f":"'Historico Valoracion Quejas '!G249","v":"No hay actividades recreativas ni entretenimiento en el hotel."},{"$f":"'Historico Valoracion Quejas '!V249","v":"Actividad nocturna"}]
[{"$f":"'Historico Valoracion Quejas '!D250","v":210},{"$f":"'Historico Valoracion Quejas '!B250","v":"2018-09-10"},{"$f":"'Historico Valoracion Quejas '!G250","v":"Quisimos un day-pass para un familiar que estaba hospedado en otro hotel y nos salieron cobrando 120 dólares. Deberían haber excepciones o deberían tener el pase de un día."},{"$f":"'Historico Valoracion Quejas '!V250","v":"N/A"}]
[{"$f":"'Historico Valoracion Quejas '!D251","v":108},{"$f":"'Historico Valoracion Quejas '!B251","v":"2018-09-08"},{"$f":"'Historico Valoracion Quejas '!G251","v":"Nos parecio excesivo el precio de las comidas en el Rest. Italiano"},{"$f":"'Historico Valoracion Quejas '!V251","v":"Precios Comidas Italiano"}]
[{"$f":"'Historico Valoracion Quejas '!D252","v":212},{"$f":"'Historico Valoracion Quejas '!B252","v":"2018-09-11"},{"$f":"'Historico Valoracion Quejas '!G252","v":"Tener servicio antes de las 10:00am disponible"},{"$f":"'Historico Valoracion Quejas '!V252","v":"N/A"}]
[{"$f":"'Historico Valoracion Quejas '!D253","v":312},{"$f":"'Historico Valoracion Quejas '!B253","v":"2018-09-06"},{"$f":"'Historico Valoracion Quejas '!G253","v":"Cuando hay poca gente en el desayuno los comentarios de los empleados molestan ya que comentan cosas que no son del trabajo, haya poca o mucha gente los empleados deben saber ser profesionales y abtenerse de risas, comentarios, etc."},{"$f":"'Historico Valoracion Quejas '!V253","v":"Servicio cliente restaurante "}]
[{"$f":"'Historico Valoracion Quejas '!D254","v":"306"},{"$f":"'Historico Valoracion Quejas '!B254","v":"2018-09-06"},{"$f":"'Historico Valoracion Quejas '!G254","v":"Huésped molesto por ruido de refrigerador, indica que no lo deja dormir."},{"$f":"'Historico Valoracion Quejas '!V254","v":"Ruido Refri"}]
[{"$f":"'Historico Valoracion Quejas '!D255","v":106},{"$f":"'Historico Valoracion Quejas '!B255","v":"2018-09-04"},{"$f":"'Historico Valoracion Quejas '!G255","v":"Camas muy duras, es lo único que cambiariamos."},{"$f":"'Historico Valoracion Quejas '!V255","v":"Colchon duro"}]
[{"$f":"'Historico Valoracion Quejas '!D256","v":211},{"$f":"'Historico Valoracion Quejas '!B256","v":"2018-09-02"},{"$f":"'Historico Valoracion Quejas '!G256","v":"Huésped se queja de la no información acerca de los canales de TV, no sabía cuales estaban disponibles ni cuales eran en ingles."},{"$f":"'Historico Valoracion Quejas '!V256","v":"Cable tica "}]
[{"$f":"'Historico Valoracion Quejas '!D257","v":611},{"$f":"'Historico Valoracion Quejas '!B257","v":"2018-09-03"},{"$f":"'Historico Valoracion Quejas '!G257","v":"Huésped molesto se queja de la capacidad del agua caliente, según indica el agua caliente solamente dura 3 minutos y luego no sale mas caliente. Y esto a perjudicado su estancia ya que todos los días sucedió lo mismo."},{"$f":"'Historico Valoracion Quejas '!V257","v":"Agua caliente"}]
[{"$f":"'Historico Valoracion Quejas '!D258","v":302},{"$f":"'Historico Valoracion Quejas '!B258","v":"2018-08-31"},{"$f":"'Historico Valoracion Quejas '!G258","v":"Debería de haber una silla plastica para discapacitados en el área de duchas"},{"$f":"'Historico Valoracion Quejas '!V258","v":"Sillas Discapacitados "}]
[{"$f":"'Historico Valoracion Quejas '!D259","v":308},{"$f":"'Historico Valoracion Quejas '!B259","v":"2018-08-31"},{"$f":"'Historico Valoracion Quejas '!G259","v":"El precio que se debe pagar por todo el hotel hace pensar que es de muy alta calidad, sin embargo esto no es así"},{"$f":"'Historico Valoracion Quejas '!V259","v":"Calidad precio"}]
[{"$f":"'Historico Valoracion Quejas '!D260","v":308},{"$f":"'Historico Valoracion Quejas '!B260","v":"2018-08-31"},{"$f":"'Historico Valoracion Quejas '!G260","v":"Los precios de los restaurantes son muy caros y la comida muy mediocre"},{"$f":"'Historico Valoracion Quejas '!V260","v":"Calidad precio"}]
[{"$f":"'Historico Valoracion Quejas '!D261","v":308},{"$f":"'Historico Valoracion Quejas '!B261","v":"2018-08-31"},{"$f":"'Historico Valoracion Quejas '!G261","v":"El mini bar debería rellenarse diaramente"},{"$f":"'Historico Valoracion Quejas '!V261","v":"N/A"}]
[{"$f":"'Historico Valoracion Quejas '!D262","v":308},{"$f":"'Historico Valoracion Quejas '!B262","v":"2018-08-31"},{"$f":"'Historico Valoracion Quejas '!G262","v":"El servicio de lavandería es muy caro"},{"$f":"'Historico Valoracion Quejas '!V262","v":"Precios Lavanderia "}]
[{"$f":"'Historico Valoracion Quejas '!D263","v":308},{"$f":"'Historico Valoracion Quejas '!B263","v":"2018-08-31"},{"$f":"'Historico Valoracion Quejas '!G263","v":"El chicken gyoza en el bar húmedo es muy malo y los precios son muy caros "},{"$f":"'Historico Valoracion Quejas '!V263","v":"Calidad precio"}]
[{"$f":"'Historico Valoracion Quejas '!D264","v":308},{"$f":"'Historico Valoracion Quejas '!B264","v":"2018-08-31"},{"$f":"'Historico Valoracion Quejas '!G264","v":"Contar con un servicio de shuttle al pueblo sería algo útil"},{"$f":"'Historico Valoracion Quejas '!V264","v":"N/A"}]
[{"$f":"'Historico Valoracion Quejas '!D265","v":505},{"$f":"'Historico Valoracion Quejas '!B265","v":"2018-09-01"},{"$f":"'Historico Valoracion Quejas '!G265","v":"Reducir el ruido producido por el aire acondicionado, durante la noche se escucha mucho"},{"$f":"'Historico Valoracion Quejas '!V265","v":"A/C"}]
[{"$f":"'Historico Valoracion Quejas '!D266","v":901},{"$f":"'Historico Valoracion Quejas '!B266","v":"2018-09-01"},{"$f":"'Historico Valoracion Quejas '!G266","v":"Mejores alternativas de alimentación, excepto el desayuno el cual es muy bueno"},{"$f":"'Historico Valoracion Quejas '!V266","v":"Variedad platos"}]
[{"$f":"'Historico Valoracion Quejas '!D267","v":307},{"$f":"'Historico Valoracion Quejas '!B267","v":"2018-08-31"},{"$f":"'Historico Valoracion Quejas '!G267","v":"El vino es muy caro en los restaurantes"},{"$f":"'Historico Valoracion Quejas '!V267","v":"Precios vino"}]
[{"$f":"'Historico Valoracion Quejas '!D268","v":0},{"$f":"'Historico Valoracion Quejas '!B268","v":"2018-09-01"},{"$f":"'Historico Valoracion Quejas '!G268","v":"Al ir a cubrir al compañero de lockers para que pudiera ir a almorzar, un huésped me comenta que deberiamos de tener más basureros al alcance en toda el area de piscinas ya que solo hay unos cerca de lockers, y cuando uno como huésped se encuentra en el area de las pergolas por ejemplo tiene que ir hasta ahí para depositar los desechos que uno tenga, lo que se hace un poco tedioso."},{"$f":"'Historico Valoracion Quejas '!V268","v":"Basurero jardines"}]
[{"$f":"'Historico Valoracion Quejas '!D269","v":308},{"$f":"'Historico Valoracion Quejas '!B269","v":"2018-08-30"},{"$f":"'Historico Valoracion Quejas '!G269","v":"El brochure de información del hotel necesita ser actualizado, hay muchas cosas con las que ya no se cuenta y otras en las que se ha mejorado."},{"$f":"'Historico Valoracion Quejas '!V269","v":"Publicidad doc Informativo"}]
[{"$f":"'Historico Valoracion Quejas '!D270","v":904},{"$f":"'Historico Valoracion Quejas '!B270","v":"2018-08-30"},{"$f":"'Historico Valoracion Quejas '!G270","v":"La construcción inicia muy temprano sus labores, y eso  imposibilita dormir un poco más."},{"$f":"'Historico Valoracion Quejas '!V270","v":"Construcción"}]
[{"$f":"'Historico Valoracion Quejas '!D271","v":904},{"$f":"'Historico Valoracion Quejas '!B271","v":"2018-08-30"},{"$f":"'Historico Valoracion Quejas '!G271","v":"Poner etiquetas a todos los tomas, son tantos que uno no sabe cual es cual."},{"$f":"'Historico Valoracion Quejas '!V271","v":"Rotulación ventilador"}]
[{"$f":"'Historico Valoracion Quejas '!D272","v":904},{"$f":"'Historico Valoracion Quejas '!B272","v":"2018-08-30"},{"$f":"'Historico Valoracion Quejas '!G272","v":"Los pancakes se secan mucho al estar expuestos al aire libre"},{"$f":"'Historico Valoracion Quejas '!V272","v":"Calida Desayuno"}]
[{"$f":"'Historico Valoracion Quejas '!D273","v":302},{"$f":"'Historico Valoracion Quejas '!B273","v":"2018-08-29"},{"$f":"'Historico Valoracion Quejas '!G273","v":"Mejorar el flujo de agua caliente en el grifo del baño"},{"$f":"'Historico Valoracion Quejas '!V273","v":"Agua caliente"}]
[{"$f":"'Historico Valoracion Quejas '!D274","v":508},{"$f":"'Historico Valoracion Quejas '!B274","v":"2018-08-26"},{"$f":"'Historico Valoracion Quejas '!G274","v":"Huésped se queja de los precios que son muy elevados."},{"$f":"'Historico Valoracion Quejas '!V274","v":"Precios Souvenir"}]
[{"$f":"'Historico Valoracion Quejas '!D275","v":508},{"$f":"'Historico Valoracion Quejas '!B275","v":"2018-08-26"},{"$f":"'Historico Valoracion Quejas '!G275","v":"La comida en el buffet es escasa y muy repetitiva."},{"$f":"'Historico Valoracion Quejas '!V275","v":"Variedad desayuno"}]
[{"$f":"'Historico Valoracion Quejas '!D276","v":208},{"$f":"'Historico Valoracion Quejas '!B276","v":"2018-08-24"},{"$f":"'Historico Valoracion Quejas '!G276","v":"Huésped molesto porque se le sirvió un pollo crudo y él indica que eso es de mucho cuidado porque puede enfermar a una persona, esto provocó que se fueran muy temprano del hotel al check-out porque querían visitar otro restaurante."},{"$f":"'Historico Valoracion Quejas '!V276","v":"Calidad comida"}]
[{"$f":"'Historico Valoracion Quejas '!D277","v":111},{"$f":"'Historico Valoracion Quejas '!B277","v":"2018-08-26"},{"$f":"'Historico Valoracion Quejas '!G277","v":"Huéspedes se quejan porque el teléfono de su habitación no recibe llamadas, recepción no es capaz de contactarlas y eso a ellas les preocupa. "},{"$f":"'Historico Valoracion Quejas '!V277","v":"Teléfonos"}]
[{"$f":"'Historico Valoracion Quejas '!D278","v":512},{"$f":"'Historico Valoracion Quejas '!B278","v":"2018-08-26"},{"$f":"'Historico Valoracion Quejas '!G278","v":"La novia de la boda la señora Yara al momento de hacer check-out se mostró muy molesta cuando se le cobró un factura correspondiente a un manicure y un pedicure del Spa. Ella nos dijo que solamente saliendo del spa el pedicure se le cayó y que fue un trabajo pésimo por el cúal no iba a pagar, ella dijo  que había hablado con un funcionario del Spa ( que no recordaba el nombre) que le dijo que no se preocupara y que no le ibamos a cobrar ese tratamiento, sin embargo nunca se informó nada a recepción ni a servicio al cliente al respecto. "},{"$f":"'Historico Valoracion Quejas '!V278","v":"Spa"}]
[{"$f":"'Historico Valoracion Quejas '!D279","v":505},{"$f":"'Historico Valoracion Quejas '!B279","v":"2018-08-25"},{"$f":"'Historico Valoracion Quejas '!G279","v":"Huésped indica que debemos mejorar en el tema de alimentos y calidad."},{"$f":"'Historico Valoracion Quejas '!V279","v":"Calidad comida"}]
[{"$f":"'Historico Valoracion Quejas '!D280","v":312},{"$f":"'Historico Valoracion Quejas '!B280","v":"2018-08-25"},{"$f":"'Historico Valoracion Quejas '!G280","v":"Huéspedes reportan al check out, que la habitación tiene una gotera la cual cae sobre la cama que está más cercana a la puerta principal"},{"$f":"'Historico Valoracion Quejas '!V280","v":"Goteras"}]
[{"$f":"'Historico Valoracion Quejas '!D281","v":506},{"$f":"'Historico Valoracion Quejas '!B281","v":"2018-08-23"},{"$f":"'Historico Valoracion Quejas '!G281","v":"Tener más opciones de comida nacional"},{"$f":"'Historico Valoracion Quejas '!V281","v":"Menú típico"}]
[{"$f":"'Historico Valoracion Quejas '!D282","v":504},{"$f":"'Historico Valoracion Quejas '!B282","v":"2018-08-23"},{"$f":"'Historico Valoracion Quejas '!G282","v":"Seguir implementando desarrollo sostenible"},{"$f":"'Historico Valoracion Quejas '!V282","v":"N/A"}]
[{"$f":"'Historico Valoracion Quejas '!D283","v":305},{"$f":"'Historico Valoracion Quejas '!B283","v":"2018-08-23"},{"$f":"'Historico Valoracion Quejas '!G283","v":"Falta ofrecer pan libre de glutten como opción. "},{"$f":"'Historico Valoracion Quejas '!V283","v":"Menú Celiacos"}]
[{"$f":"'Historico Valoracion Quejas '!D284","v":508},{"$f":"'Historico Valoracion Quejas '!B284","v":"2018-08-22"},{"$f":"'Historico Valoracion Quejas '!G284","v":"La presentación del hotel en la pagina web y otros es muy pobre en comparación con la realidad. Nos hemos llevado una grata sorpresa."},{"$f":"'Historico Valoracion Quejas '!V284","v":"Publicidad Web"}]
[{"$f":"'Historico Valoracion Quejas '!D285","v":506},{"$f":"'Historico Valoracion Quejas '!B285","v":"2018-08-22"},{"$f":"'Historico Valoracion Quejas '!G285","v":"Hacen falta areas infantiles y zonas de esparcimiento como por ejemplo toboganes y columpios."},{"$f":"'Historico Valoracion Quejas '!V285","v":"Área  para niños "}]
[{"$f":"'Historico Valoracion Quejas '!D286","v":408},{"$f":"'Historico Valoracion Quejas '!B286","v":"2018-08-22"},{"$f":"'Historico Valoracion Quejas '!G286","v":"Deberían tener ocio nocturno"},{"$f":"'Historico Valoracion Quejas '!V286","v":"Actividad nocturna"}]
[{"$f":"'Historico Valoracion Quejas '!D287","v":408},{"$f":"'Historico Valoracion Quejas '!B287","v":"2018-08-22"},{"$f":"'Historico Valoracion Quejas '!G287","v":"Mas variedad en restaurantes."},{"$f":"'Historico Valoracion Quejas '!V287","v":"Variedad desayuno"}]
[{"$f":"'Historico Valoracion Quejas '!D288","v":711},{"$f":"'Historico Valoracion Quejas '!B288","v":"2018-08-21"},{"$f":"'Historico Valoracion Quejas '!G288","v":"El desayuno es bueno pero estaba muy lleno por lo que sería bueno tener algunas cosas precocinadas como los huevos revueltos."},{"$f":"'Historico Valoracion Quejas '!V288","v":"Calida Desayuno"}]
[{"$f":"'Historico Valoracion Quejas '!D289","v":604},{"$f":"'Historico Valoracion Quejas '!B289","v":"2018-08-21"},{"$f":"'Historico Valoracion Quejas '!G289","v":"Deberian tener mejores opciones vegetarianas y harinas integrales"},{"$f":"'Historico Valoracion Quejas '!V289","v":"Menú vegetariano"}]
[{"$f":"'Historico Valoracion Quejas '!D290","v":506},{"$f":"'Historico Valoracion Quejas '!B290","v":"2018-08-21"},{"$f":"'Historico Valoracion Quejas '!G290","v":"El área de recepción es más para restaurantes que para ser utilizada como lobby. NO hay suficiente campo para que las familias se sienten a esperar y cuando llueve no hay donde ponerse."},{"$f":"'Historico Valoracion Quejas '!V290","v":"Lobby"}]
[{"$f":"'Historico Valoracion Quejas '!D291","v":506},{"$f":"'Historico Valoracion Quejas '!B291","v":"2018-08-21"},{"$f":"'Historico Valoracion Quejas '!G291","v":"EL hotel está pensado solo para adultos. NO hay areas infantiles ni salas de juego donde ellos puedan despejarse y divertirse."},{"$f":"'Historico Valoracion Quejas '!V291","v":"Entretenimiento"}]
[{"$f":"'Historico Valoracion Quejas '!D292","v":0},{"$f":"'Historico Valoracion Quejas '!B292","v":"2018-08-17"},{"$f":"'Historico Valoracion Quejas '!G292","v":"Los precios de lavandería son una broma. Preferí llevar mi ropa a lavar a la Fortuna."},{"$f":"'Historico Valoracion Quejas '!V292","v":"Lavanderia"}]
[{"$f":"'Historico Valoracion Quejas '!D293","v":0},{"$f":"'Historico Valoracion Quejas '!B293","v":"2018-08-17"},{"$f":"'Historico Valoracion Quejas '!G293","v":"Las bebidas y comida en la piscina son muy caras."},{"$f":"'Historico Valoracion Quejas '!V293","v":"Calidad precio"}]
[{"$f":"'Historico Valoracion Quejas '!D294","v":0},{"$f":"'Historico Valoracion Quejas '!B294","v":"2018-08-17"},{"$f":"'Historico Valoracion Quejas '!G294","v":"La habitación es muy pequeña y no hay suficiente espacio para equipaje."},{"$f":"'Historico Valoracion Quejas '!V294","v":"N/A"}]
[{"$f":"'Historico Valoracion Quejas '!D295","v":0},{"$f":"'Historico Valoracion Quejas '!B295","v":"2018-08-17"},{"$f":"'Historico Valoracion Quejas '!G295","v":"La comida italiana esta sobrevalorada y sin buen sabor, además las porciones son muy pequeñas."},{"$f":"'Historico Valoracion Quejas '!V295","v":"Calidad precio"}]
[{"$f":"'Historico Valoracion Quejas '!D296","v":101},{"$f":"'Historico Valoracion Quejas '!B296","v":"2018-08-13"},{"$f":"'Historico Valoracion Quejas '!G296","v":"Los restaurantes son muy caros y la comida mas o menos."},{"$f":"'Historico Valoracion Quejas '!V296","v":"Calidad precio"}]
[{"$f":"'Historico Valoracion Quejas '!D297","v":802},{"$f":"'Historico Valoracion Quejas '!B297","v":"2018-08-20"},{"$f":"'Historico Valoracion Quejas '!G297","v":"Huésped se queja del Internet y de la lentitud del mismo."},{"$f":"'Historico Valoracion Quejas '!V297","v":"Wifi"}]
[{"$f":"'Historico Valoracion Quejas '!D298","v":306},{"$f":"'Historico Valoracion Quejas '!B298","v":"2018-08-16"},{"$f":"'Historico Valoracion Quejas '!G298","v":"No se podía transferir llamadas de recepción a la hab, huésped tenía una emergencia y estaba molesto por mal funcionamiento e ineficiencia de los teléfonos del hotel."},{"$f":"'Historico Valoracion Quejas '!V298","v":"Central telefonica"}]
[{"$f":"'Historico Valoracion Quejas '!D299","v":102},{"$f":"'Historico Valoracion Quejas '!B299","v":"2018-08-16"},{"$f":"'Historico Valoracion Quejas '!G299","v":"Teléfono no funciona"},{"$f":"'Historico Valoracion Quejas '!V299","v":"Central telefonica"}]
[{"$f":"'Historico Valoracion Quejas '!D300","v":"205-206"},{"$f":"'Historico Valoracion Quejas '!B300","v":"2018-08-16"},{"$f":"'Historico Valoracion Quejas '!G300","v":"Teléfonos no funcionan"},{"$f":"'Historico Valoracion Quejas '!V300","v":"Central telefonica"}]
[{"$f":"'Historico Valoracion Quejas '!D301","v":110},{"$f":"'Historico Valoracion Quejas '!B301","v":"2018-08-16"},{"$f":"'Historico Valoracion Quejas '!G301","v":"Teléfono no sirve"},{"$f":"'Historico Valoracion Quejas '!V301","v":"Central telefonica"}]
[{"$f":"'Historico Valoracion Quejas '!D302","v":102},{"$f":"'Historico Valoracion Quejas '!B302","v":"2018-08-15"},{"$f":"'Historico Valoracion Quejas '!G302","v":"Teléfono no sirve"},{"$f":"'Historico Valoracion Quejas '!V302","v":"Central telefonica"}]
[{"$f":"'Historico Valoracion Quejas '!D303","v":105},{"$f":"'Historico Valoracion Quejas '!B303","v":"2018-08-20"},{"$f":"'Historico Valoracion Quejas '!G303","v":"Un mejor rotulo en la carretera que muestre bien la dirección del Hotel"},{"$f":"'Historico Valoracion Quejas '!V303","v":"Rotulación Carretera"}]
[{"$f":"'Historico Valoracion Quejas '!D304","v":504},{"$f":"'Historico Valoracion Quejas '!B304","v":"2018-08-20"},{"$f":"'Historico Valoracion Quejas '!G304","v":"Se puede mejorar el desayuno"},{"$f":"'Historico Valoracion Quejas '!V304","v":"Calida Desayuno"}]
[{"$f":"'Historico Valoracion Quejas '!D305","v":301},{"$f":"'Historico Valoracion Quejas '!B305","v":"2018-08-19"},{"$f":"'Historico Valoracion Quejas '!G305","v":"Servicio muy lento"},{"$f":"'Historico Valoracion Quejas '!V305","v":"Servicio cliente restaurante "}]
[{"$f":"'Historico Valoracion Quejas '!D306","v":401},{"$f":"'Historico Valoracion Quejas '!B306","v":"2018-08-19"},{"$f":"'Historico Valoracion Quejas '!G306","v":"Necesita más basureros alrededor del hotel"},{"$f":"'Historico Valoracion Quejas '!V306","v":"Basurero jardines"}]
[{"$f":"'Historico Valoracion Quejas '!D307","v":506},{"$f":"'Historico Valoracion Quejas '!B307","v":"2018-08-18"},{"$f":"'Historico Valoracion Quejas '!G307","v":"Muchas moscas en el desayuno"},{"$f":"'Historico Valoracion Quejas '!V307","v":"Plagas Habitaciones"}]
[{"$f":"'Historico Valoracion Quejas '!D308","v":0},{"$f":"'Historico Valoracion Quejas '!B308","v":"2018-08-19"},{"$f":"'Historico Valoracion Quejas '!G308","v":"Sería bueno colocar una grada entre la piscina de agua termal de bar las iguana y que lleve al jacuzzi"},{"$f":"'Historico Valoracion Quejas '!V308","v":"Piscinas "}]
[{"$f":"'Historico Valoracion Quejas '!D309","v":703},{"$f":"'Historico Valoracion Quejas '!B309","v":"2018-08-19"},{"$f":"'Historico Valoracion Quejas '!G309","v":"Mejorar wifi en la habitación"},{"$f":"'Historico Valoracion Quejas '!V309","v":"Wifi"}]
[{"$f":"'Historico Valoracion Quejas '!D310","v":"414-415"},{"$f":"'Historico Valoracion Quejas '!B310","v":"2018-08-15"},{"$f":"'Historico Valoracion Quejas '!G310","v":"Huéspedes se quejan porque la temperatura del agua en las habitaciones no es caliente lo suficiente, además indican que el jacuzzi al momento de llenarse no aguanta la presión del agua y al parecer el tapon se safa y se comienza a drenar el agua."},{"$f":"'Historico Valoracion Quejas '!V310","v":"Habitaciones"}]
[{"$f":"'Historico Valoracion Quejas '!D311","v":405},{"$f":"'Historico Valoracion Quejas '!B311","v":"2018-08-15"},{"$f":"'Historico Valoracion Quejas '!G311","v":"Huésped se queja que en la lista de canales se muestra el canal italiano sin embargo a la hora de buscarlo no está, pide que actualicen la lista de canales ya que están brindando información falsa y engañosa."},{"$f":"'Historico Valoracion Quejas '!V311","v":"Cable tica "}]
[{"$f":"'Historico Valoracion Quejas '!D312","v":"Mary Blackport"},{"$f":"'Historico Valoracion Quejas '!B312","v":"2018-04-05"},{"$f":"'Historico Valoracion Quejas '!G312","v":"La comida en los restaurantes estuvo horrible, yo no recomendaria ir a comer ahí"},{"$f":"'Historico Valoracion Quejas '!V312","v":"Calidad comida"}]
[{"$f":"'Historico Valoracion Quejas '!D313","v":"Perry Pawelka"},{"$f":"'Historico Valoracion Quejas '!B313","v":"2018-03-30"},{"$f":"'Historico Valoracion Quejas '!G313","v":"la única área para mejorar sería un poco más que hacer en el sitio y / o una forma un poco más fácil de llegar a la ciudad"},{"$f":"'Historico Valoracion Quejas '!V313","v":"Entretenimiento"}]
[{"$f":"'Historico Valoracion Quejas '!D314","v":"Heather Burgess"},{"$f":"'Historico Valoracion Quejas '!B314","v":"2018-03-31"},{"$f":"'Historico Valoracion Quejas '!G314","v":"El servicio estuvo mas o menos. Y las opciones de cenas no nos inspiraron por lo que decidimos ir al pueblo a cenar."},{"$f":"'Historico Valoracion Quejas '!V314","v":"Calidad comida"}]
[{"$f":"'Historico Valoracion Quejas '!D315","v":"Damary Santiago"},{"$f":"'Historico Valoracion Quejas '!B315","v":"2018-06-16"},{"$f":"'Historico Valoracion Quejas '!G315","v":"Las opciones de almuerzo y cena estuvieron muy caras y limitadas."},{"$f":"'Historico Valoracion Quejas '!V315","v":"Calidad comida"}]
[{"$f":"'Historico Valoracion Quejas '!D316","v":"Sara Parent"},{"$f":"'Historico Valoracion Quejas '!B316","v":"2018-04-14"},{"$f":"'Historico Valoracion Quejas '!G316","v":"Horribles e incómodas camas."},{"$f":"'Historico Valoracion Quejas '!V316","v":"Colchon duro"}]
[{"$f":"'Historico Valoracion Quejas '!D317","v":"Tim Brinkley"},{"$f":"'Historico Valoracion Quejas '!B317","v":"2018-06-23"},{"$f":"'Historico Valoracion Quejas '!G317","v":"La variedad y selección de la comida estuvo muy por debajo del promedio"},{"$f":"'Historico Valoracion Quejas '!V317","v":"Calidad comida"}]
[{"$f":"'Historico Valoracion Quejas '!D318","v":601},{"$f":"'Historico Valoracion Quejas '!B318","v":"2018-08-14"},{"$f":"'Historico Valoracion Quejas '!G318","v":"Los brazaletes son algo ridículo y ademas incomodos, me sentí como si fuera un ganado que etiquetan."},{"$f":"'Historico Valoracion Quejas '!V318","v":"Brazaletes"}]
[{"$f":"'Historico Valoracion Quejas '!D319","v":904},{"$f":"'Historico Valoracion Quejas '!B319","v":"2018-08-14"},{"$f":"'Historico Valoracion Quejas '!G319","v":"Necesita variedad en las opciones de comidas y un menú mas barato en el bar."},{"$f":"'Historico Valoracion Quejas '!V319","v":"Calidad comida"}]
[{"$f":"'Historico Valoracion Quejas '!D320","v":401},{"$f":"'Historico Valoracion Quejas '!B320","v":"2018-08-14"},{"$f":"'Historico Valoracion Quejas '!G320","v":"El baño debería tener una superficie no resbaloso como algún tipo de alfombra de hule."},{"$f":"'Historico Valoracion Quejas '!V320","v":"Baño resbalozo "}]
[{"$f":"'Historico Valoracion Quejas '!D321","v":"414-415"},{"$f":"'Historico Valoracion Quejas '!B321","v":"2018-08-12"},{"$f":"'Historico Valoracion Quejas '!G321","v":"Huésped se queja por el funcionamiento del aire y porque en la 415 si hay agua caliente y en la 414 no."},{"$f":"'Historico Valoracion Quejas '!V321","v":"Habitaciones"}]
[{"$f":"'Historico Valoracion Quejas '!D322","v":203},{"$f":"'Historico Valoracion Quejas '!B322","v":"2018-08-12"},{"$f":"'Historico Valoracion Quejas '!G322","v":"Necesitan actividades para huéspedes como música, bailes."},{"$f":"'Historico Valoracion Quejas '!V322","v":"Entretenimiento"}]
[{"$f":"'Historico Valoracion Quejas '!D323","v":711},{"$f":"'Historico Valoracion Quejas '!B323","v":"2018-08-12"},{"$f":"'Historico Valoracion Quejas '!G323","v":"El aire acondicionado esta descompuesto y se cambia de temperatura solo, además en la ducha había un tornillo del techo."},{"$f":"'Historico Valoracion Quejas '!V323","v":"Habitaciones"}]
[{"$f":"'Historico Valoracion Quejas '!D324","v":704},{"$f":"'Historico Valoracion Quejas '!B324","v":"2018-08-12"},{"$f":"'Historico Valoracion Quejas '!G324","v":"Spa tiene precios muy elevados."},{"$f":"'Historico Valoracion Quejas '!V324","v":"Spa"}]
[{"$f":"'Historico Valoracion Quejas '!D325","v":704},{"$f":"'Historico Valoracion Quejas '!B325","v":"2018-08-12"},{"$f":"'Historico Valoracion Quejas '!G325","v":"Restaurantes tiene precios muy elevados."},{"$f":"'Historico Valoracion Quejas '!V325","v":"Calidad comida"}]
[{"$f":"'Historico Valoracion Quejas '!D326","v":504},{"$f":"'Historico Valoracion Quejas '!B326","v":"2018-08-11"},{"$f":"'Historico Valoracion Quejas '!G326","v":"La comida es muy cara, por favor tener opciones mas cómodas."},{"$f":"'Historico Valoracion Quejas '!V326","v":"Calidad comida"}]
[{"$f":"'Historico Valoracion Quejas '!D327","v":0},{"$f":"'Historico Valoracion Quejas '!B327","v":"2018-08-12"},{"$f":"'Historico Valoracion Quejas '!G327","v":"Huésped se queja de los precios excesivos en el Sushi e Italiano."},{"$f":"'Historico Valoracion Quejas '!V327","v":"Calidad Sushi"}]
[{"$f":"'Historico Valoracion Quejas '!D328","v":406},{"$f":"'Historico Valoracion Quejas '!B328","v":"2018-08-11"},{"$f":"'Historico Valoracion Quejas '!G328","v":"Huésped reporta que piensan que el colchon tiene bichillos porque al despertar tenían picaduras en todo el cuerpo"},{"$f":"'Historico Valoracion Quejas '!V328","v":"Plagas Habitaciones"}]
[{"$f":"'Historico Valoracion Quejas '!D329","v":406},{"$f":"'Historico Valoracion Quejas '!B329","v":"2018-08-11"},{"$f":"'Historico Valoracion Quejas '!G329","v":"Huésped se queja al check out, que los tomas no funcionan bien"},{"$f":"'Historico Valoracion Quejas '!V329","v":"Habitaciones"}]
[{"$f":"'Historico Valoracion Quejas '!D330","v":109},{"$f":"'Historico Valoracion Quejas '!B330","v":"2018-08-06"},{"$f":"'Historico Valoracion Quejas '!G330","v":"Necesitan Mayor variedad en frutas y dulces en el desayuno como pastelitos."},{"$f":"'Historico Valoracion Quejas '!V330","v":"Calidad comida"}]
[{"$f":"'Historico Valoracion Quejas '!D331","v":0},{"$f":"'Historico Valoracion Quejas '!B331","v":"2018-08-06"},{"$f":"'Historico Valoracion Quejas '!G331","v":"El hotel requiere actualización en el area de piscinas y en las habitaciones."},{"$f":"'Historico Valoracion Quejas '!V331","v":"Piscinas "}]
[{"$f":"'Historico Valoracion Quejas '!D332","v":508},{"$f":"'Historico Valoracion Quejas '!B332","v":"2018-08-07"},{"$f":"'Historico Valoracion Quejas '!G332","v":"Cambien los menus en ambos restaurantes"},{"$f":"'Historico Valoracion Quejas '!V332","v":"Calidad comida"}]
[{"$f":"'Historico Valoracion Quejas '!D333","v":508},{"$f":"'Historico Valoracion Quejas '!B333","v":"2018-08-07"},{"$f":"'Historico Valoracion Quejas '!G333","v":"Se necesita ás espacio para almacenar cosas en la habitación y también sillas. Además no había suficientes ganchos."},{"$f":"'Historico Valoracion Quejas '!V333","v":"Habitaciones"}]
[{"$f":"'Historico Valoracion Quejas '!D334","v":103},{"$f":"'Historico Valoracion Quejas '!B334","v":"2018-08-05"},{"$f":"'Historico Valoracion Quejas '!G334","v":"Se queja porque no hay clases de yoga en la tarde y porque el gimnasio es muy pequeño"},{"$f":"'Historico Valoracion Quejas '!V334","v":"N/A"}]
[{"$f":"'Historico Valoracion Quejas '!D335","v":210},{"$f":"'Historico Valoracion Quejas '!B335","v":"2018-08-03"},{"$f":"'Historico Valoracion Quejas '!G335","v":"Sería muy bueno tener menus en la habitación."},{"$f":"'Historico Valoracion Quejas '!V335","v":"Calidad comida"}]
[{"$f":"'Historico Valoracion Quejas '!D336","v":210},{"$f":"'Historico Valoracion Quejas '!B336","v":"2018-08-03"},{"$f":"'Historico Valoracion Quejas '!G336","v":"Precios elevados."},{"$f":"'Historico Valoracion Quejas '!V336","v":"Calidad comida"}]
[{"$f":"'Historico Valoracion Quejas '!D337","v":307},{"$f":"'Historico Valoracion Quejas '!B337","v":"2018-08-05"},{"$f":"'Historico Valoracion Quejas '!G337","v":"Mejorar el Wi-fi ya que es muy inconsistente"},{"$f":"'Historico Valoracion Quejas '!V337","v":"Wifi"}]
[{"$f":"'Historico Valoracion Quejas '!D338","v":611},{"$f":"'Historico Valoracion Quejas '!B338","v":"2018-08-06"},{"$f":"'Historico Valoracion Quejas '!G338","v":"No tenían agua caliente"},{"$f":"'Historico Valoracion Quejas '!V338","v":"Agua caliente"}]
[{"$f":"'Historico Valoracion Quejas '!D339","v":610},{"$f":"'Historico Valoracion Quejas '!B339","v":"2018-08-06"},{"$f":"'Historico Valoracion Quejas '!G339","v":"No tenían agua caliente"},{"$f":"'Historico Valoracion Quejas '!V339","v":"Agua caliente"}]
[{"$f":"'Historico Valoracion Quejas '!D340","v":108},{"$f":"'Historico Valoracion Quejas '!B340","v":"2018-08-05"},{"$f":"'Historico Valoracion Quejas '!G340","v":"Teléfono no sirve"},{"$f":"'Historico Valoracion Quejas '!V340","v":"Central telefonica"}]
[{"$f":"'Historico Valoracion Quejas '!D341","v":202},{"$f":"'Historico Valoracion Quejas '!B341","v":"2018-08-05"},{"$f":"'Historico Valoracion Quejas '!G341","v":"Teléfono no sirve"},{"$f":"'Historico Valoracion Quejas '!V341","v":"Central telefonica"}]
[{"$f":"'Historico Valoracion Quejas '!D342","v":102},{"$f":"'Historico Valoracion Quejas '!B342","v":"2018-08-05"},{"$f":"'Historico Valoracion Quejas '!G342","v":"Teléfono no sirve"},{"$f":"'Historico Valoracion Quejas '!V342","v":"Central telefonica"}]
[{"$f":"'Historico Valoracion Quejas '!D343","v":101},{"$f":"'Historico Valoracion Quejas '!B343","v":"2018-08-05"},{"$f":"'Historico Valoracion Quejas '!G343","v":"Teléfono no sirve"},{"$f":"'Historico Valoracion Quejas '!V343","v":"Central telefonica"}]
[{"$f":"'Historico Valoracion Quejas '!D344","v":706},{"$f":"'Historico Valoracion Quejas '!B344","v":"2018-08-05"},{"$f":"'Historico Valoracion Quejas '!G344","v":"Teléfono no sirve"},{"$f":"'Historico Valoracion Quejas '!V344","v":"Central telefonica"}]
[{"$f":"'Historico Valoracion Quejas '!D345","v":106},{"$f":"'Historico Valoracion Quejas '!B345","v":"2018-08-05"},{"$f":"'Historico Valoracion Quejas '!G345","v":"Teléfono no sirve"},{"$f":"'Historico Valoracion Quejas '!V345","v":"Central telefonica"}]
[{"$f":"'Historico Valoracion Quejas '!D346","v":110},{"$f":"'Historico Valoracion Quejas '!B346","v":"2018-08-05"},{"$f":"'Historico Valoracion Quejas '!G346","v":"Teléfono no sirve"},{"$f":"'Historico Valoracion Quejas '!V346","v":"Central telefonica"}]
[{"$f":"'Historico Valoracion Quejas '!D347","v":0},{"$f":"'Historico Valoracion Quejas '!B347","v":"2018-08-04"},{"$f":"'Historico Valoracion Quejas '!G347","v":"Se queja de la comida de los restaurantes los cuales fueron una estafa, muy baja calidad en las comidas. La pizza fue la peor que ha comido, muy mala. Además precios sumamente caros por nada especial a cambio."},{"$f":"'Historico Valoracion Quejas '!V347","v":"Calidad comida"}]
[{"$f":"'Historico Valoracion Quejas '!D348","v":0},{"$f":"'Historico Valoracion Quejas '!B348","v":"2018-08-04"},{"$f":"'Historico Valoracion Quejas '!G348","v":"Huésped se queja del uso de brazaletes y de los tiquetes para intercambiar toallas y paraguas indicando que le recuerda a los hoteles baratos de Cancún. Además no les gustó escuchar a los vecinos ni tampoco los colchones los cuales consideraron raros e incómodos. "},{"$f":"'Historico Valoracion Quejas '!V348","v":"Brazaletes"}]
[{"$f":"'Historico Valoracion Quejas '!D349","v":0},{"$f":"'Historico Valoracion Quejas '!B349","v":"2018-08-02"},{"$f":"'Historico Valoracion Quejas '!G349","v":"Precios del restaurante y de los bares muy elevados"},{"$f":"'Historico Valoracion Quejas '!V349","v":"Calidad comida"}]
[{"$f":"'Historico Valoracion Quejas '!D350","v":0},{"$f":"'Historico Valoracion Quejas '!B350","v":"2018-08-01"},{"$f":"'Historico Valoracion Quejas '!G350","v":"El hotel parece estar expandiendose y sino estas en algún tour es sumamente molesto el ruido de la construcción mientras estas en la habitación"},{"$f":"'Historico Valoracion Quejas '!V350","v":"Ruido habitación"}]
[{"$f":"'Historico Valoracion Quejas '!D351","v":109},{"$f":"'Historico Valoracion Quejas '!B351","v":"2018-08-01"},{"$f":"'Historico Valoracion Quejas '!G351","v":"Porciones ridiculamente pequeñas y el sushi estaba mediocre, mas arroz que pescado. "},{"$f":"'Historico Valoracion Quejas '!V351","v":"Calidad Sushi"}]
[{"$f":"'Historico Valoracion Quejas '!D352","v":"609-610"},{"$f":"'Historico Valoracion Quejas '!B352","v":"2018-08-02"},{"$f":"'Historico Valoracion Quejas '!G352","v":"Bastante caro el Italiano."},{"$f":"'Historico Valoracion Quejas '!V352","v":"Calidad comida"}]
[{"$f":"'Historico Valoracion Quejas '!D353","v":"201-202"},{"$f":"'Historico Valoracion Quejas '!B353","v":"2018-08-03"},{"$f":"'Historico Valoracion Quejas '!G353","v":"Ruidos extraños en el techo ( pájaros o ratas) que nos mantuvo despiertos en la noche."},{"$f":"'Historico Valoracion Quejas '!V353","v":"Plagas Habitaciones"}]
[{"$f":"'Historico Valoracion Quejas '!D354","v":"201-202"},{"$f":"'Historico Valoracion Quejas '!B354","v":"2018-08-03"},{"$f":"'Historico Valoracion Quejas '!G354","v":"Huésped sugiere que el hotel no promueva Natura Park como una opción ya que es una experiencia mediocre y muy cara."},{"$f":"'Historico Valoracion Quejas '!V354","v":"N/A"}]
[{"$f":"'Historico Valoracion Quejas '!D355","v":511},{"$f":"'Historico Valoracion Quejas '!B355","v":"2018-08-04"},{"$f":"'Historico Valoracion Quejas '!G355","v":"Variedad limitada en opciones de glutten, problemas con inocuidad."},{"$f":"'Historico Valoracion Quejas '!V355","v":"Menú Celiacos"}]
[{"$f":"'Historico Valoracion Quejas '!D356","v":512},{"$f":"'Historico Valoracion Quejas '!B356","v":"2018-08-04"},{"$f":"'Historico Valoracion Quejas '!G356","v":"Más opciones libres de glutten son muy necesarias"},{"$f":"'Historico Valoracion Quejas '!V356","v":"Menú Celiacos"}]
[{"$f":"'Historico Valoracion Quejas '!D357","v":401},{"$f":"'Historico Valoracion Quejas '!B357","v":"2018-08-04"},{"$f":"'Historico Valoracion Quejas '!G357","v":"La comida en el Italiano muy cara."},{"$f":"'Historico Valoracion Quejas '!V357","v":"Calidad comida"}]
[{"$f":"'Historico Valoracion Quejas '!D358","v":703},{"$f":"'Historico Valoracion Quejas '!B358","v":"2018-08-04"},{"$f":"'Historico Valoracion Quejas '!G358","v":"Huéspedes se quejan de la inconsistencia del agua caliente."},{"$f":"'Historico Valoracion Quejas '!V358","v":"Agua caliente"}]
[{"$f":"'Historico Valoracion Quejas '!D359","v":801},{"$f":"'Historico Valoracion Quejas '!B359","v":"2018-08-02"},{"$f":"'Historico Valoracion Quejas '!G359","v":"Huéspedes se quejan que las porciones del restaurante italiano son pequeñas y muy caras."},{"$f":"'Historico Valoracion Quejas '!V359","v":"Calidad comida"}]
[{"$f":"'Historico Valoracion Quejas '!D360","v":204},{"$f":"'Historico Valoracion Quejas '!B360","v":"2018-08-02"},{"$f":"'Historico Valoracion Quejas '!G360","v":"Huéspedes se quejan de los precios, reclaman mejores precios."},{"$f":"'Historico Valoracion Quejas '!V360","v":"Calidad comida"}]
[{"$f":"'Historico Valoracion Quejas '!D361","v":"701-904"},{"$f":"'Historico Valoracion Quejas '!B361","v":"2018-08-03"},{"$f":"'Historico Valoracion Quejas '!G361","v":"Huéspedes reclaman que no tiene agua en las habitaciones."},{"$f":"'Historico Valoracion Quejas '!V361","v":"Agua caliente"}]
[{"$f":"'Historico Valoracion Quejas '!D362","v":708},{"$f":"'Historico Valoracion Quejas '!B362","v":"2018-08-02"},{"$f":"'Historico Valoracion Quejas '!G362","v":"Huéspedes molestos porque se les indicó que al llegar al hotel a las 3:30pm todas las habitaciones de su grupo iban a estar listas, sin embargo la hab 707 presentó problemas con el aire que al final no pudo ser reparado a pesar de que los huéspedes habian decidio esperar a que se reparara con tal de estar en la habitación junto a su familia,  procedimos a cambiarlos de hab sin embargo ellos se enojaron porque no les gustó la situación ni tampoco como fue manejada. El guía Cesar me dice que ellos ya llamaron a Swiss Travel a dar las quejas y que esta agencia quiere respuesta dado que son muy amigos de los dueños de Swiss Travel."},{"$f":"'Historico Valoracion Quejas '!V362","v":"A/C"}]
[{"$f":"'Historico Valoracion Quejas '!D363","v":503},{"$f":"'Historico Valoracion Quejas '!B363","v":"2018-08-02"},{"$f":"'Historico Valoracion Quejas '!G363","v":"Huéspedes molestos porque desde las 7 am entregaron lavandería y llegaron a las 7:00pm a preguntar a recepción y aún no estaba lista."},{"$f":"'Historico Valoracion Quejas '!V363","v":"Lavanderia"}]
[{"$f":"'Historico Valoracion Quejas '!D364","v":411},{"$f":"'Historico Valoracion Quejas '!B364","v":"2018-08-01"},{"$f":"'Historico Valoracion Quejas '!G364","v":"Huésped se queja que la lista de canales no coincide con los canales que se proyectan en el televisor, molesto primero porque indicá que un hotel en San José si pudo cambiar el audio a Inglés y aquí no."},{"$f":"'Historico Valoracion Quejas '!V364","v":"Habitaciones"}]
[{"$f":"'Historico Valoracion Quejas '!D365","v":609},{"$f":"'Historico Valoracion Quejas '!B365","v":"2018-07-31"},{"$f":"'Historico Valoracion Quejas '!G365","v":"Agua caliente del baño sale demasiado caliente al instante además las paredes parecen hechas de papel ya que se escucha absolutamente todo de los vecinos."},{"$f":"'Historico Valoracion Quejas '!V365","v":"Habitaciones"}]
[{"$f":"'Historico Valoracion Quejas '!D366","v":107},{"$f":"'Historico Valoracion Quejas '!B366","v":"2018-07-30"},{"$f":"'Historico Valoracion Quejas '!G366","v":"Tortillas del bar húmedo que sirvieron tenían  moho. Además deberían tener opciones para personas alergicas a la lactosa."},{"$f":"'Historico Valoracion Quejas '!V366","v":"Calidad comida"}]
[{"$f":"'Historico Valoracion Quejas '!D367","v":303},{"$f":"'Historico Valoracion Quejas '!B367","v":"2018-07-30"},{"$f":"'Historico Valoracion Quejas '!G367","v":"La habitación es inferior a una junior suite."},{"$f":"'Historico Valoracion Quejas '!V367","v":"Habitaciones"}]
[{"$f":"'Historico Valoracion Quejas '!D368","v":303},{"$f":"'Historico Valoracion Quejas '!B368","v":"2018-07-30"},{"$f":"'Historico Valoracion Quejas '!G368","v":"Precios muy elevados en las comidas."},{"$f":"'Historico Valoracion Quejas '!V368","v":"Calidad comida"}]
[{"$f":"'Historico Valoracion Quejas '!D369","v":604},{"$f":"'Historico Valoracion Quejas '!B369","v":"2018-07-29"},{"$f":"'Historico Valoracion Quejas '!G369","v":"No había agua caliente y el control deo aire no funcionó."},{"$f":"'Historico Valoracion Quejas '!V369","v":"A/C"}]
[{"$f":"'Historico Valoracion Quejas '!D370","v":0},{"$f":"'Historico Valoracion Quejas '!B370","v":"2018-07-26"},{"$f":"'Historico Valoracion Quejas '!G370","v":"La comida del restaurante italiano fue deficiente"},{"$f":"'Historico Valoracion Quejas '!V370","v":"Calidad comida"}]
[{"$f":"'Historico Valoracion Quejas '!D371","v":0},{"$f":"'Historico Valoracion Quejas '!B371","v":"2018-07-17"},{"$f":"'Historico Valoracion Quejas '!G371","v":"El restaurante principal de la cena en sí es bastante caro y nada especial. No había nada de malo en ello, pero nos habíamos acostumbrado a grandes porciones de Costa Rica, y nuestra cena aquí era mucho más pequeña y no estuvo a la altura de la comida que tuvimos en otro lugar en nuestro viaje."},{"$f":"'Historico Valoracion Quejas '!V371","v":"Calidad comida"}]
[{"$f":"'Historico Valoracion Quejas '!D372","v":0},{"$f":"'Historico Valoracion Quejas '!B372","v":"2018-07-13"},{"$f":"'Historico Valoracion Quejas '!G372","v":"El aire acondicionado no funcionó bien la última noche"},{"$f":"'Historico Valoracion Quejas '!V372","v":"A/C"}]
[{"$f":"'Historico Valoracion Quejas '!D373","v":0},{"$f":"'Historico Valoracion Quejas '!B373","v":"2018-07-04"},{"$f":"'Historico Valoracion Quejas '!G373","v":"EN el desayuno vimos varias moscas sobre los alimentos, incluso habían 2 ahogadas en el yogurt por lo que evitamos esos alimentos"},{"$f":"'Historico Valoracion Quejas '!V373","v":"Calida Desayuno"}]
[{"$f":"'Historico Valoracion Quejas '!D374","v":0},{"$f":"'Historico Valoracion Quejas '!B374","v":"2018-07-04"},{"$f":"'Historico Valoracion Quejas '!G374","v":". Además ojala y pudieran brindar juegos para la habitación o algo para que se entretengan los niños."},{"$f":"'Historico Valoracion Quejas '!V374","v":"Área  para niños "}]
[{"$f":"'Historico Valoracion Quejas '!D375","v":0},{"$f":"'Historico Valoracion Quejas '!B375","v":"2018-07-04"},{"$f":"'Historico Valoracion Quejas '!G375","v":"LA caja de seguridad es muy pequeña y vieja ( no pude guardar mi laptop)"},{"$f":"'Historico Valoracion Quejas '!V375","v":"N/A"}]
[{"$f":"'Historico Valoracion Quejas '!D376","v":0},{"$f":"'Historico Valoracion Quejas '!B376","v":"2018-07-02"},{"$f":"'Historico Valoracion Quejas '!G376","v":" la selección de los alimentos en el desayuno es pobre, mi esposo quería salchicha o tocino y no fue posible. Además las cenas son muy caras y las porciones muy pequeñas."},{"$f":"'Historico Valoracion Quejas '!V376","v":"Calidad comida"}]
[{"$f":"'Historico Valoracion Quejas '!D377","v":0},{"$f":"'Historico Valoracion Quejas '!B377","v":"2018-07-01"},{"$f":"'Historico Valoracion Quejas '!G377","v":"Como otros comentarios de otros huéspedes también terminamos decepcionados de la cena,  los precios son demasiado elevados y la calidad de la comida en relación a otros hoteles quedó debiendo"},{"$f":"'Historico Valoracion Quejas '!V377","v":"Calidad comida"}]
[{"$f":"'Historico Valoracion Quejas '!D378","v":112},{"$f":"'Historico Valoracion Quejas '!B378","v":"2018-07-27"},{"$f":"'Historico Valoracion Quejas '!G378","v":"Limpieza en términos de insectos debe mejorar con algún spray en el closet o baño para eliminar insectos."},{"$f":"'Historico Valoracion Quejas '!V378","v":"Plagas Habitaciones"}]
[{"$f":"'Historico Valoracion Quejas '!D379","v":109},{"$f":"'Historico Valoracion Quejas '!B379","v":"2018-07-28"},{"$f":"'Historico Valoracion Quejas '!G379","v":"Un Cajero Automático en Recepción sería muy útil "},{"$f":"'Historico Valoracion Quejas '!V379","v":"N/A"}]
[{"$f":"'Historico Valoracion Quejas '!D380","v":710},{"$f":"'Historico Valoracion Quejas '!B380","v":"2018-07-28"},{"$f":"'Historico Valoracion Quejas '!G380","v":"Cambiar las cajas de seguridad por cajas modernas y fáciles de utilizar. Las que hay son complejas de operar."},{"$f":"'Historico Valoracion Quejas '!V380","v":"N/A"}]
[{"$f":"'Historico Valoracion Quejas '!D381","v":308},{"$f":"'Historico Valoracion Quejas '!B381","v":"2018-07-28"},{"$f":"'Historico Valoracion Quejas '!G381","v":"La conexión a Internet debería ser mejor y más estable. Conexión buena es lo que falta"},{"$f":"'Historico Valoracion Quejas '!V381","v":"Wifi"}]
[{"$f":"'Historico Valoracion Quejas '!D382","v":307},{"$f":"'Historico Valoracion Quejas '!B382","v":"2018-07-28"},{"$f":"'Historico Valoracion Quejas '!G382","v":"Internet no funcionó bien en la habitación."},{"$f":"'Historico Valoracion Quejas '!V382","v":"Wifi"}]
[{"$f":"'Historico Valoracion Quejas '!D383","v":801},{"$f":"'Historico Valoracion Quejas '!B383","v":"2018-07-27"},{"$f":"'Historico Valoracion Quejas '!G383","v":"Poner precios mas bajos en los restaurantes ya que son muy caros."},{"$f":"'Historico Valoracion Quejas '!V383","v":"Calidad comida"}]
[{"$f":"'Historico Valoracion Quejas '!D384","v":404},{"$f":"'Historico Valoracion Quejas '!B384","v":"2018-07-28"},{"$f":"'Historico Valoracion Quejas '!G384","v":"la limpieza de la habitación el día de ayer no las satisfizo, me muestran que no les reemplazaron los vasos sucios, las camas no fueron bien acomodadas, que no se les agrego más bolsitas de té, y que no se les hizo tampoco ninguna decoración con las toallas como sí se les hizo a las otras habitaciones (405-406) que vienen con ellos"},{"$f":"'Historico Valoracion Quejas '!V384","v":"Limpieza en habitación"}]
[{"$f":"'Historico Valoracion Quejas '!D385","v":801},{"$f":"'Historico Valoracion Quejas '!B385","v":"2018-07-27"},{"$f":"'Historico Valoracion Quejas '!G385","v":"  también que existe un gran espacio entre el marco y la puerta misma que permite ingresar mosquitos y demás insectos"},{"$f":"'Historico Valoracion Quejas '!V385","v":"Plagas Habitaciones"}]
[{"$f":"'Historico Valoracion Quejas '!D386","v":801},{"$f":"'Historico Valoracion Quejas '!B386","v":"2018-07-26"},{"$f":"'Historico Valoracion Quejas '!G386","v":" además del teléfono que no funciona, "},{"$f":"'Historico Valoracion Quejas '!V386","v":"Teléfonos"}]
[{"$f":"'Historico Valoracion Quejas '!D387","v":801},{"$f":"'Historico Valoracion Quejas '!B387","v":"2018-07-26"},{"$f":"'Historico Valoracion Quejas '!G387","v":"los huéspedes expresaron su disconformidad y molestia debido a los problemas ocasionados por el aire acondicionado de la habitación"},{"$f":"'Historico Valoracion Quejas '!V387","v":"A/C"}]
[{"$f":"'Historico Valoracion Quejas '!D388","v":904},{"$f":"'Historico Valoracion Quejas '!B388","v":"2018-07-25"},{"$f":"'Historico Valoracion Quejas '!G388","v":"Baño huele muy mal como a cañería, además habían insectos, hormigas y lagartijas en la habitación"},{"$f":"'Historico Valoracion Quejas '!V388","v":"Plagas Habitaciones"}]
[{"$f":"'Historico Valoracion Quejas '!D389","v":409},{"$f":"'Historico Valoracion Quejas '!B389","v":"2018-07-23"},{"$f":"'Historico Valoracion Quejas '!G389","v":"Huésped se queja que durante el buffet del sábado vió muy poca etiquetas en las comidas y hace falta rotulación."},{"$f":"'Historico Valoracion Quejas '!V389","v":"Rotulación cena"}]
[{"$f":"'Historico Valoracion Quejas '!D390","v":411},{"$f":"'Historico Valoracion Quejas '!B390","v":"2018-07-22"},{"$f":"'Historico Valoracion Quejas '!G390","v":"En las habitaciones hay polvo, mejorar la limpieza"},{"$f":"'Historico Valoracion Quejas '!V390","v":"Aseo en habitación"}]
[{"$f":"'Historico Valoracion Quejas '!D391","v":312},{"$f":"'Historico Valoracion Quejas '!B391","v":"2018-07-23"},{"$f":"'Historico Valoracion Quejas '!G391","v":"Huésped se queja de gotera en la ventana."},{"$f":"'Historico Valoracion Quejas '!V391","v":"Goteras"}]
[{"$f":"'Historico Valoracion Quejas '!D392","v":0},{"$f":"'Historico Valoracion Quejas '!B392","v":"2018-07-24"},{"$f":"'Historico Valoracion Quejas '!G392","v":"La impresora de comandas da problemas porque no imprime de manera correcta las amenidades que se comandan a cocina, presenta un error al parecer que provoca que se imprima en blanco gran cantidad de papel en blanco."},{"$f":"'Historico Valoracion Quejas '!V392","v":"Desestimado"}]
[{"$f":"'Historico Valoracion Quejas '!D393","v":"403-211"},{"$f":"'Historico Valoracion Quejas '!B393","v":"2018-07-23"},{"$f":"'Historico Valoracion Quejas '!G393","v":"El siguiente correo es para notificar acerca de una misma situación en la cual se  vieron afectadas 2 habitaciones, las mismas serian 403 – 211 , alrededor de las 6 pm se recibe el informe de ambas habitaciones en el cual los huéspedes informan que desde sus baños provienen olores muy fuertes y desagradables y ambos lo describen como un olor a cloaca y humedad y que les perturba su estadía en el hotel, inmediatamente se coordina con las compañeras de áreas públicas para verificar el estado de la situación, ellas nos informan que dichos olores efectivamente provienen del desagüe del baño de las duchas, ellas hacen la limpieza respectiva y de igual forma dejan fragancias en las habitaciones para disminuir dichos olores, se esperan alrededor de 30 min y mi persona juntamente con la compañera nos dirigimos para corroborar que todo se encuentre en orden, la hab 211 no posee ningún inconveniente, sin embargo la hab 403 aun contaba con un poco de olor. A los huéspedes se les ofrece el traslado de habitaciones pero ellos desean permanecer en sus habitaciones respectivas e indican que si el problema persiste aceptarán dichos cambios. Quiero hacer la connotación de que dichas situaciones al parecer es producto de las constantes lluvias y por este motivo los desagües se rebalsan emitiendo dichos olores. Favor darle el seguimiento respectivo a la situación ocurrida, cualquier consulta estoy para servirles."},{"$f":"'Historico Valoracion Quejas '!V393","v":"Mal olor habitación"}]
[{"$f":"'Historico Valoracion Quejas '!D394","v":"209-210"},{"$f":"'Historico Valoracion Quejas '!B394","v":"2018-07-22"},{"$f":"'Historico Valoracion Quejas '!G394","v":"fuerte reclamo de su parte por el hecho de que se les dieron habitaciones diferentes a las que se les prometió cuando reservaron. Cuando se les realizó el check-in los huéspedes daban por hecho que se les iban a otorgar las habitaciones 311 y 312 debido a que en frente de estas habitaciones hay jardines y zonas verdes que básicamente a lo que nos dicen fue por esa la razón principal de su visita. A la hora de abordar la queja, a la señora se le explica que las habitaciones 209-210 tienen exactamente las mismas características ( Puertas Conectadas, 1 cama King y 2 camas Queen), sin embargo ella muy decepcionada y molesta nos insiste en un explicación del porque se le está entregando algo diferente si eso no fue lo acordado. Por más que se le intentó explicar la similitud de las habitaciones ella solicitó hablar con los encargados de las reservas, pero esto no fue posible debido a que no se encontraban. Les expliqué que no podríamos cumplir su solicitud ni hoy ni mañana porque no podíamos sacar a los huéspedes de las habitaciones 311-312 y que estos salían hasta el día 24/07/2018. La opción más viable fue compensarles con la cena carta paquete cortesía. Quisiera resaltar que fue necesario hablar con ellos en dos ocasiones frente a frente y una por teléfono para poder llegar a un acuerdo y que aceptaran la compensación. Me di a la tarea de ofrecerles las disculpas porque no se pudo cumplir lo que solicitaron e indiqué que nos hacíamos responsables de la situación y que esperábamos pudieran pasar una muy buena estadía . "},{"$f":"'Historico Valoracion Quejas '!V394","v":"Proceso de reservas"}]
[{"$f":"'Historico Valoracion Quejas '!D395","v":511},{"$f":"'Historico Valoracion Quejas '!B395","v":"2018-07-22"},{"$f":"'Historico Valoracion Quejas '!G395","v":"Huéspedes se quejan de gotera justo arriba de su cama, debido a esto se les mojó su ropa de cama."},{"$f":"'Historico Valoracion Quejas '!V395","v":"Goteras"}]
[{"$f":"'Historico Valoracion Quejas '!D396","v":"Grupo Patty Searcy"},{"$f":"'Historico Valoracion Quejas '!B396","v":"2018-07-22"},{"$f":"'Historico Valoracion Quejas '!G396","v":"Señoras se quejan de la oscuridad y peligro que existe cuando los huéspedes caminan de noche por el hotel, una de las señoras del grupo sufrió una caída doblandose uno de sus tobillos y cayendo estrepitosamente en unos de los caños, el problema que ellas me indican es el desnivel que existe entre el pavimento y el caño. La caída se dió por las habitaciones 501-502 donde se confirma que la visibilidad es casi nula y no es posible apreciar el desnivel que causó caída."},{"$f":"'Historico Valoracion Quejas '!V396","v":"Acera para transitar "}]
[{"$f":"'Historico Valoracion Quejas '!D397","v":"Recepción"},{"$f":"'Historico Valoracion Quejas '!B397","v":"2018-07-22"},{"$f":"'Historico Valoracion Quejas '!G397","v":"Buenos días compañeros\nEspero se encuentren bien, quiero hacer de su conocimiento un problema que hemos tenido en reiteradas ocasiones y ha estado entorpeciendo nuestra labor al momento de realizar un cobro:\nEn primera instancia el datafono de Credomatic de recepción comenzó a duplicar montos y solo podemos usarlo para tarjetas American Express dado que es la única a la que no duplica, está mañana también comenzamos a tener problemas con los 2 datafonos del banco nacional, tuvimos que hacer uso del datafono del departamento de reservas, esto provoca que nuestro servicio sea lento y mediocre, dado que tenemos que pedirle a los huéspedes pasar a la oficina de reservas cuando la  tarjeta necesita un código pin para poder realizar un cargo, les solicitamos que por favor nos ayuden los más pronto posible con el tema para poder brindar un mejor y más rápido servicio, muchas gracias.\n"},{"$f":"'Historico Valoracion Quejas '!V397","v":"Datafonos"}]
[{"$f":"'Historico Valoracion Quejas '!D398","v":902},{"$f":"'Historico Valoracion Quejas '!B398","v":"2018-07-21"},{"$f":"'Historico Valoracion Quejas '!G398","v":"Huésped reporta un fuerte olor en la habitación que los mantiene inconformes"},{"$f":"'Historico Valoracion Quejas '!V398","v":"Mal olor habitación"}]
[{"$f":"'Historico Valoracion Quejas '!D399","v":705},{"$f":"'Historico Valoracion Quejas '!B399","v":"2018-07-19"},{"$f":"'Historico Valoracion Quejas '!G399","v":"Huésped no pudo dormir durante dos horas a partir de las 3 am, debido a que se había ido la electricidad y el generador producía mucho ruido."},{"$f":"'Historico Valoracion Quejas '!V399","v":"Ruido generadores"}]
[{"$f":"'Historico Valoracion Quejas '!D400","v":"207-208"},{"$f":"'Historico Valoracion Quejas '!B400","v":"2018-07-19"},{"$f":"'Historico Valoracion Quejas '!G400","v":"Telefonos no funcionan y huéspedes no pudieron recibir el wake up call"},{"$f":"'Historico Valoracion Quejas '!V400","v":"Teléfonos"}]
[{"$f":"'Historico Valoracion Quejas '!D401","v":208},{"$f":"'Historico Valoracion Quejas '!B401","v":"2018-07-18"},{"$f":"'Historico Valoracion Quejas '!G401","v":"Mal olor en habitación"},{"$f":"'Historico Valoracion Quejas '!V401","v":"Mal olor habitación"}]
[{"$f":"'Historico Valoracion Quejas '!D402","v":"204-210-304,,,"},{"$f":"'Historico Valoracion Quejas '!B402","v":"2018-07-21"},{"$f":"'Historico Valoracion Quejas '!G402","v":"Las puertas principales en estos días, seguramente por el clima, han estado presentando fallas a la hora de cerrar, esto de dos formas, la primera cuesta queda como baja y cuesta mucho abrirla, y la segunda es que cuesta que cierre bien."},{"$f":"'Historico Valoracion Quejas '!V402","v":"Puerta de habitación"}]
[{"$f":"'Historico Valoracion Quejas '!D403","v":302},{"$f":"'Historico Valoracion Quejas '!B403","v":"2018-07-21"},{"$f":"'Historico Valoracion Quejas '!G403","v":"Al realizar la llamada de bienvenida el huésped molesto reporta su malestar por que se duró mucho tiempo en entregarle la habitación"},{"$f":"'Historico Valoracion Quejas '!V403","v":"Room service"}]
[{"$f":"'Historico Valoracion Quejas '!D404","v":708},{"$f":"'Historico Valoracion Quejas '!B404","v":"2018-07-21"},{"$f":"'Historico Valoracion Quejas '!G404","v":"Huésped reporta hormigas en la habitación"},{"$f":"'Historico Valoracion Quejas '!V404","v":"Plagas Habitaciones"}]
[{"$f":"'Historico Valoracion Quejas '!D405","v":706},{"$f":"'Historico Valoracion Quejas '!B405","v":"2018-07-20"},{"$f":"'Historico Valoracion Quejas '!G405","v":"Huésped se queja del ruido generado en la construcción, nos comenta que el problema es que inicia muy temprano a realizar los trabajos."},{"$f":"'Historico Valoracion Quejas '!V405","v":"Construcción"}]
[{"$f":"'Historico Valoracion Quejas '!D406","v":0},{"$f":"'Historico Valoracion Quejas '!B406","v":"2018-07-18"},{"$f":"'Historico Valoracion Quejas '!G406","v":"Buen día Jefa!\nEs para informarte que la noche de hoy al check-in de 5 personas (Habitaciones 101 y 102) no se les entrego coctel de bienvenida pues no habían disponibles.\nNo hizo mucha falta a decir verdad dado que los clientes venían muy cansados sin embargo, si me manifestaron que tenían mucha hambre.\nHoy en particular venía muy lleno por lo que les ofrecí mi cena. Estaba un poco “seca” entonces le agregue un poco de chimichurri y aguacate que fue lo que encontré en el restaurante italiano. Además les di  5 manzanas que tome de la cámara del barril.\nPasado el tiempo me llamo la cliente diciendo que si podía tener agua, que no había en la habitación a lo q le respondí que en el mini-bar debía tener pero me dijo que no vio ninguna.\nPor esta razón tome 5 botellas de la bodega de los botones y las envié pero una vez entregadas me dijo que la disculpara. Que ya había encontrado las botellas de agua.\nComo vez es un reporte informativo más que cualquier otra cosa, no sé por el tema de control de inventarios si debe esto ser del conocimiento de alguien más pero lo dejo a tu criterio.\nAdemás de la oportunidad de mejorar en algunos detalles sin embargo los clientes muy contentos y agradecidos con la empatía y el servicio.\nCualquier consulta estoy para servirte!\nGelipe"},{"$f":"'Historico Valoracion Quejas '!V406","v":"Refrigerio nocturno"}]
[{"$f":"'Historico Valoracion Quejas '!D407","v":0},{"$f":"'Historico Valoracion Quejas '!B407","v":"2018-07-18"},{"$f":"'Historico Valoracion Quejas '!G407","v":"Buenos Días Diego,\n\nEspero se encuentre bien. \nLe escribo para solicitarle ayuda con algo que a mi parecer se ha vuelto reiterado y hasta desgastante para recepción, botones, ama de llaves y servicio al cliente. \nEl tema aquí tiene que ver con las amenidades y los detalles especiales que Servicio al Cliente se encarga de solicitar a cocina con un día de anticipación por dos medios ( correo y en físico ). Yo mismo he sido testigo que existe un claro desorden de comunicación o de asignación de funciones ya que unos días si se le da seguimiento al reporte de detalles especiales y otros al parecer nadie se quiere hacer cargo. En este sentido yo me apego al procedimiento que mi superior Liz Aguilar nos ha solicitado, sin embargo mi duda es si el 100% de su departamento conoce el procedimiento? \nHablando con los botones ellos me indican que los han devuelto varias veces diciendo que nadie les ha pedido amenidades, y ellos ante esta respuesta acuden a mi persona en donde yo he tenido que llamar y solicitar que por favor revisen la hoja que se deja pegada en la pizarra de cocina. Muchas veces he tenido que acudir a Don Gerardo Meléndez el cual muy amablemente ha tratado de que se mejore en este aspecto, de hecho cuando se encuentra en el hotel, es el único que responde los correos en donde me hace ver que ya conocen de las amenidades requeridas y que le darán seguimiento, él hasta me ha sugerido que yo pida una firma de entregado pero creo que esto no es necesario cuando existe un compromiso por el trabajo.  La intención de compartirle todo esto es con el único fin de mejorar siempre pensando en nuestros huéspedes, hablando con Melissa ella me sugiere la posibilidad de dejar las bolsas de frutas listas la noche antes o que exista una hora de la mañana en donde se tengan listas siempre y cuando sea temprano.  Como usted puede ver es algo que está afectando a más de un departamento y como se lo pedí al inicio me gustaría contar con su ayuda para mejorar estos detalles que aunque parezcan simples tienen peso a la hora de que no se prepara un queque, de que no mandamos las bolsas de frutas correctamente, entre otras cosas que han pasado. \nMuchas gracias de antemano y cualquier consulta estoy a la orden.\nSaludos!\n"},{"$f":"'Historico Valoracion Quejas '!V407","v":"Servicio cliente cocina"}]
[{"$f":"'Historico Valoracion Quejas '!D408","v":403},{"$f":"'Historico Valoracion Quejas '!B408","v":"2018-07-18"},{"$f":"'Historico Valoracion Quejas '!G408","v":"Muy señores nuestros, \nMi nombre es Naresh Lakhwani y estuvimos alojados en la habitacion 403 de su hotel del 13 al 15 de este mes (Julio) junto a mi esposa Juliana Sánchez a cuyo nombre estaba la reserva , al check out del hotel tuvimos la desgracia de dejar olvidado una carpeta con nuestra documentación, itinerario de viaje y 950 euros en efectivo.\nAl llegar a nuestro hotel en Monteverde llamamos a vuestro hotel y nos dijeron que estaba allí, supuestamente intacta, y que la mandarian por empresa de transporte al nuevo destino. Hoy día 16 hemos recibido el envío que nos han entregado en un sobre cerrado y al abrirlo nos hemos dado cuenta que han sustraído 200 euros del efectivo además de haber cambiado el dinero de compartimento (sabíamos exactamente la cantidad que había y donde estaba guardado porque era exactamente el importe de algo que íbamos a comprar)\nHe llamado personalmente y hablado con atención al cliente de ustedes y me comentan que entregaron a la empresa de transporte el paquete ya cerrado con lo cual en algún momento se ha sustraído ese dinero.\nEl motivo de ponerme en contacto con ustedes es hacerles saber que no tanto por la cuantía económica, que también, sino más por el agravio, hemos decidido denunciar lo ocurrido a la policía y postear todo lo ocurrido y la denuncia en todos los medios a nuestro alcance. Seguramente no recuperemos nada puesto que solo nos quedamos en el pais 4 dias mas, pero por lo menos daremos a conocer lo ocurrido a la mayor cantidad de gente posible nombrandolos tanto a ustedes como a la empresa de transporte.\nLo ocurrido ha sido la única mancha en nuestra luna de miel ya que su país tanto como la mayor parte de su gente son encantadores pero no nos parece justo lo sucedido!!\n\nSin otro particular, le saluda atentamente: \n\nNaresh Lakhwani \n"},{"$f":"'Historico Valoracion Quejas '!V408","v":"Servicio cliente recepción"}]
[{"$f":"'Historico Valoracion Quejas '!D409","v":208},{"$f":"'Historico Valoracion Quejas '!B409","v":"2018-07-18"},{"$f":"'Historico Valoracion Quejas '!G409","v":"Huéspedes se quejan por mal olor."},{"$f":"'Historico Valoracion Quejas '!V409","v":"Mal olor habitación"}]
[{"$f":"'Historico Valoracion Quejas '!D410","v":512},{"$f":"'Historico Valoracion Quejas '!B410","v":"2018-07-18"},{"$f":"'Historico Valoracion Quejas '!G410","v":"Gotera justo encima de la cama"},{"$f":"'Historico Valoracion Quejas '!V410","v":"Goteras"}]
[{"$f":"'Historico Valoracion Quejas '!D411","v":201},{"$f":"'Historico Valoracion Quejas '!B411","v":"2018-07-17"},{"$f":"'Historico Valoracion Quejas '!G411","v":"Huésped se queja de fuerte ruido en el techo del lado del panel"},{"$f":"'Historico Valoracion Quejas '!V411","v":"Alarmas "}]
[{"$f":"'Historico Valoracion Quejas '!D412","v":0},{"$f":"'Historico Valoracion Quejas '!B412","v":"2018-07-18"},{"$f":"'Historico Valoracion Quejas '!G412","v":"Teléfonos de las habitaciones no funcionan correctamente ni tampoco el de caseta"},{"$f":"'Historico Valoracion Quejas '!V412","v":"Teléfonos"}]
[{"$f":"'Historico Valoracion Quejas '!D413","v":901},{"$f":"'Historico Valoracion Quejas '!B413","v":"2018-07-16"},{"$f":"'Historico Valoracion Quejas '!G413","v":"Canoa en el balcón tiene fuga, y por esto se mete mucha agua al balcón."},{"$f":"'Historico Valoracion Quejas '!V413","v":"Goteras"}]
[{"$f":"'Historico Valoracion Quejas '!D414","v":901},{"$f":"'Historico Valoracion Quejas '!B414","v":"2018-07-16"},{"$f":"'Historico Valoracion Quejas '!G414","v":"Fuerto olor a agua estancada en el baño"},{"$f":"'Historico Valoracion Quejas '!V414","v":"Mal olor habitación"}]
[{"$f":"'Historico Valoracion Quejas '!D415","v":904},{"$f":"'Historico Valoracion Quejas '!B415","v":"2018-07-13"},{"$f":"'Historico Valoracion Quejas '!G415","v":"Huéspedes muy molestos por transfer contratado con nosotros que no llegó a recogerlos a la hora y el día acordado, por lo que los huéspedes pagaron una transfer privado hasta el hotel."},{"$f":"'Historico Valoracion Quejas '!V415","v":"Transfer"}]
[{"$f":"'Historico Valoracion Quejas '!D416","v":406},{"$f":"'Historico Valoracion Quejas '!B416","v":"2018-07-13"},{"$f":"'Historico Valoracion Quejas '!G416","v":"NO hay variedad en menú para niños."},{"$f":"'Historico Valoracion Quejas '!V416","v":"Menú niños"}]
[{"$f":"'Historico Valoracion Quejas '!D417","v":107},{"$f":"'Historico Valoracion Quejas '!B417","v":"2018-07-10"},{"$f":"'Historico Valoracion Quejas '!G417","v":"Las instrucciones del coffee maker no están claras, es para hervir agua o solo calentarla? Si no lo dice no lo sabran los huéspedes. Además las instrucciones de como encender el ventilador de techo no se ven."},{"$f":"'Historico Valoracion Quejas '!V417","v":"Rotulación ventilador"}]
[{"$f":"'Historico Valoracion Quejas '!D418","v":107},{"$f":"'Historico Valoracion Quejas '!B418","v":"2018-07-10"},{"$f":"'Historico Valoracion Quejas '!G418","v":"Caminos cruzando por el pasto muy húmedos y resbalosos que podrían causar una caída, talvez colocar piedras para facilitar caminar por ahí."},{"$f":"'Historico Valoracion Quejas '!V418","v":"Desestimado"}]
[{"$f":"'Historico Valoracion Quejas '!D419","v":502},{"$f":"'Historico Valoracion Quejas '!B419","v":"2018-07-13"},{"$f":"'Historico Valoracion Quejas '!G419","v":"Poner espejo fuera del baño."},{"$f":"'Historico Valoracion Quejas '!V419","v":"Desestimado"}]
[{"$f":"'Historico Valoracion Quejas '!D420","v":509},{"$f":"'Historico Valoracion Quejas '!B420","v":"2018-07-14"},{"$f":"'Historico Valoracion Quejas '!G420","v":"Huespedes molestos tuvieron que cancelar masaje de luna de miel por jacuzzi en mal estado (tapon dañado)"},{"$f":"'Historico Valoracion Quejas '!V420","v":"Rotulación Jacuzzi"}]
[{"$f":"'Historico Valoracion Quejas '!D421","v":202},{"$f":"'Historico Valoracion Quejas '!B421","v":"2018-07-13"},{"$f":"'Historico Valoracion Quejas '!G421","v":"Habitación sin agua caliente"},{"$f":"'Historico Valoracion Quejas '!V421","v":"Agua caliente"}]
[{"$f":"'Historico Valoracion Quejas '!D422","v":302},{"$f":"'Historico Valoracion Quejas '!B422","v":"2018-07-12"},{"$f":"'Historico Valoracion Quejas '!G422","v":"Colocar rotulación llamativa o colorida que indique por ejemplo cual es el Souvenir, cual es el Tour Operador, cual es Servicio al cliente, cual es la recepción, etc. "},{"$f":"'Historico Valoracion Quejas '!V422","v":"N/A"}]
[{"$f":"'Historico Valoracion Quejas '!D423","v":302},{"$f":"'Historico Valoracion Quejas '!B423","v":"2018-07-12"},{"$f":"'Historico Valoracion Quejas '!G423","v":"Renovar la recepción que es anticuada, fea y no va acorde con el hotel."},{"$f":"'Historico Valoracion Quejas '!V423","v":"N/A"}]
[{"$f":"'Historico Valoracion Quejas '!D424","v":312},{"$f":"'Historico Valoracion Quejas '!B424","v":"2018-07-11"},{"$f":"'Historico Valoracion Quejas '!G424","v":"En la Habitación hay una gotera"},{"$f":"'Historico Valoracion Quejas '!V424","v":"Goteras"}]
[{"$f":"'Historico Valoracion Quejas '!D425","v":309},{"$f":"'Historico Valoracion Quejas '!B425","v":"2018-07-11"},{"$f":"'Historico Valoracion Quejas '!G425","v":"Huéspedes se quejan de las computadoras del lobby las cuales no les funciona la unidad de CD-Room y no fue posible leer un disco de fotos que necesitaban compartir entre ellos."},{"$f":"'Historico Valoracion Quejas '!V425","v":"Computadoras de recepción"}]
[{"$f":"'Historico Valoracion Quejas '!D426","v":0},{"$f":"'Historico Valoracion Quejas '!B426","v":"2018-09-09"},{"$f":"'Historico Valoracion Quejas '!G426","v":"Por este medio le comunico que hoy tuve una situación con Katia debido a un cambio que se hizo a última hora. \nTeníamos una reserva del señor Oscar Molina quien es un cliente frecuente en la 104 y él dijo que si la habitación 105 estaba disponible le gustaría esa en vez de la 104. \nAl venir todos los años se le hizo un arreglo el cual teníamos que mover a la 105 – esta habitación ya estaba lista- era solo de mover las cosas. Solicite un 21 a Katia ya que el cliente estaba en frente de mí, pero la compañera se alteró de una manera muy inadecuada diciendo que la habitación estaba lista y que como la íbamos a poner a correr “estamos en el agua”, y que además no le estaba dando una explicación de por qué moverlos. Y de la misma manera molesta me dijo que iba a estar en 20 minutos, le dije que porque si ya estaba lista, y era solo de pasar las cosas, ella me repitió lo mismo muy alterada y que si quería que fuera adentro para que viera como estaban ellas. \nSimplemente le dije que no había razón para que me alzara la voz de esta manera, y decidí colgar el teléfono. \nLuego a los 5 minutos me pasó la habitación lista el compañero Oscar, me dijo que él fue y movió las cosas ya que era lo único que había que hacer."},{"$f":"'Historico Valoracion Quejas '!V426","v":"Servicio cliente mucamas"}]
[{"$f":"'Historico Valoracion Quejas '!D427","v":0},{"$f":"'Historico Valoracion Quejas '!B427","v":"2018-07-10"},{"$f":"'Historico Valoracion Quejas '!G427","v":"Le informo que le día de hoy , durante3 el desayuno, pudimos detectar a tiempo la presencia de una cucaracha.\nEn realidad una huésped de la habitación 402, fue quien alerto al compañero José Quirós. M la misma se encontraba sobre la mesa y esta estaba desocupada. El compañero la retiro rápida y discretamente.\nPuedo decir que dicho evento, no causo mayor relevancia, nadie más se dio cuenta y no tuvo mayor repercusión.\n\n\n"},{"$f":"'Historico Valoracion Quejas '!V427","v":"Habitaciones"}]
[{"$f":"'Historico Valoracion Quejas '!D428","v":107},{"$f":"'Historico Valoracion Quejas '!B428","v":"2018-07-10"},{"$f":"'Historico Valoracion Quejas '!G428","v":"Cajas fuertes más grandes, que puedan caber laptops"},{"$f":"'Historico Valoracion Quejas '!V428","v":"Desestimado"}]
[{"$f":"'Historico Valoracion Quejas '!D429","v":401},{"$f":"'Historico Valoracion Quejas '!B429","v":"2018-07-09"},{"$f":"'Historico Valoracion Quejas '!G429","v":"Promover actividades para adolescentes donde se reúnan, compartan y se conozcan."},{"$f":"'Historico Valoracion Quejas '!V429","v":"Sala de juegos"}]
[{"$f":"'Historico Valoracion Quejas '!D430","v":0},{"$f":"'Historico Valoracion Quejas '!B430","v":"2018-07-10"},{"$f":"'Historico Valoracion Quejas '!G430","v":"Debería haber más variedad de opciones en el desayuno "},{"$f":"'Historico Valoracion Quejas '!V430","v":"Calida Desayuno"}]
[{"$f":"'Historico Valoracion Quejas '!D431","v":707},{"$f":"'Historico Valoracion Quejas '!B431","v":"2018-07-10"},{"$f":"'Historico Valoracion Quejas '!G431","v":"Deberían haber ganchos para poder colgar las capas"},{"$f":"'Historico Valoracion Quejas '!V431","v":"Desestimado"}]
[{"$f":"'Historico Valoracion Quejas '!D432","v":707},{"$f":"'Historico Valoracion Quejas '!B432","v":"2018-07-10"},{"$f":"'Historico Valoracion Quejas '!G432","v":"Deben haber más ganchos para poder colgar las toallas en el baño"},{"$f":"'Historico Valoracion Quejas '!V432","v":"Desestimado"}]
[{"$f":"'Historico Valoracion Quejas '!D433","v":405},{"$f":"'Historico Valoracion Quejas '!B433","v":"2018-07-10"},{"$f":"'Historico Valoracion Quejas '!G433","v":"El refrigerador de la habitación tiene un ruido muy fuerte"},{"$f":"'Historico Valoracion Quejas '!V433","v":"Ruido habitación"}]
[{"$f":"'Historico Valoracion Quejas '!D434","v":"103-502"},{"$f":"'Historico Valoracion Quejas '!B434","v":"2018-07-09"},{"$f":"'Historico Valoracion Quejas '!G434","v":"Habitaciones fumigadas con el piso resbaloso y fuerte olor. Al parecer no hubo comunicación entre los compañeros de fumigación y las mucamas por lo que en recepción se nos informó que estas habitaciones estaban listas para entregar lo cual fue vergonzoso ya que al llevar a los huéspedes a las habitaciones se toparon con la sorpresa de que las habitaciones no estaban aptas debido al humo y olor."},{"$f":"'Historico Valoracion Quejas '!V434","v":"Plagas Habitaciones"}]
[{"$f":"'Historico Valoracion Quejas '!D435","v":201},{"$f":"'Historico Valoracion Quejas '!B435","v":"2018-07-09"},{"$f":"'Historico Valoracion Quejas '!G435","v":"Cliente llama para informar que no tienen agua caliente en la habitacion, y que son 5 personas en la habitación. "},{"$f":"'Historico Valoracion Quejas '!V435","v":"Agua caliente"}]
[{"$f":"'Historico Valoracion Quejas '!D436","v":609},{"$f":"'Historico Valoracion Quejas '!B436","v":"2018-07-09"},{"$f":"'Historico Valoracion Quejas '!G436","v":"Cliente de caravan comunica que no tiene electricidad en la habitación, al parecer no estaba sirviendo el tarjetero. "},{"$f":"'Historico Valoracion Quejas '!V436","v":"Habitaciones"}]
[{"$f":"'Historico Valoracion Quejas '!D437","v":306},{"$f":"'Historico Valoracion Quejas '!B437","v":"2018-07-09"},{"$f":"'Historico Valoracion Quejas '!G437","v":"Huésped se queja de la hoja de evaluación que se deja en las habitaciones para que los huéspedes la llenen antes de irse, el mismo indica que tiene errores gramaticales tanto en Inglés como en Alemán y que eso es mal visto ya que el hotel debería de ser profesional en ese aspecto. "},{"$f":"'Historico Valoracion Quejas '!V437","v":"Hojas de evaluación"}]
[{"$f":"'Historico Valoracion Quejas '!D438","v":104},{"$f":"'Historico Valoracion Quejas '!B438","v":"2018-07-07"},{"$f":"'Historico Valoracion Quejas '!G438","v":"aiRE ACONDICIONADO nunca funcionó."},{"$f":"'Historico Valoracion Quejas '!V438","v":"A/C"}]
[{"$f":"'Historico Valoracion Quejas '!D439","v":110},{"$f":"'Historico Valoracion Quejas '!B439","v":"2018-07-07"},{"$f":"'Historico Valoracion Quejas '!G439","v":"Red WiFi funcionaba bien en restaurantes pero en el cuarto nunca funcionó bien"},{"$f":"'Historico Valoracion Quejas '!V439","v":"Wifi"}]
[{"$f":"'Historico Valoracion Quejas '!D440","v":110},{"$f":"'Historico Valoracion Quejas '!B440","v":"2018-07-07"},{"$f":"'Historico Valoracion Quejas '!G440","v":"Por favor modernizar instalaciones del gimnasio. Como pueden ver, todo fue calificado como excelente pero las maquinas del gimnasio no estan acordes con la calidad del hotel."},{"$f":"'Historico Valoracion Quejas '!V440","v":"Gimnasio"}]
[{"$f":"'Historico Valoracion Quejas '!D441","v":505},{"$f":"'Historico Valoracion Quejas '!B441","v":"2018-07-07"},{"$f":"'Historico Valoracion Quejas '!G441","v":"Espejo frente al inodoro es raro y además las sabanas no son cómodas."},{"$f":"'Historico Valoracion Quejas '!V441","v":"Espejo grande fuera del baño"}]
[{"$f":"'Historico Valoracion Quejas '!D442","v":"205-206"},{"$f":"'Historico Valoracion Quejas '!B442","v":"2018-07-08"},{"$f":"'Historico Valoracion Quejas '!G442","v":"Huésped se queja de la mala actitud de uno de nuestros empleados llamado Marco del bar húmedo, el mismo indica que no le gustó la manera en que lo atendió y que cuando le pidió le cambiara un vaso caliente por uno frío la solución no fue la que esperaba además de que ni empatía le mostró, lo cual indica el señor debe ser indispensable en esa área. Se le ofrecieron disculpas al señor y se le agradeció por la retroalimentación, que iba ser tomada en cuenta para mejorar."},{"$f":"'Historico Valoracion Quejas '!V442","v":"Servicio cliente restaurante "}]
[{"$f":"'Historico Valoracion Quejas '!D443","v":602},{"$f":"'Historico Valoracion Quejas '!B443","v":"2018-07-05"},{"$f":"'Historico Valoracion Quejas '!G443","v":"El espejo del baño debe ser mas grande ya que no me gusta sentarme en el sanitario para mirarme en el espejo."},{"$f":"'Historico Valoracion Quejas '!V443","v":"Espejo grande fuera del baño"}]
[{"$f":"'Historico Valoracion Quejas '!D444","v":505},{"$f":"'Historico Valoracion Quejas '!B444","v":"2018-07-05"},{"$f":"'Historico Valoracion Quejas '!G444","v":"El internet está muy mal, no sirve en la habitación"},{"$f":"'Historico Valoracion Quejas '!V444","v":"Wifi"}]
[{"$f":"'Historico Valoracion Quejas '!D445","v":902},{"$f":"'Historico Valoracion Quejas '!B445","v":"2018-07-05"},{"$f":"'Historico Valoracion Quejas '!G445","v":"Mejorar el internet"},{"$f":"'Historico Valoracion Quejas '!V445","v":"Wifi"}]
[{"$f":"'Historico Valoracion Quejas '!D446","v":405},{"$f":"'Historico Valoracion Quejas '!B446","v":"2018-07-04"},{"$f":"'Historico Valoracion Quejas '!G446","v":"Se activa el panel de la 403, indican que las alarma se activó en la habitacion  405  procedemos a llamar a la habitacion para consultarle a los clientes si todo estaba bien, los mismos nos indican que todo está en orden, una vez verificado el estado de las habitaciones con los huéspedes  el compañero Kenneth procede a  apagar el panel"},{"$f":"'Historico Valoracion Quejas '!V446","v":"Desestimado"}]
[{"$f":"'Historico Valoracion Quejas '!D447","v":207},{"$f":"'Historico Valoracion Quejas '!B447","v":"2018-07-04"},{"$f":"'Historico Valoracion Quejas '!G447","v":"Al ser las 6:45pm de hoy 04/07/2018 el compañero Kenneth de seguridad reporta que se activaron las alarmas, específicamente  los paneles de las habitaciones  203 y 403, estos indican que las alarmas se activaron en las habitaciones 207 y 405 respectivamente, procedemos a llamar a las habitaciones para consultarle a los clientes si todo estaba bien en las habitaciones, los mismos nos indican que todo está en orden, una vez verificado el estado de las habitaciones con los huéspedes  el compañero Kenneth procede a  desactivar las alarmas."},{"$f":"'Historico Valoracion Quejas '!V447","v":"Desestimado"}]
[{"$f":"'Historico Valoracion Quejas '!D448","v":904},{"$f":"'Historico Valoracion Quejas '!B448","v":"2018-07-04"},{"$f":"'Historico Valoracion Quejas '!G448","v":"Poner alfombra a la entrada de las escaleras, ya que el piso es resbaloso"},{"$f":"'Historico Valoracion Quejas '!V448","v":"Alfombra en escaleras"}]
[{"$f":"'Historico Valoracion Quejas '!D449","v":202},{"$f":"'Historico Valoracion Quejas '!B449","v":"2018-07-04"},{"$f":"'Historico Valoracion Quejas '!G449","v":"Al ser las 8:15pm los huéspedes llaman indicando que hay una víbora en su habitación y que por favor les ayuden ya que no quieren que los niños se den cuenta."},{"$f":"'Historico Valoracion Quejas '!V449","v":"Desestimado"}]
[{"$f":"'Historico Valoracion Quejas '!D450","v":0},{"$f":"'Historico Valoracion Quejas '!B450","v":"2018-07-04"},{"$f":"'Historico Valoracion Quejas '!G450","v":"Huéspedes se quejan que en el desayuno habían moscas dentro del yogurt y además en algunas otras comidas que estaban en el buffet, dicen que nunca habían sido testigos de esto en los paseos que han realizado."},{"$f":"'Historico Valoracion Quejas '!V450","v":"Plagas Habitaciones"}]
[{"$f":"'Historico Valoracion Quejas '!D451","v":201},{"$f":"'Historico Valoracion Quejas '!B451","v":"2018-07-04"},{"$f":"'Historico Valoracion Quejas '!G451","v":"Huésped se queja que durante la noche de ayer 03-07-18, hubo un ruido que los pertubó, el ruido al parecer venía del techo"},{"$f":"'Historico Valoracion Quejas '!V451","v":"Ruido habitación"}]
[{"$f":"'Historico Valoracion Quejas '!D452","v":312},{"$f":"'Historico Valoracion Quejas '!B452","v":"2018-07-03"},{"$f":"'Historico Valoracion Quejas '!G452","v":"Huésped se encuentra enfermo según ellos esto les pasó después de almorzar en el hotel unos fetuccini di mari, "},{"$f":"'Historico Valoracion Quejas '!V452","v":"Desestimado"}]
[{"$f":"'Historico Valoracion Quejas '!D453","v":0},{"$f":"'Historico Valoracion Quejas '!B453","v":"2018-07-03"},{"$f":"'Historico Valoracion Quejas '!G453","v":"Precios de la cena muy elevados"},{"$f":"'Historico Valoracion Quejas '!V453","v":"Calidad comida"}]
[{"$f":"'Historico Valoracion Quejas '!D454","v":0},{"$f":"'Historico Valoracion Quejas '!B454","v":"2018-07-03"},{"$f":"'Historico Valoracion Quejas '!G454","v":"Al ser las 10:15 am aproximadamente el servicio de Internet del hotel se cae imposibilitando realizar cobros con el datafono, entre otras cosas. Varios huéspedes se vieron afectados tanto haciendo check-out como otros que llamaban preguntando por el Wi-Fi del hotel ya que no les servía."},{"$f":"'Historico Valoracion Quejas '!V454","v":"Wifi"}]
[{"$f":"'Historico Valoracion Quejas '!D455","v":504},{"$f":"'Historico Valoracion Quejas '!B455","v":"2018-07-03"},{"$f":"'Historico Valoracion Quejas '!G455","v":"Huéspedes se quejan ya que el documento que le envió la agencia a recepción para ser entregado a los huéspedes no se les dió, los señores no pudieron ir a un tour ya que no fueron informados y se encontraban inconformes con el error que se dió en recepción al enviar un documento en español que no correspondía con el que envió la agencia."},{"$f":"'Historico Valoracion Quejas '!V455","v":"Servicio al cliente "}]
[{"$f":"'Historico Valoracion Quejas '!D456","v":512},{"$f":"'Historico Valoracion Quejas '!B456","v":"2018-07-02"},{"$f":"'Historico Valoracion Quejas '!G456","v":"Cliente indica el agua del baño apenas es tibia incluso abriendola toda. Y necesitaban tomar un baño. "},{"$f":"'Historico Valoracion Quejas '!V456","v":"Agua caliente"}]
[{"$f":"'Historico Valoracion Quejas '!D457","v":107},{"$f":"'Historico Valoracion Quejas '!B457","v":"2018-07-02"},{"$f":"'Historico Valoracion Quejas '!G457","v":"Cuando se le aborda al huésped mediante la llamada de bienvenida reporta un olor desagradable y muy fuerte."},{"$f":"'Historico Valoracion Quejas '!V457","v":"Malos olores"}]
[{"$f":"'Historico Valoracion Quejas '!D458","v":606},{"$f":"'Historico Valoracion Quejas '!B458","v":"2018-07-01"},{"$f":"'Historico Valoracion Quejas '!G458","v":"Huésped molesto porque no hay servicio de desayuno a la habitación."},{"$f":"'Historico Valoracion Quejas '!V458","v":"Desestimado"}]
[{"$f":"'Historico Valoracion Quejas '!D459","v":515},{"$f":"'Historico Valoracion Quejas '!B459","v":"2018-06-30"},{"$f":"'Historico Valoracion Quejas '!G459","v":"Todos los días que estuvimos hospedados tuvimos problemas con cucarachas grandes y pequeñas, el veneno hizo que salieran cada día más, por las noches la situación era peor."},{"$f":"'Historico Valoracion Quejas '!V459","v":"Plagas Habitaciones"}]
[{"$f":"'Historico Valoracion Quejas '!D460","v":411},{"$f":"'Historico Valoracion Quejas '!B460","v":"2018-06-29"},{"$f":"'Historico Valoracion Quejas '!G460","v":"Mejor selección en calidad de las comidas."},{"$f":"'Historico Valoracion Quejas '!V460","v":"Calidad comida"}]
[{"$f":"'Historico Valoracion Quejas '!D461","v":203},{"$f":"'Historico Valoracion Quejas '!B461","v":"2018-06-30"},{"$f":"'Historico Valoracion Quejas '!G461","v":"La refrigeradora hace mucho ruido"},{"$f":"'Historico Valoracion Quejas '!V461","v":"Habitaciones"}]
[{"$f":"'Historico Valoracion Quejas '!D462","v":0},{"$f":"'Historico Valoracion Quejas '!B462","v":"2018-07-02"},{"$f":"'Historico Valoracion Quejas '!G462","v":"Cena muy limitada y con precio elevado."},{"$f":"'Historico Valoracion Quejas '!V462","v":"Calidad comida"}]
[{"$f":"'Historico Valoracion Quejas '!D463","v":0},{"$f":"'Historico Valoracion Quejas '!B463","v":"2018-07-02"},{"$f":"'Historico Valoracion Quejas '!G463","v":"La selección de opciones de desayuno no es buena, no hay tocino. "},{"$f":"'Historico Valoracion Quejas '!V463","v":"Desestimado"}]
[{"$f":"'Historico Valoracion Quejas '!D464","v":0},{"$f":"'Historico Valoracion Quejas '!B464","v":"2018-07-01"},{"$f":"'Historico Valoracion Quejas '!G464","v":"Muy decepcionados con la cena, precios muy caros y calidad de la comida no es equivalente a los que cobran en comparación con otros hoteles de la zona."},{"$f":"'Historico Valoracion Quejas '!V464","v":"Calidad comida"}]
[{"$f":"'Historico Valoracion Quejas '!D465","v":0},{"$f":"'Historico Valoracion Quejas '!B465","v":"2018-06-19"},{"$f":"'Historico Valoracion Quejas '!G465","v":"El costo de las comidas es muy caro y es mejor ir a alguna soda en el pueblo."},{"$f":"'Historico Valoracion Quejas '!V465","v":"Calidad comida"}]
[{"$f":"'Historico Valoracion Quejas '!D466","v":0},{"$f":"'Historico Valoracion Quejas '!B466","v":"2018-06-16"},{"$f":"'Historico Valoracion Quejas '!G466","v":"Cenas y bar de la piscina con precios muy elevados."},{"$f":"'Historico Valoracion Quejas '!V466","v":"Calidad comida"}]
[{"$f":"'Historico Valoracion Quejas '!D467","v":0},{"$f":"'Historico Valoracion Quejas '!B467","v":"2018-06-13"},{"$f":"'Historico Valoracion Quejas '!G467","v":"El sushi es pésimo, la calidad de los ingredientes es terrible (cero frescos), las combinaciones de sabor fatal, el arroz no tiene la textura adecuada y tampoco buena presentación. \r\nNo entiendo como un hotel tan bello puede ofrecer un sushi tan terrible :(\r\n"},{"$f":"'Historico Valoracion Quejas '!V467","v":"Calidad Sushi"}]
[{"$f":"'Historico Valoracion Quejas '!D468","v":710},{"$f":"'Historico Valoracion Quejas '!B468","v":"2018-06-29"},{"$f":"'Historico Valoracion Quejas '!G468","v":"Huésped reporta que hay cucarachas en la habitación"},{"$f":"'Historico Valoracion Quejas '!V468","v":"Plagas Habitaciones"}]
[{"$f":"'Historico Valoracion Quejas '!D469","v":"111-112"},{"$f":"'Historico Valoracion Quejas '!B469","v":"2018-06-29"},{"$f":"'Historico Valoracion Quejas '!G469","v":"Huéspedes se quejan que se les hizo entrega de l acajaita de desayuno y no incluía cucharas o tenedores para comer. Tuvieron que bajarse del carro y venir a recepción porque se les había indicado que si llevaban cucharas de acuerdo a lo que se indicó de parte de los compañeros de salón a recepción."},{"$f":"'Historico Valoracion Quejas '!V469","v":"Calida Desayuno"}]
[{"$f":"'Historico Valoracion Quejas '!D470","v":"514-515"},{"$f":"'Historico Valoracion Quejas '!B470","v":"2018-06-28"},{"$f":"'Historico Valoracion Quejas '!G470","v":"Huésped bastante decepcionado y molesto ya que en su habitación no dejan de salir cucarachas principalmente del lado del mueble cerca del televisor, el muchacho se acercó a recepción indicando que está cansado de esto y que jamás pensó que el hotel fuera un cucarachero, se fumigó horas antes y debido a eso salen las cucarachas atontadas y esto molestó más al huésped. El dice que va estar 2 noches más en el hotel y que no esperaba vivir esto."},{"$f":"'Historico Valoracion Quejas '!V470","v":"Plagas Habitaciones"}]
[{"$f":"'Historico Valoracion Quejas '!D471","v":105},{"$f":"'Historico Valoracion Quejas '!B471","v":"2018-06-28"},{"$f":"'Historico Valoracion Quejas '!G471","v":"Precios sumamente caros en las comidas, deberían poner un transporte a la fortuna donde se pueda ir y comer y que ofrezcan precios razonables"},{"$f":"'Historico Valoracion Quejas '!V471","v":"Calidad comida"}]
[{"$f":"'Historico Valoracion Quejas '!D472","v":105},{"$f":"'Historico Valoracion Quejas '!B472","v":"2018-06-28"},{"$f":"'Historico Valoracion Quejas '!G472","v":"Huéspedes se quejan que el servicio de internet no les funciona y aunque aparecen conectados no es posible usar el internet."},{"$f":"'Historico Valoracion Quejas '!V472","v":"Wifi"}]
[{"$f":"'Historico Valoracion Quejas '!D473","v":801},{"$f":"'Historico Valoracion Quejas '!B473","v":"2018-06-28"},{"$f":"'Historico Valoracion Quejas '!G473","v":"Las instrucciones en alemán están mal redactadas y con mala ortografía también."},{"$f":"'Historico Valoracion Quejas '!V473","v":"Encuentas de satisfacción"}]
[{"$f":"'Historico Valoracion Quejas '!D474","v":504},{"$f":"'Historico Valoracion Quejas '!B474","v":"2018-06-24"},{"$f":"'Historico Valoracion Quejas '!G474","v":"El baño de la habitación expide un olor desagradable"},{"$f":"'Historico Valoracion Quejas '!V474","v":"Habitaciones"}]
[{"$f":"'Historico Valoracion Quejas '!D475","v":301},{"$f":"'Historico Valoracion Quejas '!B475","v":"2018-06-27"},{"$f":"'Historico Valoracion Quejas '!G475","v":"Tener productos que sean organicos"},{"$f":"'Historico Valoracion Quejas '!V475","v":"Calidad comida"}]
[{"$f":"'Historico Valoracion Quejas '!D476","v":301},{"$f":"'Historico Valoracion Quejas '!B476","v":"2018-06-27"},{"$f":"'Historico Valoracion Quejas '!G476","v":"Menú para niños"},{"$f":"'Historico Valoracion Quejas '!V476","v":"Menú niños"}]
[{"$f":"'Historico Valoracion Quejas '!D477","v":602},{"$f":"'Historico Valoracion Quejas '!B477","v":"2018-06-27"},{"$f":"'Historico Valoracion Quejas '!G477","v":"El restaurante nacional debería de tener más decoración costarricense, más musica típica para el desayuno e instrumental para la noche"},{"$f":"'Historico Valoracion Quejas '!V477","v":"Menú típico"}]
[{"$f":"'Historico Valoracion Quejas '!D478","v":515},{"$f":"'Historico Valoracion Quejas '!B478","v":"2018-06-27"},{"$f":"'Historico Valoracion Quejas '!G478","v":"Cucarachas en la habitación "},{"$f":"'Historico Valoracion Quejas '!V478","v":"Plagas Habitaciones"}]
[{"$f":"'Historico Valoracion Quejas '!D479","v":408},{"$f":"'Historico Valoracion Quejas '!B479","v":"2018-06-25"},{"$f":"'Historico Valoracion Quejas '!G479","v":"Más opciones en las comidas y mejorar servicio en el bar de psicinas."},{"$f":"'Historico Valoracion Quejas '!V479","v":"Servicio cliente restaurante "}]
[{"$f":"'Historico Valoracion Quejas '!D480","v":304},{"$f":"'Historico Valoracion Quejas '!B480","v":"2018-06-25"},{"$f":"'Historico Valoracion Quejas '!G480","v":"Solo hay una mesa de noche y deberían haber dos para poner cosas."},{"$f":"'Historico Valoracion Quejas '!V480","v":"Habitaciones"}]
[{"$f":"'Historico Valoracion Quejas '!D481","v":304},{"$f":"'Historico Valoracion Quejas '!B481","v":"2018-06-24"},{"$f":"'Historico Valoracion Quejas '!G481","v":"Alrededor del hotel deberían haber mas senderos o areas para ver aves y flores."},{"$f":"'Historico Valoracion Quejas '!V481","v":"Desestimado"}]
[{"$f":"'Historico Valoracion Quejas '!D482","v":211},{"$f":"'Historico Valoracion Quejas '!B482","v":"2018-04-24"},{"$f":"'Historico Valoracion Quejas '!G482","v":"Es necesario tener mas opciones para personas diabéticas."},{"$f":"'Historico Valoracion Quejas '!V482","v":"Desestimado"}]
[{"$f":"'Historico Valoracion Quejas '!D483","v":407},{"$f":"'Historico Valoracion Quejas '!B483","v":"2018-06-24"},{"$f":"'Historico Valoracion Quejas '!G483","v":"El espejo con aumento en el baño esta muy alto."},{"$f":"'Historico Valoracion Quejas '!V483","v":"Desestimado"}]
[{"$f":"'Historico Valoracion Quejas '!D484","v":705},{"$f":"'Historico Valoracion Quejas '!B484","v":"2018-06-23"},{"$f":"'Historico Valoracion Quejas '!G484","v":"Sería bueno tener un espejo grande en la habitación fuera del baño"},{"$f":"'Historico Valoracion Quejas '!V484","v":"Habitaciones"}]
[{"$f":"'Historico Valoracion Quejas '!D485","v":111},{"$f":"'Historico Valoracion Quejas '!B485","v":"2018-06-23"},{"$f":"'Historico Valoracion Quejas '!G485","v":"El huésped menciona que el día miercoles 20 al ser las 9 de la mañana cuando fueron al desayuno, los muchachos del restaurante se veían más apurado por limpiar y terminar que por servir al huésped"},{"$f":"'Historico Valoracion Quejas '!V485","v":"Servicio cliente restaurante "}]
[{"$f":"'Historico Valoracion Quejas '!D486","v":612},{"$f":"'Historico Valoracion Quejas '!B486","v":"2018-06-22"},{"$f":"'Historico Valoracion Quejas '!G486","v":"Tienen muchos bichos en la habitación, "},{"$f":"'Historico Valoracion Quejas '!V486","v":"Plagas Habitaciones"}]
[{"$f":"'Historico Valoracion Quejas '!D487","v":"309-310"},{"$f":"'Historico Valoracion Quejas '!B487","v":"2018-06-22"},{"$f":"'Historico Valoracion Quejas '!G487","v":"Tienen muchas hormigas y bichos en la habitación. Es el segundo reporte durante la estadía. "},{"$f":"'Historico Valoracion Quejas '!V487","v":"Plagas Habitaciones"}]
[{"$f":"'Historico Valoracion Quejas '!D488","v":502},{"$f":"'Historico Valoracion Quejas '!B488","v":"2018-06-20"},{"$f":"'Historico Valoracion Quejas '!G488","v":"Huésped muy decepcionado del servicio de Internet que le ofrecemos, el mismo no puede utilizar un celular que usa para negocios ya que a pesar de que le sale conectado no es posible hacer uso del internet."},{"$f":"'Historico Valoracion Quejas '!V488","v":"Wifi"}]
[{"$f":"'Historico Valoracion Quejas '!D489","v":602},{"$f":"'Historico Valoracion Quejas '!B489","v":"2018-06-20"},{"$f":"'Historico Valoracion Quejas '!G489","v":"Equipo del gym no funciona apropiadamente."},{"$f":"'Historico Valoracion Quejas '!V489","v":"Gimnasio"}]
[{"$f":"'Historico Valoracion Quejas '!D490","v":512},{"$f":"'Historico Valoracion Quejas '!B490","v":"2018-06-19"},{"$f":"'Historico Valoracion Quejas '!G490","v":"El jacuzzi de la habitación no le funciona el agua termal"},{"$f":"'Historico Valoracion Quejas '!V490","v":"Rotulación Jacuzzi"}]
[{"$f":"'Historico Valoracion Quejas '!D491","v":103},{"$f":"'Historico Valoracion Quejas '!B491","v":"2018-06-19"},{"$f":"'Historico Valoracion Quejas '!G491","v":"El basurero del servicio de la habitación debería tener tapa"},{"$f":"'Historico Valoracion Quejas '!V491","v":"Habitaciones"}]
[{"$f":"'Historico Valoracion Quejas '!D492","v":104},{"$f":"'Historico Valoracion Quejas '!B492","v":"2018-06-20"},{"$f":"'Historico Valoracion Quejas '!G492","v":"Sería bueno tener gavetas más amplias en el baño"},{"$f":"'Historico Valoracion Quejas '!V492","v":"Desestimado"}]
[{"$f":"'Historico Valoracion Quejas '!D493","v":407},{"$f":"'Historico Valoracion Quejas '!B493","v":"2018-06-20"},{"$f":"'Historico Valoracion Quejas '!G493","v":"Algunos insectos en la habitación"},{"$f":"'Historico Valoracion Quejas '!V493","v":"Plagas Habitaciones"}]
[{"$f":"'Historico Valoracion Quejas '!D494","v":603},{"$f":"'Historico Valoracion Quejas '!B494","v":"2018-06-17"},{"$f":"'Historico Valoracion Quejas '!G494","v":"Muchas Hormigas en la habitación."},{"$f":"'Historico Valoracion Quejas '!V494","v":"Plagas Habitaciones"}]
[{"$f":"'Historico Valoracion Quejas '!D495","v":403},{"$f":"'Historico Valoracion Quejas '!B495","v":"2018-06-17"},{"$f":"'Historico Valoracion Quejas '!G495","v":"Huésped se queja de que a la hora de reservar en el hotel acordó una cena romántica especial  cual le vendieron y prometieron y no se cumplió, el señor estaba bastante molesto porque pagó más de 100 dólares por la cena y el menú que le brindaron era el mismo menú que se le ofrece a todos los clientes, el señor argumenta que  no hay nada especial en lo que se le ofreció y lo que le molesta es que le hayan mentido, el mismo prefirió que se le reintegrara el dinero y que iba a pagar lo que consumiera como otro huésped más común y corriente. "},{"$f":"'Historico Valoracion Quejas '!V495","v":"Calidad comida"}]
[{"$f":"'Historico Valoracion Quejas '!D496","v":503},{"$f":"'Historico Valoracion Quejas '!B496","v":"2018-06-17"},{"$f":"'Historico Valoracion Quejas '!G496","v":"Huésped se queja que el internet le funciona en la hab 503 pero en la de la par no le sirve del todo lo cual le parece bastante extraño."},{"$f":"'Historico Valoracion Quejas '!V496","v":"Wifi"}]
[{"$f":"'Historico Valoracion Quejas '!D497","v":"Grupo de la Mora"},{"$f":"'Historico Valoracion Quejas '!B497","v":"2018-06-17"},{"$f":"'Historico Valoracion Quejas '!G497","v":"A continuación hacemos de su conocimiento una situación que se presentó en el restaurante Ti-Cain durante la cena del “Grupo de La Mora”.\nAl ser las 9:20pm se aproximó a recepción  el encargado del Grupo de La Mora, el mismo nos preguntó si se encontraba Miguel Munera en el hotel, ya que deseaba externarle el malestar por la mala atención que recibieron a la hora de la cena, nos comenta que el servicio fue lento y que la comida simplemente no estuvo bien, también nos hace saber que la tour leader le pidió por favor para la cena de mañana buscar un restaurante en el centro en el cual les brinden un buen servicio rápido y oportuno.\n"},{"$f":"'Historico Valoracion Quejas '!V497","v":"Calidad comida"}]
[{"$f":"'Historico Valoracion Quejas '!D498","v":607},{"$f":"'Historico Valoracion Quejas '!B498","v":"2018-06-13"},{"$f":"'Historico Valoracion Quejas '!G498","v":"\"Una cuchara pequeña que utilicé para endulzar mi café, no me di cuenta pero estaba sucia con huevo\" huésped nos recomienda entonces tener más cuidado con esto"},{"$f":"'Historico Valoracion Quejas '!V498","v":"Plagas Habitaciones"}]
[{"$f":"'Historico Valoracion Quejas '!D499","v":709},{"$f":"'Historico Valoracion Quejas '!B499","v":"2018-06-13"},{"$f":"'Historico Valoracion Quejas '!G499","v":"El baño necesita mejor iluminación // Coordinar poner dos bombillos por lámpara"},{"$f":"'Historico Valoracion Quejas '!V499","v":"Habitaciones"}]
[{"$f":"'Historico Valoracion Quejas '!D500","v":109},{"$f":"'Historico Valoracion Quejas '!B500","v":"2018-06-16"},{"$f":"'Historico Valoracion Quejas '!G500","v":"Hormigas en la habitacion"},{"$f":"'Historico Valoracion Quejas '!V500","v":"Plagas Habitaciones"}]
[{"$f":"'Historico Valoracion Quejas '!D501","v":504},{"$f":"'Historico Valoracion Quejas '!B501","v":"2018-06-16"},{"$f":"'Historico Valoracion Quejas '!G501","v":"Huesped  se queja de hormigas en la habitación."},{"$f":"'Historico Valoracion Quejas '!V501","v":"Plagas Habitaciones"}]
[{"$f":"'Historico Valoracion Quejas '!D502","v":"111-112"},{"$f":"'Historico Valoracion Quejas '!B502","v":"2018-06-15"},{"$f":"'Historico Valoracion Quejas '!G502","v":"Huesped  se queja de hormigas en la habitación."},{"$f":"'Historico Valoracion Quejas '!V502","v":"Plagas Habitaciones"}]
[{"$f":"'Historico Valoracion Quejas '!D503","v":302},{"$f":"'Historico Valoracion Quejas '!B503","v":"2018-06-14"},{"$f":"'Historico Valoracion Quejas '!G503","v":"Huesped se queja de hormigas en toda la habitación."},{"$f":"'Historico Valoracion Quejas '!V503","v":"Plagas Habitaciones"}]
[{"$f":"'Historico Valoracion Quejas '!D504","v":307},{"$f":"'Historico Valoracion Quejas '!B504","v":"2018-06-13"},{"$f":"'Historico Valoracion Quejas '!G504","v":"Se queja de la altura de la cama ya que es de baja estatura y le fue muy dificil bajarse."},{"$f":"'Historico Valoracion Quejas '!V504","v":"Camas altas "}]
[{"$f":"'Historico Valoracion Quejas '!D505","v":902},{"$f":"'Historico Valoracion Quejas '!B505","v":"2018-06-14"},{"$f":"'Historico Valoracion Quejas '!G505","v":"Huésped se queja que ellos nunca pusieron letrero de no molestar en la habitación, y que alguien lo hizo, lo cual esto provocó que no les hicieran la limpieza."},{"$f":"'Historico Valoracion Quejas '!V505","v":"Desestimado"}]
[{"$f":"'Historico Valoracion Quejas '!D506","v":303},{"$f":"'Historico Valoracion Quejas '!B506","v":"2018-06-14"},{"$f":"'Historico Valoracion Quejas '!G506","v":"Huésped se queja que su teléfono no conecta a internet de ninguna manera."},{"$f":"'Historico Valoracion Quejas '!V506","v":"Wifi"}]
[{"$f":"'Historico Valoracion Quejas '!D507","v":202},{"$f":"'Historico Valoracion Quejas '!B507","v":"2018-06-11"},{"$f":"'Historico Valoracion Quejas '!G507","v":"Promover una noche para bailar, o bien tener más buena música."},{"$f":"'Historico Valoracion Quejas '!V507","v":"Entretenimiento"}]
[{"$f":"'Historico Valoracion Quejas '!D508","v":202},{"$f":"'Historico Valoracion Quejas '!B508","v":"2018-06-11"},{"$f":"'Historico Valoracion Quejas '!G508","v":"Más botellas de agua en la habitación sería un buen detalle"},{"$f":"'Historico Valoracion Quejas '!V508","v":"Desestimado"}]
[{"$f":"'Historico Valoracion Quejas '!D509","v":202},{"$f":"'Historico Valoracion Quejas '!B509","v":"2018-06-11"},{"$f":"'Historico Valoracion Quejas '!G509","v":"Sería genial tener una silla en la habitación"},{"$f":"'Historico Valoracion Quejas '!V509","v":"Silla en habitación"}]
[{"$f":"'Historico Valoracion Quejas '!D510","v":202},{"$f":"'Historico Valoracion Quejas '!B510","v":"2018-06-11"},{"$f":"'Historico Valoracion Quejas '!G510","v":"El shampoo podría ser mejor"},{"$f":"'Historico Valoracion Quejas '!V510","v":"Amenidades"}]
[{"$f":"'Historico Valoracion Quejas '!D511","v":0},{"$f":"'Historico Valoracion Quejas '!B511","v":"2018-06-11"},{"$f":"'Historico Valoracion Quejas '!G511","v":"Más comida tradicional de Costa Rica en los menú, ya que cuando estuvimos hospedados solo estaba abierto el restaurante italiano y japones."},{"$f":"'Historico Valoracion Quejas '!V511","v":"Menú típico"}]
[{"$f":"'Historico Valoracion Quejas '!D512","v":403},{"$f":"'Historico Valoracion Quejas '!B512","v":"2018-06-11"},{"$f":"'Historico Valoracion Quejas '!G512","v":"Huésped se queja de un ruido constante como un pito justo detrás de su habitación que no le permite dormir."},{"$f":"'Historico Valoracion Quejas '!V512","v":"Alarmas "}]
[{"$f":"'Historico Valoracion Quejas '!D513","v":610},{"$f":"'Historico Valoracion Quejas '!B513","v":"2018-06-11"},{"$f":"'Historico Valoracion Quejas '!G513","v":"Huéspedes se quejan de hormigas y cucarachas en la habitación."},{"$f":"'Historico Valoracion Quejas '!V513","v":"Plagas Habitaciones"}]
[{"$f":"'Historico Valoracion Quejas '!D514","v":510},{"$f":"'Historico Valoracion Quejas '!B514","v":"2018-06-09"},{"$f":"'Historico Valoracion Quejas '!G514","v":"Al bañarse la segunda persona el agua era muy fria. El agua caliete solo dura dos minutos"},{"$f":"'Historico Valoracion Quejas '!V514","v":"Agua caliente"}]
[{"$f":"'Historico Valoracion Quejas '!D515","v":510},{"$f":"'Historico Valoracion Quejas '!B515","v":"2018-06-09"},{"$f":"'Historico Valoracion Quejas '!G515","v":"El wifi o es muy lento o no funciona en la habitación"},{"$f":"'Historico Valoracion Quejas '!V515","v":"Wifi"}]
[{"$f":"'Historico Valoracion Quejas '!D516","v":509},{"$f":"'Historico Valoracion Quejas '!B516","v":"2018-06-09"},{"$f":"'Historico Valoracion Quejas '!G516","v":"El agua caliente a veces no funciona bien."},{"$f":"'Historico Valoracion Quejas '!V516","v":"Agua caliente"}]
[{"$f":"'Historico Valoracion Quejas '!D517","v":509},{"$f":"'Historico Valoracion Quejas '!B517","v":"2018-06-09"},{"$f":"'Historico Valoracion Quejas '!G517","v":"El wifi no funciona bien"},{"$f":"'Historico Valoracion Quejas '!V517","v":"Wifi"}]
[{"$f":"'Historico Valoracion Quejas '!D518","v":312},{"$f":"'Historico Valoracion Quejas '!B518","v":"2018-06-09"},{"$f":"'Historico Valoracion Quejas '!G518","v":"El jacuzzi debería tener rotulos para saber donde se debe presionar para obtener las burbujas"},{"$f":"'Historico Valoracion Quejas '!V518","v":"Rotulación Jacuzzi"}]
[{"$f":"'Historico Valoracion Quejas '!D519","v":712},{"$f":"'Historico Valoracion Quejas '!B519","v":"2018-06-05"},{"$f":"'Historico Valoracion Quejas '!G519","v":"Unos cuantos insectos en la habitación"},{"$f":"'Historico Valoracion Quejas '!V519","v":"Plagas Habitaciones"}]
[{"$f":"'Historico Valoracion Quejas '!D520","v":610},{"$f":"'Historico Valoracion Quejas '!B520","v":"2018-06-07"},{"$f":"'Historico Valoracion Quejas '!G520","v":"Las porciones de comida no están acorde con el precio"},{"$f":"'Historico Valoracion Quejas '!V520","v":"Calidad comida"}]
[{"$f":"'Historico Valoracion Quejas '!D521","v":705},{"$f":"'Historico Valoracion Quejas '!B521","v":"2018-06-07"},{"$f":"'Historico Valoracion Quejas '!G521","v":"Más opciones de comida vegetariana en el restaurante principal."},{"$f":"'Historico Valoracion Quejas '!V521","v":"MENÚ VEGETARIANO"}]
[{"$f":"'Historico Valoracion Quejas '!D522","v":712},{"$f":"'Historico Valoracion Quejas '!B522","v":"2018-06-08"},{"$f":"'Historico Valoracion Quejas '!G522","v":"El internet no funcionó bien, muy lento cuando pudimos recibir algo de señal."},{"$f":"'Historico Valoracion Quejas '!V522","v":"Wifi"}]
[{"$f":"'Historico Valoracion Quejas '!D523","v":712},{"$f":"'Historico Valoracion Quejas '!B523","v":"2018-06-08"},{"$f":"'Historico Valoracion Quejas '!G523","v":"El refrigerador produce demasiado ruido"},{"$f":"'Historico Valoracion Quejas '!V523","v":"Habitaciones"}]
[{"$f":"'Historico Valoracion Quejas '!D524","v":"414-415"},{"$f":"'Historico Valoracion Quejas '!B524","v":"2018-06-07"},{"$f":"'Historico Valoracion Quejas '!G524","v":"Cliente indica que no puede conectarse al Wifi, y luego cuando logró la conexion, la misma es muy debil y no le permite accesar correctamente. "},{"$f":"'Historico Valoracion Quejas '!V524","v":"Wifi"}]
[{"$f":"'Historico Valoracion Quejas '!D525","v":305},{"$f":"'Historico Valoracion Quejas '!B525","v":"2018-06-05"},{"$f":"'Historico Valoracion Quejas '!G525","v":"Huésped se queja de los precios de los restaurantes, muy altos "},{"$f":"'Historico Valoracion Quejas '!V525","v":"Calidad comida"}]
[{"$f":"'Historico Valoracion Quejas '!D526","v":305},{"$f":"'Historico Valoracion Quejas '!B526","v":"2018-06-05"},{"$f":"'Historico Valoracion Quejas '!G526","v":"Huésped se queja que reservó 22 días antes y solicitó una hab para adulta mayor y cerca a todas las areas comunes, sin embargo no tuvo respuesta."},{"$f":"'Historico Valoracion Quejas '!V526","v":"Proceso de reservas"}]
[{"$f":"'Historico Valoracion Quejas '!D527","v":206},{"$f":"'Historico Valoracion Quejas '!B527","v":"2018-06-02"},{"$f":"'Historico Valoracion Quejas '!G527","v":"Huésped se queja de las limitadas opciones en las comidas del bar de la piscina, le gustaria como hamburguesas. Además se queja del mal servicio recibido especialmente en el Italiano."},{"$f":"'Historico Valoracion Quejas '!V527","v":"Calidad comida"}]
[{"$f":"'Historico Valoracion Quejas '!D528","v":504},{"$f":"'Historico Valoracion Quejas '!B528","v":"2018-06-05"},{"$f":"'Historico Valoracion Quejas '!G528","v":"Hubieramos podido usar los vasos, si estos estuviesen limpios."},{"$f":"'Historico Valoracion Quejas '!V528","v":"Habitaciones"}]
[{"$f":"'Historico Valoracion Quejas '!D529","v":504},{"$f":"'Historico Valoracion Quejas '!B529","v":"2018-06-05"},{"$f":"'Historico Valoracion Quejas '!G529","v":"Huesped se queja de hormigas en el area del baño."},{"$f":"'Historico Valoracion Quejas '!V529","v":"Plagas Habitaciones"}]
[{"$f":"'Historico Valoracion Quejas '!D530","v":111},{"$f":"'Historico Valoracion Quejas '!B530","v":"2018-06-04"},{"$f":"'Historico Valoracion Quejas '!G530","v":"Huesped se queja de hormigas dentro de la  habitación y fuera. "},{"$f":"'Historico Valoracion Quejas '!V530","v":"Plagas Habitaciones"}]
[{"$f":"'Historico Valoracion Quejas '!D531","v":608},{"$f":"'Historico Valoracion Quejas '!B531","v":"2018-06-04"},{"$f":"'Historico Valoracion Quejas '!G531","v":"NO hay silla en la habitación y es necesaria"},{"$f":"'Historico Valoracion Quejas '!V531","v":"Silla en habitación"}]
[{"$f":"'Historico Valoracion Quejas '!D532","v":605},{"$f":"'Historico Valoracion Quejas '!B532","v":"2018-06-04"},{"$f":"'Historico Valoracion Quejas '!G532","v":"Se quejan porque no hay coca cola zero ni tampoco menú para celiacos."},{"$f":"'Historico Valoracion Quejas '!V532","v":"Calidad comida"}]
[{"$f":"'Historico Valoracion Quejas '!D533","v":309},{"$f":"'Historico Valoracion Quejas '!B533","v":"2018-06-02"},{"$f":"'Historico Valoracion Quejas '!G533","v":"Huésped se queja del restaurante Italiano el cual en ese momento se encontraba trabajando como el restaurante principal debido al cierre del Ti-Cain, se queja de que no hay en realidad opciones de comida costarricense, los precios muy altos en comparación con la cantidad y calidad de la comida."},{"$f":"'Historico Valoracion Quejas '!V533","v":"Calidad comida"}]
[{"$f":"'Historico Valoracion Quejas '!D534","v":211},{"$f":"'Historico Valoracion Quejas '!B534","v":"2018-06-03"},{"$f":"'Historico Valoracion Quejas '!G534","v":"Probamos dos rollos de sushi y un sashimi y la calidad fue muy mala, el pescado no estaba fresco y la combinación de sabores no era la mejor, además la presentación de los rollos deficiente y la calidad del arroz no estaba al nivel de un restaurante aceptable de sushi. Y precios sumamente elevados en relación a la calidad."},{"$f":"'Historico Valoracion Quejas '!V534","v":"Calidad comida"}]
[{"$f":"'Historico Valoracion Quejas '!D535","v":104},{"$f":"'Historico Valoracion Quejas '!B535","v":"2018-05-31"},{"$f":"'Historico Valoracion Quejas '!G535","v":"Muchas hormigas pequeñas en el baño y el  teléfono no funcionaba."},{"$f":"'Historico Valoracion Quejas '!V535","v":"Plagas Habitaciones"}]
[{"$f":"'Historico Valoracion Quejas '!D536","v":406},{"$f":"'Historico Valoracion Quejas '!B536","v":"2018-06-03"},{"$f":"'Historico Valoracion Quejas '!G536","v":"Huésped indica que sería muy bueno tener sombrillas en la habitación."},{"$f":"'Historico Valoracion Quejas '!V536","v":"Desestimado"}]
[{"$f":"'Historico Valoracion Quejas '!D537","v":108},{"$f":"'Historico Valoracion Quejas '!B537","v":"2018-06-02"},{"$f":"'Historico Valoracion Quejas '!G537","v":"Hormigas en la habitación, hormigas en el coffee maker, hormigas en la cama."},{"$f":"'Historico Valoracion Quejas '!V537","v":"Plagas Habitaciones"}]
[{"$f":"'Historico Valoracion Quejas '!D538","v":510},{"$f":"'Historico Valoracion Quejas '!B538","v":"2018-06-03"},{"$f":"'Historico Valoracion Quejas '!G538","v":"Huésped comenta a modo de recomendación que los compañeros de los bares en la piscina, deberían utilizar siempre guantes al realizar las distintas labores que realizan ahí, dado que muchas veces se limpian las manos en sus camisas y por el tipo de camisas y el calor que se produce ahí, pasan sudando por lo que es anti higienico"},{"$f":"'Historico Valoracion Quejas '!V538","v":"Higiene en restaurante"}]
[{"$f":"'Historico Valoracion Quejas '!D539","v":103},{"$f":"'Historico Valoracion Quejas '!B539","v":"2018-06-03"},{"$f":"'Historico Valoracion Quejas '!G539","v":"Huesped reporta que tiene cucarachas en la habitación en la noche. "},{"$f":"'Historico Valoracion Quejas '!V539","v":"Plagas Habitaciones"}]
[{"$f":"'Historico Valoracion Quejas '!D540","v":107},{"$f":"'Historico Valoracion Quejas '!B540","v":"2018-06-03"},{"$f":"'Historico Valoracion Quejas '!G540","v":"Huesped reporta hormigas en la habitación. "},{"$f":"'Historico Valoracion Quejas '!V540","v":"Plagas Habitaciones"}]
[{"$f":"'Historico Valoracion Quejas '!D541","v":205},{"$f":"'Historico Valoracion Quejas '!B541","v":"2018-06-02"},{"$f":"'Historico Valoracion Quejas '!G541","v":"Huésped reporta que tenía una pizza en la habitación, y que la compañera mucama al realizar la limpieza la tiró a la basura."},{"$f":"'Historico Valoracion Quejas '!V541","v":"Desestimado"}]
[{"$f":"'Historico Valoracion Quejas '!D542","v":601},{"$f":"'Historico Valoracion Quejas '!B542","v":"2018-05-31"},{"$f":"'Historico Valoracion Quejas '!G542","v":"El hotel debería de tener un area designada para juegos de mesa con sillas y mesas para juegos mientras llueve."},{"$f":"'Historico Valoracion Quejas '!V542","v":"Sala de juegos"}]
[{"$f":"'Historico Valoracion Quejas '!D543","v":505},{"$f":"'Historico Valoracion Quejas '!B543","v":"2018-05-30"},{"$f":"'Historico Valoracion Quejas '!G543","v":"La señal de Internet es mala y débil especialmente en las habitaciones."},{"$f":"'Historico Valoracion Quejas '!V543","v":"Wifi"}]
[{"$f":"'Historico Valoracion Quejas '!D544","v":310},{"$f":"'Historico Valoracion Quejas '!B544","v":"2018-05-31"},{"$f":"'Historico Valoracion Quejas '!G544","v":"En la noche debería haber alguna actividad nocturna de entretenimiento."},{"$f":"'Historico Valoracion Quejas '!V544","v":"Desestimado"}]
[{"$f":"'Historico Valoracion Quejas '!D545","v":111},{"$f":"'Historico Valoracion Quejas '!B545","v":"2018-05-31"},{"$f":"'Historico Valoracion Quejas '!G545","v":"No hay paraguas en la habitación."},{"$f":"'Historico Valoracion Quejas '!V545","v":"Desestimado"}]
[{"$f":"'Historico Valoracion Quejas '!D546","v":305},{"$f":"'Historico Valoracion Quejas '!B546","v":"2018-05-31"},{"$f":"'Historico Valoracion Quejas '!G546","v":"No hay opciones en el desayuno libres de glutten y el restaurante Italiano muy bajo en servicio."},{"$f":"'Historico Valoracion Quejas '!V546","v":"Desestimado"}]
[{"$f":"'Historico Valoracion Quejas '!D547","v":506},{"$f":"'Historico Valoracion Quejas '!B547","v":"2018-05-31"},{"$f":"'Historico Valoracion Quejas '!G547","v":"Una silla en la habitación es necesaria"},{"$f":"'Historico Valoracion Quejas '!V547","v":"Silla en habitación"}]
[{"$f":"'Historico Valoracion Quejas '!D548","v":506},{"$f":"'Historico Valoracion Quejas '!B548","v":"2018-05-31"},{"$f":"'Historico Valoracion Quejas '!G548","v":"Pan fresco todas las mañanas."},{"$f":"'Historico Valoracion Quejas '!V548","v":"Calida Desayuno"}]
[{"$f":"'Historico Valoracion Quejas '!D549","v":0},{"$f":"'Historico Valoracion Quejas '!B549","v":"2018-05-30"},{"$f":"'Historico Valoracion Quejas '!G549","v":"Menú limitado en el Italiano"},{"$f":"'Historico Valoracion Quejas '!V549","v":"Calidad comida"}]
[{"$f":"'Historico Valoracion Quejas '!D550","v":303},{"$f":"'Historico Valoracion Quejas '!B550","v":"2018-05-30"},{"$f":"'Historico Valoracion Quejas '!G550","v":"Huespedes se quejan que ante el mal clima y que desde las 2:30pm comenzó a llover el hotel debería tener alguna opcion de entretenimiento como sala de peliculas, bingo, karaoke, juegos de trivia ya que es aburrido estar en la habitación encerrados."},{"$f":"'Historico Valoracion Quejas '!V550","v":"Sala de juegos"}]
[{"$f":"'Historico Valoracion Quejas '!D551","v":309},{"$f":"'Historico Valoracion Quejas '!B551","v":"2018-05-30"},{"$f":"'Historico Valoracion Quejas '!G551","v":"Hormigas e insectos en la habitción."},{"$f":"'Historico Valoracion Quejas '!V551","v":"Plagas Habitaciones"}]
[{"$f":"'Historico Valoracion Quejas '!D552","v":104},{"$f":"'Historico Valoracion Quejas '!B552","v":"2018-05-30"},{"$f":"'Historico Valoracion Quejas '!G552","v":"Reduzcan los precios de los los bares y restaurantes porque son muy elevados."},{"$f":"'Historico Valoracion Quejas '!V552","v":"Calidad comida"}]
[{"$f":"'Historico Valoracion Quejas '!D553","v":709},{"$f":"'Historico Valoracion Quejas '!B553","v":"2018-05-30"},{"$f":"'Historico Valoracion Quejas '!G553","v":"Una silla en la habitación para ponerse zapatos y pantalon, la cama es muy alta."},{"$f":"'Historico Valoracion Quejas '!V553","v":"Silla en habitación"}]
[{"$f":"'Historico Valoracion Quejas '!D554","v":515},{"$f":"'Historico Valoracion Quejas '!B554","v":"2018-05-29"},{"$f":"'Historico Valoracion Quejas '!G554","v":"Huésped comenta que dos veces han solicitado room service y al entregarlo no les llevan platos ni cubertería."},{"$f":"'Historico Valoracion Quejas '!V554","v":"Room service"}]
[{"$f":"'Historico Valoracion Quejas '!D555","v":410},{"$f":"'Historico Valoracion Quejas '!B555","v":"2018-05-28"},{"$f":"'Historico Valoracion Quejas '!G555","v":"Sería bueno tener una banca en el gimnasio para poder hacer las pesas"},{"$f":"'Historico Valoracion Quejas '!V555","v":"Desestimado"}]
[{"$f":"'Historico Valoracion Quejas '!D556","v":410},{"$f":"'Historico Valoracion Quejas '!B556","v":"2018-05-28"},{"$f":"'Historico Valoracion Quejas '!G556","v":"Yoga sería mejor si las clases fueran avanzadas"},{"$f":"'Historico Valoracion Quejas '!V556","v":"Desestimado"}]
[{"$f":"'Historico Valoracion Quejas '!D557","v":0},{"$f":"'Historico Valoracion Quejas '!B557","v":"2018-05-26"},{"$f":"'Historico Valoracion Quejas '!G557","v":"Menu limitado especialmente si el restaurante principal está cerrado,  no hay variedad de comida costarricense."},{"$f":"'Historico Valoracion Quejas '!V557","v":"Calidad comida"}]
[{"$f":"'Historico Valoracion Quejas '!D558","v":0},{"$f":"'Historico Valoracion Quejas '!B558","v":"2018-05-23"},{"$f":"'Historico Valoracion Quejas '!G558","v":"Opciones limitadas en los restaurantes."},{"$f":"'Historico Valoracion Quejas '!V558","v":"Calidad comida"}]
[{"$f":"'Historico Valoracion Quejas '!D559","v":0},{"$f":"'Historico Valoracion Quejas '!B559","v":"2018-05-23"},{"$f":"'Historico Valoracion Quejas '!G559","v":"Comidas limitadas y menú de ensaladas no es amplio."},{"$f":"'Historico Valoracion Quejas '!V559","v":"Calidad comida"}]
[{"$f":"'Historico Valoracion Quejas '!D560","v":0},{"$f":"'Historico Valoracion Quejas '!B560","v":"2018-05-22"},{"$f":"'Historico Valoracion Quejas '!G560","v":"Habitación pequeña y con pequeños insectos , las paredes son delgadas y se escucha todo además durante la noche había un ruido extraño en el techo que interrumpía el sueño."},{"$f":"'Historico Valoracion Quejas '!V560","v":"Ruido habitación"}]
[{"$f":"'Historico Valoracion Quejas '!D561","v":0},{"$f":"'Historico Valoracion Quejas '!B561","v":"2018-05-22"},{"$f":"'Historico Valoracion Quejas '!G561","v":"Precios increiblemente elevados "},{"$f":"'Historico Valoracion Quejas '!V561","v":"Calidad comida"}]
[{"$f":"'Historico Valoracion Quejas '!D562","v":0},{"$f":"'Historico Valoracion Quejas '!B562","v":"2018-05-14"},{"$f":"'Historico Valoracion Quejas '!G562","v":"Precio elevado de los restaurantes"},{"$f":"'Historico Valoracion Quejas '!V562","v":"Calidad comida"}]
[{"$f":"'Historico Valoracion Quejas '!D563","v":0},{"$f":"'Historico Valoracion Quejas '!B563","v":"2018-05-14"},{"$f":"'Historico Valoracion Quejas '!G563","v":"El desayuno puede mejorar, Costa Rica tiene muchas frutas y deberían incluirse en el desayuno ya que solamente había piña y banano como únicas opciones."},{"$f":"'Historico Valoracion Quejas '!V563","v":"Calidad comida"}]
[{"$f":"'Historico Valoracion Quejas '!D564","v":0},{"$f":"'Historico Valoracion Quejas '!B564","v":"2018-05-12"},{"$f":"'Historico Valoracion Quejas '!G564","v":"Variedad de opciones en el desayuno no es muy amplia."},{"$f":"'Historico Valoracion Quejas '!V564","v":"Calidad comida"}]
[{"$f":"'Historico Valoracion Quejas '!D565","v":0},{"$f":"'Historico Valoracion Quejas '!B565","v":"2018-05-09"},{"$f":"'Historico Valoracion Quejas '!G565","v":"El costo de las bebidas de los bares y las cmoidas en restaurantes es elevado."},{"$f":"'Historico Valoracion Quejas '!V565","v":"Calidad comida"}]
[{"$f":"'Historico Valoracion Quejas '!D566","v":0},{"$f":"'Historico Valoracion Quejas '!B566","v":"2018-05-08"},{"$f":"'Historico Valoracion Quejas '!G566","v":"Los precios de los restaurantes son un poco caros."},{"$f":"'Historico Valoracion Quejas '!V566","v":"Calidad comida"}]
[{"$f":"'Historico Valoracion Quejas '!D567","v":0},{"$f":"'Historico Valoracion Quejas '!B567","v":"2018-05-08"},{"$f":"'Historico Valoracion Quejas '!G567","v":"El ventilador no se puede apagar a menos que se desactive la electricidad de toda la habitación."},{"$f":"'Historico Valoracion Quejas '!V567","v":"Etiquetas en apagadores"}]
[{"$f":"'Historico Valoracion Quejas '!D568","v":0},{"$f":"'Historico Valoracion Quejas '!B568","v":"2018-05-08"},{"$f":"'Historico Valoracion Quejas '!G568","v":"El hotel es bueno excepto por la comida (de regular a mediocre) y algunos empleados, como por ejemplo la persona en recepción que no quiso cambiar dólares. "},{"$f":"'Historico Valoracion Quejas '!V568","v":"Calidad comida"}]
[{"$f":"'Historico Valoracion Quejas '!D569","v":0},{"$f":"'Historico Valoracion Quejas '!B569","v":"2018-05-08"},{"$f":"'Historico Valoracion Quejas '!G569","v":"Comida y servicios no se comparan con precio, esperaba más para el dinero que cuesta el hospedaje."},{"$f":"'Historico Valoracion Quejas '!V569","v":"Calidad comida"}]
[{"$f":"'Historico Valoracion Quejas '!D570","v":0},{"$f":"'Historico Valoracion Quejas '!B570","v":"2018-05-07"},{"$f":"'Historico Valoracion Quejas '!G570","v":"Opciones en las comidas de los restaurantes son muy limitadas."},{"$f":"'Historico Valoracion Quejas '!V570","v":"Calidad comida"}]
[{"$f":"'Historico Valoracion Quejas '!D571","v":0},{"$f":"'Historico Valoracion Quejas '!B571","v":"2018-05-07"},{"$f":"'Historico Valoracion Quejas '!G571","v":"Limitadas y pequeñas areas de piscina"},{"$f":"'Historico Valoracion Quejas '!V571","v":"Piscinas "}]
[{"$f":"'Historico Valoracion Quejas '!D572","v":0},{"$f":"'Historico Valoracion Quejas '!B572","v":"2018-05-07"},{"$f":"'Historico Valoracion Quejas '!G572","v":"Los alimentos no son de buena calidad y muy básicos, el desayuno es muy rutinario y es necesario tener mas variedad de opciones.  Además el precio no se compara con el servicio y calidad."},{"$f":"'Historico Valoracion Quejas '!V572","v":"Calidad comida"}]
[{"$f":"'Historico Valoracion Quejas '!D573","v":0},{"$f":"'Historico Valoracion Quejas '!B573","v":"2018-05-03"},{"$f":"'Historico Valoracion Quejas '!G573","v":"Opciones de almuerzo y cena muy limitadas"},{"$f":"'Historico Valoracion Quejas '!V573","v":"Calidad comida"}]
[{"$f":"'Historico Valoracion Quejas '!D574","v":504},{"$f":"'Historico Valoracion Quejas '!B574","v":"2018-05-26"},{"$f":"'Historico Valoracion Quejas '!G574","v":"Hab necesita mejor luz"},{"$f":"'Historico Valoracion Quejas '!V574","v":"Iluminación hab closet"}]
[{"$f":"'Historico Valoracion Quejas '!D575","v":504},{"$f":"'Historico Valoracion Quejas '!B575","v":"2018-05-26"},{"$f":"'Historico Valoracion Quejas '!G575","v":"Muy mala experiencia en el restaurante con un salonero, el cual no fue atento, con un mal servicio."},{"$f":"'Historico Valoracion Quejas '!V575","v":"Servicio cliente restaurante "}]
[{"$f":"'Historico Valoracion Quejas '!D576","v":512},{"$f":"'Historico Valoracion Quejas '!B576","v":"2018-05-27"},{"$f":"'Historico Valoracion Quejas '!G576","v":"No hay carne en el desayuno, la variedad de la comida es limitada, y el tamaño de las sopas no es el ideal"},{"$f":"'Historico Valoracion Quejas '!V576","v":"Calidad comida"}]
[{"$f":"'Historico Valoracion Quejas '!D577","v":903},{"$f":"'Historico Valoracion Quejas '!B577","v":"2018-05-27"},{"$f":"'Historico Valoracion Quejas '!G577","v":"necesitamos mejor comida en los restaurantes"},{"$f":"'Historico Valoracion Quejas '!V577","v":"Calidad comida"}]
[{"$f":"'Historico Valoracion Quejas '!D578","v":205},{"$f":"'Historico Valoracion Quejas '!B578","v":"2018-05-26"},{"$f":"'Historico Valoracion Quejas '!G578","v":"Huespedes se quejan de la poca variedad en las comidas "},{"$f":"'Historico Valoracion Quejas '!V578","v":"Calidad comida"}]
[{"$f":"'Historico Valoracion Quejas '!D579","v":404},{"$f":"'Historico Valoracion Quejas '!B579","v":"2018-05-26"},{"$f":"'Historico Valoracion Quejas '!G579","v":"Él botones llega a la habitación a dejar el check in y encuentran una cerveza por la mitad en la refri "},{"$f":"'Historico Valoracion Quejas '!V579","v":"Habitaciones"}]
[{"$f":"'Historico Valoracion Quejas '!D580","v":306},{"$f":"'Historico Valoracion Quejas '!B580","v":"2018-05-26"},{"$f":"'Historico Valoracion Quejas '!G580","v":"huespedes nos informan de foma traquila que la alarma los despertó la noche anterior mas no se encontraban molestos al respecto "},{"$f":"'Historico Valoracion Quejas '!V580","v":"Alarmas "}]
[{"$f":"'Historico Valoracion Quejas '!D581","v":"207-208"},{"$f":"'Historico Valoracion Quejas '!B581","v":"2018-05-26"},{"$f":"'Historico Valoracion Quejas '!G581","v":"huespedes se apersonaron muy molestos al area de recepción para quejarse por que no pudieron dormir debido a que la alarma de incendios se activó la noche anterior, se activó a las 2am y de nuevo 5am, no dieron chance a ninguna solución mas que hablar con el gerente. "},{"$f":"'Historico Valoracion Quejas '!V581","v":"Alarmas "}]
[{"$f":"'Historico Valoracion Quejas '!D582","v":206},{"$f":"'Historico Valoracion Quejas '!B582","v":"2018-05-26"},{"$f":"'Historico Valoracion Quejas '!G582","v":"huespedes se apersonaron muy molestos al area de recepción para quejarse por que no pudieron dormir debido a que la alarma de incendios se activó la noche anterior, se activó a las 2am y de nuevo 5am, no dieron chance a ninguna solución mas que hablar con el gerente. "},{"$f":"'Historico Valoracion Quejas '!V582","v":"Servicio cliente botones"}]
[{"$f":"'Historico Valoracion Quejas '!D583","v":0},{"$f":"'Historico Valoracion Quejas '!B583","v":"2018-05-25"},{"$f":"'Historico Valoracion Quejas '!G583","v":"La huésped comenta que al haber pedido algo en el sushi cuando se lo entregaron el botones no fue amable."},{"$f":"'Historico Valoracion Quejas '!V583","v":"Servicio cliente botones"}]
[{"$f":"'Historico Valoracion Quejas '!D584","v":0},{"$f":"'Historico Valoracion Quejas '!B584","v":"2018-05-25"},{"$f":"'Historico Valoracion Quejas '!G584","v":"La relación precio calidad de los restaurantes es mala, como ejemplo dice que la ultima noche pidió comida en el sushi bar y esto fue según ella una desgracia."},{"$f":"'Historico Valoracion Quejas '!V584","v":"Calidad Sushi"}]
[{"$f":"'Historico Valoracion Quejas '!D585","v":0},{"$f":"'Historico Valoracion Quejas '!B585","v":"2018-05-25"},{"$f":"'Historico Valoracion Quejas '!G585","v":"Huésped recomienda que se deberia cambiar el nombre de las habitaciones, ya que según su opinión el nombre Junior Suite no va con las características que tienen nuestras habitaciones, de hecho comenta que la habitación le pareció estupenda y da como ejemplo de nombre Premium"},{"$f":"'Historico Valoracion Quejas '!V585","v":"Desestimado"}]
[{"$f":"'Historico Valoracion Quejas '!D586","v":901},{"$f":"'Historico Valoracion Quejas '!B586","v":"2018-05-25"},{"$f":"'Historico Valoracion Quejas '!G586","v":"Huésped reporta que encontró muchos insectos  incluyendo 2 cucarachas ."},{"$f":"'Historico Valoracion Quejas '!V586","v":"Plagas Habitaciones"}]
[{"$f":"'Historico Valoracion Quejas '!D587","v":210},{"$f":"'Historico Valoracion Quejas '!B587","v":"2018-05-25"},{"$f":"'Historico Valoracion Quejas '!G587","v":"Restaurantes muy caros, mejor si hubiera mas comida tipica y con precios mas bajos."},{"$f":"'Historico Valoracion Quejas '!V587","v":"Calidad comida"}]
[{"$f":"'Historico Valoracion Quejas '!D588","v":0},{"$f":"'Historico Valoracion Quejas '!B588","v":"2018-05-25"},{"$f":"'Historico Valoracion Quejas '!G588","v":"aL ser las 11:30am el encargado de lockers Javier reporta que el area del gimnasio, lockers y hamacas  presenta un acceso complicado debido a que los compañeros de restaurantes estaban lavando el piso del Ti Cain, la caída de jabón y agua era constante impidiendo el acceso de una cosiderable cantidad de huespedes presentes en las piscinas, era complicado entrar por el área principal de lockers. El jabón estaba en las aceras lo cuál pudo provocar que algun huesped sufriera una caída. "},{"$f":"'Historico Valoracion Quejas '!V588","v":"Falta de comunicación"}]
[{"$f":"'Historico Valoracion Quejas '!D589","v":304},{"$f":"'Historico Valoracion Quejas '!B589","v":"2018-05-25"},{"$f":"'Historico Valoracion Quejas '!G589","v":"Huéspedes se quejan del tamaño de la habitación e indican que es muy ajustada para 3 o 4 personas, además dicen que se ocupan 2 sanitarios y 2 lavatorios especialmente cuando hay 4 personas en la misma habitación."},{"$f":"'Historico Valoracion Quejas '!V589","v":"Desestimado"}]
[{"$f":"'Historico Valoracion Quejas '!D590","v":411},{"$f":"'Historico Valoracion Quejas '!B590","v":"2018-05-24"},{"$f":"'Historico Valoracion Quejas '!G590","v":"Huesped indica que el hotel debería tener un poco de baile por la tarde o noche, como un salón de baile con algún entretenimiento."},{"$f":"'Historico Valoracion Quejas '!V590","v":"Desestimado"}]
[{"$f":"'Historico Valoracion Quejas '!D591","v":112},{"$f":"'Historico Valoracion Quejas '!B591","v":"2018-05-22"},{"$f":"'Historico Valoracion Quejas '!G591","v":"\"El único problema fue que habían pequeños ciempies en el baño\""},{"$f":"'Historico Valoracion Quejas '!V591","v":"Plagas Habitaciones"}]
[{"$f":"'Historico Valoracion Quejas '!D592","v":507},{"$f":"'Historico Valoracion Quejas '!B592","v":"2018-05-22"},{"$f":"'Historico Valoracion Quejas '!G592","v":"La huésped se mostró muy molesta poe que no tenia un maletero extra , el cual había solicitado varias veces."},{"$f":"'Historico Valoracion Quejas '!V592","v":"Plagas Habitaciones"}]
[{"$f":"'Historico Valoracion Quejas '!D593","v":609},{"$f":"'Historico Valoracion Quejas '!B593","v":"2018-05-21"},{"$f":"'Historico Valoracion Quejas '!G593","v":"Huéspedes de Caravan les salió una cucaracha de la mesa mientras se encontraban comiendo."},{"$f":"'Historico Valoracion Quejas '!V593","v":"Plagas Habitaciones"}]
[{"$f":"'Historico Valoracion Quejas '!D594","v":207},{"$f":"'Historico Valoracion Quejas '!B594","v":"2018-05-21"},{"$f":"'Historico Valoracion Quejas '!G594","v":"Huéspedes se quejan porque no es permitido ingresar invitados o amigos de otros hoteles, indican que parece un hospital o una carcel."},{"$f":"'Historico Valoracion Quejas '!V594","v":"Vistas de huespedes"}]
[{"$f":"'Historico Valoracion Quejas '!D595","v":207},{"$f":"'Historico Valoracion Quejas '!B595","v":"2018-05-21"},{"$f":"'Historico Valoracion Quejas '!G595","v":"Huéspedes se quejan de los brazaletes, solicitan que se eliminen ya que eso es barato y se ve mal."},{"$f":"'Historico Valoracion Quejas '!V595","v":"Brazaletes"}]
[{"$f":"'Historico Valoracion Quejas '!D596","v":207},{"$f":"'Historico Valoracion Quejas '!B596","v":"2018-05-21"},{"$f":"'Historico Valoracion Quejas '!G596","v":"Mejores camas de bronceado y más sombra en el area de piscinas."},{"$f":"'Historico Valoracion Quejas '!V596","v":"Piscinas "}]
[{"$f":"'Historico Valoracion Quejas '!D597","v":207},{"$f":"'Historico Valoracion Quejas '!B597","v":"2018-05-21"},{"$f":"'Historico Valoracion Quejas '!G597","v":"Se quejan de que no hay espejo en la habitación."},{"$f":"'Historico Valoracion Quejas '!V597","v":"Habitaciones"}]
[{"$f":"'Historico Valoracion Quejas '!D598","v":601},{"$f":"'Historico Valoracion Quejas '!B598","v":"2018-05-21"},{"$f":"'Historico Valoracion Quejas '!G598","v":"Huéspedes se quejan de que el baño huele a cigarro como si hubieran fumado, además se queja que el agua caliente es muy caliente y es peligrosa."},{"$f":"'Historico Valoracion Quejas '!V598","v":"Habitaciones"}]
[{"$f":"'Historico Valoracion Quejas '!D599","v":204},{"$f":"'Historico Valoracion Quejas '!B599","v":"2018-05-21"},{"$f":"'Historico Valoracion Quejas '!G599","v":"Cuando el botones está entregando la hab al check-in, encuentra en el mini bar una botellita pequeña de vino rosa a la mitad posiblemente de los huéspedes anteriores."},{"$f":"'Historico Valoracion Quejas '!V599","v":"Habitaciones"}]
[{"$f":"'Historico Valoracion Quejas '!D600","v":509},{"$f":"'Historico Valoracion Quejas '!B600","v":"2018-05-20"},{"$f":"'Historico Valoracion Quejas '!G600","v":"Cuando el botones está entregando la habitación al check in, encuantra en la refri un a botella grade metálica de los clientes que estuvieron anteriormente ahí "},{"$f":"'Historico Valoracion Quejas '!V600","v":"Habitaciones"}]
[{"$f":"'Historico Valoracion Quejas '!D601","v":903},{"$f":"'Historico Valoracion Quejas '!B601","v":"2018-05-20"},{"$f":"'Historico Valoracion Quejas '!G601","v":"Huéspedes se quejan porque no hay ventiladores en los restaurantes y porque no hay gran variedad de opciones."},{"$f":"'Historico Valoracion Quejas '!V601","v":"Restaurante"}]
[{"$f":"'Historico Valoracion Quejas '!D602","v":604},{"$f":"'Historico Valoracion Quejas '!B602","v":"2018-05-20"},{"$f":"'Historico Valoracion Quejas '!G602","v":"Huésped reporta que encontró un raton muerto en la parte alta de las termales."},{"$f":"'Historico Valoracion Quejas '!V602","v":"Plagas Habitaciones"}]
[{"$f":"'Historico Valoracion Quejas '!D603","v":604},{"$f":"'Historico Valoracion Quejas '!B603","v":"2018-05-20"},{"$f":"'Historico Valoracion Quejas '!G603","v":"Huésped reporta que durante el desayuno una cucaracha apareción en su mesa."},{"$f":"'Historico Valoracion Quejas '!V603","v":"Plagas Habitaciones"}]
[{"$f":"'Historico Valoracion Quejas '!D604","v":207},{"$f":"'Historico Valoracion Quejas '!B604","v":"2018-05-19"},{"$f":"'Historico Valoracion Quejas '!G604","v":"Cliente está molesta por que quiere traer amigos a cenar con ella y las políticas del hotel no lo permiten y tampoco hay información sobre esto en ningún lado "},{"$f":"'Historico Valoracion Quejas '!V604","v":"Vistas de huespedes"}]
[{"$f":"'Historico Valoracion Quejas '!D605","v":408},{"$f":"'Historico Valoracion Quejas '!B605","v":"2018-05-18"},{"$f":"'Historico Valoracion Quejas '!G605","v":"Necesidad de mas sombras en el area de piscinas"},{"$f":"'Historico Valoracion Quejas '!V605","v":"Piscinas "}]
[{"$f":"'Historico Valoracion Quejas '!D606","v":405},{"$f":"'Historico Valoracion Quejas '!B606","v":"2018-05-18"},{"$f":"'Historico Valoracion Quejas '!G606","v":"Vino muy caro en comparación con otros hoteles en los que hemos estado en costa rica"},{"$f":"'Historico Valoracion Quejas '!V606","v":"Cockteles bares"}]
[{"$f":"'Historico Valoracion Quejas '!D607","v":308},{"$f":"'Historico Valoracion Quejas '!B607","v":"2018-05-17"},{"$f":"'Historico Valoracion Quejas '!G607","v":"Paraguas en la habitación"},{"$f":"'Historico Valoracion Quejas '!V607","v":"N/A"}]
[{"$f":"'Historico Valoracion Quejas '!D608","v":203},{"$f":"'Historico Valoracion Quejas '!B608","v":"2018-05-18"},{"$f":"'Historico Valoracion Quejas '!G608","v":"En el bar las bebidas no siempre son servidas de igual forma, una vez nos dieron el coctel tipo frozen y otra a las rocas"},{"$f":"'Historico Valoracion Quejas '!V608","v":"Cockteles bares"}]
[{"$f":"'Historico Valoracion Quejas '!D609","v":202},{"$f":"'Historico Valoracion Quejas '!B609","v":"2018-05-17"},{"$f":"'Historico Valoracion Quejas '!G609","v":"Sería delicioso poder tener aguacate en el desayuno"},{"$f":"'Historico Valoracion Quejas '!V609","v":"Calida Desayuno"}]
[{"$f":"'Historico Valoracion Quejas '!D610","v":304},{"$f":"'Historico Valoracion Quejas '!B610","v":"2018-05-09"},{"$f":"'Historico Valoracion Quejas '!G610","v":"No habia lugar en el armario, solo los percheros"},{"$f":"'Historico Valoracion Quejas '!V610","v":"N/A"}]
[{"$f":"'Historico Valoracion Quejas '!D611","v":304},{"$f":"'Historico Valoracion Quejas '!B611","v":"2018-05-05"},{"$f":"'Historico Valoracion Quejas '!G611","v":"Huespedes se quejan de la falta de gavetas para la ropa."},{"$f":"'Historico Valoracion Quejas '!V611","v":"Habitaciones"}]
[{"$f":"'Historico Valoracion Quejas '!D612","v":606},{"$f":"'Historico Valoracion Quejas '!B612","v":"2018-05-04"},{"$f":"'Historico Valoracion Quejas '!G612","v":"Se quejan del estaurante italiano e indican que debería cambiarse y tener un restaurante de mariscos."},{"$f":"'Historico Valoracion Quejas '!V612","v":"Calidad comida"}]
[{"$f":"'Historico Valoracion Quejas '!D613","v":0},{"$f":"'Historico Valoracion Quejas '!B613","v":"2018-05-04"},{"$f":"'Historico Valoracion Quejas '!G613","v":0},{"$f":"'Historico Valoracion Quejas '!V613","v":"N/A"}]
[{"$f":"'Historico Valoracion Quejas '!D614","v":212},{"$f":"'Historico Valoracion Quejas '!B614","v":"2018-05-17"},{"$f":"'Historico Valoracion Quejas '!G614","v":"Huesped se queja de la presencia de hormigas en la habitación, se encuentra disgustada y quiere que le eliminen los insectos."},{"$f":"'Historico Valoracion Quejas '!V614","v":"Plagas Habitaciones"}]
[{"$f":"'Historico Valoracion Quejas '!D615","v":201},{"$f":"'Historico Valoracion Quejas '!B615","v":"2018-05-17"},{"$f":"'Historico Valoracion Quejas '!G615","v":"Huespedes se quejan de ruidos en el techo durante toda la noche, indican que son animales y que provocan mucho ruido."},{"$f":"'Historico Valoracion Quejas '!V615","v":"Ruido habitación"}]
[{"$f":"'Historico Valoracion Quejas '!D616","v":403},{"$f":"'Historico Valoracion Quejas '!B616","v":"2018-05-15"},{"$f":"'Historico Valoracion Quejas '!G616","v":"Se podría tener una maquina de hielo más cerca a la habitacion"},{"$f":"'Historico Valoracion Quejas '!V616","v":"Maquina de hielo"}]
[{"$f":"'Historico Valoracion Quejas '!D617","v":108},{"$f":"'Historico Valoracion Quejas '!B617","v":"2018-05-15"},{"$f":"'Historico Valoracion Quejas '!G617","v":"Falta una cafeteria para el almuerzo ligero, por ejemplo ensaladas sandwiches"},{"$f":"'Historico Valoracion Quejas '!V617","v":"Comidas snacks"}]
[{"$f":"'Historico Valoracion Quejas '!D618","v":108},{"$f":"'Historico Valoracion Quejas '!B618","v":"2018-05-15"},{"$f":"'Historico Valoracion Quejas '!G618","v":"Relación precio-calidad muy costoso por lo que es."},{"$f":"'Historico Valoracion Quejas '!V618","v":"Calidad comida"}]
[{"$f":"'Historico Valoracion Quejas '!D619","v":"201-304"},{"$f":"'Historico Valoracion Quejas '!B619","v":"2018-05-15"},{"$f":"'Historico Valoracion Quejas '!G619","v":"Huéspedes llaman indicando que no hay agua en las habitaciones."},{"$f":"'Historico Valoracion Quejas '!V619","v":"Agua potable"}]
[{"$f":"'Historico Valoracion Quejas '!D620","v":0},{"$f":"'Historico Valoracion Quejas '!B620","v":"2018-05-15"},{"$f":"'Historico Valoracion Quejas '!G620","v":"La noche del 14/05/18 mientras varios huéspedes se encontraban cenando se presentaron varias goteras con una cantidad importante de agua ingresando la cual no pudo ser controlada sin que los huéspedes se enteraran ante el aguacero tan fuerte. El agua mojó un poco unos sillones y unas mesas cerca."},{"$f":"'Historico Valoracion Quejas '!V620","v":"Agua llovida italiano"}]
[{"$f":"'Historico Valoracion Quejas '!D621","v":303},{"$f":"'Historico Valoracion Quejas '!B621","v":"2018-05-14"},{"$f":"'Historico Valoracion Quejas '!G621","v":"El pescado que sirvieron en el sushi no estaba fresco y no fue una buena experiencia."},{"$f":"'Historico Valoracion Quejas '!V621","v":"Calidad Sushi"}]
[{"$f":"'Historico Valoracion Quejas '!D622","v":904},{"$f":"'Historico Valoracion Quejas '!B622","v":"2018-05-14"},{"$f":"'Historico Valoracion Quejas '!G622","v":"Huéspedes se quejan de gritos y ruidos fuertes en hab 903, al parecer discutiendo"},{"$f":"'Historico Valoracion Quejas '!V622","v":"Ruido habitación"}]
[{"$f":"'Historico Valoracion Quejas '!D623","v":201},{"$f":"'Historico Valoracion Quejas '!B623","v":"2018-05-13"},{"$f":"'Historico Valoracion Quejas '!G623","v":"Los paneles solares para calentar agua parece que estan flojos en el techo y causan mucho ruido especialmente en las noches."},{"$f":"'Historico Valoracion Quejas '!V623","v":"Ruido sistema solar"}]
[{"$f":"'Historico Valoracion Quejas '!D624","v":801},{"$f":"'Historico Valoracion Quejas '!B624","v":"2018-05-03"},{"$f":"'Historico Valoracion Quejas '!G624","v":"Se quejan de que hace falta un basurero en la habitación para residuos NO reciclables, ya que únicamente hay para reciclaje aunque no se indica que tipo de desechos reciclables se pueden depositar."},{"$f":"'Historico Valoracion Quejas '!V624","v":"Reciclaje"}]
[{"$f":"'Historico Valoracion Quejas '!D625","v":702},{"$f":"'Historico Valoracion Quejas '!B625","v":"2018-05-10"},{"$f":"'Historico Valoracion Quejas '!G625","v":"La ducha tiene una fuga que cae fuera del baño"},{"$f":"'Historico Valoracion Quejas '!V625","v":"Fujas de agua"}]
[{"$f":"'Historico Valoracion Quejas '!D626","v":801},{"$f":"'Historico Valoracion Quejas '!B626","v":"2018-05-12"},{"$f":"'Historico Valoracion Quejas '!G626","v":"El desayuno esta bien, pero podría beneficiarse con frutas y jugos mas frescos"},{"$f":"'Historico Valoracion Quejas '!V626","v":"Desestimado"}]
[{"$f":"'Historico Valoracion Quejas '!D627","v":603},{"$f":"'Historico Valoracion Quejas '!B627","v":"2018-05-10"},{"$f":"'Historico Valoracion Quejas '!G627","v":"Huéspedes se quejan de las clases de yoga,  los mismos indican que debería ser solo para adultos,  que el niño que se encontraba haciendo yoga con ellos de otra habitación solo los interrumpía y no permitía que las clases fueran tranquilas."},{"$f":"'Historico Valoracion Quejas '!V627","v":"Clases de yoga"}]
[{"$f":"'Historico Valoracion Quejas '!D628","v":603},{"$f":"'Historico Valoracion Quejas '!B628","v":"2018-05-10"},{"$f":"'Historico Valoracion Quejas '!G628","v":"Huespedes se quejan que solamente en el desayuno se ofrecen frutas, los señores me explican que en Europa ellos acostumbran a comer frutas tambíen al almuerzo y a la cena por lo que indican tengamos en cuenta este aspecto para un futuro tener mas huéspedes satisfechos."},{"$f":"'Historico Valoracion Quejas '!V628","v":"Plato de frutas"}]
[{"$f":"'Historico Valoracion Quejas '!D629","v":"109 (Inspector de agencia)"},{"$f":"'Historico Valoracion Quejas '!B629","v":"2018-05-08"},{"$f":"'Historico Valoracion Quejas '!G629","v":"La única crítica constructiva seria el cambiar las láminas de el techo de luz, ya que estan bastante tostadas por el sol y con un poco de moho, esto al menos en la habitación en la cual estuve."},{"$f":"'Historico Valoracion Quejas '!V629","v":"Habitaciones"}]
[{"$f":"'Historico Valoracion Quejas '!D630","v":0},{"$f":"'Historico Valoracion Quejas '!B630","v":"2018-05-09"},{"$f":"'Historico Valoracion Quejas '!G630","v":"El servicio está dañado, el tanque no se llena y el  agua queda directa. Tiene muchisimo tiempo de estar así y se le ha dicho infinitas veces a mantemiento"},{"$f":"'Historico Valoracion Quejas '!V630","v":"Lockers"}]
[{"$f":"'Historico Valoracion Quejas '!D631","v":107},{"$f":"'Historico Valoracion Quejas '!B631","v":"2018-05-09"},{"$f":"'Historico Valoracion Quejas '!G631","v":"Poner una silla en la habitacion sería util"},{"$f":"'Historico Valoracion Quejas '!V631","v":"Silla en habitación"}]
[{"$f":"'Historico Valoracion Quejas '!D632","v":304},{"$f":"'Historico Valoracion Quejas '!B632","v":"2018-05-09"},{"$f":"'Historico Valoracion Quejas '!G632","v":"Camas muy altas"},{"$f":"'Historico Valoracion Quejas '!V632","v":"Camas altas "}]
[{"$f":"'Historico Valoracion Quejas '!D633","v":405},{"$f":"'Historico Valoracion Quejas '!B633","v":"2018-05-09"},{"$f":"'Historico Valoracion Quejas '!G633","v":"A veces los empleados no entienden lo que uno pregunta,pura barrera del lenguaje"},{"$f":"'Historico Valoracion Quejas '!V633","v":"Servicio al cliente "}]
[{"$f":"'Historico Valoracion Quejas '!D634","v":0},{"$f":"'Historico Valoracion Quejas '!B634","v":"2018-05-09"},{"$f":"'Historico Valoracion Quejas '!G634","v":"A veces los empleados no entienden lo que uno pregunta,pura barrera del lenguaje"},{"$f":"'Historico Valoracion Quejas '!V634","v":"Servicio cliente restaurante "}]
[{"$f":"'Historico Valoracion Quejas '!D635","v":305},{"$f":"'Historico Valoracion Quejas '!B635","v":"2018-05-09"},{"$f":"'Historico Valoracion Quejas '!G635","v":"Habia comida vieja en la refri de las personas que estuvieron antes que nosotros"},{"$f":"'Historico Valoracion Quejas '!V635","v":"Habitaciones"}]
[{"$f":"'Historico Valoracion Quejas '!D636","v":606},{"$f":"'Historico Valoracion Quejas '!B636","v":"2018-05-09"},{"$f":"'Historico Valoracion Quejas '!G636","v":"Ayer solicité un masaje en el Spa, más alla de haber sido una experiencia relajante, quede toda adolorida e inflamada del mal uso de la tecnica , recomiendo para futuros clientes que supervisen el entrenamiento del personal."},{"$f":"'Historico Valoracion Quejas '!V636","v":"Spa"}]
[{"$f":"'Historico Valoracion Quejas '!D637","v":706},{"$f":"'Historico Valoracion Quejas '!B637","v":"2018-05-07"},{"$f":"'Historico Valoracion Quejas '!G637","v":"Huesped se queja de la poca variedad en comidas y pide mayor variedad en las opciones."},{"$f":"'Historico Valoracion Quejas '!V637","v":"Calidad comida"}]
[{"$f":"'Historico Valoracion Quejas '!D638","v":510},{"$f":"'Historico Valoracion Quejas '!B638","v":"2018-05-08"},{"$f":"'Historico Valoracion Quejas '!G638","v":"El sol de la tarde pega directo a la habitación, deberia haber una pantalla que cubra esto"},{"$f":"'Historico Valoracion Quejas '!V638","v":"Habitaciones"}]
[{"$f":"'Historico Valoracion Quejas '!D639","v":510},{"$f":"'Historico Valoracion Quejas '!B639","v":"2018-05-08"},{"$f":"'Historico Valoracion Quejas '!G639","v":"La tapa de coffee maker esta rota"},{"$f":"'Historico Valoracion Quejas '!V639","v":"Habitaciones"}]
[{"$f":"'Historico Valoracion Quejas '!D640","v":503},{"$f":"'Historico Valoracion Quejas '!B640","v":"2018-05-07"},{"$f":"'Historico Valoracion Quejas '!G640","v":"Más vegetales con la carne"},{"$f":"'Historico Valoracion Quejas '!V640","v":"Calidad comida"}]
[{"$f":"'Historico Valoracion Quejas '!D641","v":212},{"$f":"'Historico Valoracion Quejas '!B641","v":"2018-05-07"},{"$f":"'Historico Valoracion Quejas '!G641","v":"Cuando uno esta esperando un huésped, sería genial tener una habitación fria, toma un tiempo para que esta se enfrie"},{"$f":"'Historico Valoracion Quejas '!V641","v":"A/C"}]
[{"$f":"'Historico Valoracion Quejas '!D642","v":509},{"$f":"'Historico Valoracion Quejas '!B642","v":"2018-05-07"},{"$f":"'Historico Valoracion Quejas '!G642","v":"Más variedad de frutas y cereales calientes como avena"},{"$f":"'Historico Valoracion Quejas '!V642","v":"Calidad comida"}]
[{"$f":"'Historico Valoracion Quejas '!D643","v":709},{"$f":"'Historico Valoracion Quejas '!B643","v":"2018-05-06"},{"$f":"'Historico Valoracion Quejas '!G643","v":"La música del restaurante muy alta, al final del día necesitamos descansar y cenar en una tranquila y silenciosa atmosfera"},{"$f":"'Historico Valoracion Quejas '!V643","v":"Musica restaurantes"}]
[{"$f":"'Historico Valoracion Quejas '!D644","v":410},{"$f":"'Historico Valoracion Quejas '!B644","v":"2018-05-06"},{"$f":"'Historico Valoracion Quejas '!G644","v":"A/C bajo rendimiento, sería recomendable tenerlos encendidos antes que los huéspedes lleguen a la habitación."},{"$f":"'Historico Valoracion Quejas '!V644","v":"A/C"}]
[{"$f":"'Historico Valoracion Quejas '!D645","v":612},{"$f":"'Historico Valoracion Quejas '!B645","v":"2018-05-06"},{"$f":"'Historico Valoracion Quejas '!G645","v":"Un basurero con tapa sería mejor para el baño, especialmente porque este contiene papel higienico usado"},{"$f":"'Historico Valoracion Quejas '!V645","v":"Basurero baño"}]
[{"$f":"'Historico Valoracion Quejas '!D646","v":109},{"$f":"'Historico Valoracion Quejas '!B646","v":"2018-05-04"},{"$f":"'Historico Valoracion Quejas '!G646","v":"La caja fuerte no funcionó en toda la estadía, huespedes reclaman que se quedó cerrada los 2 días y no permitía ingresar un código."},{"$f":"'Historico Valoracion Quejas '!V646","v":"Habitaciones"}]
[{"$f":"'Historico Valoracion Quejas '!D647","v":204},{"$f":"'Historico Valoracion Quejas '!B647","v":"2018-05-04"},{"$f":"'Historico Valoracion Quejas '!G647","v":"Huesped se queja de la iluminación de la habitación, indica que es pobre y no es suficiente. Además se queja de que no hay una silla  y que el control del TV solo funciona desde una cama y no de las 2."},{"$f":"'Historico Valoracion Quejas '!V647","v":"Habitaciones"}]
[{"$f":"'Historico Valoracion Quejas '!D648","v":107},{"$f":"'Historico Valoracion Quejas '!B648","v":"2018-05-04"},{"$f":"'Historico Valoracion Quejas '!G648","v":"Huesped se queja de lo limitado del menú con opciones vegetarianas y reclama por mas opciones."},{"$f":"'Historico Valoracion Quejas '!V648","v":"Menú vegetariano"}]
[{"$f":"'Historico Valoracion Quejas '!D649","v":609},{"$f":"'Historico Valoracion Quejas '!B649","v":"2018-05-06"},{"$f":"'Historico Valoracion Quejas '!G649","v":"Huesped se queja de que el hotel no dispone de un area de juegos para los niños, la señora me indica que quedaron encantados con el lugar pero debido a que su familia tiene varios niños pues consideran que es necesario tener un area con pequeño playground."},{"$f":"'Historico Valoracion Quejas '!V649","v":"Área  para niños "}]
[{"$f":"'Historico Valoracion Quejas '!D650","v":304},{"$f":"'Historico Valoracion Quejas '!B650","v":"2018-05-05"},{"$f":"'Historico Valoracion Quejas '!G650","v":"Huesped se queja que el detector de humo se encendió a las 12:30am y comenzó a hacer beep, el mismo se queja que tuvo que llamar a la mañana siguiente para que el staff se diera cuenta."},{"$f":"'Historico Valoracion Quejas '!V650","v":"Alarmas "}]
[{"$f":"'Historico Valoracion Quejas '!D651","v":601},{"$f":"'Historico Valoracion Quejas '!B651","v":"2018-05-04"},{"$f":"'Historico Valoracion Quejas '!G651","v":"Huespedes se quejan porque el hotel deberia considerar tener menus de los restaurantes en las habitaciones y así facilitar el servicio a la habitación."},{"$f":"'Historico Valoracion Quejas '!V651","v":"Menú room service"}]
[{"$f":"'Historico Valoracion Quejas '!D652","v":702},{"$f":"'Historico Valoracion Quejas '!B652","v":"2018-05-05"},{"$f":"'Historico Valoracion Quejas '!G652","v":"Huesped indica que talvez un spray´insecticida pequeño sería útil para los insectos que aparezcan durante la estadía."},{"$f":"'Historico Valoracion Quejas '!V652","v":"Plagas Habitaciones"}]
[{"$f":"'Historico Valoracion Quejas '!D653","v":702},{"$f":"'Historico Valoracion Quejas '!B653","v":"2018-05-05"},{"$f":"'Historico Valoracion Quejas '!G653","v":"Huesped se queja de que el hotel debería de tener mas opciones de ensaladas."},{"$f":"'Historico Valoracion Quejas '!V653","v":"Calidad comida"}]
[{"$f":"'Historico Valoracion Quejas '!D654","v":701},{"$f":"'Historico Valoracion Quejas '!B654","v":"2018-05-04"},{"$f":"'Historico Valoracion Quejas '!G654","v":"Pequeñas hormigas en el baño, en el area de la caja de manicure"},{"$f":"'Historico Valoracion Quejas '!V654","v":"Plagas Habitaciones"}]
[{"$f":"'Historico Valoracion Quejas '!D655","v":111},{"$f":"'Historico Valoracion Quejas '!B655","v":"2018-05-03"},{"$f":"'Historico Valoracion Quejas '!G655","v":"Huespedes se quejan de tratamiento recibido en el SPA, se muestran molestos y decepcionados porque no quedaron satisfechos con el trabajo que se llevó a cabo en un pedicure, se quejaron de la silla que es muy incómoda, de que no les masajearon los pies mas de 4 minutos a  pesar de que el tratamiento duraba 60 minutos y además  aclaran que no se le tenía agua caliente para colocar los pies y sentirse relajada. "},{"$f":"'Historico Valoracion Quejas '!V655","v":"Spa"}]
[{"$f":"'Historico Valoracion Quejas '!D656","v":101},{"$f":"'Historico Valoracion Quejas '!B656","v":"2018-05-03"},{"$f":"'Historico Valoracion Quejas '!G656","v":"Cliente reporta que se metieron a la habitacion y extrajeron dinero en efectivo y un celular, mientras ellos estaban en la cena. "},{"$f":"'Historico Valoracion Quejas '!V656","v":"Robo en habitaciones"}]
[{"$f":"'Historico Valoracion Quejas '!D657","v":411},{"$f":"'Historico Valoracion Quejas '!B657","v":"2018-05-02"},{"$f":"'Historico Valoracion Quejas '!G657","v":"Huesped se queja debido a que el hotel no cuenta con una acera o camino especial para personas discapacitadas desde las habitaciones hasta las areas comunes, piscinas y restaurantes. Además se queja que en la noche no hay señalización iluminada y que cuando se transita los carritos de golf pasan muy cerca de los peatones."},{"$f":"'Historico Valoracion Quejas '!V657","v":"Acera para transitar "}]
[{"$f":"'Historico Valoracion Quejas '!D658","v":604},{"$f":"'Historico Valoracion Quejas '!B658","v":"2018-05-01"},{"$f":"'Historico Valoracion Quejas '!G658","v":"El té de la habitación de manzanilla tiene sabor a tierra"},{"$f":"'Historico Valoracion Quejas '!V658","v":"Minibar habitaciones"}]
[{"$f":"'Historico Valoracion Quejas '!D659","v":410},{"$f":"'Historico Valoracion Quejas '!B659","v":"2018-05-01"},{"$f":"'Historico Valoracion Quejas '!G659","v":"Hacer que uno se sirva el café"},{"$f":"'Historico Valoracion Quejas '!V659","v":"N/A"}]
[{"$f":"'Historico Valoracion Quejas '!D660","v":509},{"$f":"'Historico Valoracion Quejas '!B660","v":"2018-05-01"},{"$f":"'Historico Valoracion Quejas '!G660","v":"La comida es muy cara y regular, la comida de las sodas de afuera es mucho mejor y menos cara"},{"$f":"'Historico Valoracion Quejas '!V660","v":"Calidad comida"}]
[{"$f":"'Historico Valoracion Quejas '!D661","v":208},{"$f":"'Historico Valoracion Quejas '!B661","v":"2018-05-01"},{"$f":"'Historico Valoracion Quejas '!G661","v":"El chef de la piscina fue muy descortés al no dejar que los niños jueguen en la piscina."},{"$f":"'Historico Valoracion Quejas '!V661","v":"Servicio cliente sushi"}]
[{"$f":"'Historico Valoracion Quejas '!D662","v":708},{"$f":"'Historico Valoracion Quejas '!B662","v":"2018-04-30"},{"$f":"'Historico Valoracion Quejas '!G662","v":"Las camas son un poco duras"},{"$f":"'Historico Valoracion Quejas '!V662","v":"Colchon duro"}]
[{"$f":"'Historico Valoracion Quejas '!D663","v":302},{"$f":"'Historico Valoracion Quejas '!B663","v":"2018-04-29"},{"$f":"'Historico Valoracion Quejas '!G663","v":"Un basurero cerrado en el baño, sería bueno"},{"$f":"'Historico Valoracion Quejas '!V663","v":"Basurero baño"}]
[{"$f":"'Historico Valoracion Quejas '!D664","v":302},{"$f":"'Historico Valoracion Quejas '!B664","v":"2018-04-29"},{"$f":"'Historico Valoracion Quejas '!G664","v":"El jugo de naranja podrá ser hecho con frutas a mano "},{"$f":"'Historico Valoracion Quejas '!V664","v":"N/A"}]
[{"$f":"'Historico Valoracion Quejas '!D665","v":402},{"$f":"'Historico Valoracion Quejas '!B665","v":"2018-05-01"},{"$f":"'Historico Valoracion Quejas '!G665","v":"Mejorar la calidad del champú-gel manzana"},{"$f":"'Historico Valoracion Quejas '!V665","v":"Amenidades"}]
[{"$f":"'Historico Valoracion Quejas '!D666","v":402},{"$f":"'Historico Valoracion Quejas '!B666","v":"2018-05-01"},{"$f":"'Historico Valoracion Quejas '!G666","v":"Mejorar la calidad del café en el desayuno"},{"$f":"'Historico Valoracion Quejas '!V666","v":"Calida Desayuno"}]
[{"$f":"'Historico Valoracion Quejas '!D667","v":110},{"$f":"'Historico Valoracion Quejas '!B667","v":"2018-04-30"},{"$f":"'Historico Valoracion Quejas '!G667","v":"Los cocteles y bebidas en general muy caros y con mejoras pendientes en calidad"},{"$f":"'Historico Valoracion Quejas '!V667","v":"Cockteles bares"}]
[{"$f":"'Historico Valoracion Quejas '!D668","v":307},{"$f":"'Historico Valoracion Quejas '!B668","v":"2018-05-01"},{"$f":"'Historico Valoracion Quejas '!G668","v":"Huesped se acerca a recepcion disgustado acerca de una situacion acontecida en el Rest Italiano, indica que solicitó una pizza cuya cual venia con un pedazo de plastico y nos informa que al expresar su disgusto con el compañero presente hizo caso omiso a su reclamo, el nos expresa que firmó la factura inconforme por lo tanto vino a Recepcion a mostrar su descontento, solicitando una solucipon al respecto. (huesped vino resintiendo su malestar, cubriendo su abdomen con su mano)"},{"$f":"'Historico Valoracion Quejas '!V668","v":"Objetos en la comida"}]
[{"$f":"'Historico Valoracion Quejas '!D669","v":409},{"$f":"'Historico Valoracion Quejas '!B669","v":"2018-04-30"},{"$f":"'Historico Valoracion Quejas '!G669","v":"Sería bueno que tuvieran sangría en todos los bares"},{"$f":"'Historico Valoracion Quejas '!V669","v":"Servicio cliente restaurante "}]
[{"$f":"'Historico Valoracion Quejas '!D670","v":305},{"$f":"'Historico Valoracion Quejas '!B670","v":"2018-04-30"},{"$f":"'Historico Valoracion Quejas '!G670","v":"\"Mi esposo queria un masaje de envoltura o exfoliación com decía que cerraban a las 8 pm, esperabamos que nos pudieran atender después de las 3 pm, pero nos dijeron que no porque las muchachas salian a las 6 pm, además no había recepcionista para buscar la info tuvimos que interrumpir una sesión."},{"$f":"'Historico Valoracion Quejas '!V670","v":"Servicio cliente spa"}]
[{"$f":"'Historico Valoracion Quejas '!D671","v":201},{"$f":"'Historico Valoracion Quejas '!B671","v":"2018-04-29"},{"$f":"'Historico Valoracion Quejas '!G671","v":"Huesped indica que deberían agregar mas espacios en la piscina para descansar, ejemplo: camitas de piedra en el agua y no solo asientos."},{"$f":"'Historico Valoracion Quejas '!V671","v":"N/A"}]
[{"$f":"'Historico Valoracion Quejas '!D672","v":311},{"$f":"'Historico Valoracion Quejas '!B672","v":"2018-04-29"},{"$f":"'Historico Valoracion Quejas '!G672","v":"El mojito estaba horrible y muy caro"},{"$f":"'Historico Valoracion Quejas '!V672","v":"Cockteles bares"}]
[{"$f":"'Historico Valoracion Quejas '!D673","v":306},{"$f":"'Historico Valoracion Quejas '!B673","v":"2018-04-29"},{"$f":"'Historico Valoracion Quejas '!G673","v":"Huesped sequeja del sonido que se percibe desde las otras habitaciones "},{"$f":"'Historico Valoracion Quejas '!V673","v":"Ruido habitación"}]
[{"$f":"'Historico Valoracion Quejas '!D674","v":106},{"$f":"'Historico Valoracion Quejas '!B674","v":"2018-04-29"},{"$f":"'Historico Valoracion Quejas '!G674","v":"Puerta del baño se encuentra mala y caída."},{"$f":"'Historico Valoracion Quejas '!V674","v":"Puerta de baño"}]
[{"$f":"'Historico Valoracion Quejas '!D675","v":111},{"$f":"'Historico Valoracion Quejas '!B675","v":"2018-04-29"},{"$f":"'Historico Valoracion Quejas '!G675","v":"Huesped solicita mejor la calidad del pepperoni de las pizzas."},{"$f":"'Historico Valoracion Quejas '!V675","v":"Precios Comidas Italiano"}]
[{"$f":"'Historico Valoracion Quejas '!D676","v":901},{"$f":"'Historico Valoracion Quejas '!B676","v":"2018-04-29"},{"$f":"'Historico Valoracion Quejas '!G676","v":"Huesped al hacer check-out se queja del funcionamiento del Aire Acondicionado, indica que no enfría y que nunca pudieron refrescar la habitación como lo deseaban."},{"$f":"'Historico Valoracion Quejas '!V676","v":"A/C"}]
[{"$f":"'Historico Valoracion Quejas '!D677","v":106},{"$f":"'Historico Valoracion Quejas '!B677","v":"2018-04-28"},{"$f":"'Historico Valoracion Quejas '!G677","v":"Huesped indica que la música del bar húmedo podría mejorar y no ser aburrida y desactualizada."},{"$f":"'Historico Valoracion Quejas '!V677","v":"Servicio cliente restaurante "}]
[{"$f":"'Historico Valoracion Quejas '!D678","v":402},{"$f":"'Historico Valoracion Quejas '!B678","v":"2018-04-28"},{"$f":"'Historico Valoracion Quejas '!G678","v":"Huesped se queja que el gimnasio necesita mejor equipo."},{"$f":"'Historico Valoracion Quejas '!V678","v":"Gimnasio"}]
[{"$f":"'Historico Valoracion Quejas '!D679","v":0},{"$f":"'Historico Valoracion Quejas '!B679","v":"2018-04-27"},{"$f":"'Historico Valoracion Quejas '!G679","v":"Ayer note que hay falta de iluminación en el jacuzzi, les pregunte a mantenimiento y me dijeron que están esperando unas lámparas. Solamente para que tomen nota de esto, asi nos evitamos un accidente."},{"$f":"'Historico Valoracion Quejas '!V679","v":"Rotulación Jacuzzi"}]
[{"$f":"'Historico Valoracion Quejas '!D680","v":104},{"$f":"'Historico Valoracion Quejas '!B680","v":"2018-04-26"},{"$f":"'Historico Valoracion Quejas '!G680","v":"La ceramica de la hab es muy resbalosa y cuando esta mojada es muy dificl caminar para las personas que tenemos problemas caminando"},{"$f":"'Historico Valoracion Quejas '!V680","v":"Piso resbaloso"}]
[{"$f":"'Historico Valoracion Quejas '!D681","v":103},{"$f":"'Historico Valoracion Quejas '!B681","v":"2018-04-27"},{"$f":"'Historico Valoracion Quejas '!G681","v":"Mas opciones para el menu de desayuno, todos los días lo mismo no nos hace felices"},{"$f":"'Historico Valoracion Quejas '!V681","v":"Calida Desayuno"}]
[{"$f":"'Historico Valoracion Quejas '!D682","v":510},{"$f":"'Historico Valoracion Quejas '!B682","v":"2018-04-27"},{"$f":"'Historico Valoracion Quejas '!G682","v":"Huespedes se acercan molestos arecepción para reclamar que como puede ser posible que no haya ni una sola silla en la habitación, ellos son una pareja de baja estatura y solicitan se les dé una silla a la habitación."},{"$f":"'Historico Valoracion Quejas '!V682","v":"Silla en habitación"}]
[{"$f":"'Historico Valoracion Quejas '!D683","v":406},{"$f":"'Historico Valoracion Quejas '!B683","v":"2018-04-27"},{"$f":"'Historico Valoracion Quejas '!G683","v":"demasiado ruido causado por el generador"},{"$f":"'Historico Valoracion Quejas '!V683","v":"Ruido generadores"}]
[{"$f":"'Historico Valoracion Quejas '!D684","v":502},{"$f":"'Historico Valoracion Quejas '!B684","v":"2018-04-27"},{"$f":"'Historico Valoracion Quejas '!G684","v":"demasiado ruido causado por el generador"},{"$f":"'Historico Valoracion Quejas '!V684","v":"Ruido generadores"}]
[{"$f":"'Historico Valoracion Quejas '!D685","v":509},{"$f":"'Historico Valoracion Quejas '!B685","v":"2018-04-26"},{"$f":"'Historico Valoracion Quejas '!G685","v":"Huesped indica que se necesita mas variedad en el desayuno."},{"$f":"'Historico Valoracion Quejas '!V685","v":"Calida Desayuno"}]
[{"$f":"'Historico Valoracion Quejas '!D686","v":401},{"$f":"'Historico Valoracion Quejas '!B686","v":"2018-04-25"},{"$f":"'Historico Valoracion Quejas '!G686","v":"Huesped se queja que habían insectos viniendo atraves de las paredes."},{"$f":"'Historico Valoracion Quejas '!V686","v":"Plagas Habitaciones"}]
[{"$f":"'Historico Valoracion Quejas '!D687","v":415},{"$f":"'Historico Valoracion Quejas '!B687","v":"2018-04-25"},{"$f":"'Historico Valoracion Quejas '!G687","v":"La pared donde esta el aire acondicionado va tener problemas a futuro debido a que el condensador gotea"},{"$f":"'Historico Valoracion Quejas '!V687","v":"Habitaciones"}]
[{"$f":"'Historico Valoracion Quejas '!D688","v":415},{"$f":"'Historico Valoracion Quejas '!B688","v":"2018-04-25"},{"$f":"'Historico Valoracion Quejas '!G688","v":"Deberiamos de pensar en quitar las lineas amarillas de la calle, no hay necesidad de ellas porque los carros no van a altas velocidades y a su vez estas lineas afean la belleza de las instalaciones en conjunto con la naturaleza"},{"$f":"'Historico Valoracion Quejas '!V688","v":"Señalización"}]
[{"$f":"'Historico Valoracion Quejas '!D689","v":602},{"$f":"'Historico Valoracion Quejas '!B689","v":"2018-04-24"},{"$f":"'Historico Valoracion Quejas '!G689","v":"Una sola cama y un sillón sería mucho mejor que dos camas y ningún sitio donde sentarse"},{"$f":"'Historico Valoracion Quejas '!V689","v":"Silla en habitación"}]
[{"$f":"'Historico Valoracion Quejas '!D690","v":602},{"$f":"'Historico Valoracion Quejas '!B690","v":"2018-04-24"},{"$f":"'Historico Valoracion Quejas '!G690","v":"Una sombrilla por habitación, reduciría el uso de los carritos de golf"},{"$f":"'Historico Valoracion Quejas '!V690","v":"Sombrillas"}]
[{"$f":"'Historico Valoracion Quejas '!D691","v":602},{"$f":"'Historico Valoracion Quejas '!B691","v":"2018-04-24"},{"$f":"'Historico Valoracion Quejas '!G691","v":"Huésped encontró una piedrita en el piso al majarla y escribe que fue un verdadero Ouch! Y además dice que el resto de la habitación no parecia que estuviera bien limpia"},{"$f":"'Historico Valoracion Quejas '!V691","v":"Limpieza en habitación"}]
[{"$f":"'Historico Valoracion Quejas '!D692","v":106},{"$f":"'Historico Valoracion Quejas '!B692","v":"2018-04-24"},{"$f":"'Historico Valoracion Quejas '!G692","v":"Huésped comenta que los grupos de niños son muy ruidosos y si el hotel vende tranquilidad debería de cumplirse, se sintío inconforme en areas comunes e incluso en la habitación. "},{"$f":"'Historico Valoracion Quejas '!V692","v":"Grupos estudiantes"}]
[{"$f":"'Historico Valoracion Quejas '!D693","v":308},{"$f":"'Historico Valoracion Quejas '!B693","v":"2018-04-24"},{"$f":"'Historico Valoracion Quejas '!G693","v":"Huesped solicitó transporte para 2 personas dado la lluvia sin embargo ningun compañero fue por ellos, ella muy molesta se vino caminando desde su habitacion."},{"$f":"'Historico Valoracion Quejas '!V693","v":"Servicio cliente botones"}]
[{"$f":"'Historico Valoracion Quejas '!D694","v":201},{"$f":"'Historico Valoracion Quejas '!B694","v":"2018-04-22"},{"$f":"'Historico Valoracion Quejas '!G694","v":"Pusimos el rotulo de no cambiar las toallas pero si las cambiaron."},{"$f":"'Historico Valoracion Quejas '!V694","v":"Limpieza en habitación"}]
[{"$f":"'Historico Valoracion Quejas '!D695","v":211},{"$f":"'Historico Valoracion Quejas '!B695","v":"2018-04-23"},{"$f":"'Historico Valoracion Quejas '!G695","v":"Hay muchos niños, no esperabamos tener que hacer fila para poder conseguir omelets, pancakes o frutas."},{"$f":"'Historico Valoracion Quejas '!V695","v":"Calida Desayuno"}]
[{"$f":"'Historico Valoracion Quejas '!D696","v":211},{"$f":"'Historico Valoracion Quejas '!B696","v":"2018-04-23"},{"$f":"'Historico Valoracion Quejas '!G696","v":"Para un hotel como este uno espera que haya batas de baño en la habitación"},{"$f":"'Historico Valoracion Quejas '!V696","v":"Batas de baño"}]
[{"$f":"'Historico Valoracion Quejas '!D697","v":210},{"$f":"'Historico Valoracion Quejas '!B697","v":"2018-04-21"},{"$f":"'Historico Valoracion Quejas '!G697","v":"Huesped se queja que las opciones vegetarianas son muy limitadas para la epoca en la que nos encontramos, el mismo indica que al haber muchas personas vegetarianas, el hotel debería mejorar."},{"$f":"'Historico Valoracion Quejas '!V697","v":"Menú vegetariano"}]
[{"$f":"'Historico Valoracion Quejas '!D698","v":310},{"$f":"'Historico Valoracion Quejas '!B698","v":"2018-04-21"},{"$f":"'Historico Valoracion Quejas '!G698","v":"Huesped indica que debería haber un tomacorriente especial cerca de la mesa para cargar la computadora"},{"$f":"'Historico Valoracion Quejas '!V698","v":"N/A"}]
[{"$f":"'Historico Valoracion Quejas '!D699","v":408},{"$f":"'Historico Valoracion Quejas '!B699","v":"2018-04-22"},{"$f":"'Historico Valoracion Quejas '!G699","v":"Huesped se acerca a Recepción muy molesto debido a que llamó para solicitar hielo y nunca lo recibió, el señor no permite ni que le ayudemos, se queja muy fuerte por el mal servicio, tambien se queja por que en la maquina de hielo no hay bolsas y solo pide una bolsa para seguidamente indicarnos que no quiere ningún carrito de golf y que se irá caminando apesar de la lluvia. "},{"$f":"'Historico Valoracion Quejas '!V699","v":"Servicio cliente botones"}]
[{"$f":"'Historico Valoracion Quejas '!D700","v":702},{"$f":"'Historico Valoracion Quejas '!B700","v":"2018-04-21"},{"$f":"'Historico Valoracion Quejas '!G700","v":"Si se etiquetaran las apagadores de la habitación sería mas funcional, ya que no se sabe cual es para cada cosa."},{"$f":"'Historico Valoracion Quejas '!V700","v":"Rotulación ventilador"}]
[{"$f":"'Historico Valoracion Quejas '!D701","v":702},{"$f":"'Historico Valoracion Quejas '!B701","v":"2018-04-21"},{"$f":"'Historico Valoracion Quejas '!G701","v":"Una linea para tender la ropa fuera de la habitación sería util"},{"$f":"'Historico Valoracion Quejas '!V701","v":"Habitaciones"}]
[{"$f":"'Historico Valoracion Quejas '!D702","v":702},{"$f":"'Historico Valoracion Quejas '!B702","v":"2018-04-21"},{"$f":"'Historico Valoracion Quejas '!G702","v":"La ducha podría usar menos agua si estuviera mejor calibrada "},{"$f":"'Historico Valoracion Quejas '!V702","v":"Información duchas"}]
[{"$f":"'Historico Valoracion Quejas '!D703","v":702},{"$f":"'Historico Valoracion Quejas '!B703","v":"2018-04-21"},{"$f":"'Historico Valoracion Quejas '!G703","v":"Las lamparas que hay en la habitación no sirven para leer"},{"$f":"'Historico Valoracion Quejas '!V703","v":"Lampara de lectura"}]
[{"$f":"'Historico Valoracion Quejas '!D704","v":702},{"$f":"'Historico Valoracion Quejas '!B704","v":"2018-04-21"},{"$f":"'Historico Valoracion Quejas '!G704","v":"Podría haber una o dos sillas en la habitación, incluso pueden estar guardadas en el closet"},{"$f":"'Historico Valoracion Quejas '!V704","v":"Silla en habitación"}]
[{"$f":"'Historico Valoracion Quejas '!D705","v":901},{"$f":"'Historico Valoracion Quejas '!B705","v":"2018-04-21"},{"$f":"'Historico Valoracion Quejas '!G705","v":"Hay un fuerte olor que sale del baño"},{"$f":"'Historico Valoracion Quejas '!V705","v":"Mal olor habitación"}]
[{"$f":"'Historico Valoracion Quejas '!D706","v":901},{"$f":"'Historico Valoracion Quejas '!B706","v":"2018-04-21"},{"$f":"'Historico Valoracion Quejas '!G706","v":"La puerta del baño no se cierra o abre bien."},{"$f":"'Historico Valoracion Quejas '!V706","v":"Puerta de baño"}]
[{"$f":"'Historico Valoracion Quejas '!D707","v":309},{"$f":"'Historico Valoracion Quejas '!B707","v":"2018-04-20"},{"$f":"'Historico Valoracion Quejas '!G707","v":"Sería bueno tener al menos una sombrilla por habitación"},{"$f":"'Historico Valoracion Quejas '!V707","v":"Sombrillas"}]
[{"$f":"'Historico Valoracion Quejas '!D708","v":108},{"$f":"'Historico Valoracion Quejas '!B708","v":"2018-04-20"},{"$f":"'Historico Valoracion Quejas '!G708","v":"Después de haberlos cambiado de la 601 a la habitación 108, la señora Brandi reporta que hay una cucaracha dentro de la habitación y por este motivo estaba muy molesta"},{"$f":"'Historico Valoracion Quejas '!V708","v":"Plagas Habitaciones"}]
[{"$f":"'Historico Valoracion Quejas '!D709","v":601},{"$f":"'Historico Valoracion Quejas '!B709","v":"2018-04-20"},{"$f":"'Historico Valoracion Quejas '!G709","v":"Huésped reporta que tiene muchas hormigas dentro de la habitación, que hasta están en las maletas."},{"$f":"'Historico Valoracion Quejas '!V709","v":"Plagas Habitaciones"}]
[{"$f":"'Historico Valoracion Quejas '!D710","v":601},{"$f":"'Historico Valoracion Quejas '!B710","v":"2018-04-20"},{"$f":"'Historico Valoracion Quejas '!G710","v":"Huésped solicitó transporte para venir al parqueo para irse a tour, pero el carrito de golf no llegó por ellos, debieron venirse caminando entonces"},{"$f":"'Historico Valoracion Quejas '!V710","v":"Servicio cliente botones"}]
[{"$f":"'Historico Valoracion Quejas '!D711","v":706},{"$f":"'Historico Valoracion Quejas '!B711","v":"2018-04-19"},{"$f":"'Historico Valoracion Quejas '!G711","v":"Huesped se queja porque no hay silla en la habitación, las camas son muy altas y ellos huespedes de baja estatura."},{"$f":"'Historico Valoracion Quejas '!V711","v":"Silla en habitación"}]
[{"$f":"'Historico Valoracion Quejas '!D712","v":904},{"$f":"'Historico Valoracion Quejas '!B712","v":"2018-04-19"},{"$f":"'Historico Valoracion Quejas '!G712","v":"Huesped reporta que ocasionalmente el lavatorio desprendia fuertes olores a alcantarilla y cloaca."},{"$f":"'Historico Valoracion Quejas '!V712","v":"Mal olor habitación"}]
[{"$f":"'Historico Valoracion Quejas '!D713","v":710},{"$f":"'Historico Valoracion Quejas '!B713","v":"2018-04-18"},{"$f":"'Historico Valoracion Quejas '!G713","v":"Huesped llama quejandose por hormigas en el lavatorio y en el area del baño."},{"$f":"'Historico Valoracion Quejas '!V713","v":"Plagas Habitaciones"}]
[{"$f":"'Historico Valoracion Quejas '!D714","v":706},{"$f":"'Historico Valoracion Quejas '!B714","v":"2018-04-17"},{"$f":"'Historico Valoracion Quejas '!G714","v":"Huesped se queja porque no hay pan libre de gluten en el desayuno."},{"$f":"'Historico Valoracion Quejas '!V714","v":"Menú Celiacos"}]
[{"$f":"'Historico Valoracion Quejas '!D715","v":111},{"$f":"'Historico Valoracion Quejas '!B715","v":"2018-04-18"},{"$f":"'Historico Valoracion Quejas '!G715","v":"Huesped se queja que entre las 5 y 7 pm deberían haber mas bartenders ya que hay que esperar mucho para ser atendido y mas tiempo para que le hagan un cocktail. "},{"$f":"'Historico Valoracion Quejas '!V715","v":"Servicio cliente bar humedo"}]
[{"$f":"'Historico Valoracion Quejas '!D716","v":112},{"$f":"'Historico Valoracion Quejas '!B716","v":"2018-04-18"},{"$f":"'Historico Valoracion Quejas '!G716","v":"Huesped indica que se necesita un espejo afuera del baño."},{"$f":"'Historico Valoracion Quejas '!V716","v":"Espejo grande fuera del baño"}]
[{"$f":"'Historico Valoracion Quejas '!D717","v":601},{"$f":"'Historico Valoracion Quejas '!B717","v":"2018-04-18"},{"$f":"'Historico Valoracion Quejas '!G717","v":"Huesped se queja de hormigas en el area del baño."},{"$f":"'Historico Valoracion Quejas '!V717","v":"Plagas Habitaciones"}]

{"sheet":"Precentacón de Datos","index":11,"n_rows":668,"n_cols":7,"rows_kept":668,"cut":false,"hidden":false,"merged":[]}
[{"$f":"SUBTOTAL(2,Precentación_Quejas[Cantidad])","v":659}]
[]
["Habitacion","Fecha","Descripción","Payaso","Cantidad","# Queja","Valoración"]
[{"$f":"VLOOKUP(Precentación_Quejas[[#This Row],['# Queja]],Historico_Registro_Quejas3[#All],4,0)","v":503},{"$f":"VLOOKUP(Precentación_Quejas[[#This Row],['# Queja]],Historico_Registro_Quejas3[#All],2,0)","v":"2018-12-01"},{"$f":"VLOOKUP(Precentación_Quejas[[#This Row],['# Queja]],Historico_Registro_Quejas3[#All],7,0)","v":"Llegamos en la noche y nuestra primera interacción fue con el recepcionista quien fue muy impersonal y poco cálido."},{"$f":"VLOOKUP(Precentación_Quejas[[#This Row],['# Queja]],Historico_Registro_Quejas3[#All],22,0)","v":"Servicio cliente recepción"},{"$f":"VLOOKUP(Precentación_Quejas[[#This Row],[Payaso]],Tabla_Payasos[[Payasos]:[Columna1]],2,0)","v":14},1088,{"$f":"VLOOKUP(Precentación_Quejas[[#This Row],['# Queja]],Historico_Registro_Quejas3[[#All],['# Queja]:[Valoración]],15,0)","v":"Roja"}]
[{"$f":"VLOOKUP(Precentación_Quejas[[#This Row],['# Queja]],Historico_Registro_Quejas3[#All],4,0)","v":205},{"$f":"VLOOKUP(Precentación_Quejas[[#This Row],['# Queja]],Historico_Registro_Quejas3[#All],2,0)","v":"2018-12-04"},{"$f":"VLOOKUP(Precentación_Quejas[[#This Row],['# Queja]],Historico_Registro_Quejas3[#All],7,0)","v":"Se que tienen una ley que prohibe fumar en lugares públicos , pero no entiendo que un hotel grande no disponga de una zona interna para fumar, el camino hacia la entrada en la noche debido a los animales de la zona es peligroso."},{"$f":"VLOOKUP(Precentación_Quejas[[#This Row],['# Queja]],Historico_Registro_Quejas3[#All],22,0)","v":"Fumadores "},{"$f":"VLOOKUP(Precentación_Quejas[[#This Row],[Payaso]],Tabla_Payasos[[Payasos]:[Columna1]],2,0)","v":3},1087,{"$f":"VLOOKUP(Precentación_Quejas[[#This Row],['# Queja]],Historico_Registro_Quejas3[[#All],['# Queja]:[Valoración]],15,0)","v":"Roja"}]
[{"$f":"VLOOKUP(Precentación_Quejas[[#This Row],['# Queja]],Historico_Registro_Quejas3[#All],4,0)","v":105},{"$f":"VLOOKUP(Precentación_Quejas[[#This Row],['# Queja]],Historico_Registro_Quejas3[#All],2,0)","v":"2018-12-02"},{"$f":"VLOOKUP(Precentación_Quejas[[#This Row],['# Queja]],Historico_Registro_Quejas3[#All],7,0)","v":"La comida a nivel general del hotel esta sobrevalorada y no es buena en lo absoluto."},{"$f":"VLOOKUP(Precentación_Quejas[[#This Row],['# Queja]],Historico_Registro_Quejas3[#All],22,0)","v":"Calidad comida"},{"$f":"VLOOKUP(Precentación_Quejas[[#This Row],[Payaso]],Tabla_Payasos[[Payasos]:[Columna1]],2,0)","v":70},1086,{"$f":"VLOOKUP(Precentación_Quejas[[#This Row],['# Queja]],Historico_Registro_Quejas3[[#All],['# Queja]:[Valoración]],15,0)","v":"Roja"}]
[{"$f":"VLOOKUP(Precentación_Quejas[[#This Row],['# Queja]],Historico_Registro_Quejas3[#All],4,0)","v":111},{"$f":"VLOOKUP(Precentación_Quejas[[#This Row],['# Queja]],Historico_Registro_Quejas3[#All],2,0)","v":"2018-12-01"},{"$f":"VLOOKUP(Precentación_Quejas[[#This Row],['# Queja]],Historico_Registro_Quejas3[#All],7,0)","v":"Huésped se queja del desayuno e indica que puede mejorar teniendo mejores opciones en panes y queques."},{"$f":"VLOOKUP(Precentación_Quejas[[#This Row],['# Queja]],Historico_Registro_Quejas3[#All],22,0)","v":"Variedad desayuno"},{"$f":"VLOOKUP(Precentación_Quejas[[#This Row],[Payaso]],Tabla_Payasos[[Payasos]:[Columna1]],2,0)","v":4},1085,{"$f":"VLOOKUP(Precentación_Quejas[[#This Row],['# Queja]],Historico_Registro_Quejas3[[#All],['# Queja]:[Valoración]],15,0)","v":"Roja"}]
[{"$f":"VLOOKUP(Precentación_Quejas[[#This Row],['# Queja]],Historico_Registro_Quejas3[#All],4,0)","v":611},{"$f":"VLOOKUP(Precentación_Quejas[[#This Row],['# Queja]],Historico_Registro_Quejas3[#All],2,0)","v":"2018-12-03"},{"$f":"VLOOKUP(Precentación_Quejas[[#This Row],['# Queja]],Historico_Registro_Quejas3[#All],7,0)","v":"Huéspedes se quejan fuertemente porque al llegar su Internet no funciona y piden tener ese servicio habilitado lo mas pronto posible."},{"$f":"VLOOKUP(Precentación_Quejas[[#This Row],['# Queja]],Historico_Registro_Quejas3[#All],22,0)","v":"Wifi"},{"$f":"VLOOKUP(Precentación_Quejas[[#This Row],[Payaso]],Tabla_Payasos[[Payasos]:[Columna1]],2,0)","v":23},1084,{"$f":"VLOOKUP(Precentación_Quejas[[#This Row],['# Queja]],Historico_Registro_Quejas3[[#All],['# Queja]:[Valoración]],15,0)","v":"Roja"}]
[{"$f":"VLOOKUP(Precentación_Quejas[[#This Row],['# Queja]],Historico_Registro_Quejas3[#All],4,0)","v":606},{"$f":"VLOOKUP(Precentación_Quejas[[#This Row],['# Queja]],Historico_Registro_Quejas3[#All],2,0)","v":"2018-12-03"},{"$f":"VLOOKUP(Precentación_Quejas[[#This Row],['# Queja]],Historico_Registro_Quejas3[#All],7,0)","v":"No funciona el Internet, huésped llama quejandose por el mal servicio de Internet que tiene el hotel."},{"$f":"VLOOKUP(Precentación_Quejas[[#This Row],['# Queja]],Historico_Registro_Quejas3[#All],22,0)","v":"Wifi"},{"$f":"VLOOKUP(Precentación_Quejas[[#This Row],[Payaso]],Tabla_Payasos[[Payasos]:[Columna1]],2,0)","v":23},1083,{"$f":"VLOOKUP(Precentación_Quejas[[#This Row],['# Queja]],Historico_Registro_Quejas3[[#All],['# Queja]:[Valoración]],15,0)","v":"Roja"}]
[{"$f":"VLOOKUP(Precentación_Quejas[[#This Row],['# Queja]],Historico_Registro_Quejas3[#All],4,0)","v":712},{"$f":"VLOOKUP(Precentación_Quejas[[#This Row],['# Queja]],Historico_Registro_Quejas3[#All],2,0)","v":"2018-12-03"},{"$f":"VLOOKUP(Precentación_Quejas[[#This Row],['# Queja]],Historico_Registro_Quejas3[#All],7,0)","v":"Huéspedes se quejan por el mal funcionamiento del Internet, a su llegada reportan que no tienen señal de Wi-Fi."},{"$f":"VLOOKUP(Precentación_Quejas[[#This Row],['# Queja]],Historico_Registro_Quejas3[#All],22,0)","v":"Wifi"},{"$f":"VLOOKUP(Precentación_Quejas[[#This Row],[Payaso]],Tabla_Payasos[[Payasos]:[Columna1]],2,0)","v":23},1082,{"$f":"VLOOKUP(Precentación_Quejas[[#This Row],['# Queja]],Historico_Registro_Quejas3[[#All],['# Queja]:[Valoración]],15,0)","v":"Roja"}]
[{"$f":"VLOOKUP(Precentación_Quejas[[#This Row],['# Queja]],Historico_Registro_Quejas3[#All],4,0)","v":310},{"$f":"VLOOKUP(Precentación_Quejas[[#This Row],['# Queja]],Historico_Registro_Quejas3[#All],2,0)","v":"2018-12-01"},{"$f":"VLOOKUP(Precentación_Quejas[[#This Row],['# Queja]],Historico_Registro_Quejas3[#All],7,0)","v":"Huéspedes se quejan porque la acera de la habitación es muy oscura y no hay oluminación adecuada lo cual hace peligroso el caminar por ahí."},{"$f":"VLOOKUP(Precentación_Quejas[[#This Row],['# Queja]],Historico_Registro_Quejas3[#All],22,0)","v":"Iluminación Jardines"},{"$f":"VLOOKUP(Precentación_Quejas[[#This Row],[Payaso]],Tabla_Payasos[[Payasos]:[Columna1]],2,0)","v":3},1081,{"$f":"VLOOKUP(Precentación_Quejas[[#This Row],['# Queja]],Historico_Registro_Quejas3[[#All],['# Queja]:[Valoración]],15,0)","v":"Roja"}]
[{"$f":"VLOOKUP(Precentación_Quejas[[#This Row],['# Queja]],Historico_Registro_Quejas3[#All],4,0)","v":606},{"$f":"VLOOKUP(Precentación_Quejas[[#This Row],['# Queja]],Historico_Registro_Quejas3[#All],2,0)","v":"2018-12-01"},{"$f":"VLOOKUP(Precentación_Quejas[[#This Row],['# Queja]],Historico_Registro_Quejas3[#All],7,0)","v":"Huésped se queja porque el hotel no dispone de jabón en gel, no le gusta el jabón de barra."},{"$f":"VLOOKUP(Precentación_Quejas[[#This Row],['# Queja]],Historico_Registro_Quejas3[#All],22,0)","v":"N/A"},{"$f":"VLOOKUP(Precentación_Quejas[[#This Row],[Payaso]],Tabla_Payasos[[Payasos]:[Columna1]],2,0)","v":44},1080,{"$f":"VLOOKUP(Precentación_Quejas[[#This Row],['# Queja]],Historico_Registro_Quejas3[[#All],['# Queja]:[Valoración]],15,0)","v":"Desestimada"}]
[{"$f":"VLOOKUP(Precentación_Quejas[[#This Row],['# Queja]],Historico_Registro_Quejas3[#All],4,0)","v":210},{"$f":"VLOOKUP(Precentación_Quejas[[#This Row],['# Queja]],Historico_Registro_Quejas3[#All],2,0)","v":"2018-11-30"},{"$f":"VLOOKUP(Precentación_Quejas[[#This Row],['# Queja]],Historico_Registro_Quejas3[#All],7,0)","v":"Huésped se queja de la manera en que se maneja el cambio de toallas en las habitaciones, él mismo indica que sería muy bueno si seguimos el procedimiento que aparece en la información que se brinda ( solo las toallas en el suelo serán cambiadas, las que se mantienen colgando que se dejen ahi) El huésped se queja porque a pesar de no dejar ninguna toalla en el suelo, todas sus toallas fueron cambiadas."},{"$f":"VLOOKUP(Precentación_Quejas[[#This Row],['# Queja]],Historico_Registro_Quejas3[#All],22,0)","v":"Limpieza en habitación"},{"$f":"VLOOKUP(Precentación_Quejas[[#This Row],[Payaso]],Tabla_Payasos[[Payasos]:[Columna1]],2,0)","v":8},1079,{"$f":"VLOOKUP(Precentación_Quejas[[#This Row],['# Queja]],Historico_Registro_Quejas3[[#All],['# Queja]:[Valoración]],15,0)","v":"Roja"}]
[{"$f":"VLOOKUP(Precentación_Quejas[[#This Row],['# Queja]],Historico_Registro_Quejas3[#All],4,0)","v":503},{"$f":"VLOOKUP(Precentación_Quejas[[#This Row],['# Queja]],Historico_Registro_Quejas3[#All],2,0)","v":"2018-11-30"},{"$f":"VLOOKUP(Precentación_Quejas[[#This Row],['# Queja]],Historico_Registro_Quejas3[#All],7,0)","v":"Huésped se queja de que durante su estadía el restaurante principal nunca estuvo abierto."},{"$f":"VLOOKUP(Precentación_Quejas[[#This Row],['# Queja]],Historico_Registro_Quejas3[#All],22,0)","v":"Servicio cliente restaurante "},{"$f":"VLOOKUP(Precentación_Quejas[[#This Row],[Payaso]],Tabla_Payasos[[Payasos]:[Columna1]],2,0)","v":25},1078,{"$f":"VLOOKUP(Precentación_Quejas[[#This Row],['# Queja]],Historico_Registro_Quejas3[[#All],['# Queja]:[Valoración]],15,0)","v":"Roja"}]
[{"$f":"VLOOKUP(Precentación_Quejas[[#This Row],['# Queja]],Historico_Registro_Quejas3[#All],4,0)","v":401},{"$f":"VLOOKUP(Precentación_Quejas[[#This Row],['# Queja]],Historico_Registro_Quejas3[#All],2,0)","v":"2018-11-29"},{"$f":"VLOOKUP(Precentación_Quejas[[#This Row],['# Queja]],Historico_Registro_Quejas3[#All],7,0)","v":"Huésped se queja del Shampoo y acondicionador en botellas plasticas, sugiere un dispensador."},{"$f":"VLOOKUP(Precentación_Quejas[[#This Row],['# Queja]],Historico_Registro_Quejas3[#All],22,0)","v":"N/A"},{"$f":"VLOOKUP(Precentación_Quejas[[#This Row],[Payaso]],Tabla_Payasos[[Payasos]:[Columna1]],2,0)","v":44},1077,{"$f":"VLOOKUP(Precentación_Quejas[[#This Row],['# Queja]],Historico_Registro_Quejas3[[#All],['# Queja]:[Valoración]],15,0)","v":"Desestimada"}]
[{"$f":"VLOOKUP(Precentación_Quejas[[#This Row],['# Queja]],Historico_Registro_Quejas3[#All],4,0)","v":410},{"$f":"VLOOKUP(Precentación_Quejas[[#This Row],['# Queja]],Historico_Registro_Quejas3[#All],2,0)","v":"2018-11-28"},{"$f":"VLOOKUP(Precentación_Quejas[[#This Row],['# Queja]],Historico_Registro_Quejas3[#All],7,0)","v":"Restaurante muy pobre en calidad y demasiado caro. La pasta fue de bja calidad."},{"$f":"VLOOKUP(Precentación_Quejas[[#This Row],['# Queja]],Historico_Registro_Quejas3[#All],22,0)","v":"Calidad comida Italiano"},{"$f":"VLOOKUP(Precentación_Quejas[[#This Row],[Payaso]],Tabla_Payasos[[Payasos]:[Columna1]],2,0)","v":5},1076,{"$f":"VLOOKUP(Precentación_Quejas[[#This Row],['# Queja]],Historico_Registro_Quejas3[[#All],['# Queja]:[Valoración]],15,0)","v":"Roja"}]
[{"$f":"VLOOKUP(Precentación_Quejas[[#This Row],['# Queja]],Historico_Registro_Quejas3[#All],4,0)","v":801},{"$f":"VLOOKUP(Precentación_Quejas[[#This Row],['# Queja]],Historico_Registro_Quejas3[#All],2,0)","v":"2018-11-27"},{"$f":"VLOOKUP(Precentación_Quejas[[#This Row],['# Queja]],Historico_Registro_Quejas3[#All],7,0)","v":"La puerta del baño no cierra bien, se encuentra desmontada y no calza con el marco."},{"$f":"VLOOKUP(Precentación_Quejas[[#This Row],['# Queja]],Historico_Registro_Quejas3[#All],22,0)","v":"Habitaciones"},{"$f":"VLOOKUP(Precentación_Quejas[[#This Row],[Payaso]],Tabla_Payasos[[Payasos]:[Columna1]],2,0)","v":54},1075,{"$f":"VLOOKUP(Precentación_Quejas[[#This Row],['# Queja]],Historico_Registro_Quejas3[[#All],['# Queja]:[Valoración]],15,0)","v":"Roja"}]
[{"$f":"VLOOKUP(Precentación_Quejas[[#This Row],['# Queja]],Historico_Registro_Quejas3[#All],4,0)","v":509},{"$f":"VLOOKUP(Precentación_Quejas[[#This Row],['# Queja]],Historico_Registro_Quejas3[#All],2,0)","v":"2018-11-26"},{"$f":"VLOOKUP(Precentación_Quejas[[#This Row],['# Queja]],Historico_Registro_Quejas3[#All],7,0)","v":"Huéspedes se quejan porque al momento de que se les recibió se les entregó toallas y bebida pero no les dieron tiempo de disfrutar de la bebida y poder sentarse tranquilos cuando venían con equipaje y cosas, ellos dicen que los obligaron a ir a recepcion inmediatamente y hacer el check-in a pesar de que venían cansados, alegan que no se debe recibir a un huésped de esa manera."},{"$f":"VLOOKUP(Precentación_Quejas[[#This Row],['# Queja]],Historico_Registro_Quejas3[#All],22,0)","v":"Servicio cliente botones"},{"$f":"VLOOKUP(Precentación_Quejas[[#This Row],[Payaso]],Tabla_Payasos[[Payasos]:[Columna1]],2,0)","v":6},1073,{"$f":"VLOOKUP(Precentación_Quejas[[#This Row],['# Queja]],Historico_Registro_Quejas3[[#All],['# Queja]:[Valoración]],15,0)","v":"Roja"}]
[{"$f":"VLOOKUP(Precentación_Quejas[[#This Row],['# Queja]],Historico_Registro_Quejas3[#All],4,0)","v":509},{"$f":"VLOOKUP(Precentación_Quejas[[#This Row],['# Queja]],Historico_Registro_Quejas3[#All],2,0)","v":"2018-11-26"},{"$f":"VLOOKUP(Precentación_Quejas[[#This Row],['# Queja]],Historico_Registro_Quejas3[#All],7,0)","v":"Huéspedes se quejan porque al momento de que se les recibió se les entregó toallas y bebida pero no les dieron tiempo de disfrutar de la bebida y poder sentarse tranquilos cuando venían con equipaje y cosas, ellos dicen que los obligaron a ir a recepcion inmediatamente y hacer el check-in a pesar de que venían cansados, alegan que no se debe recibir a un huésped de esa manera."},{"$f":"VLOOKUP(Precentación_Quejas[[#This Row],['# Queja]],Historico_Registro_Quejas3[#All],22,0)","v":"Servicio cliente botones"},{"$f":"VLOOKUP(Precentación_Quejas[[#This Row],[Payaso]],Tabla_Payasos[[Payasos]:[Columna1]],2,0)","v":6},1073,{"$f":"VLOOKUP(Precentación_Quejas[[#This Row],['# Queja]],Historico_Registro_Quejas3[[#All],['# Queja]:[Valoración]],15,0)","v":"Roja"}]
[{"$f":"VLOOKUP(Precentación_Quejas[[#This Row],['# Queja]],Historico_Registro_Quejas3[#All],4,0)","v":307},{"$f":"VLOOKUP(Precentación_Quejas[[#This Row],['# Queja]],Historico_Registro_Quejas3[#All],2,0)","v":"2018-11-26"},{"$f":"VLOOKUP(Precentación_Quejas[[#This Row],['# Queja]],Historico_Registro_Quejas3[#All],7,0)","v":"Huésped en llamada de bienvenida indica que su aire no funciona como debería y que no enfría."},{"$f":"VLOOKUP(Precentación_Quejas[[#This Row],['# Queja]],Historico_Registro_Quejas3[#All],22,0)","v":"Servicio cliente recepción"},{"$f":"VLOOKUP(Precentación_Quejas[[#This Row],[Payaso]],Tabla_Payasos[[Payasos]:[Columna1]],2,0)","v":14},1074,{"$f":"VLOOKUP(Precentación_Quejas[[#This Row],['# Queja]],Historico_Registro_Quejas3[[#All],['# Queja]:[Valoración]],15,0)","v":"Amarilla"}]
[{"$f":"VLOOKUP(Precentación_Quejas[[#This Row],['# Queja]],Historico_Registro_Quejas3[#All],4,0)","v":509},{"$f":"VLOOKUP(Precentación_Quejas[[#This Row],['# Queja]],Historico_Registro_Quejas3[#All],2,0)","v":"2018-11-26"},{"$f":"VLOOKUP(Precentación_Quejas[[#This Row],['# Queja]],Historico_Registro_Quejas3[#All],7,0)","v":"A/C no enfría bien y huésped muy molesto indica a recepción que esta decepcionado del hotel."},{"$f":"VLOOKUP(Precentación_Quejas[[#This Row],['# Queja]],Historico_Registro_Quejas3[#All],22,0)","v":"Servicio cliente recepción"},{"$f":"VLOOKUP(Precentación_Quejas[[#This Row],[Payaso]],Tabla_Payasos[[Payasos]:[Columna1]],2,0)","v":14},1071,{"$f":"VLOOKUP(Precentación_Quejas[[#This Row],['# Queja]],Historico_Registro_Quejas3[[#All],['# Queja]:[Valoración]],15,0)","v":"Roja"}]
[{"$f":"VLOOKUP(Precentación_Quejas[[#This Row],['# Queja]],Historico_Registro_Quejas3[#All],4,0)","v":"N/A"},{"$f":"VLOOKUP(Precentación_Quejas[[#This Row],['# Queja]],Historico_Registro_Quejas3[#All],2,0)","v":"2018-11-26"},{"$f":"VLOOKUP(Precentación_Quejas[[#This Row],['# Queja]],Historico_Registro_Quejas3[#All],7,0)","v":"Colaboradores botones reportan que constantemente escuchan a los huéspedes hablar que el área del parqueo es oscura y que necesita una mejor iluminación. Ellos coinciden en que se necesita colocar bombillos mas fuertes y un par de lámparas adicionales."},{"$f":"VLOOKUP(Precentación_Quejas[[#This Row],['# Queja]],Historico_Registro_Quejas3[#All],22,0)","v":"Iluminación Jardines"},{"$f":"VLOOKUP(Precentación_Quejas[[#This Row],[Payaso]],Tabla_Payasos[[Payasos]:[Columna1]],2,0)","v":3},1072,{"$f":"VLOOKUP(Precentación_Quejas[[#This Row],['# Queja]],Historico_Registro_Quejas3[[#All],['# Queja]:[Valoración]],15,0)","v":"Amarilla"}]
[{"$f":"VLOOKUP(Precentación_Quejas[[#This Row],['# Queja]],Historico_Registro_Quejas3[#All],4,0)","v":404},{"$f":"VLOOKUP(Precentación_Quejas[[#This Row],['# Queja]],Historico_Registro_Quejas3[#All],2,0)","v":"2018-11-25"},{"$f":"VLOOKUP(Precentación_Quejas[[#This Row],['# Queja]],Historico_Registro_Quejas3[#All],7,0)","v":"Huésped se acerca a recepción indicando que el A/C no funciona y no enfría nada, nos pide que se revise mañana porque tiene a sus hijas durmiendo ahora mismo."},{"$f":"VLOOKUP(Precentación_Quejas[[#This Row],['# Queja]],Historico_Registro_Quejas3[#All],22,0)","v":"A/C"},{"$f":"VLOOKUP(Precentación_Quejas[[#This Row],[Payaso]],Tabla_Payasos[[Payasos]:[Columna1]],2,0)","v":25},1069,{"$f":"VLOOKUP(Precentación_Quejas[[#This Row],['# Queja]],Historico_Registro_Quejas3[[#All],['# Queja]:[Valoración]],15,0)","v":"Roja"}]
[{"$f":"VLOOKUP(Precentación_Quejas[[#This Row],['# Queja]],Historico_Registro_Quejas3[#All],4,0)","v":509},{"$f":"VLOOKUP(Precentación_Quejas[[#This Row],['# Queja]],Historico_Registro_Quejas3[#All],2,0)","v":"2018-11-26"},{"$f":"VLOOKUP(Precentación_Quejas[[#This Row],['# Queja]],Historico_Registro_Quejas3[#All],7,0)","v":"Huéspedes disconformes en general desde su llegada se acercan a recepción informando de una queja más, esta vez alegan que el TV es pésimo y que la señal no es buena."},{"$f":"VLOOKUP(Precentación_Quejas[[#This Row],['# Queja]],Historico_Registro_Quejas3[#All],22,0)","v":"Chequeo habitaciones"},{"$f":"VLOOKUP(Precentación_Quejas[[#This Row],[Payaso]],Tabla_Payasos[[Payasos]:[Columna1]],2,0)","v":8},1070,{"$f":"VLOOKUP(Precentación_Quejas[[#This Row],['# Queja]],Historico_Registro_Quejas3[[#All],['# Queja]:[Valoración]],15,0)","v":"Roja"}]
[{"$f":"VLOOKUP(Precentación_Quejas[[#This Row],['# Queja]],Historico_Registro_Quejas3[#All],4,0)","v":102},{"$f":"VLOOKUP(Precentación_Quejas[[#This Row],['# Queja]],Historico_Registro_Quejas3[#All],2,0)","v":"2018-11-25"},{"$f":"VLOOKUP(Precentación_Quejas[[#This Row],['# Queja]],Historico_Registro_Quejas3[#All],7,0)","v":"La recepción debe de tener un mejor botiquín equipado con lo bàsico y necesario para los huéspedes en caso de algún incidente. A la hora de solicitarlo estaba muy escaso."},{"$f":"VLOOKUP(Precentación_Quejas[[#This Row],['# Queja]],Historico_Registro_Quejas3[#All],22,0)","v":"Servicio cliente recepción"},{"$f":"VLOOKUP(Precentación_Quejas[[#This Row],[Payaso]],Tabla_Payasos[[Payasos]:[Columna1]],2,0)","v":14},1067,{"$f":"VLOOKUP(Precentación_Quejas[[#This Row],['# Queja]],Historico_Registro_Quejas3[[#All],['# Queja]:[Valoración]],15,0)","v":"Roja"}]
[{"$f":"VLOOKUP(Precentación_Quejas[[#This Row],['# Queja]],Historico_Registro_Quejas3[#All],4,0)","v":205},{"$f":"VLOOKUP(Precentación_Quejas[[#This Row],['# Queja]],Historico_Registro_Quejas3[#All],2,0)","v":"2018-11-25"},{"$f":"VLOOKUP(Precentación_Quejas[[#This Row],['# Queja]],Historico_Registro_Quejas3[#All],7,0)","v":"Huéspedes de Inglaterra decepcionados de la habitación con la que se fueron a encontrar, ellos reclaman que no es una juniro suite y que el espacio es muy reducido, llaman a recepción quejandose porque no es lo que esperaban y que adicional al lado de su habitación hay mucho ruido de otros huéspedes que hace aún más decepcionante su estadía."},{"$f":"VLOOKUP(Precentación_Quejas[[#This Row],['# Queja]],Historico_Registro_Quejas3[#All],22,0)","v":"N/A"},{"$f":"VLOOKUP(Precentación_Quejas[[#This Row],[Payaso]],Tabla_Payasos[[Payasos]:[Columna1]],2,0)","v":44},1068,{"$f":"VLOOKUP(Precentación_Quejas[[#This Row],['# Queja]],Historico_Registro_Quejas3[[#All],['# Queja]:[Valoración]],15,0)","v":"Desestimada"}]
[{"$f":"VLOOKUP(Precentación_Quejas[[#This Row],['# Queja]],Historico_Registro_Quejas3[#All],4,0)","v":404},{"$f":"VLOOKUP(Precentación_Quejas[[#This Row],['# Queja]],Historico_Registro_Quejas3[#All],2,0)","v":"2018-11-24"},{"$f":"VLOOKUP(Precentación_Quejas[[#This Row],['# Queja]],Historico_Registro_Quejas3[#All],7,0)","v":"Huéspedes se quejan del acceso a la habitación 404, indica que como pueden llamar a esa habitación una habitación para discapacitados si no se puede accesar con silla de ruedas por si solo, el muchacho utiliza silla para movilizarse todo el tiempo pero no es posible pasar de la calle a la habitación sin sufrir una caída."},{"$f":"VLOOKUP(Precentación_Quejas[[#This Row],['# Queja]],Historico_Registro_Quejas3[#All],22,0)","v":"Sillas Discapacitados "},{"$f":"VLOOKUP(Precentación_Quejas[[#This Row],[Payaso]],Tabla_Payasos[[Payasos]:[Columna1]],2,0)","v":2},1065,{"$f":"VLOOKUP(Precentación_Quejas[[#This Row],['# Queja]],Historico_Registro_Quejas3[[#All],['# Queja]:[Valoración]],15,0)","v":"Roja"}]
[{"$f":"VLOOKUP(Precentación_Quejas[[#This Row],['# Queja]],Historico_Registro_Quejas3[#All],4,0)","v":904},{"$f":"VLOOKUP(Precentación_Quejas[[#This Row],['# Queja]],Historico_Registro_Quejas3[#All],2,0)","v":"2018-11-23"},{"$f":"VLOOKUP(Precentación_Quejas[[#This Row],['# Queja]],Historico_Registro_Quejas3[#All],7,0)","v":"Huésped se queja debido a que no encontró información de los precios del mini bar en la habitación. Nadie le informó nada al respecto."},{"$f":"VLOOKUP(Precentación_Quejas[[#This Row],['# Queja]],Historico_Registro_Quejas3[#All],22,0)","v":"Servicio cliente recepción"},{"$f":"VLOOKUP(Precentación_Quejas[[#This Row],[Payaso]],Tabla_Payasos[[Payasos]:[Columna1]],2,0)","v":14},1064,{"$f":"VLOOKUP(Precentación_Quejas[[#This Row],['# Queja]],Historico_Registro_Quejas3[[#All],['# Queja]:[Valoración]],15,0)","v":"Roja"}]
[{"$f":"VLOOKUP(Precentación_Quejas[[#This Row],['# Queja]],Historico_Registro_Quejas3[#All],4,0)","v":410},{"$f":"VLOOKUP(Precentación_Quejas[[#This Row],['# Queja]],Historico_Registro_Quejas3[#All],2,0)","v":"2018-11-24"},{"$f":"VLOOKUP(Precentación_Quejas[[#This Row],['# Queja]],Historico_Registro_Quejas3[#All],7,0)","v":"Precios de los vinos demasiado caros."},{"$f":"VLOOKUP(Precentación_Quejas[[#This Row],['# Queja]],Historico_Registro_Quejas3[#All],22,0)","v":"Precios vino"},{"$f":"VLOOKUP(Precentación_Quejas[[#This Row],[Payaso]],Tabla_Payasos[[Payasos]:[Columna1]],2,0)","v":3},1063,{"$f":"VLOOKUP(Precentación_Quejas[[#This Row],['# Queja]],Historico_Registro_Quejas3[[#All],['# Queja]:[Valoración]],15,0)","v":"Roja"}]
[{"$f":"VLOOKUP(Precentación_Quejas[[#This Row],['# Queja]],Historico_Registro_Quejas3[#All],4,0)","v":606},{"$f":"VLOOKUP(Precentación_Quejas[[#This Row],['# Queja]],Historico_Registro_Quejas3[#All],2,0)","v":"2018-11-24"},{"$f":"VLOOKUP(Precentación_Quejas[[#This Row],['# Queja]],Historico_Registro_Quejas3[#All],7,0)","v":"Huespédes se quejan porque el telefono de la habitacion no sirve para hablar a restaurantes o transferir sus llamadas."},{"$f":"VLOOKUP(Precentación_Quejas[[#This Row],['# Queja]],Historico_Registro_Quejas3[#All],22,0)","v":"Central telefonica"},{"$f":"VLOOKUP(Precentación_Quejas[[#This Row],[Payaso]],Tabla_Payasos[[Payasos]:[Columna1]],2,0)","v":16},1062,{"$f":"VLOOKUP(Precentación_Quejas[[#This Row],['# Queja]],Historico_Registro_Quejas3[[#All],['# Queja]:[Valoración]],15,0)","v":"Roja"}]
[{"$f":"VLOOKUP(Precentación_Quejas[[#This Row],['# Queja]],Historico_Registro_Quejas3[#All],4,0)","v":102},{"$f":"VLOOKUP(Precentación_Quejas[[#This Row],['# Queja]],Historico_Registro_Quejas3[#All],2,0)","v":"2018-11-24"},{"$f":"VLOOKUP(Precentación_Quejas[[#This Row],['# Queja]],Historico_Registro_Quejas3[#All],7,0)","v":"Huéspedes se quejan porque no es posible transferir sus llamadas a restaurantes u otros puntos de venta."},{"$f":"VLOOKUP(Precentación_Quejas[[#This Row],['# Queja]],Historico_Registro_Quejas3[#All],22,0)","v":"Central telefonica"},{"$f":"VLOOKUP(Precentación_Quejas[[#This Row],[Payaso]],Tabla_Payasos[[Payasos]:[Columna1]],2,0)","v":16},1061,{"$f":"VLOOKUP(Precentación_Quejas[[#This Row],['# Queja]],Historico_Registro_Quejas3[[#All],['# Queja]:[Valoración]],15,0)","v":"Roja"}]
[{"$f":"VLOOKUP(Precentación_Quejas[[#This Row],['# Queja]],Historico_Registro_Quejas3[#All],4,0)","v":208},{"$f":"VLOOKUP(Precentación_Quejas[[#This Row],['# Queja]],Historico_Registro_Quejas3[#All],2,0)","v":"2018-11-24"},{"$f":"VLOOKUP(Precentación_Quejas[[#This Row],['# Queja]],Historico_Registro_Quejas3[#All],7,0)","v":"Huéspedes se quejan porque desde sus habitaciones no se pueden transferir las llamadas, no es posible contactarlos con restaurantes u otros puntos de venta. "},{"$f":"VLOOKUP(Precentación_Quejas[[#This Row],['# Queja]],Historico_Registro_Quejas3[#All],22,0)","v":"Central telefonica"},{"$f":"VLOOKUP(Precentación_Quejas[[#This Row],[Payaso]],Tabla_Payasos[[Payasos]:[Columna1]],2,0)","v":16},1060,{"$f":"VLOOKUP(Precentación_Quejas[[#This Row],['# Queja]],Historico_Registro_Quejas3[[#All],['# Queja]:[Valoración]],15,0)","v":"Roja"}]
[{"$f":"VLOOKUP(Precentación_Quejas[[#This Row],['# Queja]],Historico_Registro_Quejas3[#All],4,0)","v":703},{"$f":"VLOOKUP(Precentación_Quejas[[#This Row],['# Queja]],Historico_Registro_Quejas3[#All],2,0)","v":"2018-11-24"},{"$f":"VLOOKUP(Precentación_Quejas[[#This Row],['# Queja]],Historico_Registro_Quejas3[#All],7,0)","v":"Huésped molesta llama a recepción por segunda vez indicando que anteriormente llamó solicitando el room service para retirar los platos y nunca llegaron por ellos a pesar que le indicaron que iban para allà, su primera llamada fue a las 7pm y luego volvió a llamar a las 9pm porque no le habían retirado sus platos."},{"$f":"VLOOKUP(Precentación_Quejas[[#This Row],['# Queja]],Historico_Registro_Quejas3[#All],22,0)","v":"Servicio cliente restaurante "},{"$f":"VLOOKUP(Precentación_Quejas[[#This Row],[Payaso]],Tabla_Payasos[[Payasos]:[Columna1]],2,0)","v":25},1059,{"$f":"VLOOKUP(Precentación_Quejas[[#This Row],['# Queja]],Historico_Registro_Quejas3[[#All],['# Queja]:[Valoración]],15,0)","v":"Roja"}]
[{"$f":"VLOOKUP(Precentación_Quejas[[#This Row],['# Queja]],Historico_Registro_Quejas3[#All],4,0)","v":102},{"$f":"VLOOKUP(Precentación_Quejas[[#This Row],['# Queja]],Historico_Registro_Quejas3[#All],2,0)","v":"2018-11-22"},{"$f":"VLOOKUP(Precentación_Quejas[[#This Row],['# Queja]],Historico_Registro_Quejas3[#All],7,0)","v":"Colaborador Fernando reporta que al momento de cambiar a los huéspedes de la 110 a la 102 a eso de las 9:30pm, al mostrar la hab la misma no tenía paños en ninguna parte."},{"$f":"VLOOKUP(Precentación_Quejas[[#This Row],['# Queja]],Historico_Registro_Quejas3[#All],22,0)","v":"Limpieza en habitación"},{"$f":"VLOOKUP(Precentación_Quejas[[#This Row],[Payaso]],Tabla_Payasos[[Payasos]:[Columna1]],2,0)","v":8},1058,{"$f":"VLOOKUP(Precentación_Quejas[[#This Row],['# Queja]],Historico_Registro_Quejas3[[#All],['# Queja]:[Valoración]],15,0)","v":"Roja"}]
[{"$f":"VLOOKUP(Precentación_Quejas[[#This Row],['# Queja]],Historico_Registro_Quejas3[#All],4,0)","v":110},{"$f":"VLOOKUP(Precentación_Quejas[[#This Row],['# Queja]],Historico_Registro_Quejas3[#All],2,0)","v":"2018-11-22"},{"$f":"VLOOKUP(Precentación_Quejas[[#This Row],['# Queja]],Historico_Registro_Quejas3[#All],7,0)","v":"Huésped se queja porque en su hab no hay agua caliente."},{"$f":"VLOOKUP(Precentación_Quejas[[#This Row],['# Queja]],Historico_Registro_Quejas3[#All],22,0)","v":"Agua caliente"},{"$f":"VLOOKUP(Precentación_Quejas[[#This Row],[Payaso]],Tabla_Payasos[[Payasos]:[Columna1]],2,0)","v":13},1057,{"$f":"VLOOKUP(Precentación_Quejas[[#This Row],['# Queja]],Historico_Registro_Quejas3[[#All],['# Queja]:[Valoración]],15,0)","v":"Roja"}]
[{"$f":"VLOOKUP(Precentación_Quejas[[#This Row],['# Queja]],Historico_Registro_Quejas3[#All],4,0)","v":514},{"$f":"VLOOKUP(Precentación_Quejas[[#This Row],['# Queja]],Historico_Registro_Quejas3[#All],2,0)","v":"2018-11-22"},{"$f":"VLOOKUP(Precentación_Quejas[[#This Row],['# Queja]],Historico_Registro_Quejas3[#All],7,0)","v":"Aire acondicionado no funciona correctamente, la primera noche huéspedes informan de la situación ya que no enfría bien. La segunda noche llaman de nuevo porque a pesar de que les dijeron que estaba reparado, nuevamente no enfría."},{"$f":"VLOOKUP(Precentación_Quejas[[#This Row],['# Queja]],Historico_Registro_Quejas3[#All],22,0)","v":"A/C"},{"$f":"VLOOKUP(Precentación_Quejas[[#This Row],[Payaso]],Tabla_Payasos[[Payasos]:[Columna1]],2,0)","v":25},1056,{"$f":"VLOOKUP(Precentación_Quejas[[#This Row],['# Queja]],Historico_Registro_Quejas3[[#All],['# Queja]:[Valoración]],15,0)","v":"Roja"}]
[{"$f":"VLOOKUP(Precentación_Quejas[[#This Row],['# Queja]],Historico_Registro_Quejas3[#All],4,0)","v":514},{"$f":"VLOOKUP(Precentación_Quejas[[#This Row],['# Queja]],Historico_Registro_Quejas3[#All],2,0)","v":"2018-11-22"},{"$f":"VLOOKUP(Precentación_Quejas[[#This Row],['# Queja]],Historico_Registro_Quejas3[#All],7,0)","v":"Huéspedes minutos después del check-in e ingreso de habitación reclaman porque se encuentran varios bombillos de la habitación quemados."},{"$f":"VLOOKUP(Precentación_Quejas[[#This Row],['# Queja]],Historico_Registro_Quejas3[#All],22,0)","v":"Limpieza en habitación"},{"$f":"VLOOKUP(Precentación_Quejas[[#This Row],[Payaso]],Tabla_Payasos[[Payasos]:[Columna1]],2,0)","v":8},1055,{"$f":"VLOOKUP(Precentación_Quejas[[#This Row],['# Queja]],Historico_Registro_Quejas3[[#All],['# Queja]:[Valoración]],15,0)","v":"Roja"}]
[{"$f":"VLOOKUP(Precentación_Quejas[[#This Row],['# Queja]],Historico_Registro_Quejas3[#All],4,0)","v":110},{"$f":"VLOOKUP(Precentación_Quejas[[#This Row],['# Queja]],Historico_Registro_Quejas3[#All],2,0)","v":"2018-11-21"},{"$f":"VLOOKUP(Precentación_Quejas[[#This Row],['# Queja]],Historico_Registro_Quejas3[#All],7,0)","v":"Huésped se queja porque considera que el hotel debería tener mejor y completa información en la habitación, por ejemplo horarios de restaurantes, menús, servicios del hotel,etc."},{"$f":"VLOOKUP(Precentación_Quejas[[#This Row],['# Queja]],Historico_Registro_Quejas3[#All],22,0)","v":"Publicidad doc Informativo"},{"$f":"VLOOKUP(Precentación_Quejas[[#This Row],[Payaso]],Tabla_Payasos[[Payasos]:[Columna1]],2,0)","v":2},1054,{"$f":"VLOOKUP(Precentación_Quejas[[#This Row],['# Queja]],Historico_Registro_Quejas3[[#All],['# Queja]:[Valoración]],15,0)","v":"Roja"}]
[{"$f":"VLOOKUP(Precentación_Quejas[[#This Row],['# Queja]],Historico_Registro_Quejas3[#All],4,0)","v":415},{"$f":"VLOOKUP(Precentación_Quejas[[#This Row],['# Queja]],Historico_Registro_Quejas3[#All],2,0)","v":"2018-11-21"},{"$f":"VLOOKUP(Precentación_Quejas[[#This Row],['# Queja]],Historico_Registro_Quejas3[#All],7,0)","v":"Favor cambiar el piso del restaurante ya que es muy resbaloso y peligroso."},{"$f":"VLOOKUP(Precentación_Quejas[[#This Row],['# Queja]],Historico_Registro_Quejas3[#All],22,0)","v":"Restaurante"},{"$f":"VLOOKUP(Precentación_Quejas[[#This Row],[Payaso]],Tabla_Payasos[[Payasos]:[Columna1]],2,0)","v":2},1053,{"$f":"VLOOKUP(Precentación_Quejas[[#This Row],['# Queja]],Historico_Registro_Quejas3[[#All],['# Queja]:[Valoración]],15,0)","v":"Roja"}]
[{"$f":"VLOOKUP(Precentación_Quejas[[#This Row],['# Queja]],Historico_Registro_Quejas3[#All],4,0)","v":205},{"$f":"VLOOKUP(Precentación_Quejas[[#This Row],['# Queja]],Historico_Registro_Quejas3[#All],2,0)","v":"2018-11-20"},{"$f":"VLOOKUP(Precentación_Quejas[[#This Row],['# Queja]],Historico_Registro_Quejas3[#All],7,0)","v":"Huésped se queja porque en el sanitario el agua sale constantemente y no hay alguna tapon que detenga el agua, esto le molesta porque en realidad el hotel no preserva el agua."},{"$f":"VLOOKUP(Precentación_Quejas[[#This Row],['# Queja]],Historico_Registro_Quejas3[#All],22,0)","v":"Limpieza en habitación"},{"$f":"VLOOKUP(Precentación_Quejas[[#This Row],[Payaso]],Tabla_Payasos[[Payasos]:[Columna1]],2,0)","v":8},1052,{"$f":"VLOOKUP(Precentación_Quejas[[#This Row],['# Queja]],Historico_Registro_Quejas3[[#All],['# Queja]:[Valoración]],15,0)","v":"Roja"}]
[{"$f":"VLOOKUP(Precentación_Quejas[[#This Row],['# Queja]],Historico_Registro_Quejas3[#All],4,0)","v":205},{"$f":"VLOOKUP(Precentación_Quejas[[#This Row],['# Queja]],Historico_Registro_Quejas3[#All],2,0)","v":"2018-11-20"},{"$f":"VLOOKUP(Precentación_Quejas[[#This Row],['# Queja]],Historico_Registro_Quejas3[#All],7,0)","v":"Restaurante con precios muy elevados."},{"$f":"VLOOKUP(Precentación_Quejas[[#This Row],['# Queja]],Historico_Registro_Quejas3[#All],22,0)","v":"Precios Comidas Italiano"},{"$f":"VLOOKUP(Precentación_Quejas[[#This Row],[Payaso]],Tabla_Payasos[[Payasos]:[Columna1]],2,0)","v":11},1051,{"$f":"VLOOKUP(Precentación_Quejas[[#This Row],['# Queja]],Historico_Registro_Quejas3[[#All],['# Queja]:[Valoración]],15,0)","v":"Roja"}]
[{"$f":"VLOOKUP(Precentación_Quejas[[#This Row],['# Queja]],Historico_Registro_Quejas3[#All],4,0)","v":205},{"$f":"VLOOKUP(Precentación_Quejas[[#This Row],['# Queja]],Historico_Registro_Quejas3[#All],2,0)","v":"2018-11-20"},{"$f":"VLOOKUP(Precentación_Quejas[[#This Row],['# Queja]],Historico_Registro_Quejas3[#All],7,0)","v":"Máquina de café y copas de la habitación se encontraban sucias."},{"$f":"VLOOKUP(Precentación_Quejas[[#This Row],['# Queja]],Historico_Registro_Quejas3[#All],22,0)","v":"Limpieza en habitación"},{"$f":"VLOOKUP(Precentación_Quejas[[#This Row],[Payaso]],Tabla_Payasos[[Payasos]:[Columna1]],2,0)","v":8},1050,{"$f":"VLOOKUP(Precentación_Quejas[[#This Row],['# Queja]],Historico_Registro_Quejas3[[#All],['# Queja]:[Valoración]],15,0)","v":"Roja"}]
[{"$f":"VLOOKUP(Precentación_Quejas[[#This Row],['# Queja]],Historico_Registro_Quejas3[#All],4,0)","v":710},{"$f":"VLOOKUP(Precentación_Quejas[[#This Row],['# Queja]],Historico_Registro_Quejas3[#All],2,0)","v":"2018-11-20"},{"$f":"VLOOKUP(Precentación_Quejas[[#This Row],['# Queja]],Historico_Registro_Quejas3[#All],7,0)","v":"Huéspedes extremadamente molestos al momento de llegar a la habitación se percatan del fuerte ruido de la construcción y deciden no bajarse de su auto hasta que se les dé otra habitación donde puedan estar tranquilos."},{"$f":"VLOOKUP(Precentación_Quejas[[#This Row],['# Queja]],Historico_Registro_Quejas3[#All],22,0)","v":"Ruido habitación"},{"$f":"VLOOKUP(Precentación_Quejas[[#This Row],[Payaso]],Tabla_Payasos[[Payasos]:[Columna1]],2,0)","v":15},1049,{"$f":"VLOOKUP(Precentación_Quejas[[#This Row],['# Queja]],Historico_Registro_Quejas3[[#All],['# Queja]:[Valoración]],15,0)","v":"Roja"}]
[{"$f":"VLOOKUP(Precentación_Quejas[[#This Row],['# Queja]],Historico_Registro_Quejas3[#All],4,0)","v":708},{"$f":"VLOOKUP(Precentación_Quejas[[#This Row],['# Queja]],Historico_Registro_Quejas3[#All],2,0)","v":"2018-11-19"},{"$f":"VLOOKUP(Precentación_Quejas[[#This Row],['# Queja]],Historico_Registro_Quejas3[#All],7,0)","v":"Huéspedes se quejan por ruido ocasionado por la construcción, llaman molestos indicando que así no es posible descansar ni vacacionar."},{"$f":"VLOOKUP(Precentación_Quejas[[#This Row],['# Queja]],Historico_Registro_Quejas3[#All],22,0)","v":"Ruido habitación"},{"$f":"VLOOKUP(Precentación_Quejas[[#This Row],[Payaso]],Tabla_Payasos[[Payasos]:[Columna1]],2,0)","v":15},1048,{"$f":"VLOOKUP(Precentación_Quejas[[#This Row],['# Queja]],Historico_Registro_Quejas3[[#All],['# Queja]:[Valoración]],15,0)","v":"Roja"}]
[{"$f":"VLOOKUP(Precentación_Quejas[[#This Row],['# Queja]],Historico_Registro_Quejas3[#All],4,0)","v":512},{"$f":"VLOOKUP(Precentación_Quejas[[#This Row],['# Queja]],Historico_Registro_Quejas3[#All],2,0)","v":"2018-11-19"},{"$f":"VLOOKUP(Precentación_Quejas[[#This Row],['# Queja]],Historico_Registro_Quejas3[#All],7,0)","v":"Huésped molesto porque el agua del jacuzzi no es caliente, practicamente lo que calienta es nulo y no se encuentra a gusto. Solicita revisar el funcionamiento del jacuzzi."},{"$f":"VLOOKUP(Precentación_Quejas[[#This Row],['# Queja]],Historico_Registro_Quejas3[#All],22,0)","v":"Jacuzzi"},{"$f":"VLOOKUP(Precentación_Quejas[[#This Row],[Payaso]],Tabla_Payasos[[Payasos]:[Columna1]],2,0)","v":4},1047,{"$f":"VLOOKUP(Precentación_Quejas[[#This Row],['# Queja]],Historico_Registro_Quejas3[[#All],['# Queja]:[Valoración]],15,0)","v":"Roja"}]
[{"$f":"VLOOKUP(Precentación_Quejas[[#This Row],['# Queja]],Historico_Registro_Quejas3[#All],4,0)","v":601},{"$f":"VLOOKUP(Precentación_Quejas[[#This Row],['# Queja]],Historico_Registro_Quejas3[#All],2,0)","v":"2018-11-19"},{"$f":"VLOOKUP(Precentación_Quejas[[#This Row],['# Queja]],Historico_Registro_Quejas3[#All],7,0)","v":"Huésped se queja del reloj alarma de las habitaciones, una vez que el botones va y lo configura todo bien pero al momento de que los huéspedes salen de su habitación se vuelve a desconfigurar, cuestionan como un reloj va estar parado y como pretenden que se use un reloj así."},{"$f":"VLOOKUP(Precentación_Quejas[[#This Row],['# Queja]],Historico_Registro_Quejas3[#All],22,0)","v":"Habitaciones"},{"$f":"VLOOKUP(Precentación_Quejas[[#This Row],[Payaso]],Tabla_Payasos[[Payasos]:[Columna1]],2,0)","v":54},1046,{"$f":"VLOOKUP(Precentación_Quejas[[#This Row],['# Queja]],Historico_Registro_Quejas3[[#All],['# Queja]:[Valoración]],15,0)","v":"Roja"}]
[{"$f":"VLOOKUP(Precentación_Quejas[[#This Row],['# Queja]],Historico_Registro_Quejas3[#All],4,0)","v":710},{"$f":"VLOOKUP(Precentación_Quejas[[#This Row],['# Queja]],Historico_Registro_Quejas3[#All],2,0)","v":"2018-11-18"},{"$f":"VLOOKUP(Precentación_Quejas[[#This Row],['# Queja]],Historico_Registro_Quejas3[#All],7,0)","v":"Huésped se queja de recepción, ya que faltó que les informaran que debían abrir crédito antes de usar las instalaciones."},{"$f":"VLOOKUP(Precentación_Quejas[[#This Row],['# Queja]],Historico_Registro_Quejas3[#All],22,0)","v":"N/A"},{"$f":"VLOOKUP(Precentación_Quejas[[#This Row],[Payaso]],Tabla_Payasos[[Payasos]:[Columna1]],2,0)","v":44},1045,{"$f":"VLOOKUP(Precentación_Quejas[[#This Row],['# Queja]],Historico_Registro_Quejas3[[#All],['# Queja]:[Valoración]],15,0)","v":"Desestimada"}]
[{"$f":"VLOOKUP(Precentación_Quejas[[#This Row],['# Queja]],Historico_Registro_Quejas3[#All],4,0)","v":703},{"$f":"VLOOKUP(Precentación_Quejas[[#This Row],['# Queja]],Historico_Registro_Quejas3[#All],2,0)","v":"2018-11-17"},{"$f":"VLOOKUP(Precentación_Quejas[[#This Row],['# Queja]],Historico_Registro_Quejas3[#All],7,0)","v":"Para las habitaciones de discapacitados poner la altura de la cama adecuada ya que es muy alta para una persona con discapacidad, debe de quedar al nivel de la silla de ruedas para poder llamarse una habitación de discapacitados."},{"$f":"VLOOKUP(Precentación_Quejas[[#This Row],['# Queja]],Historico_Registro_Quejas3[#All],22,0)","v":"Habitaciones"},{"$f":"VLOOKUP(Precentación_Quejas[[#This Row],[Payaso]],Tabla_Payasos[[Payasos]:[Columna1]],2,0)","v":54},1044,{"$f":"VLOOKUP(Precentación_Quejas[[#This Row],['# Queja]],Historico_Registro_Quejas3[[#All],['# Queja]:[Valoración]],15,0)","v":"Roja"}]
[{"$f":"VLOOKUP(Precentación_Quejas[[#This Row],['# Queja]],Historico_Registro_Quejas3[#All],4,0)","v":205},{"$f":"VLOOKUP(Precentación_Quejas[[#This Row],['# Queja]],Historico_Registro_Quejas3[#All],2,0)","v":"2018-11-18"},{"$f":"VLOOKUP(Precentación_Quejas[[#This Row],['# Queja]],Historico_Registro_Quejas3[#All],7,0)","v":"Huésped llama muy enojado a Recepción porque en la habitación no hay un tapón para el lavatorio, el nos dice que necesita afeitarse y que es necesario para él llenar el lavatorio hasta arriba, pide que le solucionen inmediatamente y solicita al siguiente día una cita con el gerente."},{"$f":"VLOOKUP(Precentación_Quejas[[#This Row],['# Queja]],Historico_Registro_Quejas3[#All],22,0)","v":"Habitaciones"},{"$f":"VLOOKUP(Precentación_Quejas[[#This Row],[Payaso]],Tabla_Payasos[[Payasos]:[Columna1]],2,0)","v":54},1043,{"$f":"VLOOKUP(Precentación_Quejas[[#This Row],['# Queja]],Historico_Registro_Quejas3[[#All],['# Queja]:[Valoración]],15,0)","v":"Roja"}]
[{"$f":"VLOOKUP(Precentación_Quejas[[#This Row],['# Queja]],Historico_Registro_Quejas3[#All],4,0)","v":901},{"$f":"VLOOKUP(Precentación_Quejas[[#This Row],['# Queja]],Historico_Registro_Quejas3[#All],2,0)","v":"2018-11-18"},{"$f":"VLOOKUP(Precentación_Quejas[[#This Row],['# Queja]],Historico_Registro_Quejas3[#All],7,0)","v":"Huésped extremadamente molesto reclama que viene desde Florida y que el A/C de la habitación no enfría, a pesar de reportarlo en la mañana para la noche el aire seguía igual y eso lo tenía muy decepcionado, él comenta que no tiene porque pagar los errores del hotel ya que al momento de llegar mantenimiento le dijeron que el A/C así era como trabajaba ya que no era un aire moderno."},{"$f":"VLOOKUP(Precentación_Quejas[[#This Row],['# Queja]],Historico_Registro_Quejas3[#All],22,0)","v":"A/C"},{"$f":"VLOOKUP(Precentación_Quejas[[#This Row],[Payaso]],Tabla_Payasos[[Payasos]:[Columna1]],2,0)","v":25},1042,{"$f":"VLOOKUP(Precentación_Quejas[[#This Row],['# Queja]],Historico_Registro_Quejas3[[#All],['# Queja]:[Valoración]],15,0)","v":"Roja"}]
[{"$f":"VLOOKUP(Precentación_Quejas[[#This Row],['# Queja]],Historico_Registro_Quejas3[#All],4,0)","v":711},{"$f":"VLOOKUP(Precentación_Quejas[[#This Row],['# Queja]],Historico_Registro_Quejas3[#All],2,0)","v":"2018-11-17"},{"$f":"VLOOKUP(Precentación_Quejas[[#This Row],['# Queja]],Historico_Registro_Quejas3[#All],7,0)","v":"Compañero botones reporta que la hab al ser entregada tenía un fuerte olor a pintura y que esto incomodó un poco a los huéspedes cuando estaban entrando a la hab."},{"$f":"VLOOKUP(Precentación_Quejas[[#This Row],['# Queja]],Historico_Registro_Quejas3[#All],22,0)","v":"Habitaciones"},{"$f":"VLOOKUP(Precentación_Quejas[[#This Row],[Payaso]],Tabla_Payasos[[Payasos]:[Columna1]],2,0)","v":54},1041,{"$f":"VLOOKUP(Precentación_Quejas[[#This Row],['# Queja]],Historico_Registro_Quejas3[[#All],['# Queja]:[Valoración]],15,0)","v":"Roja"}]
[{"$f":"VLOOKUP(Precentación_Quejas[[#This Row],['# Queja]],Historico_Registro_Quejas3[#All],4,0)","v":111},{"$f":"VLOOKUP(Precentación_Quejas[[#This Row],['# Queja]],Historico_Registro_Quejas3[#All],2,0)","v":"2018-11-18"},{"$f":"VLOOKUP(Precentación_Quejas[[#This Row],['# Queja]],Historico_Registro_Quejas3[#All],7,0)","v":"Botones Jason reporta que la hab 111 al momento de ser entregada se encontraba con varias partes del baño mojadas y con extractos de jabón en una de las paredes, esto fue percibido por los huéspedes los cuales inmediatamente se mostraron molestos alegando que querían una hab que estuviera en condiciones y que no pareciera sucia."},{"$f":"VLOOKUP(Precentación_Quejas[[#This Row],['# Queja]],Historico_Registro_Quejas3[#All],22,0)","v":"Habitaciones"},{"$f":"VLOOKUP(Precentación_Quejas[[#This Row],[Payaso]],Tabla_Payasos[[Payasos]:[Columna1]],2,0)","v":54},1040,{"$f":"VLOOKUP(Precentación_Quejas[[#This Row],['# Queja]],Historico_Registro_Quejas3[[#All],['# Queja]:[Valoración]],15,0)","v":"Roja"}]
[{"$f":"VLOOKUP(Precentación_Quejas[[#This Row],['# Queja]],Historico_Registro_Quejas3[#All],4,0)","v":0},{"$f":"VLOOKUP(Precentación_Quejas[[#This Row],['# Queja]],Historico_Registro_Quejas3[#All],2,0)","v":"2018-11-18"},{"$f":"VLOOKUP(Precentación_Quejas[[#This Row],['# Queja]],Historico_Registro_Quejas3[#All],7,0)","v":"00:00:00"},{"$f":"VLOOKUP(Precentación_Quejas[[#This Row],['# Queja]],Historico_Registro_Quejas3[#All],22,0)","v":"N/A"},{"$f":"VLOOKUP(Precentación_Quejas[[#This Row],[Payaso]],Tabla_Payasos[[Payasos]:[Columna1]],2,0)","v":44},1039,{"$f":"VLOOKUP(Precentación_Quejas[[#This Row],['# Queja]],Historico_Registro_Quejas3[[#All],['# Queja]:[Valoración]],15,0)","v":"Desestimada"}]
[{"$f":"VLOOKUP(Precentación_Quejas[[#This Row],['# Queja]],Historico_Registro_Quejas3[#All],4,0)","v":602},{"$f":"VLOOKUP(Precentación_Quejas[[#This Row],['# Queja]],Historico_Registro_Quejas3[#All],2,0)","v":"2018-11-16"},{"$f":"VLOOKUP(Precentación_Quejas[[#This Row],['# Queja]],Historico_Registro_Quejas3[#All],7,0)","v":"Huésped se queja debido a que considera debemos mejorar a la hora de brindar información, otros huéspedes tuvieron que decirme como funcionaba el servicio de lavandería, me dí cuenta de las clases de yoga muy tarde, quería usar el SPA pero nunca me dieron información de los precios o como reservar."},{"$f":"VLOOKUP(Precentación_Quejas[[#This Row],['# Queja]],Historico_Registro_Quejas3[#All],22,0)","v":"Servicio cliente recepción"},{"$f":"VLOOKUP(Precentación_Quejas[[#This Row],[Payaso]],Tabla_Payasos[[Payasos]:[Columna1]],2,0)","v":14},1038,{"$f":"VLOOKUP(Precentación_Quejas[[#This Row],['# Queja]],Historico_Registro_Quejas3[[#All],['# Queja]:[Valoración]],15,0)","v":"Roja"}]
[{"$f":"VLOOKUP(Precentación_Quejas[[#This Row],['# Queja]],Historico_Registro_Quejas3[#All],4,0)","v":504},{"$f":"VLOOKUP(Precentación_Quejas[[#This Row],['# Queja]],Historico_Registro_Quejas3[#All],2,0)","v":"2018-11-17"},{"$f":"VLOOKUP(Precentación_Quejas[[#This Row],['# Queja]],Historico_Registro_Quejas3[#All],7,0)","v":"Precios de los vinos cuestan el doble de lo que hemos pagado en todo lado, y son de calidad inferior."},{"$f":"VLOOKUP(Precentación_Quejas[[#This Row],['# Queja]],Historico_Registro_Quejas3[#All],22,0)","v":"N/A"},{"$f":"VLOOKUP(Precentación_Quejas[[#This Row],[Payaso]],Tabla_Payasos[[Payasos]:[Columna1]],2,0)","v":44},1037,{"$f":"VLOOKUP(Precentación_Quejas[[#This Row],['# Queja]],Historico_Registro_Quejas3[[#All],['# Queja]:[Valoración]],15,0)","v":"Desestimada"}]
[{"$f":"VLOOKUP(Precentación_Quejas[[#This Row],['# Queja]],Historico_Registro_Quejas3[#All],4,0)","v":301},{"$f":"VLOOKUP(Precentación_Quejas[[#This Row],['# Queja]],Historico_Registro_Quejas3[#All],2,0)","v":"2018-11-17"},{"$f":"VLOOKUP(Precentación_Quejas[[#This Row],['# Queja]],Historico_Registro_Quejas3[#All],7,0)","v":"Huésped se queja por la secadora de pelo, no calienta correctamente."},{"$f":"VLOOKUP(Precentación_Quejas[[#This Row],['# Queja]],Historico_Registro_Quejas3[#All],22,0)","v":"Habitaciones"},{"$f":"VLOOKUP(Precentación_Quejas[[#This Row],[Payaso]],Tabla_Payasos[[Payasos]:[Columna1]],2,0)","v":54},1036,{"$f":"VLOOKUP(Precentación_Quejas[[#This Row],['# Queja]],Historico_Registro_Quejas3[[#All],['# Queja]:[Valoración]],15,0)","v":"Amarilla"}]
[{"$f":"VLOOKUP(Precentación_Quejas[[#This Row],['# Queja]],Historico_Registro_Quejas3[#All],4,0)","v":305},{"$f":"VLOOKUP(Precentación_Quejas[[#This Row],['# Queja]],Historico_Registro_Quejas3[#All],2,0)","v":"2018-11-10"},{"$f":"VLOOKUP(Precentación_Quejas[[#This Row],['# Queja]],Historico_Registro_Quejas3[#All],7,0)","v":"Huésped sugiere que el hotel podría mejorar si tuviera la opción de TODO INCLUIDO."},{"$f":"VLOOKUP(Precentación_Quejas[[#This Row],['# Queja]],Historico_Registro_Quejas3[#All],22,0)","v":"N/A"},{"$f":"VLOOKUP(Precentación_Quejas[[#This Row],[Payaso]],Tabla_Payasos[[Payasos]:[Columna1]],2,0)","v":44},1035,{"$f":"VLOOKUP(Precentación_Quejas[[#This Row],['# Queja]],Historico_Registro_Quejas3[[#All],['# Queja]:[Valoración]],15,0)","v":"Desestimada"}]
[{"$f":"VLOOKUP(Precentación_Quejas[[#This Row],['# Queja]],Historico_Registro_Quejas3[#All],4,0)","v":606},{"$f":"VLOOKUP(Precentación_Quejas[[#This Row],['# Queja]],Historico_Registro_Quejas3[#All],2,0)","v":"2018-11-17"},{"$f":"VLOOKUP(Precentación_Quejas[[#This Row],['# Queja]],Historico_Registro_Quejas3[#All],7,0)","v":"Huésped se queja porque considera que el espejo grande en frente del sanitario debe de estar en la habitación y que ademas hacen falta mas ganchos para colocar la ropa."},{"$f":"VLOOKUP(Precentación_Quejas[[#This Row],['# Queja]],Historico_Registro_Quejas3[#All],22,0)","v":"Habitaciones"},{"$f":"VLOOKUP(Precentación_Quejas[[#This Row],[Payaso]],Tabla_Payasos[[Payasos]:[Columna1]],2,0)","v":54},1034,{"$f":"VLOOKUP(Precentación_Quejas[[#This Row],['# Queja]],Historico_Registro_Quejas3[[#All],['# Queja]:[Valoración]],15,0)","v":"Roja"}]
[{"$f":"VLOOKUP(Precentación_Quejas[[#This Row],['# Queja]],Historico_Registro_Quejas3[#All],4,0)","v":207},{"$f":"VLOOKUP(Precentación_Quejas[[#This Row],['# Queja]],Historico_Registro_Quejas3[#All],2,0)","v":"2018-11-16"},{"$f":"VLOOKUP(Precentación_Quejas[[#This Row],['# Queja]],Historico_Registro_Quejas3[#All],7,0)","v":"Las cajas fuertes de las habitaciones 201,207,209 y 205 necesitan ser reparadas."},{"$f":"VLOOKUP(Precentación_Quejas[[#This Row],['# Queja]],Historico_Registro_Quejas3[#All],22,0)","v":"Habitaciones"},{"$f":"VLOOKUP(Precentación_Quejas[[#This Row],[Payaso]],Tabla_Payasos[[Payasos]:[Columna1]],2,0)","v":54},1033,{"$f":"VLOOKUP(Precentación_Quejas[[#This Row],['# Queja]],Historico_Registro_Quejas3[[#All],['# Queja]:[Valoración]],15,0)","v":"Amarilla"}]
[{"$f":"VLOOKUP(Precentación_Quejas[[#This Row],['# Queja]],Historico_Registro_Quejas3[#All],4,0)","v":201},{"$f":"VLOOKUP(Precentación_Quejas[[#This Row],['# Queja]],Historico_Registro_Quejas3[#All],2,0)","v":"2018-11-16"},{"$f":"VLOOKUP(Precentación_Quejas[[#This Row],['# Queja]],Historico_Registro_Quejas3[#All],7,0)","v":"Huésped se queja de la atención y el mismo dice que tuvo problemas para que las ordenes individuales estuvieran correctas."},{"$f":"VLOOKUP(Precentación_Quejas[[#This Row],['# Queja]],Historico_Registro_Quejas3[#All],22,0)","v":"Servicio cliente restaurante "},{"$f":"VLOOKUP(Precentación_Quejas[[#This Row],[Payaso]],Tabla_Payasos[[Payasos]:[Columna1]],2,0)","v":25},1032,{"$f":"VLOOKUP(Precentación_Quejas[[#This Row],['# Queja]],Historico_Registro_Quejas3[[#All],['# Queja]:[Valoración]],15,0)","v":"Roja"}]
[{"$f":"VLOOKUP(Precentación_Quejas[[#This Row],['# Queja]],Historico_Registro_Quejas3[#All],4,0)","v":708},{"$f":"VLOOKUP(Precentación_Quejas[[#This Row],['# Queja]],Historico_Registro_Quejas3[#All],2,0)","v":"2018-11-15"},{"$f":"VLOOKUP(Precentación_Quejas[[#This Row],['# Queja]],Historico_Registro_Quejas3[#All],7,0)","v":"Aire acondicionado no enfriaba en lo absoluto."},{"$f":"VLOOKUP(Precentación_Quejas[[#This Row],['# Queja]],Historico_Registro_Quejas3[#All],22,0)","v":"A/C"},{"$f":"VLOOKUP(Precentación_Quejas[[#This Row],[Payaso]],Tabla_Payasos[[Payasos]:[Columna1]],2,0)","v":25},1031,{"$f":"VLOOKUP(Precentación_Quejas[[#This Row],['# Queja]],Historico_Registro_Quejas3[[#All],['# Queja]:[Valoración]],15,0)","v":"Roja"}]
[{"$f":"VLOOKUP(Precentación_Quejas[[#This Row],['# Queja]],Historico_Registro_Quejas3[#All],4,0)","v":802},{"$f":"VLOOKUP(Precentación_Quejas[[#This Row],['# Queja]],Historico_Registro_Quejas3[#All],2,0)","v":"2018-11-15"},{"$f":"VLOOKUP(Precentación_Quejas[[#This Row],['# Queja]],Historico_Registro_Quejas3[#All],7,0)","v":"Huésped se queja debido a que el bartender en el  bar húmedo fue muy rápido para aumentar las ventas y eso se malinterpreta."},{"$f":"VLOOKUP(Precentación_Quejas[[#This Row],['# Queja]],Historico_Registro_Quejas3[#All],22,0)","v":"Servicio cliente bar humedo"},{"$f":"VLOOKUP(Precentación_Quejas[[#This Row],[Payaso]],Tabla_Payasos[[Payasos]:[Columna1]],2,0)","v":5},1030,{"$f":"VLOOKUP(Precentación_Quejas[[#This Row],['# Queja]],Historico_Registro_Quejas3[[#All],['# Queja]:[Valoración]],15,0)","v":"Roja"}]
[{"$f":"VLOOKUP(Precentación_Quejas[[#This Row],['# Queja]],Historico_Registro_Quejas3[#All],4,0)","v":802},{"$f":"VLOOKUP(Precentación_Quejas[[#This Row],['# Queja]],Historico_Registro_Quejas3[#All],2,0)","v":"2018-11-15"},{"$f":"VLOOKUP(Precentación_Quejas[[#This Row],['# Queja]],Historico_Registro_Quejas3[#All],7,0)","v":"Wifi no funcionó en la habitación."},{"$f":"VLOOKUP(Precentación_Quejas[[#This Row],['# Queja]],Historico_Registro_Quejas3[#All],22,0)","v":"Wifi"},{"$f":"VLOOKUP(Precentación_Quejas[[#This Row],[Payaso]],Tabla_Payasos[[Payasos]:[Columna1]],2,0)","v":23},1029,{"$f":"VLOOKUP(Precentación_Quejas[[#This Row],['# Queja]],Historico_Registro_Quejas3[[#All],['# Queja]:[Valoración]],15,0)","v":"Desestimada"}]
[{"$f":"VLOOKUP(Precentación_Quejas[[#This Row],['# Queja]],Historico_Registro_Quejas3[#All],4,0)","v":801},{"$f":"VLOOKUP(Precentación_Quejas[[#This Row],['# Queja]],Historico_Registro_Quejas3[#All],2,0)","v":"2018-11-15"},{"$f":"VLOOKUP(Precentación_Quejas[[#This Row],['# Queja]],Historico_Registro_Quejas3[#All],7,0)","v":"El personal del bar húmedo fue muy insistente y presionaba para que comparamos más, ante cada oportunidad querían aumentar la venta."},{"$f":"VLOOKUP(Precentación_Quejas[[#This Row],['# Queja]],Historico_Registro_Quejas3[#All],22,0)","v":"Servicio cliente bar humedo"},{"$f":"VLOOKUP(Precentación_Quejas[[#This Row],[Payaso]],Tabla_Payasos[[Payasos]:[Columna1]],2,0)","v":5},1028,{"$f":"VLOOKUP(Precentación_Quejas[[#This Row],['# Queja]],Historico_Registro_Quejas3[[#All],['# Queja]:[Valoración]],15,0)","v":"Roja"}]
[{"$f":"VLOOKUP(Precentación_Quejas[[#This Row],['# Queja]],Historico_Registro_Quejas3[#All],4,0)","v":601},{"$f":"VLOOKUP(Precentación_Quejas[[#This Row],['# Queja]],Historico_Registro_Quejas3[#All],2,0)","v":"2018-11-15"},{"$f":"VLOOKUP(Precentación_Quejas[[#This Row],['# Queja]],Historico_Registro_Quejas3[#All],7,0)","v":"Las llaves de la habitación no funcionaban, tuve que ir a recepción a resetearlas."},{"$f":"VLOOKUP(Precentación_Quejas[[#This Row],['# Queja]],Historico_Registro_Quejas3[#All],22,0)","v":"Servicio cliente recepción"},{"$f":"VLOOKUP(Precentación_Quejas[[#This Row],[Payaso]],Tabla_Payasos[[Payasos]:[Columna1]],2,0)","v":14},1027,{"$f":"VLOOKUP(Precentación_Quejas[[#This Row],['# Queja]],Historico_Registro_Quejas3[[#All],['# Queja]:[Valoración]],15,0)","v":"Roja"}]
[{"$f":"VLOOKUP(Precentación_Quejas[[#This Row],['# Queja]],Historico_Registro_Quejas3[#All],4,0)","v":408},{"$f":"VLOOKUP(Precentación_Quejas[[#This Row],['# Queja]],Historico_Registro_Quejas3[#All],2,0)","v":"2018-11-13"},{"$f":"VLOOKUP(Precentación_Quejas[[#This Row],['# Queja]],Historico_Registro_Quejas3[#All],7,0)","v":"Huésped se queja por el mal funcionamiento del telefono, èl necesitaba una wake-up call y tambien llamar a recepción y a pesar de que se le dijo que lo estaban arreglando al llegar de tour no se encontraba reparado."},{"$f":"VLOOKUP(Precentación_Quejas[[#This Row],['# Queja]],Historico_Registro_Quejas3[#All],22,0)","v":"Central telefonica"},{"$f":"VLOOKUP(Precentación_Quejas[[#This Row],[Payaso]],Tabla_Payasos[[Payasos]:[Columna1]],2,0)","v":16},1026,{"$f":"VLOOKUP(Precentación_Quejas[[#This Row],['# Queja]],Historico_Registro_Quejas3[[#All],['# Queja]:[Valoración]],15,0)","v":"Roja"}]
[{"$f":"VLOOKUP(Precentación_Quejas[[#This Row],['# Queja]],Historico_Registro_Quejas3[#All],4,0)","v":415},{"$f":"VLOOKUP(Precentación_Quejas[[#This Row],['# Queja]],Historico_Registro_Quejas3[#All],2,0)","v":"2018-11-14"},{"$f":"VLOOKUP(Precentación_Quejas[[#This Row],['# Queja]],Historico_Registro_Quejas3[#All],7,0)","v":"Colaborador Oscar nos reporta que en varias ocasiones los huéspedes han comentado acerca del estado de la llave para drenar el jacuzzi la cual se encuentra afuera de la habitación. ( llave herrumbrada y en un mal estado)"},{"$f":"VLOOKUP(Precentación_Quejas[[#This Row],['# Queja]],Historico_Registro_Quejas3[#All],22,0)","v":"Jacuzzi"},{"$f":"VLOOKUP(Precentación_Quejas[[#This Row],[Payaso]],Tabla_Payasos[[Payasos]:[Columna1]],2,0)","v":4},1025,{"$f":"VLOOKUP(Precentación_Quejas[[#This Row],['# Queja]],Historico_Registro_Quejas3[[#All],['# Queja]:[Valoración]],15,0)","v":"Roja"}]
[{"$f":"VLOOKUP(Precentación_Quejas[[#This Row],['# Queja]],Historico_Registro_Quejas3[#All],4,0)","v":709},{"$f":"VLOOKUP(Precentación_Quejas[[#This Row],['# Queja]],Historico_Registro_Quejas3[#All],2,0)","v":"2018-11-12"},{"$f":"VLOOKUP(Precentación_Quejas[[#This Row],['# Queja]],Historico_Registro_Quejas3[#All],7,0)","v":"precios muy caros a nuestra opinión."},{"$f":"VLOOKUP(Precentación_Quejas[[#This Row],['# Queja]],Historico_Registro_Quejas3[#All],22,0)","v":"Precios Souvenir"},{"$f":"VLOOKUP(Precentación_Quejas[[#This Row],[Payaso]],Tabla_Payasos[[Payasos]:[Columna1]],2,0)","v":3},1024,{"$f":"VLOOKUP(Precentación_Quejas[[#This Row],['# Queja]],Historico_Registro_Quejas3[[#All],['# Queja]:[Valoración]],15,0)","v":"Roja"}]
[{"$f":"VLOOKUP(Precentación_Quejas[[#This Row],['# Queja]],Historico_Registro_Quejas3[#All],4,0)","v":"N/A"},{"$f":"VLOOKUP(Precentación_Quejas[[#This Row],['# Queja]],Historico_Registro_Quejas3[#All],2,0)","v":"2018-11-12"},{"$f":"VLOOKUP(Precentación_Quejas[[#This Row],['# Queja]],Historico_Registro_Quejas3[#All],7,0)","v":"En el italiano las pizzas son grandes pero las ensaladas vienen pequeñas. Hacer hincapié en eso."},{"$f":"VLOOKUP(Precentación_Quejas[[#This Row],['# Queja]],Historico_Registro_Quejas3[#All],22,0)","v":"Precios"},{"$f":"VLOOKUP(Precentación_Quejas[[#This Row],[Payaso]],Tabla_Payasos[[Payasos]:[Columna1]],2,0)","v":5},1023,{"$f":"VLOOKUP(Precentación_Quejas[[#This Row],['# Queja]],Historico_Registro_Quejas3[[#All],['# Queja]:[Valoración]],15,0)","v":"Roja"}]
[{"$f":"VLOOKUP(Precentación_Quejas[[#This Row],['# Queja]],Historico_Registro_Quejas3[#All],4,0)","v":"N/A"},{"$f":"VLOOKUP(Precentación_Quejas[[#This Row],['# Queja]],Historico_Registro_Quejas3[#All],2,0)","v":"2018-11-12"},{"$f":"VLOOKUP(Precentación_Quejas[[#This Row],['# Queja]],Historico_Registro_Quejas3[#All],7,0)","v":"El bar de pileta nos pareció con precios un poco elevados y poca variedad"},{"$f":"VLOOKUP(Precentación_Quejas[[#This Row],['# Queja]],Historico_Registro_Quejas3[#All],22,0)","v":"Precios"},{"$f":"VLOOKUP(Precentación_Quejas[[#This Row],[Payaso]],Tabla_Payasos[[Payasos]:[Columna1]],2,0)","v":5},1022,{"$f":"VLOOKUP(Precentación_Quejas[[#This Row],['# Queja]],Historico_Registro_Quejas3[[#All],['# Queja]:[Valoración]],15,0)","v":"Roja"}]
[{"$f":"VLOOKUP(Precentación_Quejas[[#This Row],['# Queja]],Historico_Registro_Quejas3[#All],4,0)","v":903},{"$f":"VLOOKUP(Precentación_Quejas[[#This Row],['# Queja]],Historico_Registro_Quejas3[#All],2,0)","v":"2018-11-11"},{"$f":"VLOOKUP(Precentación_Quejas[[#This Row],['# Queja]],Historico_Registro_Quejas3[#All],7,0)","v":"El cliente dice que el salonero le vendió a la fuerza una botella de vino de $145 , dice que lo presionó cuando él llegó a cenar ya le tenía esa botella fría en lugar de mostrarle el menú."},{"$f":"VLOOKUP(Precentación_Quejas[[#This Row],['# Queja]],Historico_Registro_Quejas3[#All],22,0)","v":"Servicio cliente restaurante "},{"$f":"VLOOKUP(Precentación_Quejas[[#This Row],[Payaso]],Tabla_Payasos[[Payasos]:[Columna1]],2,0)","v":25},1021,{"$f":"VLOOKUP(Precentación_Quejas[[#This Row],['# Queja]],Historico_Registro_Quejas3[[#All],['# Queja]:[Valoración]],15,0)","v":"Roja"}]
[{"$f":"VLOOKUP(Precentación_Quejas[[#This Row],['# Queja]],Historico_Registro_Quejas3[#All],4,0)","v":208},{"$f":"VLOOKUP(Precentación_Quejas[[#This Row],['# Queja]],Historico_Registro_Quejas3[#All],2,0)","v":"2018-11-11"},{"$f":"VLOOKUP(Precentación_Quejas[[#This Row],['# Queja]],Historico_Registro_Quejas3[#All],7,0)","v":"NO HAY SEÑAL DE CABLE "},{"$f":"VLOOKUP(Precentación_Quejas[[#This Row],['# Queja]],Historico_Registro_Quejas3[#All],22,0)","v":"Señal TV"},{"$f":"VLOOKUP(Precentación_Quejas[[#This Row],[Payaso]],Tabla_Payasos[[Payasos]:[Columna1]],2,0)","v":4},1020,{"$f":"VLOOKUP(Precentación_Quejas[[#This Row],['# Queja]],Historico_Registro_Quejas3[[#All],['# Queja]:[Valoración]],15,0)","v":"Roja"}]
[{"$f":"VLOOKUP(Precentación_Quejas[[#This Row],['# Queja]],Historico_Registro_Quejas3[#All],4,0)","v":609},{"$f":"VLOOKUP(Precentación_Quejas[[#This Row],['# Queja]],Historico_Registro_Quejas3[#All],2,0)","v":"2018-11-08"},{"$f":"VLOOKUP(Precentación_Quejas[[#This Row],['# Queja]],Historico_Registro_Quejas3[#All],7,0)","v":"Señal de televisión muy mala."},{"$f":"VLOOKUP(Precentación_Quejas[[#This Row],['# Queja]],Historico_Registro_Quejas3[#All],22,0)","v":"Señal TV"},{"$f":"VLOOKUP(Precentación_Quejas[[#This Row],[Payaso]],Tabla_Payasos[[Payasos]:[Columna1]],2,0)","v":4},1019,{"$f":"VLOOKUP(Precentación_Quejas[[#This Row],['# Queja]],Historico_Registro_Quejas3[[#All],['# Queja]:[Valoración]],15,0)","v":"Roja"}]
[{"$f":"VLOOKUP(Precentación_Quejas[[#This Row],['# Queja]],Historico_Registro_Quejas3[#All],4,0)","v":212},{"$f":"VLOOKUP(Precentación_Quejas[[#This Row],['# Queja]],Historico_Registro_Quejas3[#All],2,0)","v":"2018-11-08"},{"$f":"VLOOKUP(Precentación_Quejas[[#This Row],['# Queja]],Historico_Registro_Quejas3[#All],7,0)","v":"Huéspedes se quejan por el pésimo servicio de cable, la imagen se ve fatal y estan muy decepcionados de un hotel 4 estrellas con televisión por cable tan mala."},{"$f":"VLOOKUP(Precentación_Quejas[[#This Row],['# Queja]],Historico_Registro_Quejas3[#All],22,0)","v":"Señal TV"},{"$f":"VLOOKUP(Precentación_Quejas[[#This Row],[Payaso]],Tabla_Payasos[[Payasos]:[Columna1]],2,0)","v":4},1018,{"$f":"VLOOKUP(Precentación_Quejas[[#This Row],['# Queja]],Historico_Registro_Quejas3[[#All],['# Queja]:[Valoración]],15,0)","v":"Roja"}]
[{"$f":"VLOOKUP(Precentación_Quejas[[#This Row],['# Queja]],Historico_Registro_Quejas3[#All],4,0)","v":701},{"$f":"VLOOKUP(Precentación_Quejas[[#This Row],['# Queja]],Historico_Registro_Quejas3[#All],2,0)","v":"2018-11-07"},{"$f":"VLOOKUP(Precentación_Quejas[[#This Row],['# Queja]],Historico_Registro_Quejas3[#All],7,0)","v":"Huésped se queja porque no hay silla en la habitación y porque el lavatorio es muy pequeño."},{"$f":"VLOOKUP(Precentación_Quejas[[#This Row],['# Queja]],Historico_Registro_Quejas3[#All],22,0)","v":"Silla en habitación"},{"$f":"VLOOKUP(Precentación_Quejas[[#This Row],[Payaso]],Tabla_Payasos[[Payasos]:[Columna1]],2,0)","v":13},1017,{"$f":"VLOOKUP(Precentación_Quejas[[#This Row],['# Queja]],Historico_Registro_Quejas3[[#All],['# Queja]:[Valoración]],15,0)","v":"Roja"}]
[{"$f":"VLOOKUP(Precentación_Quejas[[#This Row],['# Queja]],Historico_Registro_Quejas3[#All],4,0)","v":205},{"$f":"VLOOKUP(Precentación_Quejas[[#This Row],['# Queja]],Historico_Registro_Quejas3[#All],2,0)","v":"2018-11-04"},{"$f":"VLOOKUP(Precentación_Quejas[[#This Row],['# Queja]],Historico_Registro_Quejas3[#All],7,0)","v":"Huésped se queja porque no encontró menu libre de gluten en los restaurantes y además expresa que debe existir una preparacion y capacitación del personal para atender personas celiacas."},{"$f":"VLOOKUP(Precentación_Quejas[[#This Row],['# Queja]],Historico_Registro_Quejas3[#All],22,0)","v":"Menú Celiacos"},{"$f":"VLOOKUP(Precentación_Quejas[[#This Row],[Payaso]],Tabla_Payasos[[Payasos]:[Columna1]],2,0)","v":7},1016,{"$f":"VLOOKUP(Precentación_Quejas[[#This Row],['# Queja]],Historico_Registro_Quejas3[[#All],['# Queja]:[Valoración]],15,0)","v":"Roja"}]
[{"$f":"VLOOKUP(Precentación_Quejas[[#This Row],['# Queja]],Historico_Registro_Quejas3[#All],4,0)","v":415},{"$f":"VLOOKUP(Precentación_Quejas[[#This Row],['# Queja]],Historico_Registro_Quejas3[#All],2,0)","v":"2018-11-06"},{"$f":"VLOOKUP(Precentación_Quejas[[#This Row],['# Queja]],Historico_Registro_Quejas3[#All],7,0)","v":"Huésped se queja porque considera que el hotel debería rellenar el mini bar diariamente."},{"$f":"VLOOKUP(Precentación_Quejas[[#This Row],['# Queja]],Historico_Registro_Quejas3[#All],22,0)","v":"N/A"},{"$f":"VLOOKUP(Precentación_Quejas[[#This Row],[Payaso]],Tabla_Payasos[[Payasos]:[Columna1]],2,0)","v":44},1015,{"$f":"VLOOKUP(Precentación_Quejas[[#This Row],['# Queja]],Historico_Registro_Quejas3[[#All],['# Queja]:[Valoración]],15,0)","v":"Desestimada"}]
[{"$f":"VLOOKUP(Precentación_Quejas[[#This Row],['# Queja]],Historico_Registro_Quejas3[#All],4,0)","v":414},{"$f":"VLOOKUP(Precentación_Quejas[[#This Row],['# Queja]],Historico_Registro_Quejas3[#All],2,0)","v":"2018-11-06"},{"$f":"VLOOKUP(Precentación_Quejas[[#This Row],['# Queja]],Historico_Registro_Quejas3[#All],7,0)","v":"Huésped se queja por el tamaño de las barras de jabón, solicita sean mas grandes."},{"$f":"VLOOKUP(Precentación_Quejas[[#This Row],['# Queja]],Historico_Registro_Quejas3[#All],22,0)","v":"N/A"},{"$f":"VLOOKUP(Precentación_Quejas[[#This Row],[Payaso]],Tabla_Payasos[[Payasos]:[Columna1]],2,0)","v":44},1014,{"$f":"VLOOKUP(Precentación_Quejas[[#This Row],['# Queja]],Historico_Registro_Quejas3[[#All],['# Queja]:[Valoración]],15,0)","v":"Desestimada"}]
[{"$f":"VLOOKUP(Precentación_Quejas[[#This Row],['# Queja]],Historico_Registro_Quejas3[#All],4,0)","v":403},{"$f":"VLOOKUP(Precentación_Quejas[[#This Row],['# Queja]],Historico_Registro_Quejas3[#All],2,0)","v":"2018-11-04"},{"$f":"VLOOKUP(Precentación_Quejas[[#This Row],['# Queja]],Historico_Registro_Quejas3[#All],7,0)","v":"Huésped se queja porque la persona encargada de entregar toallas no se encontraba cuando llegó por su toalla."},{"$f":"VLOOKUP(Precentación_Quejas[[#This Row],['# Queja]],Historico_Registro_Quejas3[#All],22,0)","v":"Lockers"},{"$f":"VLOOKUP(Precentación_Quejas[[#This Row],[Payaso]],Tabla_Payasos[[Payasos]:[Columna1]],2,0)","v":4},1013,{"$f":"VLOOKUP(Precentación_Quejas[[#This Row],['# Queja]],Historico_Registro_Quejas3[[#All],['# Queja]:[Valoración]],15,0)","v":"Roja"}]
[{"$f":"VLOOKUP(Precentación_Quejas[[#This Row],['# Queja]],Historico_Registro_Quejas3[#All],4,0)","v":209},{"$f":"VLOOKUP(Precentación_Quejas[[#This Row],['# Queja]],Historico_Registro_Quejas3[#All],2,0)","v":"2018-11-05"},{"$f":"VLOOKUP(Precentación_Quejas[[#This Row],['# Queja]],Historico_Registro_Quejas3[#All],7,0)","v":"El aire acondicionado de la habitación no estaba configurado cuando llegamos, necesita reemplazarse por uno moderno ya que es ruidoso y la caracteristica de moverse para que aire vaya a diferentes direcciones no funcionó nunca."},{"$f":"VLOOKUP(Precentación_Quejas[[#This Row],['# Queja]],Historico_Registro_Quejas3[#All],22,0)","v":"A/C"},{"$f":"VLOOKUP(Precentación_Quejas[[#This Row],[Payaso]],Tabla_Payasos[[Payasos]:[Columna1]],2,0)","v":25},1012,{"$f":"VLOOKUP(Precentación_Quejas[[#This Row],['# Queja]],Historico_Registro_Quejas3[[#All],['# Queja]:[Valoración]],15,0)","v":"Roja"}]
[{"$f":"VLOOKUP(Precentación_Quejas[[#This Row],['# Queja]],Historico_Registro_Quejas3[#All],4,0)","v":109},{"$f":"VLOOKUP(Precentación_Quejas[[#This Row],['# Queja]],Historico_Registro_Quejas3[#All],2,0)","v":"2018-11-03"},{"$f":"VLOOKUP(Precentación_Quejas[[#This Row],['# Queja]],Historico_Registro_Quejas3[#All],7,0)","v":"Huésped se queja por el uso de pajillas."},{"$f":"VLOOKUP(Precentación_Quejas[[#This Row],['# Queja]],Historico_Registro_Quejas3[#All],22,0)","v":"Servicio cliente restaurante "},{"$f":"VLOOKUP(Precentación_Quejas[[#This Row],[Payaso]],Tabla_Payasos[[Payasos]:[Columna1]],2,0)","v":25},1011,{"$f":"VLOOKUP(Precentación_Quejas[[#This Row],['# Queja]],Historico_Registro_Quejas3[[#All],['# Queja]:[Valoración]],15,0)","v":"Roja"}]
[{"$f":"VLOOKUP(Precentación_Quejas[[#This Row],['# Queja]],Historico_Registro_Quejas3[#All],4,0)","v":507},{"$f":"VLOOKUP(Precentación_Quejas[[#This Row],['# Queja]],Historico_Registro_Quejas3[#All],2,0)","v":"2018-11-04"},{"$f":"VLOOKUP(Precentación_Quejas[[#This Row],['# Queja]],Historico_Registro_Quejas3[#All],7,0)","v":"Huésped se queja por la poca felxibilidad en cuanto a la hora de entrada y salida."},{"$f":"VLOOKUP(Precentación_Quejas[[#This Row],['# Queja]],Historico_Registro_Quejas3[#All],22,0)","v":"N/A"},{"$f":"VLOOKUP(Precentación_Quejas[[#This Row],[Payaso]],Tabla_Payasos[[Payasos]:[Columna1]],2,0)","v":44},1010,{"$f":"VLOOKUP(Precentación_Quejas[[#This Row],['# Queja]],Historico_Registro_Quejas3[[#All],['# Queja]:[Valoración]],15,0)","v":"Desestimada"}]
[{"$f":"VLOOKUP(Precentación_Quejas[[#This Row],['# Queja]],Historico_Registro_Quejas3[#All],4,0)","v":903},{"$f":"VLOOKUP(Precentación_Quejas[[#This Row],['# Queja]],Historico_Registro_Quejas3[#All],2,0)","v":"2018-11-04"},{"$f":"VLOOKUP(Precentación_Quejas[[#This Row],['# Queja]],Historico_Registro_Quejas3[#All],7,0)","v":"Huésped se acerca a recepción molesta indicando que hoy por la mañana su habitación y la de sus familiares a la par (904) despues de 3 minutos en la ducha solamente sale agua fría, nos pide revisar las duchas de las habitaciones para poder ducharse con agua caliente ya que tienen a su hija y es necesario que les brindemos una solución."},{"$f":"VLOOKUP(Precentación_Quejas[[#This Row],['# Queja]],Historico_Registro_Quejas3[#All],22,0)","v":"Agua caliente"},{"$f":"VLOOKUP(Precentación_Quejas[[#This Row],[Payaso]],Tabla_Payasos[[Payasos]:[Columna1]],2,0)","v":13},1009,{"$f":"VLOOKUP(Precentación_Quejas[[#This Row],['# Queja]],Historico_Registro_Quejas3[[#All],['# Queja]:[Valoración]],15,0)","v":"Roja"}]
[{"$f":"VLOOKUP(Precentación_Quejas[[#This Row],['# Queja]],Historico_Registro_Quejas3[#All],4,0)","v":304},{"$f":"VLOOKUP(Precentación_Quejas[[#This Row],['# Queja]],Historico_Registro_Quejas3[#All],2,0)","v":"2018-11-04"},{"$f":"VLOOKUP(Precentación_Quejas[[#This Row],['# Queja]],Historico_Registro_Quejas3[#All],7,0)","v":"Podrìan mejorar con algún tipo de entretenimiento nocturno como música en vivo o algun show similar."},{"$f":"VLOOKUP(Precentación_Quejas[[#This Row],['# Queja]],Historico_Registro_Quejas3[#All],22,0)","v":"Entretenimiento"},{"$f":"VLOOKUP(Precentación_Quejas[[#This Row],[Payaso]],Tabla_Payasos[[Payasos]:[Columna1]],2,0)","v":7},1008,{"$f":"VLOOKUP(Precentación_Quejas[[#This Row],['# Queja]],Historico_Registro_Quejas3[[#All],['# Queja]:[Valoración]],15,0)","v":"Roja"}]
[{"$f":"VLOOKUP(Precentación_Quejas[[#This Row],['# Queja]],Historico_Registro_Quejas3[#All],4,0)","v":207},{"$f":"VLOOKUP(Precentación_Quejas[[#This Row],['# Queja]],Historico_Registro_Quejas3[#All],2,0)","v":"2018-04-11"},{"$f":"VLOOKUP(Precentación_Quejas[[#This Row],['# Queja]],Historico_Registro_Quejas3[#All],7,0)","v":"Huésped se queja por la mala experiencia con la cual finalizó su estancia en el hotel, ellos tenían 2 habitaciones juntas y solicitaron un late check-out a las 2:00pm, sin embargo al estar lleno el hotel no fue posible y se les dio la posibilidad de utilizar las instalaciones y bañarse en los lockers. Al parecer esto ocasionó una gran molestia, porque los huèspedes indican que el área donde los enviaron a bañarse no es apta y que ahí tuvieron una experiencia muy triste y decepcionante."},{"$f":"VLOOKUP(Precentación_Quejas[[#This Row],['# Queja]],Historico_Registro_Quejas3[#All],22,0)","v":"Lockers"},{"$f":"VLOOKUP(Precentación_Quejas[[#This Row],[Payaso]],Tabla_Payasos[[Payasos]:[Columna1]],2,0)","v":4},1007,{"$f":"VLOOKUP(Precentación_Quejas[[#This Row],['# Queja]],Historico_Registro_Quejas3[[#All],['# Queja]:[Valoración]],15,0)","v":"Roja"}]
[{"$f":"VLOOKUP(Precentación_Quejas[[#This Row],['# Queja]],Historico_Registro_Quejas3[#All],4,0)","v":608},{"$f":"VLOOKUP(Precentación_Quejas[[#This Row],['# Queja]],Historico_Registro_Quejas3[#All],2,0)","v":"2018-11-01"},{"$f":"VLOOKUP(Precentación_Quejas[[#This Row],['# Queja]],Historico_Registro_Quejas3[#All],7,0)","v":"Huésped se queja porque no hay una buena iluminación a los lados de la cama para poder leer, y además reclama por no haber una silla en la habitación."},{"$f":"VLOOKUP(Precentación_Quejas[[#This Row],['# Queja]],Historico_Registro_Quejas3[#All],22,0)","v":"Iluminación hab closet"},{"$f":"VLOOKUP(Precentación_Quejas[[#This Row],[Payaso]],Tabla_Payasos[[Payasos]:[Columna1]],2,0)","v":2},1006,{"$f":"VLOOKUP(Precentación_Quejas[[#This Row],['# Queja]],Historico_Registro_Quejas3[[#All],['# Queja]:[Valoración]],15,0)","v":"Roja"}]
[{"$f":"VLOOKUP(Precentación_Quejas[[#This Row],['# Queja]],Historico_Registro_Quejas3[#All],4,0)","v":404},{"$f":"VLOOKUP(Precentación_Quejas[[#This Row],['# Queja]],Historico_Registro_Quejas3[#All],2,0)","v":"2018-11-01"},{"$f":"VLOOKUP(Precentación_Quejas[[#This Row],['# Queja]],Historico_Registro_Quejas3[#All],7,0)","v":"Huésped se queja que los precios deberian de ser mas bajos en el sushi y en el bar de la piscina, es inclusive mas caro que una bebida en europa."},{"$f":"VLOOKUP(Precentación_Quejas[[#This Row],['# Queja]],Historico_Registro_Quejas3[#All],22,0)","v":"Precios"},{"$f":"VLOOKUP(Precentación_Quejas[[#This Row],[Payaso]],Tabla_Payasos[[Payasos]:[Columna1]],2,0)","v":5},1005,{"$f":"VLOOKUP(Precentación_Quejas[[#This Row],['# Queja]],Historico_Registro_Quejas3[[#All],['# Queja]:[Valoración]],15,0)","v":"Roja"}]
[{"$f":"VLOOKUP(Precentación_Quejas[[#This Row],['# Queja]],Historico_Registro_Quejas3[#All],4,0)","v":902},{"$f":"VLOOKUP(Precentación_Quejas[[#This Row],['# Queja]],Historico_Registro_Quejas3[#All],2,0)","v":"2018-10-27"},{"$f":"VLOOKUP(Precentación_Quejas[[#This Row],['# Queja]],Historico_Registro_Quejas3[#All],7,0)","v":"NO vender el agua a un precio tan elevado."},{"$f":"VLOOKUP(Precentación_Quejas[[#This Row],['# Queja]],Historico_Registro_Quejas3[#All],22,0)","v":"Precios Souvenir"},{"$f":"VLOOKUP(Precentación_Quejas[[#This Row],[Payaso]],Tabla_Payasos[[Payasos]:[Columna1]],2,0)","v":3},1004,{"$f":"VLOOKUP(Precentación_Quejas[[#This Row],['# Queja]],Historico_Registro_Quejas3[[#All],['# Queja]:[Valoración]],15,0)","v":"Desestimada"}]
[{"$f":"VLOOKUP(Precentación_Quejas[[#This Row],['# Queja]],Historico_Registro_Quejas3[#All],4,0)","v":208},{"$f":"VLOOKUP(Precentación_Quejas[[#This Row],['# Queja]],Historico_Registro_Quejas3[#All],2,0)","v":"2018-10-30"},{"$f":"VLOOKUP(Precentación_Quejas[[#This Row],['# Queja]],Historico_Registro_Quejas3[#All],7,0)","v":"Expandir el souvenir ya que es muy pequeño y que puedan proveer un lugar conveniente con bebidas y comida."},{"$f":"VLOOKUP(Precentación_Quejas[[#This Row],['# Queja]],Historico_Registro_Quejas3[#All],22,0)","v":"Servicio C. Tienda"},{"$f":"VLOOKUP(Precentación_Quejas[[#This Row],[Payaso]],Tabla_Payasos[[Payasos]:[Columna1]],2,0)","v":5},1003,{"$f":"VLOOKUP(Precentación_Quejas[[#This Row],['# Queja]],Historico_Registro_Quejas3[[#All],['# Queja]:[Valoración]],15,0)","v":"Roja"}]
[{"$f":"VLOOKUP(Precentación_Quejas[[#This Row],['# Queja]],Historico_Registro_Quejas3[#All],4,0)","v":208},{"$f":"VLOOKUP(Precentación_Quejas[[#This Row],['# Queja]],Historico_Registro_Quejas3[#All],2,0)","v":"2018-10-30"},{"$f":"VLOOKUP(Precentación_Quejas[[#This Row],['# Queja]],Historico_Registro_Quejas3[#All],7,0)","v":"Poner ventiladores o ventilación en los baños"},{"$f":"VLOOKUP(Precentación_Quejas[[#This Row],['# Queja]],Historico_Registro_Quejas3[#All],22,0)","v":"N/A"},{"$f":"VLOOKUP(Precentación_Quejas[[#This Row],[Payaso]],Tabla_Payasos[[Payasos]:[Columna1]],2,0)","v":44},1002,{"$f":"VLOOKUP(Precentación_Quejas[[#This Row],['# Queja]],Historico_Registro_Quejas3[[#All],['# Queja]:[Valoración]],15,0)","v":"Desestimada"}]
[{"$f":"VLOOKUP(Precentación_Quejas[[#This Row],['# Queja]],Historico_Registro_Quejas3[#All],4,0)","v":301},{"$f":"VLOOKUP(Precentación_Quejas[[#This Row],['# Queja]],Historico_Registro_Quejas3[#All],2,0)","v":"2018-10-30"},{"$f":"VLOOKUP(Precentación_Quejas[[#This Row],['# Queja]],Historico_Registro_Quejas3[#All],7,0)","v":"Huésped llama a recepción porque su A/C no funciona correctamente."},{"$f":"VLOOKUP(Precentación_Quejas[[#This Row],['# Queja]],Historico_Registro_Quejas3[#All],22,0)","v":"A/C"},{"$f":"VLOOKUP(Precentación_Quejas[[#This Row],[Payaso]],Tabla_Payasos[[Payasos]:[Columna1]],2,0)","v":25},1001,{"$f":"VLOOKUP(Precentación_Quejas[[#This Row],['# Queja]],Historico_Registro_Quejas3[[#All],['# Queja]:[Valoración]],15,0)","v":"Roja"}]
[{"$f":"VLOOKUP(Precentación_Quejas[[#This Row],['# Queja]],Historico_Registro_Quejas3[#All],4,0)","v":506},{"$f":"VLOOKUP(Precentación_Quejas[[#This Row],['# Queja]],Historico_Registro_Quejas3[#All],2,0)","v":"2018-10-29"},{"$f":"VLOOKUP(Precentación_Quejas[[#This Row],['# Queja]],Historico_Registro_Quejas3[#All],7,0)","v":"los precios de la comida y especialmente las bebidas son muy altos."},{"$f":"VLOOKUP(Precentación_Quejas[[#This Row],['# Queja]],Historico_Registro_Quejas3[#All],22,0)","v":"Precios Comidas Italiano"},{"$f":"VLOOKUP(Precentación_Quejas[[#This Row],[Payaso]],Tabla_Payasos[[Payasos]:[Columna1]],2,0)","v":11},1000,{"$f":"VLOOKUP(Precentación_Quejas[[#This Row],['# Queja]],Historico_Registro_Quejas3[[#All],['# Queja]:[Valoración]],15,0)","v":"Roja"}]
[{"$f":"VLOOKUP(Precentación_Quejas[[#This Row],['# Queja]],Historico_Registro_Quejas3[#All],4,0)","v":106},{"$f":"VLOOKUP(Precentación_Quejas[[#This Row],['# Queja]],Historico_Registro_Quejas3[#All],2,0)","v":"2018-10-29"},{"$f":"VLOOKUP(Precentación_Quejas[[#This Row],['# Queja]],Historico_Registro_Quejas3[#All],7,0)","v":"Huèsped se queja porque no hay sombrillas en las habitaciones."},{"$f":"VLOOKUP(Precentación_Quejas[[#This Row],['# Queja]],Historico_Registro_Quejas3[#All],22,0)","v":"Servicio cliente restaurante "},{"$f":"VLOOKUP(Precentación_Quejas[[#This Row],[Payaso]],Tabla_Payasos[[Payasos]:[Columna1]],2,0)","v":25},999,{"$f":"VLOOKUP(Precentación_Quejas[[#This Row],['# Queja]],Historico_Registro_Quejas3[[#All],['# Queja]:[Valoración]],15,0)","v":"Desestimada"}]
[{"$f":"VLOOKUP(Precentación_Quejas[[#This Row],['# Queja]],Historico_Registro_Quejas3[#All],4,0)","v":211},{"$f":"VLOOKUP(Precentación_Quejas[[#This Row],['# Queja]],Historico_Registro_Quejas3[#All],2,0)","v":"2018-10-28"},{"$f":"VLOOKUP(Precentación_Quejas[[#This Row],['# Queja]],Historico_Registro_Quejas3[#All],7,0)","v":"La cafetera de la habitación no tiene filtros."},{"$f":"VLOOKUP(Precentación_Quejas[[#This Row],['# Queja]],Historico_Registro_Quejas3[#All],22,0)","v":"N/A"},{"$f":"VLOOKUP(Precentación_Quejas[[#This Row],[Payaso]],Tabla_Payasos[[Payasos]:[Columna1]],2,0)","v":44},998,{"$f":"VLOOKUP(Precentación_Quejas[[#This Row],['# Queja]],Historico_Registro_Quejas3[[#All],['# Queja]:[Valoración]],15,0)","v":"Desestimada"}]
[{"$f":"VLOOKUP(Precentación_Quejas[[#This Row],['# Queja]],Historico_Registro_Quejas3[#All],4,0)","v":503},{"$f":"VLOOKUP(Precentación_Quejas[[#This Row],['# Queja]],Historico_Registro_Quejas3[#All],2,0)","v":"2018-10-29"},{"$f":"VLOOKUP(Precentación_Quejas[[#This Row],['# Queja]],Historico_Registro_Quejas3[#All],7,0)","v":"Precios excesivamente caros."},{"$f":"VLOOKUP(Precentación_Quejas[[#This Row],['# Queja]],Historico_Registro_Quejas3[#All],22,0)","v":"Precios Sushi"},{"$f":"VLOOKUP(Precentación_Quejas[[#This Row],[Payaso]],Tabla_Payasos[[Payasos]:[Columna1]],2,0)","v":1},997,{"$f":"VLOOKUP(Precentación_Quejas[[#This Row],['# Queja]],Historico_Registro_Quejas3[[#All],['# Queja]:[Valoración]],15,0)","v":"Roja"}]
[{"$f":"VLOOKUP(Precentación_Quejas[[#This Row],['# Queja]],Historico_Registro_Quejas3[#All],4,0)","v":205},{"$f":"VLOOKUP(Precentación_Quejas[[#This Row],['# Queja]],Historico_Registro_Quejas3[#All],2,0)","v":"2018-10-29"},{"$f":"VLOOKUP(Precentación_Quejas[[#This Row],['# Queja]],Historico_Registro_Quejas3[#All],7,0)","v":"Huésped se queja por no haber mayor oferta gastronomica en el hotel ni mejores opciones libres de gluten."},{"$f":"VLOOKUP(Precentación_Quejas[[#This Row],['# Queja]],Historico_Registro_Quejas3[#All],22,0)","v":"Menú Celiacos"},{"$f":"VLOOKUP(Precentación_Quejas[[#This Row],[Payaso]],Tabla_Payasos[[Payasos]:[Columna1]],2,0)","v":7},996,{"$f":"VLOOKUP(Precentación_Quejas[[#This Row],['# Queja]],Historico_Registro_Quejas3[[#All],['# Queja]:[Valoración]],15,0)","v":"Roja"}]
[{"$f":"VLOOKUP(Precentación_Quejas[[#This Row],['# Queja]],Historico_Registro_Quejas3[#All],4,0)","v":411},{"$f":"VLOOKUP(Precentación_Quejas[[#This Row],['# Queja]],Historico_Registro_Quejas3[#All],2,0)","v":"2018-10-26"},{"$f":"VLOOKUP(Precentación_Quejas[[#This Row],['# Queja]],Historico_Registro_Quejas3[#All],7,0)","v":"Huèsped se queja por la poca iluminaciòn en las esquinas de cada callejòn, menciona que le encantarìa ver mejor iluminaciòn con los nùmeros de las habitaciones alumbrando."},{"$f":"VLOOKUP(Precentación_Quejas[[#This Row],['# Queja]],Historico_Registro_Quejas3[#All],22,0)","v":"Iluminación Jardines"},{"$f":"VLOOKUP(Precentación_Quejas[[#This Row],[Payaso]],Tabla_Payasos[[Payasos]:[Columna1]],2,0)","v":3},995,{"$f":"VLOOKUP(Precentación_Quejas[[#This Row],['# Queja]],Historico_Registro_Quejas3[[#All],['# Queja]:[Valoración]],15,0)","v":"Roja"}]
[{"$f":"VLOOKUP(Precentación_Quejas[[#This Row],['# Queja]],Historico_Registro_Quejas3[#All],4,0)","v":209},{"$f":"VLOOKUP(Precentación_Quejas[[#This Row],['# Queja]],Historico_Registro_Quejas3[#All],2,0)","v":"2018-10-25"},{"$f":"VLOOKUP(Precentación_Quejas[[#This Row],['# Queja]],Historico_Registro_Quejas3[#All],7,0)","v":"Bueno el desayuno pero terminè decepcionado porque estuvo cerrado nuestra estadìa entera, no tuve oportunidad de experimentar de la cultura tica porque siempre estuvo cerrado.La comida estuvo mas o menos en general, lo digo porque las porciones eran pequeñas."},{"$f":"VLOOKUP(Precentación_Quejas[[#This Row],['# Queja]],Historico_Registro_Quejas3[#All],22,0)","v":"Menú típico"},{"$f":"VLOOKUP(Precentación_Quejas[[#This Row],[Payaso]],Tabla_Payasos[[Payasos]:[Columna1]],2,0)","v":5},994,{"$f":"VLOOKUP(Precentación_Quejas[[#This Row],['# Queja]],Historico_Registro_Quejas3[[#All],['# Queja]:[Valoración]],15,0)","v":"Roja"}]
[{"$f":"VLOOKUP(Precentación_Quejas[[#This Row],['# Queja]],Historico_Registro_Quejas3[#All],4,0)","v":208},{"$f":"VLOOKUP(Precentación_Quejas[[#This Row],['# Queja]],Historico_Registro_Quejas3[#All],2,0)","v":"2018-10-27"},{"$f":"VLOOKUP(Precentación_Quejas[[#This Row],['# Queja]],Historico_Registro_Quejas3[#All],7,0)","v":"Como visitante de temporada baja me gustarìa ver mas y mejores opciones de almuerzo y cena."},{"$f":"VLOOKUP(Precentación_Quejas[[#This Row],['# Queja]],Historico_Registro_Quejas3[#All],22,0)","v":"Variedad platos"},{"$f":"VLOOKUP(Precentación_Quejas[[#This Row],[Payaso]],Tabla_Payasos[[Payasos]:[Columna1]],2,0)","v":2},993,{"$f":"VLOOKUP(Precentación_Quejas[[#This Row],['# Queja]],Historico_Registro_Quejas3[[#All],['# Queja]:[Valoración]],15,0)","v":"Roja"}]
[{"$f":"VLOOKUP(Precentación_Quejas[[#This Row],['# Queja]],Historico_Registro_Quejas3[#All],4,0)","v":208},{"$f":"VLOOKUP(Precentación_Quejas[[#This Row],['# Queja]],Historico_Registro_Quejas3[#All],2,0)","v":"2018-10-27"},{"$f":"VLOOKUP(Precentación_Quejas[[#This Row],['# Queja]],Historico_Registro_Quejas3[#All],7,0)","v":"Insectos en los helados. No fue una buena opciòn comprar ahì."},{"$f":"VLOOKUP(Precentación_Quejas[[#This Row],['# Queja]],Historico_Registro_Quejas3[#All],22,0)","v":"Servicio C. Tienda"},{"$f":"VLOOKUP(Precentación_Quejas[[#This Row],[Payaso]],Tabla_Payasos[[Payasos]:[Columna1]],2,0)","v":5},992,{"$f":"VLOOKUP(Precentación_Quejas[[#This Row],['# Queja]],Historico_Registro_Quejas3[[#All],['# Queja]:[Valoración]],15,0)","v":"Roja"}]
[{"$f":"VLOOKUP(Precentación_Quejas[[#This Row],['# Queja]],Historico_Registro_Quejas3[#All],4,0)","v":208},{"$f":"VLOOKUP(Precentación_Quejas[[#This Row],['# Queja]],Historico_Registro_Quejas3[#All],2,0)","v":"2018-10-27"},{"$f":"VLOOKUP(Precentación_Quejas[[#This Row],['# Queja]],Historico_Registro_Quejas3[#All],7,0)","v":"Menù muy limitado y extremadamente caro"},{"$f":"VLOOKUP(Precentación_Quejas[[#This Row],['# Queja]],Historico_Registro_Quejas3[#All],22,0)","v":"Calidad precio"},{"$f":"VLOOKUP(Precentación_Quejas[[#This Row],[Payaso]],Tabla_Payasos[[Payasos]:[Columna1]],2,0)","v":8},991,{"$f":"VLOOKUP(Precentación_Quejas[[#This Row],['# Queja]],Historico_Registro_Quejas3[[#All],['# Queja]:[Valoración]],15,0)","v":"Roja"}]
[{"$f":"VLOOKUP(Precentación_Quejas[[#This Row],['# Queja]],Historico_Registro_Quejas3[#All],4,0)","v":904},{"$f":"VLOOKUP(Precentación_Quejas[[#This Row],['# Queja]],Historico_Registro_Quejas3[#All],2,0)","v":"2018-10-24"},{"$f":"VLOOKUP(Precentación_Quejas[[#This Row],['# Queja]],Historico_Registro_Quejas3[#All],7,0)","v":"Pueden mejorar su servicio con una mejor ayuda con la conversión de dinero. Me dijeron que un taxi cuesta 12 dolares a la Fortuna pero la \"maria\" marca 5000 colones, se supone que son 10 dòlares. No entendì porque."},{"$f":"VLOOKUP(Precentación_Quejas[[#This Row],['# Queja]],Historico_Registro_Quejas3[#All],22,0)","v":"Precios"},{"$f":"VLOOKUP(Precentación_Quejas[[#This Row],[Payaso]],Tabla_Payasos[[Payasos]:[Columna1]],2,0)","v":5},990,{"$f":"VLOOKUP(Precentación_Quejas[[#This Row],['# Queja]],Historico_Registro_Quejas3[[#All],['# Queja]:[Valoración]],15,0)","v":"Roja"}]
[{"$f":"VLOOKUP(Precentación_Quejas[[#This Row],['# Queja]],Historico_Registro_Quejas3[#All],4,0)","v":108},{"$f":"VLOOKUP(Precentación_Quejas[[#This Row],['# Queja]],Historico_Registro_Quejas3[#All],2,0)","v":"2018-10-25"},{"$f":"VLOOKUP(Precentación_Quejas[[#This Row],['# Queja]],Historico_Registro_Quejas3[#All],7,0)","v":"Deberìan entregar un brochure con informaciòn del hotel para futuras visitas."},{"$f":"VLOOKUP(Precentación_Quejas[[#This Row],['# Queja]],Historico_Registro_Quejas3[#All],22,0)","v":"N/A"},{"$f":"VLOOKUP(Precentación_Quejas[[#This Row],[Payaso]],Tabla_Payasos[[Payasos]:[Columna1]],2,0)","v":44},989,{"$f":"VLOOKUP(Precentación_Quejas[[#This Row],['# Queja]],Historico_Registro_Quejas3[[#All],['# Queja]:[Valoración]],15,0)","v":"Desestimada"}]
[{"$f":"VLOOKUP(Precentación_Quejas[[#This Row],['# Queja]],Historico_Registro_Quejas3[#All],4,0)","v":108},{"$f":"VLOOKUP(Precentación_Quejas[[#This Row],['# Queja]],Historico_Registro_Quejas3[#All],2,0)","v":"2018-10-25"},{"$f":"VLOOKUP(Precentación_Quejas[[#This Row],['# Queja]],Historico_Registro_Quejas3[#All],7,0)","v":"El servicio muy bueno pero el sabor del arroz con camarones no era el mejor."},{"$f":"VLOOKUP(Precentación_Quejas[[#This Row],['# Queja]],Historico_Registro_Quejas3[#All],22,0)","v":"Calidad comida Italiano"},{"$f":"VLOOKUP(Precentación_Quejas[[#This Row],[Payaso]],Tabla_Payasos[[Payasos]:[Columna1]],2,0)","v":5},988,{"$f":"VLOOKUP(Precentación_Quejas[[#This Row],['# Queja]],Historico_Registro_Quejas3[[#All],['# Queja]:[Valoración]],15,0)","v":"Roja"}]
[{"$f":"VLOOKUP(Precentación_Quejas[[#This Row],['# Queja]],Historico_Registro_Quejas3[#All],4,0)","v":504},{"$f":"VLOOKUP(Precentación_Quejas[[#This Row],['# Queja]],Historico_Registro_Quejas3[#All],2,0)","v":"2018-10-23"},{"$f":"VLOOKUP(Precentación_Quejas[[#This Row],['# Queja]],Historico_Registro_Quejas3[#All],7,0)","v":"Podrìan mejorar en tener en el hotel servicio de alquiler de carros y un supermercado mas cerca."},{"$f":"VLOOKUP(Precentación_Quejas[[#This Row],['# Queja]],Historico_Registro_Quejas3[#All],22,0)","v":"N/A"},{"$f":"VLOOKUP(Precentación_Quejas[[#This Row],[Payaso]],Tabla_Payasos[[Payasos]:[Columna1]],2,0)","v":44},987,{"$f":"VLOOKUP(Precentación_Quejas[[#This Row],['# Queja]],Historico_Registro_Quejas3[[#All],['# Queja]:[Valoración]],15,0)","v":"Desestimada"}]
[{"$f":"VLOOKUP(Precentación_Quejas[[#This Row],['# Queja]],Historico_Registro_Quejas3[#All],4,0)","v":504},{"$f":"VLOOKUP(Precentación_Quejas[[#This Row],['# Queja]],Historico_Registro_Quejas3[#All],2,0)","v":"2018-10-23"},{"$f":"VLOOKUP(Precentación_Quejas[[#This Row],['# Queja]],Historico_Registro_Quejas3[#All],7,0)","v":"muy caro, por una cerveza de lata 5 dòlares."},{"$f":"VLOOKUP(Precentación_Quejas[[#This Row],['# Queja]],Historico_Registro_Quejas3[#All],22,0)","v":"Precios"},{"$f":"VLOOKUP(Precentación_Quejas[[#This Row],[Payaso]],Tabla_Payasos[[Payasos]:[Columna1]],2,0)","v":5},986,{"$f":"VLOOKUP(Precentación_Quejas[[#This Row],['# Queja]],Historico_Registro_Quejas3[[#All],['# Queja]:[Valoración]],15,0)","v":"Desestimada"}]
[{"$f":"VLOOKUP(Precentación_Quejas[[#This Row],['# Queja]],Historico_Registro_Quejas3[#All],4,0)","v":202},{"$f":"VLOOKUP(Precentación_Quejas[[#This Row],['# Queja]],Historico_Registro_Quejas3[#All],2,0)","v":"2018-10-28"},{"$f":"VLOOKUP(Precentación_Quejas[[#This Row],['# Queja]],Historico_Registro_Quejas3[#All],7,0)","v":"Cama nido que se colocò a peticiòn de huèsped se encontraba en muy mal estado, quebrada y no en las mejores condiciones."},{"$f":"VLOOKUP(Precentación_Quejas[[#This Row],['# Queja]],Historico_Registro_Quejas3[#All],22,0)","v":"Camas nidos"},{"$f":"VLOOKUP(Precentación_Quejas[[#This Row],[Payaso]],Tabla_Payasos[[Payasos]:[Columna1]],2,0)","v":1},985,{"$f":"VLOOKUP(Precentación_Quejas[[#This Row],['# Queja]],Historico_Registro_Quejas3[[#All],['# Queja]:[Valoración]],15,0)","v":"Roja"}]
[{"$f":"VLOOKUP(Precentación_Quejas[[#This Row],['# Queja]],Historico_Registro_Quejas3[#All],4,0)","v":"N/A"},{"$f":"VLOOKUP(Precentación_Quejas[[#This Row],['# Queja]],Historico_Registro_Quejas3[#All],2,0)","v":"2018-10-28"},{"$f":"VLOOKUP(Precentación_Quejas[[#This Row],['# Queja]],Historico_Registro_Quejas3[#All],7,0)","v":"Buenos días Compañeros \n\nTengan muy buen día todas y todos.\n\nLes comparto el siguiente  incidente , durante el desayuno de hoy.\n\nLa mañana de hoy la compañera Karen Núñez se acercó a mi persona y me indico , que aparentemente estaban cayendo del cielo raso, excremento de ratas.\n\nEstaba en espera de  terminar el desayuno , para informar al señor Jairo.\n\nLamentablemente, ella no se equivocaba.\n\nMinutos después , cayó muy cerca de una de las mesas, una rata.  La compañera Hazel y el señor Ariel, pudieron recogerla y disponer de ella, pero lamentablemente los huéspedes    , en el salón B , se dieron cuenta.\n\nLas habitaciones a nombre de la familia LAINES, son 603-703-903.\n\nMi recomendación seria , entrar lo más pronto posible en un programa de exterminio y/o previsión a l asunto.\n\nEspero que la información sea de ayuda.\n"},{"$f":"VLOOKUP(Precentación_Quejas[[#This Row],['# Queja]],Historico_Registro_Quejas3[#All],22,0)","v":"Plagas en restaurante"},{"$f":"VLOOKUP(Precentación_Quejas[[#This Row],[Payaso]],Tabla_Payasos[[Payasos]:[Columna1]],2,0)","v":2},984,{"$f":"VLOOKUP(Precentación_Quejas[[#This Row],['# Queja]],Historico_Registro_Quejas3[[#All],['# Queja]:[Valoración]],15,0)","v":"Roja"}]
[{"$f":"VLOOKUP(Precentación_Quejas[[#This Row],['# Queja]],Historico_Registro_Quejas3[#All],4,0)","v":111},{"$f":"VLOOKUP(Precentación_Quejas[[#This Row],['# Queja]],Historico_Registro_Quejas3[#All],2,0)","v":"2018-10-21"},{"$f":"VLOOKUP(Precentación_Quejas[[#This Row],['# Queja]],Historico_Registro_Quejas3[#All],7,0)","v":"Huésped se queja por no haber ventiladores en los restaurantes que permitan un mejor flujo de aire."},{"$f":"VLOOKUP(Precentación_Quejas[[#This Row],['# Queja]],Historico_Registro_Quejas3[#All],22,0)","v":"Ventilación Restaurantes"},{"$f":"VLOOKUP(Precentación_Quejas[[#This Row],[Payaso]],Tabla_Payasos[[Payasos]:[Columna1]],2,0)","v":1},983,{"$f":"VLOOKUP(Precentación_Quejas[[#This Row],['# Queja]],Historico_Registro_Quejas3[[#All],['# Queja]:[Valoración]],15,0)","v":"Verde"}]
[{"$f":"VLOOKUP(Precentación_Quejas[[#This Row],['# Queja]],Historico_Registro_Quejas3[#All],4,0)","v":701},{"$f":"VLOOKUP(Precentación_Quejas[[#This Row],['# Queja]],Historico_Registro_Quejas3[#All],2,0)","v":"2018-10-20"},{"$f":"VLOOKUP(Precentación_Quejas[[#This Row],['# Queja]],Historico_Registro_Quejas3[#All],7,0)","v":"Huésped se queja porque el hotel no tiene NETFLIX con costo agregado en las habitaciones para el hospedaje."},{"$f":"VLOOKUP(Precentación_Quejas[[#This Row],['# Queja]],Historico_Registro_Quejas3[#All],22,0)","v":"NETFLIX"},{"$f":"VLOOKUP(Precentación_Quejas[[#This Row],[Payaso]],Tabla_Payasos[[Payasos]:[Columna1]],2,0)","v":1},982,{"$f":"VLOOKUP(Precentación_Quejas[[#This Row],['# Queja]],Historico_Registro_Quejas3[[#All],['# Queja]:[Valoración]],15,0)","v":"Amarilla"}]
[{"$f":"VLOOKUP(Precentación_Quejas[[#This Row],['# Queja]],Historico_Registro_Quejas3[#All],4,0)","v":505},{"$f":"VLOOKUP(Precentación_Quejas[[#This Row],['# Queja]],Historico_Registro_Quejas3[#All],2,0)","v":"2018-10-17"},{"$f":"VLOOKUP(Precentación_Quejas[[#This Row],['# Queja]],Historico_Registro_Quejas3[#All],7,0)","v":"Precios muy altos."},{"$f":"VLOOKUP(Precentación_Quejas[[#This Row],['# Queja]],Historico_Registro_Quejas3[#All],22,0)","v":"Precios tienda"},{"$f":"VLOOKUP(Precentación_Quejas[[#This Row],[Payaso]],Tabla_Payasos[[Payasos]:[Columna1]],2,0)","v":1},981,{"$f":"VLOOKUP(Precentación_Quejas[[#This Row],['# Queja]],Historico_Registro_Quejas3[[#All],['# Queja]:[Valoración]],15,0)","v":"Amarilla"}]
[{"$f":"VLOOKUP(Precentación_Quejas[[#This Row],['# Queja]],Historico_Registro_Quejas3[#All],4,0)","v":505},{"$f":"VLOOKUP(Precentación_Quejas[[#This Row],['# Queja]],Historico_Registro_Quejas3[#All],2,0)","v":"2018-10-17"},{"$f":"VLOOKUP(Precentación_Quejas[[#This Row],['# Queja]],Historico_Registro_Quejas3[#All],7,0)","v":"Comida buena pero sobrevalorada."},{"$f":"VLOOKUP(Precentación_Quejas[[#This Row],['# Queja]],Historico_Registro_Quejas3[#All],22,0)","v":"Precios Comidas Italiano"},{"$f":"VLOOKUP(Precentación_Quejas[[#This Row],[Payaso]],Tabla_Payasos[[Payasos]:[Columna1]],2,0)","v":11},980,{"$f":"VLOOKUP(Precentación_Quejas[[#This Row],['# Queja]],Historico_Registro_Quejas3[[#All],['# Queja]:[Valoración]],15,0)","v":"Roja"}]
[{"$f":"VLOOKUP(Precentación_Quejas[[#This Row],['# Queja]],Historico_Registro_Quejas3[#All],4,0)","v":705},{"$f":"VLOOKUP(Precentación_Quejas[[#This Row],['# Queja]],Historico_Registro_Quejas3[#All],2,0)","v":"2018-10-19"},{"$f":"VLOOKUP(Precentación_Quejas[[#This Row],['# Queja]],Historico_Registro_Quejas3[#All],7,0)","v":"Los trabajos de construcción detrás de nosotros comenzaron muy temprano a las 7am y eran demasiado ruidosos. No fue muy gratificante ni tranquila la estadía por ese motivo."},{"$f":"VLOOKUP(Precentación_Quejas[[#This Row],['# Queja]],Historico_Registro_Quejas3[#All],22,0)","v":"Ruido habitación"},{"$f":"VLOOKUP(Precentación_Quejas[[#This Row],[Payaso]],Tabla_Payasos[[Payasos]:[Columna1]],2,0)","v":15},979,{"$f":"VLOOKUP(Precentación_Quejas[[#This Row],['# Queja]],Historico_Registro_Quejas3[[#All],['# Queja]:[Valoración]],15,0)","v":"Desestimada"}]
[{"$f":"VLOOKUP(Precentación_Quejas[[#This Row],['# Queja]],Historico_Registro_Quejas3[#All],4,0)","v":512},{"$f":"VLOOKUP(Precentación_Quejas[[#This Row],['# Queja]],Historico_Registro_Quejas3[#All],2,0)","v":"2018-10-21"},{"$f":"VLOOKUP(Precentación_Quejas[[#This Row],['# Queja]],Historico_Registro_Quejas3[#All],7,0)","v":"Huésped al momento del check-out nos comparte la queja que el día 20 de octubre ( día de su boda) se había coordinado la limpieza y decoración respectiva para que cuando llegaran de su boda encontraran la sorpresa, sin embargo cuando la mucama llegó a hacer lo solicitado ellos se encontraban alistandose y preparando todo para la boda por lo que pidieron a la mucama venir más tarde ya cuando se hubieran marchado. La situación que molestó a la huésped fue que cuando llegaron de su boda a celebrar la luna de miel la habitación era un desastre y no había ninguna decoración. Ella nos expresó que habían hecho un esfuerzo muy grande para conseguir disfrutar de su luna de miel en esa habitación y que al final lo que recibieron fue una decepción en lugar de una grata sorpresa. "},{"$f":"VLOOKUP(Precentación_Quejas[[#This Row],['# Queja]],Historico_Registro_Quejas3[#All],22,0)","v":"Chequeo habitaciones"},{"$f":"VLOOKUP(Precentación_Quejas[[#This Row],[Payaso]],Tabla_Payasos[[Payasos]:[Columna1]],2,0)","v":8},978,{"$f":"VLOOKUP(Precentación_Quejas[[#This Row],['# Queja]],Historico_Registro_Quejas3[[#All],['# Queja]:[Valoración]],15,0)","v":"Roja"}]
[{"$f":"VLOOKUP(Precentación_Quejas[[#This Row],['# Queja]],Historico_Registro_Quejas3[#All],4,0)","v":"N/A"},{"$f":"VLOOKUP(Precentación_Quejas[[#This Row],['# Queja]],Historico_Registro_Quejas3[#All],2,0)","v":"2018-10-18"},{"$f":"VLOOKUP(Precentación_Quejas[[#This Row],['# Queja]],Historico_Registro_Quejas3[#All],7,0)","v":"Locker #18 de los hombres posee número erroneo en su llavero. Revisar estado y números de los llaveros."},{"$f":"VLOOKUP(Precentación_Quejas[[#This Row],['# Queja]],Historico_Registro_Quejas3[#All],22,0)","v":"Lockers"},{"$f":"VLOOKUP(Precentación_Quejas[[#This Row],[Payaso]],Tabla_Payasos[[Payasos]:[Columna1]],2,0)","v":4},977,{"$f":"VLOOKUP(Precentación_Quejas[[#This Row],['# Queja]],Historico_Registro_Quejas3[[#All],['# Queja]:[Valoración]],15,0)","v":"Amarilla"}]
[{"$f":"VLOOKUP(Precentación_Quejas[[#This Row],['# Queja]],Historico_Registro_Quejas3[#All],4,0)","v":402},{"$f":"VLOOKUP(Precentación_Quejas[[#This Row],['# Queja]],Historico_Registro_Quejas3[#All],2,0)","v":"2018-10-18"},{"$f":"VLOOKUP(Precentación_Quejas[[#This Row],['# Queja]],Historico_Registro_Quejas3[#All],7,0)","v":"Los botones del jacuzzi no funcionaban bien a ciertas horas."},{"$f":"VLOOKUP(Precentación_Quejas[[#This Row],['# Queja]],Historico_Registro_Quejas3[#All],22,0)","v":"Jacuzzi"},{"$f":"VLOOKUP(Precentación_Quejas[[#This Row],[Payaso]],Tabla_Payasos[[Payasos]:[Columna1]],2,0)","v":4},976,{"$f":"VLOOKUP(Precentación_Quejas[[#This Row],['# Queja]],Historico_Registro_Quejas3[[#All],['# Queja]:[Valoración]],15,0)","v":"Roja"}]
[{"$f":"VLOOKUP(Precentación_Quejas[[#This Row],['# Queja]],Historico_Registro_Quejas3[#All],4,0)","v":608},{"$f":"VLOOKUP(Precentación_Quejas[[#This Row],['# Queja]],Historico_Registro_Quejas3[#All],2,0)","v":"2018-10-17"},{"$f":"VLOOKUP(Precentación_Quejas[[#This Row],['# Queja]],Historico_Registro_Quejas3[#All],7,0)","v":"NO ofrezcan pajillas para las bebidas a la hora de servir una comida, son muy malas para el medio ambiente."},{"$f":"VLOOKUP(Precentación_Quejas[[#This Row],['# Queja]],Historico_Registro_Quejas3[#All],22,0)","v":"Servicio cliente restaurante "},{"$f":"VLOOKUP(Precentación_Quejas[[#This Row],[Payaso]],Tabla_Payasos[[Payasos]:[Columna1]],2,0)","v":25},975,{"$f":"VLOOKUP(Precentación_Quejas[[#This Row],['# Queja]],Historico_Registro_Quejas3[[#All],['# Queja]:[Valoración]],15,0)","v":"Desestimada"}]
[{"$f":"VLOOKUP(Precentación_Quejas[[#This Row],['# Queja]],Historico_Registro_Quejas3[#All],4,0)","v":306},{"$f":"VLOOKUP(Precentación_Quejas[[#This Row],['# Queja]],Historico_Registro_Quejas3[#All],2,0)","v":"2018-10-18"},{"$f":"VLOOKUP(Precentación_Quejas[[#This Row],['# Queja]],Historico_Registro_Quejas3[#All],7,0)","v":"Huésped se queja que en el souvenir  las tallas de ropa se encontraban todas mezcladas y en desorden y fue difícil encontrar la ropa."},{"$f":"VLOOKUP(Precentación_Quejas[[#This Row],['# Queja]],Historico_Registro_Quejas3[#All],22,0)","v":"Servicio C. Tienda"},{"$f":"VLOOKUP(Precentación_Quejas[[#This Row],[Payaso]],Tabla_Payasos[[Payasos]:[Columna1]],2,0)","v":5},974,{"$f":"VLOOKUP(Precentación_Quejas[[#This Row],['# Queja]],Historico_Registro_Quejas3[[#All],['# Queja]:[Valoración]],15,0)","v":"Amarilla"}]
[{"$f":"VLOOKUP(Precentación_Quejas[[#This Row],['# Queja]],Historico_Registro_Quejas3[#All],4,0)","v":312},{"$f":"VLOOKUP(Precentación_Quejas[[#This Row],['# Queja]],Historico_Registro_Quejas3[#All],2,0)","v":"2018-10-17"},{"$f":"VLOOKUP(Precentación_Quejas[[#This Row],['# Queja]],Historico_Registro_Quejas3[#All],7,0)","v":"Las bebidas estuvieron ok pero no fueron algo grandioso."},{"$f":"VLOOKUP(Precentación_Quejas[[#This Row],['# Queja]],Historico_Registro_Quejas3[#All],22,0)","v":"Cockteles bares"},{"$f":"VLOOKUP(Precentación_Quejas[[#This Row],[Payaso]],Tabla_Payasos[[Payasos]:[Columna1]],2,0)","v":5},973,{"$f":"VLOOKUP(Precentación_Quejas[[#This Row],['# Queja]],Historico_Registro_Quejas3[[#All],['# Queja]:[Valoración]],15,0)","v":"Roja"}]
[{"$f":"VLOOKUP(Precentación_Quejas[[#This Row],['# Queja]],Historico_Registro_Quejas3[#All],4,0)","v":109},{"$f":"VLOOKUP(Precentación_Quejas[[#This Row],['# Queja]],Historico_Registro_Quejas3[#All],2,0)","v":"2018-10-17"},{"$f":"VLOOKUP(Precentación_Quejas[[#This Row],['# Queja]],Historico_Registro_Quejas3[#All],7,0)","v":"Solamente teníamos shampoo y acondicionador pero nunca tuvimos gel de baño lo cual sería una muy buena idea."},{"$f":"VLOOKUP(Precentación_Quejas[[#This Row],['# Queja]],Historico_Registro_Quejas3[#All],22,0)","v":"Amenidades"},{"$f":"VLOOKUP(Precentación_Quejas[[#This Row],[Payaso]],Tabla_Payasos[[Payasos]:[Columna1]],2,0)","v":3},972,{"$f":"VLOOKUP(Precentación_Quejas[[#This Row],['# Queja]],Historico_Registro_Quejas3[[#All],['# Queja]:[Valoración]],15,0)","v":"Desestimada"}]
[{"$f":"VLOOKUP(Precentación_Quejas[[#This Row],['# Queja]],Historico_Registro_Quejas3[#All],4,0)","v":109},{"$f":"VLOOKUP(Precentación_Quejas[[#This Row],['# Queja]],Historico_Registro_Quejas3[#All],2,0)","v":"2018-10-17"},{"$f":"VLOOKUP(Precentación_Quejas[[#This Row],['# Queja]],Historico_Registro_Quejas3[#All],7,0)","v":"Huésped se queja que al desayuno una sola waflera no es suficiente para el número de personas presentes, se necesita demasiado tiempo para un waffle y no le gustó esperar tanto."},{"$f":"VLOOKUP(Precentación_Quejas[[#This Row],['# Queja]],Historico_Registro_Quejas3[#All],22,0)","v":"Calida Desayuno"},{"$f":"VLOOKUP(Precentación_Quejas[[#This Row],[Payaso]],Tabla_Payasos[[Payasos]:[Columna1]],2,0)","v":15},971,{"$f":"VLOOKUP(Precentación_Quejas[[#This Row],['# Queja]],Historico_Registro_Quejas3[[#All],['# Queja]:[Valoración]],15,0)","v":"Roja"}]
[{"$f":"VLOOKUP(Precentación_Quejas[[#This Row],['# Queja]],Historico_Registro_Quejas3[#All],4,0)","v":103},{"$f":"VLOOKUP(Precentación_Quejas[[#This Row],['# Queja]],Historico_Registro_Quejas3[#All],2,0)","v":"2018-10-17"},{"$f":"VLOOKUP(Precentación_Quejas[[#This Row],['# Queja]],Historico_Registro_Quejas3[#All],7,0)","v":"Huésped se queja del ruido ocasionado durante las dos noches de su estadía por el televisor de la habitación adyacente. Indica que pudo escuchar de todo y que hasta se sorprendió de lo que escuchó."},{"$f":"VLOOKUP(Precentación_Quejas[[#This Row],['# Queja]],Historico_Registro_Quejas3[#All],22,0)","v":"Ruido habitación"},{"$f":"VLOOKUP(Precentación_Quejas[[#This Row],[Payaso]],Tabla_Payasos[[Payasos]:[Columna1]],2,0)","v":15},970,{"$f":"VLOOKUP(Precentación_Quejas[[#This Row],['# Queja]],Historico_Registro_Quejas3[[#All],['# Queja]:[Valoración]],15,0)","v":"Desestimada"}]
[{"$f":"VLOOKUP(Precentación_Quejas[[#This Row],['# Queja]],Historico_Registro_Quejas3[#All],4,0)","v":501},{"$f":"VLOOKUP(Precentación_Quejas[[#This Row],['# Queja]],Historico_Registro_Quejas3[#All],2,0)","v":"2018-10-17"},{"$f":"VLOOKUP(Precentación_Quejas[[#This Row],['# Queja]],Historico_Registro_Quejas3[#All],7,0)","v":"Huésped se queja por no haber una silla en la habitación, dice que es muy difícil ponerse la ropa en una cama alta."},{"$f":"VLOOKUP(Precentación_Quejas[[#This Row],['# Queja]],Historico_Registro_Quejas3[#All],22,0)","v":"Silla en habitación"},{"$f":"VLOOKUP(Precentación_Quejas[[#This Row],[Payaso]],Tabla_Payasos[[Payasos]:[Columna1]],2,0)","v":13},969,{"$f":"VLOOKUP(Precentación_Quejas[[#This Row],['# Queja]],Historico_Registro_Quejas3[[#All],['# Queja]:[Valoración]],15,0)","v":"Roja"}]
[{"$f":"VLOOKUP(Precentación_Quejas[[#This Row],['# Queja]],Historico_Registro_Quejas3[#All],4,0)","v":125},{"$f":"VLOOKUP(Precentación_Quejas[[#This Row],['# Queja]],Historico_Registro_Quejas3[#All],2,0)","v":"2018-10-18"},{"$f":"VLOOKUP(Precentación_Quejas[[#This Row],['# Queja]],Historico_Registro_Quejas3[#All],7,0)","v":"Habitaciones 125-126 reportadas por el chofer y guía con cucarachas entre el aire acondicionado, se quejan de una posible plaga la cual intentaron matar con insecticidad pero aún así salieron más en la noche."},{"$f":"VLOOKUP(Precentación_Quejas[[#This Row],['# Queja]],Historico_Registro_Quejas3[#All],22,0)","v":"Plagas Habitaciones"},{"$f":"VLOOKUP(Precentación_Quejas[[#This Row],[Payaso]],Tabla_Payasos[[Payasos]:[Columna1]],2,0)","v":49},968,{"$f":"VLOOKUP(Precentación_Quejas[[#This Row],['# Queja]],Historico_Registro_Quejas3[[#All],['# Queja]:[Valoración]],15,0)","v":"Roja"}]
[{"$f":"VLOOKUP(Precentación_Quejas[[#This Row],['# Queja]],Historico_Registro_Quejas3[#All],4,0)","v":605},{"$f":"VLOOKUP(Precentación_Quejas[[#This Row],['# Queja]],Historico_Registro_Quejas3[#All],2,0)","v":"2018-10-18"},{"$f":"VLOOKUP(Precentación_Quejas[[#This Row],['# Queja]],Historico_Registro_Quejas3[#All],7,0)","v":"Huésped luego de llegar del check-in llama molesto a recepción porque su aire acondicionado no funciona bien, él mismo pide que le den un tiempo para descansar y que más tarde le intenten solucionar el problema."},{"$f":"VLOOKUP(Precentación_Quejas[[#This Row],['# Queja]],Historico_Registro_Quejas3[#All],22,0)","v":"Chequeo habitaciones"},{"$f":"VLOOKUP(Precentación_Quejas[[#This Row],[Payaso]],Tabla_Payasos[[Payasos]:[Columna1]],2,0)","v":8},967,{"$f":"VLOOKUP(Precentación_Quejas[[#This Row],['# Queja]],Historico_Registro_Quejas3[[#All],['# Queja]:[Valoración]],15,0)","v":"Roja"}]
[{"$f":"VLOOKUP(Precentación_Quejas[[#This Row],['# Queja]],Historico_Registro_Quejas3[#All],4,0)","v":602},{"$f":"VLOOKUP(Precentación_Quejas[[#This Row],['# Queja]],Historico_Registro_Quejas3[#All],2,0)","v":"2018-10-16"},{"$f":"VLOOKUP(Precentación_Quejas[[#This Row],['# Queja]],Historico_Registro_Quejas3[#All],7,0)","v":"Cable HDMI en muy mal estado, no permitió llevar a cabo una charla de chocolate planeada para el grupo ROAD SCHOLAR ( Arenal Manoa)."},{"$f":"VLOOKUP(Precentación_Quejas[[#This Row],['# Queja]],Historico_Registro_Quejas3[#All],22,0)","v":"Proyector Manantial "},{"$f":"VLOOKUP(Precentación_Quejas[[#This Row],[Payaso]],Tabla_Payasos[[Payasos]:[Columna1]],2,0)","v":1},966,{"$f":"VLOOKUP(Precentación_Quejas[[#This Row],['# Queja]],Historico_Registro_Quejas3[[#All],['# Queja]:[Valoración]],15,0)","v":"Roja"}]
[{"$f":"VLOOKUP(Precentación_Quejas[[#This Row],['# Queja]],Historico_Registro_Quejas3[#All],4,0)","v":611},{"$f":"VLOOKUP(Precentación_Quejas[[#This Row],['# Queja]],Historico_Registro_Quejas3[#All],2,0)","v":"2018-10-15"},{"$f":"VLOOKUP(Precentación_Quejas[[#This Row],['# Queja]],Historico_Registro_Quejas3[#All],7,0)","v":"Restaurante del Sushi malo. Además el bar de la piscina debería de dar también al agua fría "},{"$f":"VLOOKUP(Precentación_Quejas[[#This Row],['# Queja]],Historico_Registro_Quejas3[#All],22,0)","v":"Calidad Sushi"},{"$f":"VLOOKUP(Precentación_Quejas[[#This Row],[Payaso]],Tabla_Payasos[[Payasos]:[Columna1]],2,0)","v":7},965,{"$f":"VLOOKUP(Precentación_Quejas[[#This Row],['# Queja]],Historico_Registro_Quejas3[[#All],['# Queja]:[Valoración]],15,0)","v":"Roja"}]
[{"$f":"VLOOKUP(Precentación_Quejas[[#This Row],['# Queja]],Historico_Registro_Quejas3[#All],4,0)","v":507},{"$f":"VLOOKUP(Precentación_Quejas[[#This Row],['# Queja]],Historico_Registro_Quejas3[#All],2,0)","v":"2018-10-15"},{"$f":"VLOOKUP(Precentación_Quejas[[#This Row],['# Queja]],Historico_Registro_Quejas3[#All],7,0)","v":"Mejorar la variedad de los desayunos especialmente cuando se viene varios días."},{"$f":"VLOOKUP(Precentación_Quejas[[#This Row],['# Queja]],Historico_Registro_Quejas3[#All],22,0)","v":"Calida Desayuno"},{"$f":"VLOOKUP(Precentación_Quejas[[#This Row],[Payaso]],Tabla_Payasos[[Payasos]:[Columna1]],2,0)","v":15},964,{"$f":"VLOOKUP(Precentación_Quejas[[#This Row],['# Queja]],Historico_Registro_Quejas3[[#All],['# Queja]:[Valoración]],15,0)","v":"Roja"}]
[{"$f":"VLOOKUP(Precentación_Quejas[[#This Row],['# Queja]],Historico_Registro_Quejas3[#All],4,0)","v":204},{"$f":"VLOOKUP(Precentación_Quejas[[#This Row],['# Queja]],Historico_Registro_Quejas3[#All],2,0)","v":"2018-10-13"},{"$f":"VLOOKUP(Precentación_Quejas[[#This Row],['# Queja]],Historico_Registro_Quejas3[#All],7,0)","v":"Televisor de Recepción es horrible. Esto es algo que deberían mejorar"},{"$f":"VLOOKUP(Precentación_Quejas[[#This Row],['# Queja]],Historico_Registro_Quejas3[#All],22,0)","v":"Servicio cliente recepción"},{"$f":"VLOOKUP(Precentación_Quejas[[#This Row],[Payaso]],Tabla_Payasos[[Payasos]:[Columna1]],2,0)","v":14},963,{"$f":"VLOOKUP(Precentación_Quejas[[#This Row],['# Queja]],Historico_Registro_Quejas3[[#All],['# Queja]:[Valoración]],15,0)","v":"Roja"}]
[{"$f":"VLOOKUP(Precentación_Quejas[[#This Row],['# Queja]],Historico_Registro_Quejas3[#All],4,0)","v":206},{"$f":"VLOOKUP(Precentación_Quejas[[#This Row],['# Queja]],Historico_Registro_Quejas3[#All],2,0)","v":"2018-10-13"},{"$f":"VLOOKUP(Precentación_Quejas[[#This Row],['# Queja]],Historico_Registro_Quejas3[#All],7,0)","v":"Caja de seguridad no funciona"},{"$f":"VLOOKUP(Precentación_Quejas[[#This Row],['# Queja]],Historico_Registro_Quejas3[#All],22,0)","v":"Habitaciones"},{"$f":"VLOOKUP(Precentación_Quejas[[#This Row],[Payaso]],Tabla_Payasos[[Payasos]:[Columna1]],2,0)","v":54},962,{"$f":"VLOOKUP(Precentación_Quejas[[#This Row],['# Queja]],Historico_Registro_Quejas3[[#All],['# Queja]:[Valoración]],15,0)","v":"Roja"}]
[{"$f":"VLOOKUP(Precentación_Quejas[[#This Row],['# Queja]],Historico_Registro_Quejas3[#All],4,0)","v":107},{"$f":"VLOOKUP(Precentación_Quejas[[#This Row],['# Queja]],Historico_Registro_Quejas3[#All],2,0)","v":"2018-10-14"},{"$f":"VLOOKUP(Precentación_Quejas[[#This Row],['# Queja]],Historico_Registro_Quejas3[#All],7,0)","v":"Huésped se queja de precios. Crema de hongos cuesta igual que una pizza hawaiana"},{"$f":"VLOOKUP(Precentación_Quejas[[#This Row],['# Queja]],Historico_Registro_Quejas3[#All],22,0)","v":"Calidad comida Italiano"},{"$f":"VLOOKUP(Precentación_Quejas[[#This Row],[Payaso]],Tabla_Payasos[[Payasos]:[Columna1]],2,0)","v":5},961,{"$f":"VLOOKUP(Precentación_Quejas[[#This Row],['# Queja]],Historico_Registro_Quejas3[[#All],['# Queja]:[Valoración]],15,0)","v":"Roja"}]
[{"$f":"VLOOKUP(Precentación_Quejas[[#This Row],['# Queja]],Historico_Registro_Quejas3[#All],4,0)","v":107},{"$f":"VLOOKUP(Precentación_Quejas[[#This Row],['# Queja]],Historico_Registro_Quejas3[#All],2,0)","v":"2018-10-14"},{"$f":"VLOOKUP(Precentación_Quejas[[#This Row],['# Queja]],Historico_Registro_Quejas3[#All],7,0)","v":"Toallas de piscina ya son beige y no azules como lo dice los rótulos en el área de las termales. Ver rotulación y renovarla."},{"$f":"VLOOKUP(Precentación_Quejas[[#This Row],['# Queja]],Historico_Registro_Quejas3[#All],22,0)","v":"Piscinas "},{"$f":"VLOOKUP(Precentación_Quejas[[#This Row],[Payaso]],Tabla_Payasos[[Payasos]:[Columna1]],2,0)","v":{"$error":"#N/A"}},960,{"$f":"VLOOKUP(Precentación_Quejas[[#This Row],['# Queja]],Historico_Registro_Quejas3[[#All],['# Queja]:[Valoración]],15,0)","v":"Amarilla"}]
[{"$f":"VLOOKUP(Precentación_Quejas[[#This Row],['# Queja]],Historico_Registro_Quejas3[#All],4,0)","v":107},{"$f":"VLOOKUP(Precentación_Quejas[[#This Row],['# Queja]],Historico_Registro_Quejas3[#All],2,0)","v":"2018-10-14"},{"$f":"VLOOKUP(Precentación_Quejas[[#This Row],['# Queja]],Historico_Registro_Quejas3[#All],7,0)","v":"Huésped se queja de los brazaletes, sugieren que no sean de plástico."},{"$f":"VLOOKUP(Precentación_Quejas[[#This Row],['# Queja]],Historico_Registro_Quejas3[#All],22,0)","v":"Brazaletes"},{"$f":"VLOOKUP(Precentación_Quejas[[#This Row],[Payaso]],Tabla_Payasos[[Payasos]:[Columna1]],2,0)","v":4},959,{"$f":"VLOOKUP(Precentación_Quejas[[#This Row],['# Queja]],Historico_Registro_Quejas3[[#All],['# Queja]:[Valoración]],15,0)","v":"Roja"}]
[{"$f":"VLOOKUP(Precentación_Quejas[[#This Row],['# Queja]],Historico_Registro_Quejas3[#All],4,0)","v":701},{"$f":"VLOOKUP(Precentación_Quejas[[#This Row],['# Queja]],Historico_Registro_Quejas3[#All],2,0)","v":"2018-10-14"},{"$f":"VLOOKUP(Precentación_Quejas[[#This Row],['# Queja]],Historico_Registro_Quejas3[#All],7,0)","v":"Pedí papas a las 11 y no me las dieron porque el aceite estaba frío."},{"$f":"VLOOKUP(Precentación_Quejas[[#This Row],['# Queja]],Historico_Registro_Quejas3[#All],22,0)","v":"Calidad Sushi"},{"$f":"VLOOKUP(Precentación_Quejas[[#This Row],[Payaso]],Tabla_Payasos[[Payasos]:[Columna1]],2,0)","v":7},958,{"$f":"VLOOKUP(Precentación_Quejas[[#This Row],['# Queja]],Historico_Registro_Quejas3[[#All],['# Queja]:[Valoración]],15,0)","v":"Roja"}]
[{"$f":"VLOOKUP(Precentación_Quejas[[#This Row],['# Queja]],Historico_Registro_Quejas3[#All],4,0)","v":409},{"$f":"VLOOKUP(Precentación_Quejas[[#This Row],['# Queja]],Historico_Registro_Quejas3[#All],2,0)","v":"2018-10-14"},{"$f":"VLOOKUP(Precentación_Quejas[[#This Row],['# Queja]],Historico_Registro_Quejas3[#All],7,0)","v":"Huésped se queja de los precios de los restaurantes, 40 000 un almuerzo? "},{"$f":"VLOOKUP(Precentación_Quejas[[#This Row],['# Queja]],Historico_Registro_Quejas3[#All],22,0)","v":"Precios Comidas Italiano"},{"$f":"VLOOKUP(Precentación_Quejas[[#This Row],[Payaso]],Tabla_Payasos[[Payasos]:[Columna1]],2,0)","v":11},957,{"$f":"VLOOKUP(Precentación_Quejas[[#This Row],['# Queja]],Historico_Registro_Quejas3[[#All],['# Queja]:[Valoración]],15,0)","v":"Roja"}]
[{"$f":"VLOOKUP(Precentación_Quejas[[#This Row],['# Queja]],Historico_Registro_Quejas3[#All],4,0)","v":204},{"$f":"VLOOKUP(Precentación_Quejas[[#This Row],['# Queja]],Historico_Registro_Quejas3[#All],2,0)","v":"2018-10-14"},{"$f":"VLOOKUP(Precentación_Quejas[[#This Row],['# Queja]],Historico_Registro_Quejas3[#All],7,0)","v":"Huésped se queja indicando que hay una necesidad de enmasillar el area entre el techo y el cielo raso en el baño."},{"$f":"VLOOKUP(Precentación_Quejas[[#This Row],['# Queja]],Historico_Registro_Quejas3[#All],22,0)","v":"Habitaciones"},{"$f":"VLOOKUP(Precentación_Quejas[[#This Row],[Payaso]],Tabla_Payasos[[Payasos]:[Columna1]],2,0)","v":54},956,{"$f":"VLOOKUP(Precentación_Quejas[[#This Row],['# Queja]],Historico_Registro_Quejas3[[#All],['# Queja]:[Valoración]],15,0)","v":"Verde"}]
[{"$f":"VLOOKUP(Precentación_Quejas[[#This Row],['# Queja]],Historico_Registro_Quejas3[#All],4,0)","v":403},{"$f":"VLOOKUP(Precentación_Quejas[[#This Row],['# Queja]],Historico_Registro_Quejas3[#All],2,0)","v":"2018-10-14"},{"$f":"VLOOKUP(Precentación_Quejas[[#This Row],['# Queja]],Historico_Registro_Quejas3[#All],7,0)","v":"Huésped se queja de las camas e indica que el hotel debe mejorar teniendo camas más suaves."},{"$f":"VLOOKUP(Precentación_Quejas[[#This Row],['# Queja]],Historico_Registro_Quejas3[#All],22,0)","v":"Colchon duro"},{"$f":"VLOOKUP(Precentación_Quejas[[#This Row],[Payaso]],Tabla_Payasos[[Payasos]:[Columna1]],2,0)","v":5},955,{"$f":"VLOOKUP(Precentación_Quejas[[#This Row],['# Queja]],Historico_Registro_Quejas3[[#All],['# Queja]:[Valoración]],15,0)","v":"Roja"}]
[{"$f":"VLOOKUP(Precentación_Quejas[[#This Row],['# Queja]],Historico_Registro_Quejas3[#All],4,0)","v":403},{"$f":"VLOOKUP(Precentación_Quejas[[#This Row],['# Queja]],Historico_Registro_Quejas3[#All],2,0)","v":"2018-10-14"},{"$f":"VLOOKUP(Precentación_Quejas[[#This Row],['# Queja]],Historico_Registro_Quejas3[#All],7,0)","v":"Huésped se queja de las opciones de comida, pide mejores opciones ya que para él la comida fue solo buena y no encontró nada especial en ella."},{"$f":"VLOOKUP(Precentación_Quejas[[#This Row],['# Queja]],Historico_Registro_Quejas3[#All],22,0)","v":"Calidad comida Italiano"},{"$f":"VLOOKUP(Precentación_Quejas[[#This Row],[Payaso]],Tabla_Payasos[[Payasos]:[Columna1]],2,0)","v":5},954,{"$f":"VLOOKUP(Precentación_Quejas[[#This Row],['# Queja]],Historico_Registro_Quejas3[[#All],['# Queja]:[Valoración]],15,0)","v":"Roja"}]
[{"$f":"VLOOKUP(Precentación_Quejas[[#This Row],['# Queja]],Historico_Registro_Quejas3[#All],4,0)","v":305},{"$f":"VLOOKUP(Precentación_Quejas[[#This Row],['# Queja]],Historico_Registro_Quejas3[#All],2,0)","v":"2018-10-15"},{"$f":"VLOOKUP(Precentación_Quejas[[#This Row],['# Queja]],Historico_Registro_Quejas3[#All],7,0)","v":"Mientras se iba a chequear una habitación con una ducha apta para lo que nos solicitaba un cliente se encontró que la ducha de la hab 305 no esta pegada y que al abrir toda la presión es muy vulonerable a safarse y caer en la cabeza de un huésped."},{"$f":"VLOOKUP(Precentación_Quejas[[#This Row],['# Queja]],Historico_Registro_Quejas3[#All],22,0)","v":"Chequeo habitaciones"},{"$f":"VLOOKUP(Precentación_Quejas[[#This Row],[Payaso]],Tabla_Payasos[[Payasos]:[Columna1]],2,0)","v":8},953,{"$f":"VLOOKUP(Precentación_Quejas[[#This Row],['# Queja]],Historico_Registro_Quejas3[[#All],['# Queja]:[Valoración]],15,0)","v":"Roja"}]
[{"$f":"VLOOKUP(Precentación_Quejas[[#This Row],['# Queja]],Historico_Registro_Quejas3[#All],4,0)","v":602},{"$f":"VLOOKUP(Precentación_Quejas[[#This Row],['# Queja]],Historico_Registro_Quejas3[#All],2,0)","v":"2018-10-15"},{"$f":"VLOOKUP(Precentación_Quejas[[#This Row],['# Queja]],Historico_Registro_Quejas3[#All],7,0)","v":"Señora Kristine dueña de la agencia LatinEscapes se queja fuertemente indicando que ella conoce este hotel y que lo ha visitado en varias ocasiones pero que esta vez le han dado la peor habitación, ella se queja que la ducha no es regulable y que al momento de abrirla el agua sale disparada por todo lado sin poder bañarse o lavarse el pelo como ella quiere, además ella reclama por el ruido del ventilador del techo que se encuentra mal pegado y no los deja dormir. Ella nos hace ver que si pudiera irse se iría ahora mismo porque no se encuentra a gusto."},{"$f":"VLOOKUP(Precentación_Quejas[[#This Row],['# Queja]],Historico_Registro_Quejas3[#All],22,0)","v":"Ruido habitación"},{"$f":"VLOOKUP(Precentación_Quejas[[#This Row],[Payaso]],Tabla_Payasos[[Payasos]:[Columna1]],2,0)","v":15},952,{"$f":"VLOOKUP(Precentación_Quejas[[#This Row],['# Queja]],Historico_Registro_Quejas3[[#All],['# Queja]:[Valoración]],15,0)","v":"Roja"}]
[{"$f":"VLOOKUP(Precentación_Quejas[[#This Row],['# Queja]],Historico_Registro_Quejas3[#All],4,0)","v":121},{"$f":"VLOOKUP(Precentación_Quejas[[#This Row],['# Queja]],Historico_Registro_Quejas3[#All],2,0)","v":"2018-10-14"},{"$f":"VLOOKUP(Precentación_Quejas[[#This Row],['# Queja]],Historico_Registro_Quejas3[#All],7,0)","v":"El guía de Collete el señor Ricardo Howell presentó la queja con respecto al menú que se le ofreció luego de traer a su grupo a cenar a nuestro restaurante, él mismo quedó disconforme ya que en otras ocasiones se le ha ofrecido menú abierto y esta vez tanto en el Rest Italiano como en el Ti-cain se le dió un menú carta paquete el cual no le agrado. Nos mencionó que la próxima vez su grupo iría a cenar afuera y se encontraba molesto por el accionar del hotel."},{"$f":"VLOOKUP(Precentación_Quejas[[#This Row],['# Queja]],Historico_Registro_Quejas3[#All],22,0)","v":"Servicio cliente restaurante "},{"$f":"VLOOKUP(Precentación_Quejas[[#This Row],[Payaso]],Tabla_Payasos[[Payasos]:[Columna1]],2,0)","v":25},951,{"$f":"VLOOKUP(Precentación_Quejas[[#This Row],['# Queja]],Historico_Registro_Quejas3[[#All],['# Queja]:[Valoración]],15,0)","v":"Roja"}]
[{"$f":"VLOOKUP(Precentación_Quejas[[#This Row],['# Queja]],Historico_Registro_Quejas3[#All],4,0)","v":503},{"$f":"VLOOKUP(Precentación_Quejas[[#This Row],['# Queja]],Historico_Registro_Quejas3[#All],2,0)","v":"2018-10-15"},{"$f":"VLOOKUP(Precentación_Quejas[[#This Row],['# Queja]],Historico_Registro_Quejas3[#All],7,0)","v":"503  La señora se queja de que el A/C no le sirvió en toda la noche, se revisa y efectivamente le falta refrigerante "},{"$f":"VLOOKUP(Precentación_Quejas[[#This Row],['# Queja]],Historico_Registro_Quejas3[#All],22,0)","v":"A/C"},{"$f":"VLOOKUP(Precentación_Quejas[[#This Row],[Payaso]],Tabla_Payasos[[Payasos]:[Columna1]],2,0)","v":25},950,{"$f":"VLOOKUP(Precentación_Quejas[[#This Row],['# Queja]],Historico_Registro_Quejas3[[#All],['# Queja]:[Valoración]],15,0)","v":"Roja"}]
[{"$f":"VLOOKUP(Precentación_Quejas[[#This Row],['# Queja]],Historico_Registro_Quejas3[#All],4,0)","v":410},{"$f":"VLOOKUP(Precentación_Quejas[[#This Row],['# Queja]],Historico_Registro_Quejas3[#All],2,0)","v":"2018-10-13"},{"$f":"VLOOKUP(Precentación_Quejas[[#This Row],['# Queja]],Historico_Registro_Quejas3[#All],7,0)","v":"se queja ahora de que el A/C no sirve, efectivamente estaba sin refrigerante "},{"$f":"VLOOKUP(Precentación_Quejas[[#This Row],['# Queja]],Historico_Registro_Quejas3[#All],22,0)","v":"A/C"},{"$f":"VLOOKUP(Precentación_Quejas[[#This Row],[Payaso]],Tabla_Payasos[[Payasos]:[Columna1]],2,0)","v":25},949,{"$f":"VLOOKUP(Precentación_Quejas[[#This Row],['# Queja]],Historico_Registro_Quejas3[[#All],['# Queja]:[Valoración]],15,0)","v":"Roja"}]
[{"$f":"VLOOKUP(Precentación_Quejas[[#This Row],['# Queja]],Historico_Registro_Quejas3[#All],4,0)","v":705},{"$f":"VLOOKUP(Precentación_Quejas[[#This Row],['# Queja]],Historico_Registro_Quejas3[#All],2,0)","v":"2018-10-13"},{"$f":"VLOOKUP(Precentación_Quejas[[#This Row],['# Queja]],Historico_Registro_Quejas3[#All],7,0)","v":"Huéspedes molestos por ruido ocasionado por la construcción."},{"$f":"VLOOKUP(Precentación_Quejas[[#This Row],['# Queja]],Historico_Registro_Quejas3[#All],22,0)","v":"Construcción"},{"$f":"VLOOKUP(Precentación_Quejas[[#This Row],[Payaso]],Tabla_Payasos[[Payasos]:[Columna1]],2,0)","v":4},948,{"$f":"VLOOKUP(Precentación_Quejas[[#This Row],['# Queja]],Historico_Registro_Quejas3[[#All],['# Queja]:[Valoración]],15,0)","v":"Desestimada"}]
[{"$f":"VLOOKUP(Precentación_Quejas[[#This Row],['# Queja]],Historico_Registro_Quejas3[#All],4,0)","v":602},{"$f":"VLOOKUP(Precentación_Quejas[[#This Row],['# Queja]],Historico_Registro_Quejas3[#All],2,0)","v":"2018-10-14"},{"$f":"VLOOKUP(Precentación_Quejas[[#This Row],['# Queja]],Historico_Registro_Quejas3[#All],7,0)","v":"A/C en mal estado, huésped se se queja porque no funciona como debería."},{"$f":"VLOOKUP(Precentación_Quejas[[#This Row],['# Queja]],Historico_Registro_Quejas3[#All],22,0)","v":"A/C"},{"$f":"VLOOKUP(Precentación_Quejas[[#This Row],[Payaso]],Tabla_Payasos[[Payasos]:[Columna1]],2,0)","v":25},947,{"$f":"VLOOKUP(Precentación_Quejas[[#This Row],['# Queja]],Historico_Registro_Quejas3[[#All],['# Queja]:[Valoración]],15,0)","v":"Roja"}]
[{"$f":"VLOOKUP(Precentación_Quejas[[#This Row],['# Queja]],Historico_Registro_Quejas3[#All],4,0)","v":903},{"$f":"VLOOKUP(Precentación_Quejas[[#This Row],['# Queja]],Historico_Registro_Quejas3[#All],2,0)","v":"2018-10-14"},{"$f":"VLOOKUP(Precentación_Quejas[[#This Row],['# Queja]],Historico_Registro_Quejas3[#All],7,0)","v":"BUENAS NOCHES COMPAÑEROS\n\nLes describo el incidente que sucedió al final de la cena, con los huéspedes de la habitación 903 :\n\nDichos señores son personas muy amables, cenaron por segunda ocasión en este RESTAURANTE.\n\nEllos pidieron un  salmón, el cual viene acompañado de brócoli y coliflor.\n\nAl parecer ; lamentablemente, les salió un pequeño gusano.\n\nLa señora ya había terminado la cena casi por completo.\nEl señor Jhon Pinnel me indica del problema, reviso el plato y efectivamente lo tenía.\nMe aproximo a los huéspedes, quienes se manifestaron al respecto, muy respetuosos, comprensivos, pero me indicaron que la señora era fóbica a estos animalitos.\n\n\n"},{"$f":"VLOOKUP(Precentación_Quejas[[#This Row],['# Queja]],Historico_Registro_Quejas3[#All],22,0)","v":"Objetos en la comida"},{"$f":"VLOOKUP(Precentación_Quejas[[#This Row],[Payaso]],Tabla_Payasos[[Payasos]:[Columna1]],2,0)","v":2},946,{"$f":"VLOOKUP(Precentación_Quejas[[#This Row],['# Queja]],Historico_Registro_Quejas3[[#All],['# Queja]:[Valoración]],15,0)","v":"Roja"}]
[{"$f":"VLOOKUP(Precentación_Quejas[[#This Row],['# Queja]],Historico_Registro_Quejas3[#All],4,0)","v":205},{"$f":"VLOOKUP(Precentación_Quejas[[#This Row],['# Queja]],Historico_Registro_Quejas3[#All],2,0)","v":"2018-10-12"},{"$f":"VLOOKUP(Precentación_Quejas[[#This Row],['# Queja]],Historico_Registro_Quejas3[#All],7,0)","v":"Buenos días compañeros, \nMe gustaría comunicarles una situación que se dio hoy con el señor Eduardo Otero de la habitación 205 durante el check out. \nSe le comunico el monto a pagar por cargos extras, él dijo que iba a pagar en efectivo y en euros. Y bueno ya que se está dando la opción de que lo hagan procedimos a aceptar la moneda. Sin embargo, no aceptó el monto que se le dijo y mencionó que ese no era el tipo de cambio; además agregó que ayer se lo habían cambiado a 650 y que aun así salió perdiendo dinero. \nLe explique que 620 era el tipo de cambio que estaba autorizado a dar y no podía hacer ningún cambio al mismo. El señor ya en un tono más fuerte dijo que entonces estábamos ganando dinero extra  “a costas de su dinero”, pero le mencione que de hecho no se aceptan euros, pero que los recibimos para hacerles un favor ya que sabemos que quizás no tienen tiempo para ir al banco y nuevamente le mencioné que 620 era el cambio establecido por contabilidad. \n\nAl final, el señor pagó sus cargos y el tipo de cambio que se le estaba dando, pero no estaba contento. De mi parte no puedo hacer alguna alteración a lo que ya está esta por los compañeros de contabilidad, pero aun así les hice la consulta pero me dijeron lo mismo que ya le había mencionado al señor Otero. \n\nEstamos ofreciendo una pequeña ayuda a ellos aceptando los euros, pero no me parece respetuoso que ellos vengan a imponer lo que ellos desean cuando ya tenemos las cosas establecidas por los compañeros de contabilidad. Si vamos a otro país nos tenemos que apegar a las normas que rigen al mismo, incluyéndose en esto el tipo de moneda… Estamos siendo flexible al ayudarle a los clientes aceptando Euros, pero hasta cuando quieren cambiar dinero y no se les puede cambiar el monto que desean se enojan con nosotros. \n"},{"$f":"VLOOKUP(Precentación_Quejas[[#This Row],['# Queja]],Historico_Registro_Quejas3[#All],22,0)","v":"Servicio cliente recepción"},{"$f":"VLOOKUP(Precentación_Quejas[[#This Row],[Payaso]],Tabla_Payasos[[Payasos]:[Columna1]],2,0)","v":14},945,{"$f":"VLOOKUP(Precentación_Quejas[[#This Row],['# Queja]],Historico_Registro_Quejas3[[#All],['# Queja]:[Valoración]],15,0)","v":"Roja"}]
[{"$f":"VLOOKUP(Precentación_Quejas[[#This Row],['# Queja]],Historico_Registro_Quejas3[#All],4,0)","v":901},{"$f":"VLOOKUP(Precentación_Quejas[[#This Row],['# Queja]],Historico_Registro_Quejas3[#All],2,0)","v":"2018-10-08"},{"$f":"VLOOKUP(Precentación_Quejas[[#This Row],['# Queja]],Historico_Registro_Quejas3[#All],7,0)","v":"Huéspedes se quejan de las camas que son duras."},{"$f":"VLOOKUP(Precentación_Quejas[[#This Row],['# Queja]],Historico_Registro_Quejas3[#All],22,0)","v":"Colchon duro"},{"$f":"VLOOKUP(Precentación_Quejas[[#This Row],[Payaso]],Tabla_Payasos[[Payasos]:[Columna1]],2,0)","v":5},944,{"$f":"VLOOKUP(Precentación_Quejas[[#This Row],['# Queja]],Historico_Registro_Quejas3[[#All],['# Queja]:[Valoración]],15,0)","v":"Roja"}]
[{"$f":"VLOOKUP(Precentación_Quejas[[#This Row],['# Queja]],Historico_Registro_Quejas3[#All],4,0)","v":405},{"$f":"VLOOKUP(Precentación_Quejas[[#This Row],['# Queja]],Historico_Registro_Quejas3[#All],2,0)","v":"2018-10-08"},{"$f":"VLOOKUP(Precentación_Quejas[[#This Row],['# Queja]],Historico_Registro_Quejas3[#All],7,0)","v":"Huésped se queja porque habían muchas moscas durante el desayuno."},{"$f":"VLOOKUP(Precentación_Quejas[[#This Row],['# Queja]],Historico_Registro_Quejas3[#All],22,0)","v":"Plagas en restaurante"},{"$f":"VLOOKUP(Precentación_Quejas[[#This Row],[Payaso]],Tabla_Payasos[[Payasos]:[Columna1]],2,0)","v":2},943,{"$f":"VLOOKUP(Precentación_Quejas[[#This Row],['# Queja]],Historico_Registro_Quejas3[[#All],['# Queja]:[Valoración]],15,0)","v":"Roja"}]
[{"$f":"VLOOKUP(Precentación_Quejas[[#This Row],['# Queja]],Historico_Registro_Quejas3[#All],4,0)","v":206},{"$f":"VLOOKUP(Precentación_Quejas[[#This Row],['# Queja]],Historico_Registro_Quejas3[#All],2,0)","v":"2018-10-06"},{"$f":"VLOOKUP(Precentación_Quejas[[#This Row],['# Queja]],Historico_Registro_Quejas3[#All],7,0)","v":"El frigorifico hace mucho ruido y es bastante molesto en la noche."},{"$f":"VLOOKUP(Precentación_Quejas[[#This Row],['# Queja]],Historico_Registro_Quejas3[#All],22,0)","v":"Ruido Refri"},{"$f":"VLOOKUP(Precentación_Quejas[[#This Row],[Payaso]],Tabla_Payasos[[Payasos]:[Columna1]],2,0)","v":2},942,{"$f":"VLOOKUP(Precentación_Quejas[[#This Row],['# Queja]],Historico_Registro_Quejas3[[#All],['# Queja]:[Valoración]],15,0)","v":"Roja"}]
[{"$f":"VLOOKUP(Precentación_Quejas[[#This Row],['# Queja]],Historico_Registro_Quejas3[#All],4,0)","v":201},{"$f":"VLOOKUP(Precentación_Quejas[[#This Row],['# Queja]],Historico_Registro_Quejas3[#All],2,0)","v":"2018-09-29"},{"$f":"VLOOKUP(Precentación_Quejas[[#This Row],['# Queja]],Historico_Registro_Quejas3[#All],7,0)","v":"pensamos que la habitación 201 es un poquito pequeña si los clientes son 4 adultos tomando en cuenta que casi todos nuestros clientes tienen cada uno una maleta grande y una maleta pequeña durante su viaje. Entonces, prestaremos atención a la categoría de habitación que reservamos por respecto a la composición de los grupos de clientes. "},{"$f":"VLOOKUP(Precentación_Quejas[[#This Row],['# Queja]],Historico_Registro_Quejas3[#All],22,0)","v":"N/A"},{"$f":"VLOOKUP(Precentación_Quejas[[#This Row],[Payaso]],Tabla_Payasos[[Payasos]:[Columna1]],2,0)","v":44},941,{"$f":"VLOOKUP(Precentación_Quejas[[#This Row],['# Queja]],Historico_Registro_Quejas3[[#All],['# Queja]:[Valoración]],15,0)","v":"Desestimada"}]
[{"$f":"VLOOKUP(Precentación_Quejas[[#This Row],['# Queja]],Historico_Registro_Quejas3[#All],4,0)","v":201},{"$f":"VLOOKUP(Precentación_Quejas[[#This Row],['# Queja]],Historico_Registro_Quejas3[#All],2,0)","v":"2018-09-29"},{"$f":"VLOOKUP(Precentación_Quejas[[#This Row],['# Queja]],Historico_Registro_Quejas3[#All],7,0)","v":"Primero, el hotel Arenal Springs nos parece ser una muy buena opción para nuestros clientes que quieren relajación y confort. Las aguas termales incluidas en el hotel son un valor agregado enorme. Además, esta zona termal está muy bien pensada con los dos bares, los jardines y las diferentes categorías de « piscinas » que hay. Solamente pensamos que el segundo bar (el que propone solamente bebidas y no el Sushi bar) merecería un poquito más de decoración para ser más acogedor todavía. "},{"$f":"VLOOKUP(Precentación_Quejas[[#This Row],['# Queja]],Historico_Registro_Quejas3[#All],22,0)","v":"Remodelación"},{"$f":"VLOOKUP(Precentación_Quejas[[#This Row],[Payaso]],Tabla_Payasos[[Payasos]:[Columna1]],2,0)","v":1},940,{"$f":"VLOOKUP(Precentación_Quejas[[#This Row],['# Queja]],Historico_Registro_Quejas3[[#All],['# Queja]:[Valoración]],15,0)","v":"Amarilla"}]
[{"$f":"VLOOKUP(Precentación_Quejas[[#This Row],['# Queja]],Historico_Registro_Quejas3[#All],4,0)","v":211},{"$f":"VLOOKUP(Precentación_Quejas[[#This Row],['# Queja]],Historico_Registro_Quejas3[#All],2,0)","v":"2018-10-08"},{"$f":"VLOOKUP(Precentación_Quejas[[#This Row],['# Queja]],Historico_Registro_Quejas3[#All],7,0)","v":"Huésped se acerca a recepción indicando que anoche al abrir su closet y sacar la cobija, la misma se encontraba mojada y no la pudo utilizar en toda la noche."},{"$f":"VLOOKUP(Precentación_Quejas[[#This Row],['# Queja]],Historico_Registro_Quejas3[#All],22,0)","v":"Lavanderia"},{"$f":"VLOOKUP(Precentación_Quejas[[#This Row],[Payaso]],Tabla_Payasos[[Payasos]:[Columna1]],2,0)","v":3},939,{"$f":"VLOOKUP(Precentación_Quejas[[#This Row],['# Queja]],Historico_Registro_Quejas3[[#All],['# Queja]:[Valoración]],15,0)","v":"Roja"}]
[{"$f":"VLOOKUP(Precentación_Quejas[[#This Row],['# Queja]],Historico_Registro_Quejas3[#All],4,0)","v":201},{"$f":"VLOOKUP(Precentación_Quejas[[#This Row],['# Queja]],Historico_Registro_Quejas3[#All],2,0)","v":"2018-10-07"},{"$f":"VLOOKUP(Precentación_Quejas[[#This Row],['# Queja]],Historico_Registro_Quejas3[#All],7,0)","v":"Huésped se queja de la mala señal de TV"},{"$f":"VLOOKUP(Precentación_Quejas[[#This Row],['# Queja]],Historico_Registro_Quejas3[#All],22,0)","v":"Señal TV"},{"$f":"VLOOKUP(Precentación_Quejas[[#This Row],[Payaso]],Tabla_Payasos[[Payasos]:[Columna1]],2,0)","v":4},938,{"$f":"VLOOKUP(Precentación_Quejas[[#This Row],['# Queja]],Historico_Registro_Quejas3[[#All],['# Queja]:[Valoración]],15,0)","v":"Roja"}]
[{"$f":"VLOOKUP(Precentación_Quejas[[#This Row],['# Queja]],Historico_Registro_Quejas3[#All],4,0)","v":101},{"$f":"VLOOKUP(Precentación_Quejas[[#This Row],['# Queja]],Historico_Registro_Quejas3[#All],2,0)","v":"2018-10-05"},{"$f":"VLOOKUP(Precentación_Quejas[[#This Row],['# Queja]],Historico_Registro_Quejas3[#All],7,0)","v":"Huésped no cuenta con internet "},{"$f":"VLOOKUP(Precentación_Quejas[[#This Row],['# Queja]],Historico_Registro_Quejas3[#All],22,0)","v":"Wifi"},{"$f":"VLOOKUP(Precentación_Quejas[[#This Row],[Payaso]],Tabla_Payasos[[Payasos]:[Columna1]],2,0)","v":23},937,{"$f":"VLOOKUP(Precentación_Quejas[[#This Row],['# Queja]],Historico_Registro_Quejas3[[#All],['# Queja]:[Valoración]],15,0)","v":"Roja"}]
[{"$f":"VLOOKUP(Precentación_Quejas[[#This Row],['# Queja]],Historico_Registro_Quejas3[#All],4,0)","v":409},{"$f":"VLOOKUP(Precentación_Quejas[[#This Row],['# Queja]],Historico_Registro_Quejas3[#All],2,0)","v":"2018-10-03"},{"$f":"VLOOKUP(Precentación_Quejas[[#This Row],['# Queja]],Historico_Registro_Quejas3[#All],7,0)","v":"Huésped indica que las sillas del italiano se resbalan facilmente, deberían de tener algo en las \"patas\" que no permita que se deslicen."},{"$f":"VLOOKUP(Precentación_Quejas[[#This Row],['# Queja]],Historico_Registro_Quejas3[#All],22,0)","v":"Sillas Italiano"},{"$f":"VLOOKUP(Precentación_Quejas[[#This Row],[Payaso]],Tabla_Payasos[[Payasos]:[Columna1]],2,0)","v":1},936,{"$f":"VLOOKUP(Precentación_Quejas[[#This Row],['# Queja]],Historico_Registro_Quejas3[[#All],['# Queja]:[Valoración]],15,0)","v":"Roja"}]
[{"$f":"VLOOKUP(Precentación_Quejas[[#This Row],['# Queja]],Historico_Registro_Quejas3[#All],4,0)","v":410},{"$f":"VLOOKUP(Precentación_Quejas[[#This Row],['# Queja]],Historico_Registro_Quejas3[#All],2,0)","v":"2018-10-03"},{"$f":"VLOOKUP(Precentación_Quejas[[#This Row],['# Queja]],Historico_Registro_Quejas3[#All],7,0)","v":"Huésped se queja debido a que los tomacorrientes de la habitación no funcionan correctamente, se encontraba molesta porque colocó su teléfono a cargar creyendo que iba a cargarse y luego se percató que no funcionaba, además cuando solicitó mover las camas y poner las dos mesas de noche juntas para poner ambas lamparas de noche, no fue posible conectar las dos debido a que el tomacorriente estaba sin electricidad."},{"$f":"VLOOKUP(Precentación_Quejas[[#This Row],['# Queja]],Historico_Registro_Quejas3[#All],22,0)","v":"Habitaciones"},{"$f":"VLOOKUP(Precentación_Quejas[[#This Row],[Payaso]],Tabla_Payasos[[Payasos]:[Columna1]],2,0)","v":54},935,{"$f":"VLOOKUP(Precentación_Quejas[[#This Row],['# Queja]],Historico_Registro_Quejas3[[#All],['# Queja]:[Valoración]],15,0)","v":"Roja"}]
[{"$f":"VLOOKUP(Precentación_Quejas[[#This Row],['# Queja]],Historico_Registro_Quejas3[#All],4,0)","v":121},{"$f":"VLOOKUP(Precentación_Quejas[[#This Row],['# Queja]],Historico_Registro_Quejas3[#All],2,0)","v":"2018-10-02"},{"$f":"VLOOKUP(Precentación_Quejas[[#This Row],['# Queja]],Historico_Registro_Quejas3[#All],7,0)","v":"Chofer del grupo Grand Tour#47 se acerca sumamente molesto a recepción porque estuvo 20 minutos esperando que lo atendieran para cenar y nunca recibió la atención que esperaba, se retira molesto diciendo que ya no piensa cenar y que no puede ser posible que solo por no ser un huésped no le brinden un trato de calidad, si él igual iba a pagar la cena que se iba a comer."},{"$f":"VLOOKUP(Precentación_Quejas[[#This Row],['# Queja]],Historico_Registro_Quejas3[#All],22,0)","v":"Servicio cliente restaurante "},{"$f":"VLOOKUP(Precentación_Quejas[[#This Row],[Payaso]],Tabla_Payasos[[Payasos]:[Columna1]],2,0)","v":25},934,{"$f":"VLOOKUP(Precentación_Quejas[[#This Row],['# Queja]],Historico_Registro_Quejas3[[#All],['# Queja]:[Valoración]],15,0)","v":"Roja"}]
[{"$f":"VLOOKUP(Precentación_Quejas[[#This Row],['# Queja]],Historico_Registro_Quejas3[#All],4,0)","v":207},{"$f":"VLOOKUP(Precentación_Quejas[[#This Row],['# Queja]],Historico_Registro_Quejas3[#All],2,0)","v":"2018-09-23"},{"$f":"VLOOKUP(Precentación_Quejas[[#This Row],['# Queja]],Historico_Registro_Quejas3[#All],7,0)","v":"Sería bueno tener una silla baja dentro de la habitación, ayuda a los adultos mayores"},{"$f":"VLOOKUP(Precentación_Quejas[[#This Row],['# Queja]],Historico_Registro_Quejas3[#All],22,0)","v":"Silla en habitación"},{"$f":"VLOOKUP(Precentación_Quejas[[#This Row],[Payaso]],Tabla_Payasos[[Payasos]:[Columna1]],2,0)","v":13},933,{"$f":"VLOOKUP(Precentación_Quejas[[#This Row],['# Queja]],Historico_Registro_Quejas3[[#All],['# Queja]:[Valoración]],15,0)","v":"Roja"}]
[{"$f":"VLOOKUP(Precentación_Quejas[[#This Row],['# Queja]],Historico_Registro_Quejas3[#All],4,0)","v":102},{"$f":"VLOOKUP(Precentación_Quejas[[#This Row],['# Queja]],Historico_Registro_Quejas3[#All],2,0)","v":"2018-09-26"},{"$f":"VLOOKUP(Precentación_Quejas[[#This Row],['# Queja]],Historico_Registro_Quejas3[#All],7,0)","v":"Huésped indica que el área de la ducha en la habitación tiene poca privacidad"},{"$f":"VLOOKUP(Precentación_Quejas[[#This Row],['# Queja]],Historico_Registro_Quejas3[#All],22,0)","v":"Habitaciones"},{"$f":"VLOOKUP(Precentación_Quejas[[#This Row],[Payaso]],Tabla_Payasos[[Payasos]:[Columna1]],2,0)","v":54},932,{"$f":"VLOOKUP(Precentación_Quejas[[#This Row],['# Queja]],Historico_Registro_Quejas3[[#All],['# Queja]:[Valoración]],15,0)","v":"Desestimada"}]
[{"$f":"VLOOKUP(Precentación_Quejas[[#This Row],['# Queja]],Historico_Registro_Quejas3[#All],4,0)","v":102},{"$f":"VLOOKUP(Precentación_Quejas[[#This Row],['# Queja]],Historico_Registro_Quejas3[#All],2,0)","v":"2018-09-26"},{"$f":"VLOOKUP(Precentación_Quejas[[#This Row],['# Queja]],Historico_Registro_Quejas3[#All],7,0)","v":"Huésped indica que sería bueno mejorar el área de fumado."},{"$f":"VLOOKUP(Precentación_Quejas[[#This Row],['# Queja]],Historico_Registro_Quejas3[#All],22,0)","v":"Fumadores "},{"$f":"VLOOKUP(Precentación_Quejas[[#This Row],[Payaso]],Tabla_Payasos[[Payasos]:[Columna1]],2,0)","v":3},931,{"$f":"VLOOKUP(Precentación_Quejas[[#This Row],['# Queja]],Historico_Registro_Quejas3[[#All],['# Queja]:[Valoración]],15,0)","v":"Desestimada"}]
[{"$f":"VLOOKUP(Precentación_Quejas[[#This Row],['# Queja]],Historico_Registro_Quejas3[#All],4,0)","v":104},{"$f":"VLOOKUP(Precentación_Quejas[[#This Row],['# Queja]],Historico_Registro_Quejas3[#All],2,0)","v":"2018-09-25"},{"$f":"VLOOKUP(Precentación_Quejas[[#This Row],['# Queja]],Historico_Registro_Quejas3[#All],7,0)","v":"El huésped hace la observación de que si a ud como huésped al llegar al Hotel en Caseta le preguntan los datos sobre la reservación, debería entonces al llegar al parqueo las personas llamarlos por el nombre y mucho menos que en Recepción vuelvan a preguntarles por el dato de la reserva."},{"$f":"VLOOKUP(Precentación_Quejas[[#This Row],['# Queja]],Historico_Registro_Quejas3[#All],22,0)","v":"Servicio cliente recepción"},{"$f":"VLOOKUP(Precentación_Quejas[[#This Row],[Payaso]],Tabla_Payasos[[Payasos]:[Columna1]],2,0)","v":14},930,{"$f":"VLOOKUP(Precentación_Quejas[[#This Row],['# Queja]],Historico_Registro_Quejas3[[#All],['# Queja]:[Valoración]],15,0)","v":"Roja"}]
[{"$f":"VLOOKUP(Precentación_Quejas[[#This Row],['# Queja]],Historico_Registro_Quejas3[#All],4,0)","v":104},{"$f":"VLOOKUP(Precentación_Quejas[[#This Row],['# Queja]],Historico_Registro_Quejas3[#All],2,0)","v":"2018-09-25"},{"$f":"VLOOKUP(Precentación_Quejas[[#This Row],['# Queja]],Historico_Registro_Quejas3[#All],7,0)","v":"Huésped indica que el aire acondicionado no enfrió correctamente, a veces estaba bien y por ratos no"},{"$f":"VLOOKUP(Precentación_Quejas[[#This Row],['# Queja]],Historico_Registro_Quejas3[#All],22,0)","v":"A/C"},{"$f":"VLOOKUP(Precentación_Quejas[[#This Row],[Payaso]],Tabla_Payasos[[Payasos]:[Columna1]],2,0)","v":25},929,{"$f":"VLOOKUP(Precentación_Quejas[[#This Row],['# Queja]],Historico_Registro_Quejas3[[#All],['# Queja]:[Valoración]],15,0)","v":"Roja"}]
[{"$f":"VLOOKUP(Precentación_Quejas[[#This Row],['# Queja]],Historico_Registro_Quejas3[#All],4,0)","v":101},{"$f":"VLOOKUP(Precentación_Quejas[[#This Row],['# Queja]],Historico_Registro_Quejas3[#All],2,0)","v":"2018-09-24"},{"$f":"VLOOKUP(Precentación_Quejas[[#This Row],['# Queja]],Historico_Registro_Quejas3[#All],7,0)","v":"Huéspedes reportan un olor como a cigarro en su habitación y creen que podría provenir de la hab de la par."},{"$f":"VLOOKUP(Precentación_Quejas[[#This Row],['# Queja]],Historico_Registro_Quejas3[#All],22,0)","v":"Mal olor habitación"},{"$f":"VLOOKUP(Precentación_Quejas[[#This Row],[Payaso]],Tabla_Payasos[[Payasos]:[Columna1]],2,0)","v":8},928,{"$f":"VLOOKUP(Precentación_Quejas[[#This Row],['# Queja]],Historico_Registro_Quejas3[[#All],['# Queja]:[Valoración]],15,0)","v":"Desestimada"}]
[{"$f":"VLOOKUP(Precentación_Quejas[[#This Row],['# Queja]],Historico_Registro_Quejas3[#All],4,0)","v":304},{"$f":"VLOOKUP(Precentación_Quejas[[#This Row],['# Queja]],Historico_Registro_Quejas3[#All],2,0)","v":"2018-09-22"},{"$f":"VLOOKUP(Precentación_Quejas[[#This Row],['# Queja]],Historico_Registro_Quejas3[#All],7,0)","v":"El control del aire tenía problemas y no funcionaba bien."},{"$f":"VLOOKUP(Precentación_Quejas[[#This Row],['# Queja]],Historico_Registro_Quejas3[#All],22,0)","v":"A/C"},{"$f":"VLOOKUP(Precentación_Quejas[[#This Row],[Payaso]],Tabla_Payasos[[Payasos]:[Columna1]],2,0)","v":25},927,{"$f":"VLOOKUP(Precentación_Quejas[[#This Row],['# Queja]],Historico_Registro_Quejas3[[#All],['# Queja]:[Valoración]],15,0)","v":"Roja"}]
[{"$f":"VLOOKUP(Precentación_Quejas[[#This Row],['# Queja]],Historico_Registro_Quejas3[#All],4,0)","v":204},{"$f":"VLOOKUP(Precentación_Quejas[[#This Row],['# Queja]],Historico_Registro_Quejas3[#All],2,0)","v":"2018-09-23"},{"$f":"VLOOKUP(Precentación_Quejas[[#This Row],['# Queja]],Historico_Registro_Quejas3[#All],7,0)","v":"El baño está mal diseñado, el servicio sanitario debe de estar por lo menos 50cm de la pared lateral, la ducha debe de tener un piso antideslizante. EN el cuarto los adornos laterales de la cama sobran, no se puede accesar a ese lado de la cama y además son peligrosos para niños."},{"$f":"VLOOKUP(Precentación_Quejas[[#This Row],['# Queja]],Historico_Registro_Quejas3[#All],22,0)","v":"Habitaciones"},{"$f":"VLOOKUP(Precentación_Quejas[[#This Row],[Payaso]],Tabla_Payasos[[Payasos]:[Columna1]],2,0)","v":54},926,{"$f":"VLOOKUP(Precentación_Quejas[[#This Row],['# Queja]],Historico_Registro_Quejas3[[#All],['# Queja]:[Valoración]],15,0)","v":"Roja"}]
[{"$f":"VLOOKUP(Precentación_Quejas[[#This Row],['# Queja]],Historico_Registro_Quejas3[#All],4,0)","v":308},{"$f":"VLOOKUP(Precentación_Quejas[[#This Row],['# Queja]],Historico_Registro_Quejas3[#All],2,0)","v":"2018-09-23"},{"$f":"VLOOKUP(Precentación_Quejas[[#This Row],['# Queja]],Historico_Registro_Quejas3[#All],7,0)","v":"Requiere remodelar los muebles, se necesita más espacio para colgar ropa, además en sí la habitación es muy básica"},{"$f":"VLOOKUP(Precentación_Quejas[[#This Row],['# Queja]],Historico_Registro_Quejas3[#All],22,0)","v":"Habitaciones"},{"$f":"VLOOKUP(Precentación_Quejas[[#This Row],[Payaso]],Tabla_Payasos[[Payasos]:[Columna1]],2,0)","v":54},925,{"$f":"VLOOKUP(Precentación_Quejas[[#This Row],['# Queja]],Historico_Registro_Quejas3[[#All],['# Queja]:[Valoración]],15,0)","v":"Desestimada"}]
[{"$f":"VLOOKUP(Precentación_Quejas[[#This Row],['# Queja]],Historico_Registro_Quejas3[#All],4,0)","v":312},{"$f":"VLOOKUP(Precentación_Quejas[[#This Row],['# Queja]],Historico_Registro_Quejas3[#All],2,0)","v":"2018-09-21"},{"$f":"VLOOKUP(Precentación_Quejas[[#This Row],['# Queja]],Historico_Registro_Quejas3[#All],7,0)","v":"Huéspedes extremadamente molestos se acercan a recepción porque durante la noche fueron picados por piojos o chinches que según indican invadieron el colchón, ellos se encontraban con toda su espalda y brazos irritados y comentaron que han estado en todo tipo de hoteles baratos y que nunca pensaron que en un hotel bueno donde celebraban su luna de miel hubieran tenido que llegar a los extremos de revisar los colchones hasta encontrar estos piojos. Muy disconformes nos dicen que esta situación ha afectado sus vacaciones y que van para la clínica a revisarse. Ellos tenían fotos de los piojos que según indican usaran para poner una reclamación."},{"$f":"VLOOKUP(Precentación_Quejas[[#This Row],['# Queja]],Historico_Registro_Quejas3[#All],22,0)","v":"Plagas Habitaciones"},{"$f":"VLOOKUP(Precentación_Quejas[[#This Row],[Payaso]],Tabla_Payasos[[Payasos]:[Columna1]],2,0)","v":49},924,{"$f":"VLOOKUP(Precentación_Quejas[[#This Row],['# Queja]],Historico_Registro_Quejas3[[#All],['# Queja]:[Valoración]],15,0)","v":"Roja"}]
[{"$f":"VLOOKUP(Precentación_Quejas[[#This Row],['# Queja]],Historico_Registro_Quejas3[#All],4,0)","v":410},{"$f":"VLOOKUP(Precentación_Quejas[[#This Row],['# Queja]],Historico_Registro_Quejas3[#All],2,0)","v":"2018-09-19"},{"$f":"VLOOKUP(Precentación_Quejas[[#This Row],['# Queja]],Historico_Registro_Quejas3[#All],7,0)","v":"El personal en el desayuno el primer día fue bueno y amable pero en el segundo día no fue bueno, deben estar atentos a las necesidades individuales para no hacerte sentir como un huésped irritante."},{"$f":"VLOOKUP(Precentación_Quejas[[#This Row],['# Queja]],Historico_Registro_Quejas3[#All],22,0)","v":"Servicio cliente restaurante "},{"$f":"VLOOKUP(Precentación_Quejas[[#This Row],[Payaso]],Tabla_Payasos[[Payasos]:[Columna1]],2,0)","v":25},923,{"$f":"VLOOKUP(Precentación_Quejas[[#This Row],['# Queja]],Historico_Registro_Quejas3[[#All],['# Queja]:[Valoración]],15,0)","v":"Roja"}]
[{"$f":"VLOOKUP(Precentación_Quejas[[#This Row],['# Queja]],Historico_Registro_Quejas3[#All],4,0)","v":"N/A"},{"$f":"VLOOKUP(Precentación_Quejas[[#This Row],['# Queja]],Historico_Registro_Quejas3[#All],2,0)","v":"2018-09-18"},{"$f":"VLOOKUP(Precentación_Quejas[[#This Row],['# Queja]],Historico_Registro_Quejas3[#All],7,0)","v":"Mejorar con un entrenamiento del personal encargado del desayuno, en la evaluación califico con un 2 la experiencia."},{"$f":"VLOOKUP(Precentación_Quejas[[#This Row],['# Queja]],Historico_Registro_Quejas3[#All],22,0)","v":"Servicio cliente restaurante "},{"$f":"VLOOKUP(Precentación_Quejas[[#This Row],[Payaso]],Tabla_Payasos[[Payasos]:[Columna1]],2,0)","v":25},922,{"$f":"VLOOKUP(Precentación_Quejas[[#This Row],['# Queja]],Historico_Registro_Quejas3[[#All],['# Queja]:[Valoración]],15,0)","v":"Roja"}]
[{"$f":"VLOOKUP(Precentación_Quejas[[#This Row],['# Queja]],Historico_Registro_Quejas3[#All],4,0)","v":403},{"$f":"VLOOKUP(Precentación_Quejas[[#This Row],['# Queja]],Historico_Registro_Quejas3[#All],2,0)","v":"2018-09-18"},{"$f":"VLOOKUP(Precentación_Quejas[[#This Row],['# Queja]],Historico_Registro_Quejas3[#All],7,0)","v":"Muy caro y el sabor no es bueno en las comidas"},{"$f":"VLOOKUP(Precentación_Quejas[[#This Row],['# Queja]],Historico_Registro_Quejas3[#All],22,0)","v":"Calidad precio"},{"$f":"VLOOKUP(Precentación_Quejas[[#This Row],[Payaso]],Tabla_Payasos[[Payasos]:[Columna1]],2,0)","v":8},921,{"$f":"VLOOKUP(Precentación_Quejas[[#This Row],['# Queja]],Historico_Registro_Quejas3[[#All],['# Queja]:[Valoración]],15,0)","v":"Roja"}]
[{"$f":"VLOOKUP(Precentación_Quejas[[#This Row],['# Queja]],Historico_Registro_Quejas3[#All],4,0)","v":"N/A"},{"$f":"VLOOKUP(Precentación_Quejas[[#This Row],['# Queja]],Historico_Registro_Quejas3[#All],2,0)","v":"2018-09-19"},{"$f":"VLOOKUP(Precentación_Quejas[[#This Row],['# Queja]],Historico_Registro_Quejas3[#All],7,0)","v":"Fuerte olor a boñiga en toda la recepción y restaurante italiano."},{"$f":"VLOOKUP(Precentación_Quejas[[#This Row],['# Queja]],Historico_Registro_Quejas3[#All],22,0)","v":"Malos olores"},{"$f":"VLOOKUP(Precentación_Quejas[[#This Row],[Payaso]],Tabla_Payasos[[Payasos]:[Columna1]],2,0)","v":2},920,{"$f":"VLOOKUP(Precentación_Quejas[[#This Row],['# Queja]],Historico_Registro_Quejas3[[#All],['# Queja]:[Valoración]],15,0)","v":"Roja"}]
[{"$f":"VLOOKUP(Precentación_Quejas[[#This Row],['# Queja]],Historico_Registro_Quejas3[#All],4,0)","v":802},{"$f":"VLOOKUP(Precentación_Quejas[[#This Row],['# Queja]],Historico_Registro_Quejas3[#All],2,0)","v":"2018-09-18"},{"$f":"VLOOKUP(Precentación_Quejas[[#This Row],['# Queja]],Historico_Registro_Quejas3[#All],7,0)","v":"Huéspedes enfadados por fumigación en el rest Ti Cain que provocó una nube de humo en las termales."},{"$f":"VLOOKUP(Precentación_Quejas[[#This Row],['# Queja]],Historico_Registro_Quejas3[#All],22,0)","v":"Fumigación"},{"$f":"VLOOKUP(Precentación_Quejas[[#This Row],[Payaso]],Tabla_Payasos[[Payasos]:[Columna1]],2,0)","v":2},919,{"$f":"VLOOKUP(Precentación_Quejas[[#This Row],['# Queja]],Historico_Registro_Quejas3[[#All],['# Queja]:[Valoración]],15,0)","v":"Roja"}]
[{"$f":"VLOOKUP(Precentación_Quejas[[#This Row],['# Queja]],Historico_Registro_Quejas3[#All],4,0)","v":801},{"$f":"VLOOKUP(Precentación_Quejas[[#This Row],['# Queja]],Historico_Registro_Quejas3[#All],2,0)","v":"2018-09-18"},{"$f":"VLOOKUP(Precentación_Quejas[[#This Row],['# Queja]],Historico_Registro_Quejas3[#All],7,0)","v":"Huésped se acerca a lockers quejandose porque la fumigación que se lleva a cabo en el Ti-Cain provoca que todo el humo se vaya para las termales donde se encuentran sus niños, y eso le molestó mucho. El mismo reclamó que como iban a hacer eso mientras estaban ellos bañandose y disfrutando de las termales."},{"$f":"VLOOKUP(Precentación_Quejas[[#This Row],['# Queja]],Historico_Registro_Quejas3[#All],22,0)","v":"Fumigación"},{"$f":"VLOOKUP(Precentación_Quejas[[#This Row],[Payaso]],Tabla_Payasos[[Payasos]:[Columna1]],2,0)","v":2},918,{"$f":"VLOOKUP(Precentación_Quejas[[#This Row],['# Queja]],Historico_Registro_Quejas3[[#All],['# Queja]:[Valoración]],15,0)","v":"Roja"}]
[{"$f":"VLOOKUP(Precentación_Quejas[[#This Row],['# Queja]],Historico_Registro_Quejas3[#All],4,0)","v":405},{"$f":"VLOOKUP(Precentación_Quejas[[#This Row],['# Queja]],Historico_Registro_Quejas3[#All],2,0)","v":"2018-09-18"},{"$f":"VLOOKUP(Precentación_Quejas[[#This Row],['# Queja]],Historico_Registro_Quejas3[#All],7,0)","v":"Huésped muy molesto se acercó a recepción reclamando que Edward le vendió un Tour de perezosos donde iba ver algunos perezosos y vida silvestre, sin embargo dice que no vió nada más que un tucán muerto. Ël mismo canceló los tour del siguiente día y se encontraba bastante enfadado por lo que le prometieron y no se cumplió."},{"$f":"VLOOKUP(Precentación_Quejas[[#This Row],['# Queja]],Historico_Registro_Quejas3[#All],22,0)","v":"Servicio cliente tour operador"},{"$f":"VLOOKUP(Precentación_Quejas[[#This Row],[Payaso]],Tabla_Payasos[[Payasos]:[Columna1]],2,0)","v":1},917,{"$f":"VLOOKUP(Precentación_Quejas[[#This Row],['# Queja]],Historico_Registro_Quejas3[[#All],['# Queja]:[Valoración]],15,0)","v":"Roja"}]
[{"$f":"VLOOKUP(Precentación_Quejas[[#This Row],['# Queja]],Historico_Registro_Quejas3[#All],4,0)","v":108},{"$f":"VLOOKUP(Precentación_Quejas[[#This Row],['# Queja]],Historico_Registro_Quejas3[#All],2,0)","v":"2018-09-18"},{"$f":"VLOOKUP(Precentación_Quejas[[#This Row],['# Queja]],Historico_Registro_Quejas3[#All],7,0)","v":"Huesped que estuvo hospedado del 13 al 16 de septiembre con reserva a nombre de Carlos Urrego envió correo a Servicio al Cliente preguntando por un objeto olvidado descrito como un medicamento utilizado para su insulina que estaba dentro de un recipiente azul en el refrigerador de la habitación 108, al momento de recibir la solicitud se consulta a las mucamas para que revisen y a recepción para buscar en lost&found pero ambos indican que no hay nada por lo que se procede a responder que desafortunadamente no se encontró nada, el hecho fue que el señor hizo caso omiso al correo  y se vino manejando desde Guanacaste hasta el hotel donde pidió lo dejaran entrar para hablar con Servicio al Cliente, cuando el señor llega el insiste en que el dejó su objeto ahí por lo que amable y abiertamente le dije que aunque las mucamas no encontraron nada yo mismo iba ir a revisar a esa habitación, a pesar de que estaba fumigada y llena de humo por completo ingresé hasta el refrigerador y busqué hasta encontrar lo que el señor aseguraba había dejado. Debido a esta situación me ví por la pena de pedir disculpas por el correo enviado asegurando que no había nada y por el reporte de las mucamas que no había nada ahí, el señor solicitó fueramos mas cuidadosos con las  cosas olvidadas y me agradeció por ir a buscar minuciosamente.  "},{"$f":"VLOOKUP(Precentación_Quejas[[#This Row],['# Queja]],Historico_Registro_Quejas3[#All],22,0)","v":"Chequeo habitaciones"},{"$f":"VLOOKUP(Precentación_Quejas[[#This Row],[Payaso]],Tabla_Payasos[[Payasos]:[Columna1]],2,0)","v":8},916,{"$f":"VLOOKUP(Precentación_Quejas[[#This Row],['# Queja]],Historico_Registro_Quejas3[[#All],['# Queja]:[Valoración]],15,0)","v":"Roja"}]
[{"$f":"VLOOKUP(Precentación_Quejas[[#This Row],['# Queja]],Historico_Registro_Quejas3[#All],4,0)","v":312},{"$f":"VLOOKUP(Precentación_Quejas[[#This Row],['# Queja]],Historico_Registro_Quejas3[#All],2,0)","v":"2018-09-18"},{"$f":"VLOOKUP(Precentación_Quejas[[#This Row],['# Queja]],Historico_Registro_Quejas3[#All],7,0)","v":"Huésped reporta que no pudieron dormir debido a que en la habitación hay bichos."},{"$f":"VLOOKUP(Precentación_Quejas[[#This Row],['# Queja]],Historico_Registro_Quejas3[#All],22,0)","v":"Plagas Habitaciones"},{"$f":"VLOOKUP(Precentación_Quejas[[#This Row],[Payaso]],Tabla_Payasos[[Payasos]:[Columna1]],2,0)","v":49},915,{"$f":"VLOOKUP(Precentación_Quejas[[#This Row],['# Queja]],Historico_Registro_Quejas3[[#All],['# Queja]:[Valoración]],15,0)","v":"Roja"}]
[{"$f":"VLOOKUP(Precentación_Quejas[[#This Row],['# Queja]],Historico_Registro_Quejas3[#All],4,0)","v":602},{"$f":"VLOOKUP(Precentación_Quejas[[#This Row],['# Queja]],Historico_Registro_Quejas3[#All],2,0)","v":"2018-09-18"},{"$f":"VLOOKUP(Precentación_Quejas[[#This Row],['# Queja]],Historico_Registro_Quejas3[#All],7,0)","v":"Huésped expresa sentirse incomodo al comer y otras personas estén cerca nadando"},{"$f":"VLOOKUP(Precentación_Quejas[[#This Row],['# Queja]],Historico_Registro_Quejas3[#All],22,0)","v":"N/A"},{"$f":"VLOOKUP(Precentación_Quejas[[#This Row],[Payaso]],Tabla_Payasos[[Payasos]:[Columna1]],2,0)","v":44},914,{"$f":"VLOOKUP(Precentación_Quejas[[#This Row],['# Queja]],Historico_Registro_Quejas3[[#All],['# Queja]:[Valoración]],15,0)","v":"Desestimada"}]
[{"$f":"VLOOKUP(Precentación_Quejas[[#This Row],['# Queja]],Historico_Registro_Quejas3[#All],4,0)","v":902},{"$f":"VLOOKUP(Precentación_Quejas[[#This Row],['# Queja]],Historico_Registro_Quejas3[#All],2,0)","v":"2018-09-17"},{"$f":"VLOOKUP(Precentación_Quejas[[#This Row],['# Queja]],Historico_Registro_Quejas3[#All],7,0)","v":"Aire Acondicionado no funciona"},{"$f":"VLOOKUP(Precentación_Quejas[[#This Row],['# Queja]],Historico_Registro_Quejas3[#All],22,0)","v":"A/C"},{"$f":"VLOOKUP(Precentación_Quejas[[#This Row],[Payaso]],Tabla_Payasos[[Payasos]:[Columna1]],2,0)","v":25},913,{"$f":"VLOOKUP(Precentación_Quejas[[#This Row],['# Queja]],Historico_Registro_Quejas3[[#All],['# Queja]:[Valoración]],15,0)","v":"Roja"}]
[{"$f":"VLOOKUP(Precentación_Quejas[[#This Row],['# Queja]],Historico_Registro_Quejas3[#All],4,0)","v":801},{"$f":"VLOOKUP(Precentación_Quejas[[#This Row],['# Queja]],Historico_Registro_Quejas3[#All],2,0)","v":"2018-09-16"},{"$f":"VLOOKUP(Precentación_Quejas[[#This Row],['# Queja]],Historico_Registro_Quejas3[#All],7,0)","v":"Me gustaría que el jacuzzi que esta a 39 grados estuviera a una temp mas  baja ya que por estar tan caliente casi no se puede utilizar, no se aguanta el dolor, si fuera de 35 grados podría utilizarse más."},{"$f":"VLOOKUP(Precentación_Quejas[[#This Row],['# Queja]],Historico_Registro_Quejas3[#All],22,0)","v":"N/A"},{"$f":"VLOOKUP(Precentación_Quejas[[#This Row],[Payaso]],Tabla_Payasos[[Payasos]:[Columna1]],2,0)","v":44},912,{"$f":"VLOOKUP(Precentación_Quejas[[#This Row],['# Queja]],Historico_Registro_Quejas3[[#All],['# Queja]:[Valoración]],15,0)","v":"Desestimada"}]
[{"$f":"VLOOKUP(Precentación_Quejas[[#This Row],['# Queja]],Historico_Registro_Quejas3[#All],4,0)","v":307},{"$f":"VLOOKUP(Precentación_Quejas[[#This Row],['# Queja]],Historico_Registro_Quejas3[#All],2,0)","v":"2018-09-17"},{"$f":"VLOOKUP(Precentación_Quejas[[#This Row],['# Queja]],Historico_Registro_Quejas3[#All],7,0)","v":"Encender el aire acondicionado antes que lleguen los huéspedes. Así cuando estos lleguen encontrarán la habitación fresca"},{"$f":"VLOOKUP(Precentación_Quejas[[#This Row],['# Queja]],Historico_Registro_Quejas3[#All],22,0)","v":"N/A"},{"$f":"VLOOKUP(Precentación_Quejas[[#This Row],[Payaso]],Tabla_Payasos[[Payasos]:[Columna1]],2,0)","v":44},911,{"$f":"VLOOKUP(Precentación_Quejas[[#This Row],['# Queja]],Historico_Registro_Quejas3[[#All],['# Queja]:[Valoración]],15,0)","v":"Desestimada"}]
[{"$f":"VLOOKUP(Precentación_Quejas[[#This Row],['# Queja]],Historico_Registro_Quejas3[#All],4,0)","v":104},{"$f":"VLOOKUP(Precentación_Quejas[[#This Row],['# Queja]],Historico_Registro_Quejas3[#All],2,0)","v":"2018-09-17"},{"$f":"VLOOKUP(Precentación_Quejas[[#This Row],['# Queja]],Historico_Registro_Quejas3[#All],7,0)","v":"Huésped se queja de la manera en que no la dejaron ingresar al rest. Italiano, a la señora la mantuvieron esperando en recepción sin indicarle nada mientras iban a preguntar a un superior si podía o no entrar como andaba vestida, ella se molestó porque otra mujer andaba vestida muy parecido y si la dejaron entrar. Ella al hacer check-out nos hizo la observación que se sintió insultada y que fue totalmente inapropiado que la mantuvieran sin entrar durante unos minutos."},{"$f":"VLOOKUP(Precentación_Quejas[[#This Row],['# Queja]],Historico_Registro_Quejas3[#All],22,0)","v":"Servicio cliente restaurante "},{"$f":"VLOOKUP(Precentación_Quejas[[#This Row],[Payaso]],Tabla_Payasos[[Payasos]:[Columna1]],2,0)","v":25},910,{"$f":"VLOOKUP(Precentación_Quejas[[#This Row],['# Queja]],Historico_Registro_Quejas3[[#All],['# Queja]:[Valoración]],15,0)","v":"Roja"}]
[{"$f":"VLOOKUP(Precentación_Quejas[[#This Row],['# Queja]],Historico_Registro_Quejas3[#All],4,0)","v":302},{"$f":"VLOOKUP(Precentación_Quejas[[#This Row],['# Queja]],Historico_Registro_Quejas3[#All],2,0)","v":"2018-09-16"},{"$f":"VLOOKUP(Precentación_Quejas[[#This Row],['# Queja]],Historico_Registro_Quejas3[#All],7,0)","v":"Muy mal coordinado el desayuno, nos quejamos del espacio-tiempo en el desayuno."},{"$f":"VLOOKUP(Precentación_Quejas[[#This Row],['# Queja]],Historico_Registro_Quejas3[#All],22,0)","v":"Servicio cliente restaurante "},{"$f":"VLOOKUP(Precentación_Quejas[[#This Row],[Payaso]],Tabla_Payasos[[Payasos]:[Columna1]],2,0)","v":25},909,{"$f":"VLOOKUP(Precentación_Quejas[[#This Row],['# Queja]],Historico_Registro_Quejas3[[#All],['# Queja]:[Valoración]],15,0)","v":"Roja"}]
[{"$f":"VLOOKUP(Precentación_Quejas[[#This Row],['# Queja]],Historico_Registro_Quejas3[#All],4,0)","v":901},{"$f":"VLOOKUP(Precentación_Quejas[[#This Row],['# Queja]],Historico_Registro_Quejas3[#All],2,0)","v":"2018-09-16"},{"$f":"VLOOKUP(Precentación_Quejas[[#This Row],['# Queja]],Historico_Registro_Quejas3[#All],7,0)","v":"Huéspedes se quejan de que no hay un billar o futbolín para para entretenimiento."},{"$f":"VLOOKUP(Precentación_Quejas[[#This Row],['# Queja]],Historico_Registro_Quejas3[#All],22,0)","v":"Entretenimiento"},{"$f":"VLOOKUP(Precentación_Quejas[[#This Row],[Payaso]],Tabla_Payasos[[Payasos]:[Columna1]],2,0)","v":7},908,{"$f":"VLOOKUP(Precentación_Quejas[[#This Row],['# Queja]],Historico_Registro_Quejas3[[#All],['# Queja]:[Valoración]],15,0)","v":"Amarilla"}]
[{"$f":"VLOOKUP(Precentación_Quejas[[#This Row],['# Queja]],Historico_Registro_Quejas3[#All],4,0)","v":110},{"$f":"VLOOKUP(Precentación_Quejas[[#This Row],['# Queja]],Historico_Registro_Quejas3[#All],2,0)","v":"2018-09-16"},{"$f":"VLOOKUP(Precentación_Quejas[[#This Row],['# Queja]],Historico_Registro_Quejas3[#All],7,0)","v":"Comida del italiano de poca calidad"},{"$f":"VLOOKUP(Precentación_Quejas[[#This Row],['# Queja]],Historico_Registro_Quejas3[#All],22,0)","v":"Calidad comida Italiano"},{"$f":"VLOOKUP(Precentación_Quejas[[#This Row],[Payaso]],Tabla_Payasos[[Payasos]:[Columna1]],2,0)","v":5},907,{"$f":"VLOOKUP(Precentación_Quejas[[#This Row],['# Queja]],Historico_Registro_Quejas3[[#All],['# Queja]:[Valoración]],15,0)","v":"Roja"}]
[{"$f":"VLOOKUP(Precentación_Quejas[[#This Row],['# Queja]],Historico_Registro_Quejas3[#All],4,0)","v":405},{"$f":"VLOOKUP(Precentación_Quejas[[#This Row],['# Queja]],Historico_Registro_Quejas3[#All],2,0)","v":"2018-09-15"},{"$f":"VLOOKUP(Precentación_Quejas[[#This Row],['# Queja]],Historico_Registro_Quejas3[#All],7,0)","v":"Restaurate italiano lo encontramos con precios un poco caros."},{"$f":"VLOOKUP(Precentación_Quejas[[#This Row],['# Queja]],Historico_Registro_Quejas3[#All],22,0)","v":"Precios Comidas Italiano"},{"$f":"VLOOKUP(Precentación_Quejas[[#This Row],[Payaso]],Tabla_Payasos[[Payasos]:[Columna1]],2,0)","v":11},906,{"$f":"VLOOKUP(Precentación_Quejas[[#This Row],['# Queja]],Historico_Registro_Quejas3[[#All],['# Queja]:[Valoración]],15,0)","v":"Roja"}]
[{"$f":"VLOOKUP(Precentación_Quejas[[#This Row],['# Queja]],Historico_Registro_Quejas3[#All],4,0)","v":606},{"$f":"VLOOKUP(Precentación_Quejas[[#This Row],['# Queja]],Historico_Registro_Quejas3[#All],2,0)","v":"2018-09-15"},{"$f":"VLOOKUP(Precentación_Quejas[[#This Row],['# Queja]],Historico_Registro_Quejas3[#All],7,0)","v":"Huéspedes se quejan por mal funcionamiento del A/C, el mismo no enfría bien y las huéspedes no estan a gusto a pesar que mantenimiento fue a revisar. Según ellas la potencia no es la que debería de tener."},{"$f":"VLOOKUP(Precentación_Quejas[[#This Row],['# Queja]],Historico_Registro_Quejas3[#All],22,0)","v":"A/C"},{"$f":"VLOOKUP(Precentación_Quejas[[#This Row],[Payaso]],Tabla_Payasos[[Payasos]:[Columna1]],2,0)","v":25},905,{"$f":"VLOOKUP(Precentación_Quejas[[#This Row],['# Queja]],Historico_Registro_Quejas3[[#All],['# Queja]:[Valoración]],15,0)","v":"Roja"}]
[{"$f":"VLOOKUP(Precentación_Quejas[[#This Row],['# Queja]],Historico_Registro_Quejas3[#All],4,0)","v":108},{"$f":"VLOOKUP(Precentación_Quejas[[#This Row],['# Queja]],Historico_Registro_Quejas3[#All],2,0)","v":"2018-09-16"},{"$f":"VLOOKUP(Precentación_Quejas[[#This Row],['# Queja]],Historico_Registro_Quejas3[#All],7,0)","v":"Huésped se queja porque considera que a las aguas termales se les debería se sacar mayor provecho creando baños turcos con el vapor o con algún tipo de sauna. Además sugiere que hayan canchas de tennis o volleyball, hasta inclusive mesas de ping pong en alguna área."},{"$f":"VLOOKUP(Precentación_Quejas[[#This Row],['# Queja]],Historico_Registro_Quejas3[#All],22,0)","v":"Entretenimiento"},{"$f":"VLOOKUP(Precentación_Quejas[[#This Row],[Payaso]],Tabla_Payasos[[Payasos]:[Columna1]],2,0)","v":7},904,{"$f":"VLOOKUP(Precentación_Quejas[[#This Row],['# Queja]],Historico_Registro_Quejas3[[#All],['# Queja]:[Valoración]],15,0)","v":"Roja"}]
[{"$f":"VLOOKUP(Precentación_Quejas[[#This Row],['# Queja]],Historico_Registro_Quejas3[#All],4,0)","v":401},{"$f":"VLOOKUP(Precentación_Quejas[[#This Row],['# Queja]],Historico_Registro_Quejas3[#All],2,0)","v":"2018-09-13"},{"$f":"VLOOKUP(Precentación_Quejas[[#This Row],['# Queja]],Historico_Registro_Quejas3[#All],7,0)","v":"Precios del bar del Sushi muy elevados"},{"$f":"VLOOKUP(Precentación_Quejas[[#This Row],['# Queja]],Historico_Registro_Quejas3[#All],22,0)","v":"Precios Comidas sushi"},{"$f":"VLOOKUP(Precentación_Quejas[[#This Row],[Payaso]],Tabla_Payasos[[Payasos]:[Columna1]],2,0)","v":1},903,{"$f":"VLOOKUP(Precentación_Quejas[[#This Row],['# Queja]],Historico_Registro_Quejas3[[#All],['# Queja]:[Valoración]],15,0)","v":"Roja"}]
[{"$f":"VLOOKUP(Precentación_Quejas[[#This Row],['# Queja]],Historico_Registro_Quejas3[#All],4,0)","v":101},{"$f":"VLOOKUP(Precentación_Quejas[[#This Row],['# Queja]],Historico_Registro_Quejas3[#All],2,0)","v":"2018-09-13"},{"$f":"VLOOKUP(Precentación_Quejas[[#This Row],['# Queja]],Historico_Registro_Quejas3[#All],7,0)","v":"No hay suficientes opciones"},{"$f":"VLOOKUP(Precentación_Quejas[[#This Row],['# Queja]],Historico_Registro_Quejas3[#All],22,0)","v":"Menú Celiacos"},{"$f":"VLOOKUP(Precentación_Quejas[[#This Row],[Payaso]],Tabla_Payasos[[Payasos]:[Columna1]],2,0)","v":7},902,{"$f":"VLOOKUP(Precentación_Quejas[[#This Row],['# Queja]],Historico_Registro_Quejas3[[#All],['# Queja]:[Valoración]],15,0)","v":"Roja"}]
[{"$f":"VLOOKUP(Precentación_Quejas[[#This Row],['# Queja]],Historico_Registro_Quejas3[#All],4,0)","v":202},{"$f":"VLOOKUP(Precentación_Quejas[[#This Row],['# Queja]],Historico_Registro_Quejas3[#All],2,0)","v":"2018-09-12"},{"$f":"VLOOKUP(Precentación_Quejas[[#This Row],['# Queja]],Historico_Registro_Quejas3[#All],7,0)","v":"Solamente había dos copas para una habitación que era de 3 personas."},{"$f":"VLOOKUP(Precentación_Quejas[[#This Row],['# Queja]],Historico_Registro_Quejas3[#All],22,0)","v":"N/A"},{"$f":"VLOOKUP(Precentación_Quejas[[#This Row],[Payaso]],Tabla_Payasos[[Payasos]:[Columna1]],2,0)","v":44},901,{"$f":"VLOOKUP(Precentación_Quejas[[#This Row],['# Queja]],Historico_Registro_Quejas3[[#All],['# Queja]:[Valoración]],15,0)","v":"Desestimada"}]
[{"$f":"VLOOKUP(Precentación_Quejas[[#This Row],['# Queja]],Historico_Registro_Quejas3[#All],4,0)","v":202},{"$f":"VLOOKUP(Precentación_Quejas[[#This Row],['# Queja]],Historico_Registro_Quejas3[#All],2,0)","v":"2018-09-12"},{"$f":"VLOOKUP(Precentación_Quejas[[#This Row],['# Queja]],Historico_Registro_Quejas3[#All],7,0)","v":"Huésped se queja porque no hay un espejo afuera del baño en la habitación."},{"$f":"VLOOKUP(Precentación_Quejas[[#This Row],['# Queja]],Historico_Registro_Quejas3[#All],22,0)","v":"Espejo grande fuera del baño"},{"$f":"VLOOKUP(Precentación_Quejas[[#This Row],[Payaso]],Tabla_Payasos[[Payasos]:[Columna1]],2,0)","v":4},900,{"$f":"VLOOKUP(Precentación_Quejas[[#This Row],['# Queja]],Historico_Registro_Quejas3[[#All],['# Queja]:[Valoración]],15,0)","v":"Desestimada"}]
[{"$f":"VLOOKUP(Precentación_Quejas[[#This Row],['# Queja]],Historico_Registro_Quejas3[#All],4,0)","v":201},{"$f":"VLOOKUP(Precentación_Quejas[[#This Row],['# Queja]],Historico_Registro_Quejas3[#All],2,0)","v":"2018-09-11"},{"$f":"VLOOKUP(Precentación_Quejas[[#This Row],['# Queja]],Historico_Registro_Quejas3[#All],7,0)","v":"Precios muy elevados."},{"$f":"VLOOKUP(Precentación_Quejas[[#This Row],['# Queja]],Historico_Registro_Quejas3[#All],22,0)","v":"Precios Comidas Italiano"},{"$f":"VLOOKUP(Precentación_Quejas[[#This Row],[Payaso]],Tabla_Payasos[[Payasos]:[Columna1]],2,0)","v":11},899,{"$f":"VLOOKUP(Precentación_Quejas[[#This Row],['# Queja]],Historico_Registro_Quejas3[[#All],['# Queja]:[Valoración]],15,0)","v":"Roja"}]
[{"$f":"VLOOKUP(Precentación_Quejas[[#This Row],['# Queja]],Historico_Registro_Quejas3[#All],4,0)","v":311},{"$f":"VLOOKUP(Precentación_Quejas[[#This Row],['# Queja]],Historico_Registro_Quejas3[#All],2,0)","v":"2018-09-05"},{"$f":"VLOOKUP(Precentación_Quejas[[#This Row],['# Queja]],Historico_Registro_Quejas3[#All],7,0)","v":"Un menú en la habitación de los diferentes restaurantes es lo que falta."},{"$f":"VLOOKUP(Precentación_Quejas[[#This Row],['# Queja]],Historico_Registro_Quejas3[#All],22,0)","v":"Menú room service"},{"$f":"VLOOKUP(Precentación_Quejas[[#This Row],[Payaso]],Tabla_Payasos[[Payasos]:[Columna1]],2,0)","v":2},898,{"$f":"VLOOKUP(Precentación_Quejas[[#This Row],['# Queja]],Historico_Registro_Quejas3[[#All],['# Queja]:[Valoración]],15,0)","v":"Roja"}]
[{"$f":"VLOOKUP(Precentación_Quejas[[#This Row],['# Queja]],Historico_Registro_Quejas3[#All],4,0)","v":303},{"$f":"VLOOKUP(Precentación_Quejas[[#This Row],['# Queja]],Historico_Registro_Quejas3[#All],2,0)","v":"2018-09-06"},{"$f":"VLOOKUP(Precentación_Quejas[[#This Row],['# Queja]],Historico_Registro_Quejas3[#All],7,0)","v":"Se queja porque no hay cajero automatico."},{"$f":"VLOOKUP(Precentación_Quejas[[#This Row],['# Queja]],Historico_Registro_Quejas3[#All],22,0)","v":"N/A"},{"$f":"VLOOKUP(Precentación_Quejas[[#This Row],[Payaso]],Tabla_Payasos[[Payasos]:[Columna1]],2,0)","v":44},897,{"$f":"VLOOKUP(Precentación_Quejas[[#This Row],['# Queja]],Historico_Registro_Quejas3[[#All],['# Queja]:[Valoración]],15,0)","v":"Desestimada"}]
[{"$f":"VLOOKUP(Precentación_Quejas[[#This Row],['# Queja]],Historico_Registro_Quejas3[#All],4,0)","v":303},{"$f":"VLOOKUP(Precentación_Quejas[[#This Row],['# Queja]],Historico_Registro_Quejas3[#All],2,0)","v":"2018-09-06"},{"$f":"VLOOKUP(Precentación_Quejas[[#This Row],['# Queja]],Historico_Registro_Quejas3[#All],7,0)","v":"Huésped se queja porque no se ofrece comida local. La comida fue mediocre, el esposo pidió un sandwich de pollo que tenía muy poco pollo y mucho pan. Si yo fuera el chef, preferiría ofrecer comida que comen los locales y no comida que se puede conseguir en USA."},{"$f":"VLOOKUP(Precentación_Quejas[[#This Row],['# Queja]],Historico_Registro_Quejas3[#All],22,0)","v":"Menú típico"},{"$f":"VLOOKUP(Precentación_Quejas[[#This Row],[Payaso]],Tabla_Payasos[[Payasos]:[Columna1]],2,0)","v":5},896,{"$f":"VLOOKUP(Precentación_Quejas[[#This Row],['# Queja]],Historico_Registro_Quejas3[[#All],['# Queja]:[Valoración]],15,0)","v":"Roja"}]
[{"$f":"VLOOKUP(Precentación_Quejas[[#This Row],['# Queja]],Historico_Registro_Quejas3[#All],4,0)","v":707},{"$f":"VLOOKUP(Precentación_Quejas[[#This Row],['# Queja]],Historico_Registro_Quejas3[#All],2,0)","v":"2018-09-09"},{"$f":"VLOOKUP(Precentación_Quejas[[#This Row],['# Queja]],Historico_Registro_Quejas3[#All],7,0)","v":"Anoche fuimos testigos de una situación en el Bar Sushi acerca de que se acabó el Sushi, nos pareció que son asuntos operativos que los clientes no deben enterarse. Sabemos que son cosas que pasan y que es positivo porque es sinonimo de venta, sin embargo debería de manejarse de una mejor manera."},{"$f":"VLOOKUP(Precentación_Quejas[[#This Row],['# Queja]],Historico_Registro_Quejas3[#All],22,0)","v":"Servicio cliente bar humedo"},{"$f":"VLOOKUP(Precentación_Quejas[[#This Row],[Payaso]],Tabla_Payasos[[Payasos]:[Columna1]],2,0)","v":5},895,{"$f":"VLOOKUP(Precentación_Quejas[[#This Row],['# Queja]],Historico_Registro_Quejas3[[#All],['# Queja]:[Valoración]],15,0)","v":"Roja"}]
[{"$f":"VLOOKUP(Precentación_Quejas[[#This Row],['# Queja]],Historico_Registro_Quejas3[#All],4,0)","v":106},{"$f":"VLOOKUP(Precentación_Quejas[[#This Row],['# Queja]],Historico_Registro_Quejas3[#All],2,0)","v":"2018-09-09"},{"$f":"VLOOKUP(Precentación_Quejas[[#This Row],['# Queja]],Historico_Registro_Quejas3[#All],7,0)","v":"Se queja porque no venden la crema de miel con vainilla que se ofrece en las habitaciones."},{"$f":"VLOOKUP(Precentación_Quejas[[#This Row],['# Queja]],Historico_Registro_Quejas3[#All],22,0)","v":"N/A"},{"$f":"VLOOKUP(Precentación_Quejas[[#This Row],[Payaso]],Tabla_Payasos[[Payasos]:[Columna1]],2,0)","v":44},894,{"$f":"VLOOKUP(Precentación_Quejas[[#This Row],['# Queja]],Historico_Registro_Quejas3[[#All],['# Queja]:[Valoración]],15,0)","v":"Desestimada"}]
[{"$f":"VLOOKUP(Precentación_Quejas[[#This Row],['# Queja]],Historico_Registro_Quejas3[#All],4,0)","v":212},{"$f":"VLOOKUP(Precentación_Quejas[[#This Row],['# Queja]],Historico_Registro_Quejas3[#All],2,0)","v":"2018-09-09"},{"$f":"VLOOKUP(Precentación_Quejas[[#This Row],['# Queja]],Historico_Registro_Quejas3[#All],7,0)","v":"Se queja por no tener servicio antes de las 10:00am disponible en el sushi y bar húmedo."},{"$f":"VLOOKUP(Precentación_Quejas[[#This Row],['# Queja]],Historico_Registro_Quejas3[#All],22,0)","v":"N/A"},{"$f":"VLOOKUP(Precentación_Quejas[[#This Row],[Payaso]],Tabla_Payasos[[Payasos]:[Columna1]],2,0)","v":44},893,{"$f":"VLOOKUP(Precentación_Quejas[[#This Row],['# Queja]],Historico_Registro_Quejas3[[#All],['# Queja]:[Valoración]],15,0)","v":"Desestimada"}]
[{"$f":"VLOOKUP(Precentación_Quejas[[#This Row],['# Queja]],Historico_Registro_Quejas3[#All],4,0)","v":106},{"$f":"VLOOKUP(Precentación_Quejas[[#This Row],['# Queja]],Historico_Registro_Quejas3[#All],2,0)","v":"2018-09-09"},{"$f":"VLOOKUP(Precentación_Quejas[[#This Row],['# Queja]],Historico_Registro_Quejas3[#All],7,0)","v":"No hay actividades recreativas ni entretenimiento en el hotel."},{"$f":"VLOOKUP(Precentación_Quejas[[#This Row],['# Queja]],Historico_Registro_Quejas3[#All],22,0)","v":"Actividad nocturna"},{"$f":"VLOOKUP(Precentación_Quejas[[#This Row],[Payaso]],Tabla_Payasos[[Payasos]:[Columna1]],2,0)","v":2},892,{"$f":"VLOOKUP(Precentación_Quejas[[#This Row],['# Queja]],Historico_Registro_Quejas3[[#All],['# Queja]:[Valoración]],15,0)","v":"Amarilla"}]
[{"$f":"VLOOKUP(Precentación_Quejas[[#This Row],['# Queja]],Historico_Registro_Quejas3[#All],4,0)","v":210},{"$f":"VLOOKUP(Precentación_Quejas[[#This Row],['# Queja]],Historico_Registro_Quejas3[#All],2,0)","v":"2018-09-10"},{"$f":"VLOOKUP(Precentación_Quejas[[#This Row],['# Queja]],Historico_Registro_Quejas3[#All],7,0)","v":"Quisimos un day-pass para un familiar que estaba hospedado en otro hotel y nos salieron cobrando 120 dólares. Deberían haber excepciones o deberían tener el pase de un día."},{"$f":"VLOOKUP(Precentación_Quejas[[#This Row],['# Queja]],Historico_Registro_Quejas3[#All],22,0)","v":"N/A"},{"$f":"VLOOKUP(Precentación_Quejas[[#This Row],[Payaso]],Tabla_Payasos[[Payasos]:[Columna1]],2,0)","v":44},891,{"$f":"VLOOKUP(Precentación_Quejas[[#This Row],['# Queja]],Historico_Registro_Quejas3[[#All],['# Queja]:[Valoración]],15,0)","v":"Desestimada"}]
[{"$f":"VLOOKUP(Precentación_Quejas[[#This Row],['# Queja]],Historico_Registro_Quejas3[#All],4,0)","v":108},{"$f":"VLOOKUP(Precentación_Quejas[[#This Row],['# Queja]],Historico_Registro_Quejas3[#All],2,0)","v":"2018-09-08"},{"$f":"VLOOKUP(Precentación_Quejas[[#This Row],['# Queja]],Historico_Registro_Quejas3[#All],7,0)","v":"Nos parecio excesivo el precio de las comidas en el Rest. Italiano"},{"$f":"VLOOKUP(Precentación_Quejas[[#This Row],['# Queja]],Historico_Registro_Quejas3[#All],22,0)","v":"Precios Comidas Italiano"},{"$f":"VLOOKUP(Precentación_Quejas[[#This Row],[Payaso]],Tabla_Payasos[[Payasos]:[Columna1]],2,0)","v":11},890,{"$f":"VLOOKUP(Precentación_Quejas[[#This Row],['# Queja]],Historico_Registro_Quejas3[[#All],['# Queja]:[Valoración]],15,0)","v":"Roja"}]
[{"$f":"VLOOKUP(Precentación_Quejas[[#This Row],['# Queja]],Historico_Registro_Quejas3[#All],4,0)","v":212},{"$f":"VLOOKUP(Precentación_Quejas[[#This Row],['# Queja]],Historico_Registro_Quejas3[#All],2,0)","v":"2018-09-11"},{"$f":"VLOOKUP(Precentación_Quejas[[#This Row],['# Queja]],Historico_Registro_Quejas3[#All],7,0)","v":"Tener servicio antes de las 10:00am disponible"},{"$f":"VLOOKUP(Precentación_Quejas[[#This Row],['# Queja]],Historico_Registro_Quejas3[#All],22,0)","v":"N/A"},{"$f":"VLOOKUP(Precentación_Quejas[[#This Row],[Payaso]],Tabla_Payasos[[Payasos]:[Columna1]],2,0)","v":44},889,{"$f":"VLOOKUP(Precentación_Quejas[[#This Row],['# Queja]],Historico_Registro_Quejas3[[#All],['# Queja]:[Valoración]],15,0)","v":"Desestimada"}]
[{"$f":"VLOOKUP(Precentación_Quejas[[#This Row],['# Queja]],Historico_Registro_Quejas3[#All],4,0)","v":312},{"$f":"VLOOKUP(Precentación_Quejas[[#This Row],['# Queja]],Historico_Registro_Quejas3[#All],2,0)","v":"2018-09-06"},{"$f":"VLOOKUP(Precentación_Quejas[[#This Row],['# Queja]],Historico_Registro_Quejas3[#All],7,0)","v":"Cuando hay poca gente en el desayuno los comentarios de los empleados molestan ya que comentan cosas que no son del trabajo, haya poca o mucha gente los empleados deben saber ser profesionales y abtenerse de risas, comentarios, etc."},{"$f":"VLOOKUP(Precentación_Quejas[[#This Row],['# Queja]],Historico_Registro_Quejas3[#All],22,0)","v":"Servicio cliente restaurante "},{"$f":"VLOOKUP(Precentación_Quejas[[#This Row],[Payaso]],Tabla_Payasos[[Payasos]:[Columna1]],2,0)","v":25},888,{"$f":"VLOOKUP(Precentación_Quejas[[#This Row],['# Queja]],Historico_Registro_Quejas3[[#All],['# Queja]:[Valoración]],15,0)","v":"Roja"}]
[{"$f":"VLOOKUP(Precentación_Quejas[[#This Row],['# Queja]],Historico_Registro_Quejas3[#All],4,0)","v":"306"},{"$f":"VLOOKUP(Precentación_Quejas[[#This Row],['# Queja]],Historico_Registro_Quejas3[#All],2,0)","v":"2018-09-06"},{"$f":"VLOOKUP(Precentación_Quejas[[#This Row],['# Queja]],Historico_Registro_Quejas3[#All],7,0)","v":"Huésped molesto por ruido de refrigerador, indica que no lo deja dormir."},{"$f":"VLOOKUP(Precentación_Quejas[[#This Row],['# Queja]],Historico_Registro_Quejas3[#All],22,0)","v":"Ruido Refri"},{"$f":"VLOOKUP(Precentación_Quejas[[#This Row],[Payaso]],Tabla_Payasos[[Payasos]:[Columna1]],2,0)","v":2},887,{"$f":"VLOOKUP(Precentación_Quejas[[#This Row],['# Queja]],Historico_Registro_Quejas3[[#All],['# Queja]:[Valoración]],15,0)","v":"Roja"}]
[{"$f":"VLOOKUP(Precentación_Quejas[[#This Row],['# Queja]],Historico_Registro_Quejas3[#All],4,0)","v":106},{"$f":"VLOOKUP(Precentación_Quejas[[#This Row],['# Queja]],Historico_Registro_Quejas3[#All],2,0)","v":"2018-09-04"},{"$f":"VLOOKUP(Precentación_Quejas[[#This Row],['# Queja]],Historico_Registro_Quejas3[#All],7,0)","v":"Camas muy duras, es lo único que cambiariamos."},{"$f":"VLOOKUP(Precentación_Quejas[[#This Row],['# Queja]],Historico_Registro_Quejas3[#All],22,0)","v":"Colchon duro"},{"$f":"VLOOKUP(Precentación_Quejas[[#This Row],[Payaso]],Tabla_Payasos[[Payasos]:[Columna1]],2,0)","v":5},886,{"$f":"VLOOKUP(Precentación_Quejas[[#This Row],['# Queja]],Historico_Registro_Quejas3[[#All],['# Queja]:[Valoración]],15,0)","v":"Desestimada"}]
[{"$f":"VLOOKUP(Precentación_Quejas[[#This Row],['# Queja]],Historico_Registro_Quejas3[#All],4,0)","v":211},{"$f":"VLOOKUP(Precentación_Quejas[[#This Row],['# Queja]],Historico_Registro_Quejas3[#All],2,0)","v":"2018-09-02"},{"$f":"VLOOKUP(Precentación_Quejas[[#This Row],['# Queja]],Historico_Registro_Quejas3[#All],7,0)","v":"Huésped se queja de la no información acerca de los canales de TV, no sabía cuales estaban disponibles ni cuales eran en ingles."},{"$f":"VLOOKUP(Precentación_Quejas[[#This Row],['# Queja]],Historico_Registro_Quejas3[#All],22,0)","v":"Cable tica "},{"$f":"VLOOKUP(Precentación_Quejas[[#This Row],[Payaso]],Tabla_Payasos[[Payasos]:[Columna1]],2,0)","v":2},885,{"$f":"VLOOKUP(Precentación_Quejas[[#This Row],['# Queja]],Historico_Registro_Quejas3[[#All],['# Queja]:[Valoración]],15,0)","v":"Roja"}]
[{"$f":"VLOOKUP(Precentación_Quejas[[#This Row],['# Queja]],Historico_Registro_Quejas3[#All],4,0)","v":611},{"$f":"VLOOKUP(Precentación_Quejas[[#This Row],['# Queja]],Historico_Registro_Quejas3[#All],2,0)","v":"2018-09-03"},{"$f":"VLOOKUP(Precentación_Quejas[[#This Row],['# Queja]],Historico_Registro_Quejas3[#All],7,0)","v":"Huésped molesto se queja de la capacidad del agua caliente, según indica el agua caliente solamente dura 3 minutos y luego no sale mas caliente. Y esto a perjudicado su estancia ya que todos los días sucedió lo mismo."},{"$f":"VLOOKUP(Precentación_Quejas[[#This Row],['# Queja]],Historico_Registro_Quejas3[#All],22,0)","v":"Agua caliente"},{"$f":"VLOOKUP(Precentación_Quejas[[#This Row],[Payaso]],Tabla_Payasos[[Payasos]:[Columna1]],2,0)","v":13},884,{"$f":"VLOOKUP(Precentación_Quejas[[#This Row],['# Queja]],Historico_Registro_Quejas3[[#All],['# Queja]:[Valoración]],15,0)","v":"Roja"}]
[{"$f":"VLOOKUP(Precentación_Quejas[[#This Row],['# Queja]],Historico_Registro_Quejas3[#All],4,0)","v":302},{"$f":"VLOOKUP(Precentación_Quejas[[#This Row],['# Queja]],Historico_Registro_Quejas3[#All],2,0)","v":"2018-08-31"},{"$f":"VLOOKUP(Precentación_Quejas[[#This Row],['# Queja]],Historico_Registro_Quejas3[#All],7,0)","v":"Debería de haber una silla plastica para discapacitados en el área de duchas"},{"$f":"VLOOKUP(Precentación_Quejas[[#This Row],['# Queja]],Historico_Registro_Quejas3[#All],22,0)","v":"Sillas Discapacitados "},{"$f":"VLOOKUP(Precentación_Quejas[[#This Row],[Payaso]],Tabla_Payasos[[Payasos]:[Columna1]],2,0)","v":2},883,{"$f":"VLOOKUP(Precentación_Quejas[[#This Row],['# Queja]],Historico_Registro_Quejas3[[#All],['# Queja]:[Valoración]],15,0)","v":"Roja"}]
[{"$f":"VLOOKUP(Precentación_Quejas[[#This Row],['# Queja]],Historico_Registro_Quejas3[#All],4,0)","v":308},{"$f":"VLOOKUP(Precentación_Quejas[[#This Row],['# Queja]],Historico_Registro_Quejas3[#All],2,0)","v":"2018-08-31"},{"$f":"VLOOKUP(Precentación_Quejas[[#This Row],['# Queja]],Historico_Registro_Quejas3[#All],7,0)","v":"El precio que se debe pagar por todo el hotel hace pensar que es de muy alta calidad, sin embargo esto no es así"},{"$f":"VLOOKUP(Precentación_Quejas[[#This Row],['# Queja]],Historico_Registro_Quejas3[#All],22,0)","v":"Calidad precio"},{"$f":"VLOOKUP(Precentación_Quejas[[#This Row],[Payaso]],Tabla_Payasos[[Payasos]:[Columna1]],2,0)","v":8},882,{"$f":"VLOOKUP(Precentación_Quejas[[#This Row],['# Queja]],Historico_Registro_Quejas3[[#All],['# Queja]:[Valoración]],15,0)","v":"Roja"}]
[{"$f":"VLOOKUP(Precentación_Quejas[[#This Row],['# Queja]],Historico_Registro_Quejas3[#All],4,0)","v":308},{"$f":"VLOOKUP(Precentación_Quejas[[#This Row],['# Queja]],Historico_Registro_Quejas3[#All],2,0)","v":"2018-08-31"},{"$f":"VLOOKUP(Precentación_Quejas[[#This Row],['# Queja]],Historico_Registro_Quejas3[#All],7,0)","v":"Los precios de los restaurantes son muy caros y la comida muy mediocre"},{"$f":"VLOOKUP(Precentación_Quejas[[#This Row],['# Queja]],Historico_Registro_Quejas3[#All],22,0)","v":"Calidad precio"},{"$f":"VLOOKUP(Precentación_Quejas[[#This Row],[Payaso]],Tabla_Payasos[[Payasos]:[Columna1]],2,0)","v":8},881,{"$f":"VLOOKUP(Precentación_Quejas[[#This Row],['# Queja]],Historico_Registro_Quejas3[[#All],['# Queja]:[Valoración]],15,0)","v":"Roja"}]
[{"$f":"VLOOKUP(Precentación_Quejas[[#This Row],['# Queja]],Historico_Registro_Quejas3[#All],4,0)","v":308},{"$f":"VLOOKUP(Precentación_Quejas[[#This Row],['# Queja]],Historico_Registro_Quejas3[#All],2,0)","v":"2018-08-31"},{"$f":"VLOOKUP(Precentación_Quejas[[#This Row],['# Queja]],Historico_Registro_Quejas3[#All],7,0)","v":"El mini bar debería rellenarse diaramente"},{"$f":"VLOOKUP(Precentación_Quejas[[#This Row],['# Queja]],Historico_Registro_Quejas3[#All],22,0)","v":"N/A"},{"$f":"VLOOKUP(Precentación_Quejas[[#This Row],[Payaso]],Tabla_Payasos[[Payasos]:[Columna1]],2,0)","v":44},880,{"$f":"VLOOKUP(Precentación_Quejas[[#This Row],['# Queja]],Historico_Registro_Quejas3[[#All],['# Queja]:[Valoración]],15,0)","v":"Desestimada"}]
[{"$f":"VLOOKUP(Precentación_Quejas[[#This Row],['# Queja]],Historico_Registro_Quejas3[#All],4,0)","v":308},{"$f":"VLOOKUP(Precentación_Quejas[[#This Row],['# Queja]],Historico_Registro_Quejas3[#All],2,0)","v":"2018-08-31"},{"$f":"VLOOKUP(Precentación_Quejas[[#This Row],['# Queja]],Historico_Registro_Quejas3[#All],7,0)","v":"El servicio de lavandería es muy caro"},{"$f":"VLOOKUP(Precentación_Quejas[[#This Row],['# Queja]],Historico_Registro_Quejas3[#All],22,0)","v":"Precios Lavanderia "},{"$f":"VLOOKUP(Precentación_Quejas[[#This Row],[Payaso]],Tabla_Payasos[[Payasos]:[Columna1]],2,0)","v":1},879,{"$f":"VLOOKUP(Precentación_Quejas[[#This Row],['# Queja]],Historico_Registro_Quejas3[[#All],['# Queja]:[Valoración]],15,0)","v":"Roja"}]
[{"$f":"VLOOKUP(Precentación_Quejas[[#This Row],['# Queja]],Historico_Registro_Quejas3[#All],4,0)","v":308},{"$f":"VLOOKUP(Precentación_Quejas[[#This Row],['# Queja]],Historico_Registro_Quejas3[#All],2,0)","v":"2018-08-31"},{"$f":"VLOOKUP(Precentación_Quejas[[#This Row],['# Queja]],Historico_Registro_Quejas3[#All],7,0)","v":"El chicken gyoza en el bar húmedo es muy malo y los precios son muy caros "},{"$f":"VLOOKUP(Precentación_Quejas[[#This Row],['# Queja]],Historico_Registro_Quejas3[#All],22,0)","v":"Calidad precio"},{"$f":"VLOOKUP(Precentación_Quejas[[#This Row],[Payaso]],Tabla_Payasos[[Payasos]:[Columna1]],2,0)","v":8},878,{"$f":"VLOOKUP(Precentación_Quejas[[#This Row],['# Queja]],Historico_Registro_Quejas3[[#All],['# Queja]:[Valoración]],15,0)","v":"Roja"}]
[{"$f":"VLOOKUP(Precentación_Quejas[[#This Row],['# Queja]],Historico_Registro_Quejas3[#All],4,0)","v":308},{"$f":"VLOOKUP(Precentación_Quejas[[#This Row],['# Queja]],Historico_Registro_Quejas3[#All],2,0)","v":"2018-08-31"},{"$f":"VLOOKUP(Precentación_Quejas[[#This Row],['# Queja]],Historico_Registro_Quejas3[#All],7,0)","v":"Contar con un servicio de shuttle al pueblo sería algo útil"},{"$f":"VLOOKUP(Precentación_Quejas[[#This Row],['# Queja]],Historico_Registro_Quejas3[#All],22,0)","v":"N/A"},{"$f":"VLOOKUP(Precentación_Quejas[[#This Row],[Payaso]],Tabla_Payasos[[Payasos]:[Columna1]],2,0)","v":44},877,{"$f":"VLOOKUP(Precentación_Quejas[[#This Row],['# Queja]],Historico_Registro_Quejas3[[#All],['# Queja]:[Valoración]],15,0)","v":"Desestimada"}]
[{"$f":"VLOOKUP(Precentación_Quejas[[#This Row],['# Queja]],Historico_Registro_Quejas3[#All],4,0)","v":505},{"$f":"VLOOKUP(Precentación_Quejas[[#This Row],['# Queja]],Historico_Registro_Quejas3[#All],2,0)","v":"2018-09-01"},{"$f":"VLOOKUP(Precentación_Quejas[[#This Row],['# Queja]],Historico_Registro_Quejas3[#All],7,0)","v":"Reducir el ruido producido por el aire acondicionado, durante la noche se escucha mucho"},{"$f":"VLOOKUP(Precentación_Quejas[[#This Row],['# Queja]],Historico_Registro_Quejas3[#All],22,0)","v":"A/C"},{"$f":"VLOOKUP(Precentación_Quejas[[#This Row],[Payaso]],Tabla_Payasos[[Payasos]:[Columna1]],2,0)","v":25},876,{"$f":"VLOOKUP(Precentación_Quejas[[#This Row],['# Queja]],Historico_Registro_Quejas3[[#All],['# Queja]:[Valoración]],15,0)","v":"Roja"}]
[{"$f":"VLOOKUP(Precentación_Quejas[[#This Row],['# Queja]],Historico_Registro_Quejas3[#All],4,0)","v":901},{"$f":"VLOOKUP(Precentación_Quejas[[#This Row],['# Queja]],Historico_Registro_Quejas3[#All],2,0)","v":"2018-09-01"},{"$f":"VLOOKUP(Precentación_Quejas[[#This Row],['# Queja]],Historico_Registro_Quejas3[#All],7,0)","v":"Mejores alternativas de alimentación, excepto el desayuno el cual es muy bueno"},{"$f":"VLOOKUP(Precentación_Quejas[[#This Row],['# Queja]],Historico_Registro_Quejas3[#All],22,0)","v":"Variedad platos"},{"$f":"VLOOKUP(Precentación_Quejas[[#This Row],[Payaso]],Tabla_Payasos[[Payasos]:[Columna1]],2,0)","v":2},875,{"$f":"VLOOKUP(Precentación_Quejas[[#This Row],['# Queja]],Historico_Registro_Quejas3[[#All],['# Queja]:[Valoración]],15,0)","v":"Roja"}]
[{"$f":"VLOOKUP(Precentación_Quejas[[#This Row],['# Queja]],Historico_Registro_Quejas3[#All],4,0)","v":307},{"$f":"VLOOKUP(Precentación_Quejas[[#This Row],['# Queja]],Historico_Registro_Quejas3[#All],2,0)","v":"2018-08-31"},{"$f":"VLOOKUP(Precentación_Quejas[[#This Row],['# Queja]],Historico_Registro_Quejas3[#All],7,0)","v":"El vino es muy caro en los restaurantes"},{"$f":"VLOOKUP(Precentación_Quejas[[#This Row],['# Queja]],Historico_Registro_Quejas3[#All],22,0)","v":"Precios vino"},{"$f":"VLOOKUP(Precentación_Quejas[[#This Row],[Payaso]],Tabla_Payasos[[Payasos]:[Columna1]],2,0)","v":3},874,{"$f":"VLOOKUP(Precentación_Quejas[[#This Row],['# Queja]],Historico_Registro_Quejas3[[#All],['# Queja]:[Valoración]],15,0)","v":"Roja"}]
[{"$f":"VLOOKUP(Precentación_Quejas[[#This Row],['# Queja]],Historico_Registro_Quejas3[#All],4,0)","v":0},{"$f":"VLOOKUP(Precentación_Quejas[[#This Row],['# Queja]],Historico_Registro_Quejas3[#All],2,0)","v":"2018-09-01"},{"$f":"VLOOKUP(Precentación_Quejas[[#This Row],['# Queja]],Historico_Registro_Quejas3[#All],7,0)","v":"Al ir a cubrir al compañero de lockers para que pudiera ir a almorzar, un huésped me comenta que deberiamos de tener más basureros al alcance en toda el area de piscinas ya que solo hay unos cerca de lockers, y cuando uno como huésped se encuentra en el area de las pergolas por ejemplo tiene que ir hasta ahí para depositar los desechos que uno tenga, lo que se hace un poco tedioso."},{"$f":"VLOOKUP(Precentación_Quejas[[#This Row],['# Queja]],Historico_Registro_Quejas3[#All],22,0)","v":"Basurero jardines"},{"$f":"VLOOKUP(Precentación_Quejas[[#This Row],[Payaso]],Tabla_Payasos[[Payasos]:[Columna1]],2,0)","v":2},873,{"$f":"VLOOKUP(Precentación_Quejas[[#This Row],['# Queja]],Historico_Registro_Quejas3[[#All],['# Queja]:[Valoración]],15,0)","v":"Amarilla"}]
[{"$f":"VLOOKUP(Precentación_Quejas[[#This Row],['# Queja]],Historico_Registro_Quejas3[#All],4,0)","v":308},{"$f":"VLOOKUP(Precentación_Quejas[[#This Row],['# Queja]],Historico_Registro_Quejas3[#All],2,0)","v":"2018-08-30"},{"$f":"VLOOKUP(Precentación_Quejas[[#This Row],['# Queja]],Historico_Registro_Quejas3[#All],7,0)","v":"El brochure de información del hotel necesita ser actualizado, hay muchas cosas con las que ya no se cuenta y otras en las que se ha mejorado."},{"$f":"VLOOKUP(Precentación_Quejas[[#This Row],['# Queja]],Historico_Registro_Quejas3[#All],22,0)","v":"Publicidad doc Informativo"},{"$f":"VLOOKUP(Precentación_Quejas[[#This Row],[Payaso]],Tabla_Payasos[[Payasos]:[Columna1]],2,0)","v":2},872,{"$f":"VLOOKUP(Precentación_Quejas[[#This Row],['# Queja]],Historico_Registro_Quejas3[[#All],['# Queja]:[Valoración]],15,0)","v":"Amarilla"}]
[{"$f":"VLOOKUP(Precentación_Quejas[[#This Row],['# Queja]],Historico_Registro_Quejas3[#All],4,0)","v":904},{"$f":"VLOOKUP(Precentación_Quejas[[#This Row],['# Queja]],Historico_Registro_Quejas3[#All],2,0)","v":"2018-08-30"},{"$f":"VLOOKUP(Precentación_Quejas[[#This Row],['# Queja]],Historico_Registro_Quejas3[#All],7,0)","v":"La construcción inicia muy temprano sus labores, y eso  imposibilita dormir un poco más."},{"$f":"VLOOKUP(Precentación_Quejas[[#This Row],['# Queja]],Historico_Registro_Quejas3[#All],22,0)","v":"Construcción"},{"$f":"VLOOKUP(Precentación_Quejas[[#This Row],[Payaso]],Tabla_Payasos[[Payasos]:[Columna1]],2,0)","v":4},871,{"$f":"VLOOKUP(Precentación_Quejas[[#This Row],['# Queja]],Historico_Registro_Quejas3[[#All],['# Queja]:[Valoración]],15,0)","v":"Roja"}]
[{"$f":"VLOOKUP(Precentación_Quejas[[#This Row],['# Queja]],Historico_Registro_Quejas3[#All],4,0)","v":904},{"$f":"VLOOKUP(Precentación_Quejas[[#This Row],['# Queja]],Historico_Registro_Quejas3[#All],2,0)","v":"2018-08-30"},{"$f":"VLOOKUP(Precentación_Quejas[[#This Row],['# Queja]],Historico_Registro_Quejas3[#All],7,0)","v":"Poner etiquetas a todos los tomas, son tantos que uno no sabe cual es cual."},{"$f":"VLOOKUP(Precentación_Quejas[[#This Row],['# Queja]],Historico_Registro_Quejas3[#All],22,0)","v":"Rotulación ventilador"},{"$f":"VLOOKUP(Precentación_Quejas[[#This Row],[Payaso]],Tabla_Payasos[[Payasos]:[Columna1]],2,0)","v":3},870,{"$f":"VLOOKUP(Precentación_Quejas[[#This Row],['# Queja]],Historico_Registro_Quejas3[[#All],['# Queja]:[Valoración]],15,0)","v":"Amarilla"}]
[{"$f":"VLOOKUP(Precentación_Quejas[[#This Row],['# Queja]],Historico_Registro_Quejas3[#All],4,0)","v":904},{"$f":"VLOOKUP(Precentación_Quejas[[#This Row],['# Queja]],Historico_Registro_Quejas3[#All],2,0)","v":"2018-08-30"},{"$f":"VLOOKUP(Precentación_Quejas[[#This Row],['# Queja]],Historico_Registro_Quejas3[#All],7,0)","v":"Los pancakes se secan mucho al estar expuestos al aire libre"},{"$f":"VLOOKUP(Precentación_Quejas[[#This Row],['# Queja]],Historico_Registro_Quejas3[#All],22,0)","v":"Calida Desayuno"},{"$f":"VLOOKUP(Precentación_Quejas[[#This Row],[Payaso]],Tabla_Payasos[[Payasos]:[Columna1]],2,0)","v":15},869,{"$f":"VLOOKUP(Precentación_Quejas[[#This Row],['# Queja]],Historico_Registro_Quejas3[[#All],['# Queja]:[Valoración]],15,0)","v":"Roja"}]
[{"$f":"VLOOKUP(Precentación_Quejas[[#This Row],['# Queja]],Historico_Registro_Quejas3[#All],4,0)","v":302},{"$f":"VLOOKUP(Precentación_Quejas[[#This Row],['# Queja]],Historico_Registro_Quejas3[#All],2,0)","v":"2018-08-29"},{"$f":"VLOOKUP(Precentación_Quejas[[#This Row],['# Queja]],Historico_Registro_Quejas3[#All],7,0)","v":"Mejorar el flujo de agua caliente en el grifo del baño"},{"$f":"VLOOKUP(Precentación_Quejas[[#This Row],['# Queja]],Historico_Registro_Quejas3[#All],22,0)","v":"Agua caliente"},{"$f":"VLOOKUP(Precentación_Quejas[[#This Row],[Payaso]],Tabla_Payasos[[Payasos]:[Columna1]],2,0)","v":13},868,{"$f":"VLOOKUP(Precentación_Quejas[[#This Row],['# Queja]],Historico_Registro_Quejas3[[#All],['# Queja]:[Valoración]],15,0)","v":"Roja"}]
[{"$f":"VLOOKUP(Precentación_Quejas[[#This Row],['# Queja]],Historico_Registro_Quejas3[#All],4,0)","v":508},{"$f":"VLOOKUP(Precentación_Quejas[[#This Row],['# Queja]],Historico_Registro_Quejas3[#All],2,0)","v":"2018-08-26"},{"$f":"VLOOKUP(Precentación_Quejas[[#This Row],['# Queja]],Historico_Registro_Quejas3[#All],7,0)","v":"Huésped se queja de los precios que son muy elevados."},{"$f":"VLOOKUP(Precentación_Quejas[[#This Row],['# Queja]],Historico_Registro_Quejas3[#All],22,0)","v":"Precios Souvenir"},{"$f":"VLOOKUP(Precentación_Quejas[[#This Row],[Payaso]],Tabla_Payasos[[Payasos]:[Columna1]],2,0)","v":3},867,{"$f":"VLOOKUP(Precentación_Quejas[[#This Row],['# Queja]],Historico_Registro_Quejas3[[#All],['# Queja]:[Valoración]],15,0)","v":"Roja"}]
[{"$f":"VLOOKUP(Precentación_Quejas[[#This Row],['# Queja]],Historico_Registro_Quejas3[#All],4,0)","v":508},{"$f":"VLOOKUP(Precentación_Quejas[[#This Row],['# Queja]],Historico_Registro_Quejas3[#All],2,0)","v":"2018-08-26"},{"$f":"VLOOKUP(Precentación_Quejas[[#This Row],['# Queja]],Historico_Registro_Quejas3[#All],7,0)","v":"La comida en el buffet es escasa y muy repetitiva."},{"$f":"VLOOKUP(Precentación_Quejas[[#This Row],['# Queja]],Historico_Registro_Quejas3[#All],22,0)","v":"Variedad desayuno"},{"$f":"VLOOKUP(Precentación_Quejas[[#This Row],[Payaso]],Tabla_Payasos[[Payasos]:[Columna1]],2,0)","v":4},866,{"$f":"VLOOKUP(Precentación_Quejas[[#This Row],['# Queja]],Historico_Registro_Quejas3[[#All],['# Queja]:[Valoración]],15,0)","v":"Roja"}]
[{"$f":"VLOOKUP(Precentación_Quejas[[#This Row],['# Queja]],Historico_Registro_Quejas3[#All],4,0)","v":208},{"$f":"VLOOKUP(Precentación_Quejas[[#This Row],['# Queja]],Historico_Registro_Quejas3[#All],2,0)","v":"2018-08-24"},{"$f":"VLOOKUP(Precentación_Quejas[[#This Row],['# Queja]],Historico_Registro_Quejas3[#All],7,0)","v":"Huésped molesto porque se le sirvió un pollo crudo y él indica que eso es de mucho cuidado porque puede enfermar a una persona, esto provocó que se fueran muy temprano del hotel al check-out porque querían visitar otro restaurante."},{"$f":"VLOOKUP(Precentación_Quejas[[#This Row],['# Queja]],Historico_Registro_Quejas3[#All],22,0)","v":"Calidad comida"},{"$f":"VLOOKUP(Precentación_Quejas[[#This Row],[Payaso]],Tabla_Payasos[[Payasos]:[Columna1]],2,0)","v":70},865,{"$f":"VLOOKUP(Precentación_Quejas[[#This Row],['# Queja]],Historico_Registro_Quejas3[[#All],['# Queja]:[Valoración]],15,0)","v":"Roja"}]
[{"$f":"VLOOKUP(Precentación_Quejas[[#This Row],['# Queja]],Historico_Registro_Quejas3[#All],4,0)","v":111},{"$f":"VLOOKUP(Precentación_Quejas[[#This Row],['# Queja]],Historico_Registro_Quejas3[#All],2,0)","v":"2018-08-26"},{"$f":"VLOOKUP(Precentación_Quejas[[#This Row],['# Queja]],Historico_Registro_Quejas3[#All],7,0)","v":"Huéspedes se quejan porque el teléfono de su habitación no recibe llamadas, recepción no es capaz de contactarlas y eso a ellas les preocupa. "},{"$f":"VLOOKUP(Precentación_Quejas[[#This Row],['# Queja]],Historico_Registro_Quejas3[#All],22,0)","v":"Teléfonos"},{"$f":"VLOOKUP(Precentación_Quejas[[#This Row],[Payaso]],Tabla_Payasos[[Payasos]:[Columna1]],2,0)","v":4},864,{"$f":"VLOOKUP(Precentación_Quejas[[#This Row],['# Queja]],Historico_Registro_Quejas3[[#All],['# Queja]:[Valoración]],15,0)","v":"Roja"}]
[{"$f":"VLOOKUP(Precentación_Quejas[[#This Row],['# Queja]],Historico_Registro_Quejas3[#All],4,0)","v":512},{"$f":"VLOOKUP(Precentación_Quejas[[#This Row],['# Queja]],Historico_Registro_Quejas3[#All],2,0)","v":"2018-08-26"},{"$f":"VLOOKUP(Precentación_Quejas[[#This Row],['# Queja]],Historico_Registro_Quejas3[#All],7,0)","v":"La novia de la boda la señora Yara al momento de hacer check-out se mostró muy molesta cuando se le cobró un factura correspondiente a un manicure y un pedicure del Spa. Ella nos dijo que solamente saliendo del spa el pedicure se le cayó y que fue un trabajo pésimo por el cúal no iba a pagar, ella dijo  que había hablado con un funcionario del Spa ( que no recordaba el nombre) que le dijo que no se preocupara y que no le ibamos a cobrar ese tratamiento, sin embargo nunca se informó nada a recepción ni a servicio al cliente al respecto. "},{"$f":"VLOOKUP(Precentación_Quejas[[#This Row],['# Queja]],Historico_Registro_Quejas3[#All],22,0)","v":"Spa"},{"$f":"VLOOKUP(Precentación_Quejas[[#This Row],[Payaso]],Tabla_Payasos[[Payasos]:[Columna1]],2,0)","v":4},863,{"$f":"VLOOKUP(Precentación_Quejas[[#This Row],['# Queja]],Historico_Registro_Quejas3[[#All],['# Queja]:[Valoración]],15,0)","v":"Roja"}]
[{"$f":"VLOOKUP(Precentación_Quejas[[#This Row],['# Queja]],Historico_Registro_Quejas3[#All],4,0)","v":505},{"$f":"VLOOKUP(Precentación_Quejas[[#This Row],['# Queja]],Historico_Registro_Quejas3[#All],2,0)","v":"2018-08-25"},{"$f":"VLOOKUP(Precentación_Quejas[[#This Row],['# Queja]],Historico_Registro_Quejas3[#All],7,0)","v":"Huésped indica que debemos mejorar en el tema de alimentos y calidad."},{"$f":"VLOOKUP(Precentación_Quejas[[#This Row],['# Queja]],Historico_Registro_Quejas3[#All],22,0)","v":"Calidad comida"},{"$f":"VLOOKUP(Precentación_Quejas[[#This Row],[Payaso]],Tabla_Payasos[[Payasos]:[Columna1]],2,0)","v":70},862,{"$f":"VLOOKUP(Precentación_Quejas[[#This Row],['# Queja]],Historico_Registro_Quejas3[[#All],['# Queja]:[Valoración]],15,0)","v":"Roja"}]
[{"$f":"VLOOKUP(Precentación_Quejas[[#This Row],['# Queja]],Historico_Registro_Quejas3[#All],4,0)","v":312},{"$f":"VLOOKUP(Precentación_Quejas[[#This Row],['# Queja]],Historico_Registro_Quejas3[#All],2,0)","v":"2018-08-25"},{"$f":"VLOOKUP(Precentación_Quejas[[#This Row],['# Queja]],Historico_Registro_Quejas3[#All],7,0)","v":"Huéspedes reportan al check out, que la habitación tiene una gotera la cual cae sobre la cama que está más cercana a la puerta principal"},{"$f":"VLOOKUP(Precentación_Quejas[[#This Row],['# Queja]],Historico_Registro_Quejas3[#All],22,0)","v":"Goteras"},{"$f":"VLOOKUP(Precentación_Quejas[[#This Row],[Payaso]],Tabla_Payasos[[Payasos]:[Columna1]],2,0)","v":6},861,{"$f":"VLOOKUP(Precentación_Quejas[[#This Row],['# Queja]],Historico_Registro_Quejas3[[#All],['# Queja]:[Valoración]],15,0)","v":"Roja"}]
[{"$f":"VLOOKUP(Precentación_Quejas[[#This Row],['# Queja]],Historico_Registro_Quejas3[#All],4,0)","v":506},{"$f":"VLOOKUP(Precentación_Quejas[[#This Row],['# Queja]],Historico_Registro_Quejas3[#All],2,0)","v":"2018-08-23"},{"$f":"VLOOKUP(Precentación_Quejas[[#This Row],['# Queja]],Historico_Registro_Quejas3[#All],7,0)","v":"Tener más opciones de comida nacional"},{"$f":"VLOOKUP(Precentación_Quejas[[#This Row],['# Queja]],Historico_Registro_Quejas3[#All],22,0)","v":"Menú típico"},{"$f":"VLOOKUP(Precentación_Quejas[[#This Row],[Payaso]],Tabla_Payasos[[Payasos]:[Columna1]],2,0)","v":5},860,{"$f":"VLOOKUP(Precentación_Quejas[[#This Row],['# Queja]],Historico_Registro_Quejas3[[#All],['# Queja]:[Valoración]],15,0)","v":"Roja"}]
[{"$f":"VLOOKUP(Precentación_Quejas[[#This Row],['# Queja]],Historico_Registro_Quejas3[#All],4,0)","v":504},{"$f":"VLOOKUP(Precentación_Quejas[[#This Row],['# Queja]],Historico_Registro_Quejas3[#All],2,0)","v":"2018-08-23"},{"$f":"VLOOKUP(Precentación_Quejas[[#This Row],['# Queja]],Historico_Registro_Quejas3[#All],7,0)","v":"Seguir implementando desarrollo sostenible"},{"$f":"VLOOKUP(Precentación_Quejas[[#This Row],['# Queja]],Historico_Registro_Quejas3[#All],22,0)","v":"N/A"},{"$f":"VLOOKUP(Precentación_Quejas[[#This Row],[Payaso]],Tabla_Payasos[[Payasos]:[Columna1]],2,0)","v":44},859,{"$f":"VLOOKUP(Precentación_Quejas[[#This Row],['# Queja]],Historico_Registro_Quejas3[[#All],['# Queja]:[Valoración]],15,0)","v":"Verde"}]
[{"$f":"VLOOKUP(Precentación_Quejas[[#This Row],['# Queja]],Historico_Registro_Quejas3[#All],4,0)","v":305},{"$f":"VLOOKUP(Precentación_Quejas[[#This Row],['# Queja]],Historico_Registro_Quejas3[#All],2,0)","v":"2018-08-23"},{"$f":"VLOOKUP(Precentación_Quejas[[#This Row],['# Queja]],Historico_Registro_Quejas3[#All],7,0)","v":"Falta ofrecer pan libre de glutten como opción. "},{"$f":"VLOOKUP(Precentación_Quejas[[#This Row],['# Queja]],Historico_Registro_Quejas3[#All],22,0)","v":"Menú Celiacos"},{"$f":"VLOOKUP(Precentación_Quejas[[#This Row],[Payaso]],Tabla_Payasos[[Payasos]:[Columna1]],2,0)","v":7},858,{"$f":"VLOOKUP(Precentación_Quejas[[#This Row],['# Queja]],Historico_Registro_Quejas3[[#All],['# Queja]:[Valoración]],15,0)","v":"Roja"}]
[{"$f":"VLOOKUP(Precentación_Quejas[[#This Row],['# Queja]],Historico_Registro_Quejas3[#All],4,0)","v":508},{"$f":"VLOOKUP(Precentación_Quejas[[#This Row],['# Queja]],Historico_Registro_Quejas3[#All],2,0)","v":"2018-08-22"},{"$f":"VLOOKUP(Precentación_Quejas[[#This Row],['# Queja]],Historico_Registro_Quejas3[#All],7,0)","v":"La presentación del hotel en la pagina web y otros es muy pobre en comparación con la realidad. Nos hemos llevado una grata sorpresa."},{"$f":"VLOOKUP(Precentación_Quejas[[#This Row],['# Queja]],Historico_Registro_Quejas3[#All],22,0)","v":"Publicidad Web"},{"$f":"VLOOKUP(Precentación_Quejas[[#This Row],[Payaso]],Tabla_Payasos[[Payasos]:[Columna1]],2,0)","v":1},857,{"$f":"VLOOKUP(Precentación_Quejas[[#This Row],['# Queja]],Historico_Registro_Quejas3[[#All],['# Queja]:[Valoración]],15,0)","v":"Amarilla"}]
[{"$f":"VLOOKUP(Precentación_Quejas[[#This Row],['# Queja]],Historico_Registro_Quejas3[#All],4,0)","v":506},{"$f":"VLOOKUP(Precentación_Quejas[[#This Row],['# Queja]],Historico_Registro_Quejas3[#All],2,0)","v":"2018-08-22"},{"$f":"VLOOKUP(Precentación_Quejas[[#This Row],['# Queja]],Historico_Registro_Quejas3[#All],7,0)","v":"Hacen falta areas infantiles y zonas de esparcimiento como por ejemplo toboganes y columpios."},{"$f":"VLOOKUP(Precentación_Quejas[[#This Row],['# Queja]],Historico_Registro_Quejas3[#All],22,0)","v":"Área  para niños "},{"$f":"VLOOKUP(Precentación_Quejas[[#This Row],[Payaso]],Tabla_Payasos[[Payasos]:[Columna1]],2,0)","v":3},856,{"$f":"VLOOKUP(Precentación_Quejas[[#This Row],['# Queja]],Historico_Registro_Quejas3[[#All],['# Queja]:[Valoración]],15,0)","v":"Roja"}]
[{"$f":"VLOOKUP(Precentación_Quejas[[#This Row],['# Queja]],Historico_Registro_Quejas3[#All],4,0)","v":408},{"$f":"VLOOKUP(Precentación_Quejas[[#This Row],['# Queja]],Historico_Registro_Quejas3[#All],2,0)","v":"2018-08-22"},{"$f":"VLOOKUP(Precentación_Quejas[[#This Row],['# Queja]],Historico_Registro_Quejas3[#All],7,0)","v":"Deberían tener ocio nocturno"},{"$f":"VLOOKUP(Precentación_Quejas[[#This Row],['# Queja]],Historico_Registro_Quejas3[#All],22,0)","v":"Actividad nocturna"},{"$f":"VLOOKUP(Precentación_Quejas[[#This Row],[Payaso]],Tabla_Payasos[[Payasos]:[Columna1]],2,0)","v":2},855,{"$f":"VLOOKUP(Precentación_Quejas[[#This Row],['# Queja]],Historico_Registro_Quejas3[[#All],['# Queja]:[Valoración]],15,0)","v":"Roja"}]
[{"$f":"VLOOKUP(Precentación_Quejas[[#This Row],['# Queja]],Historico_Registro_Quejas3[#All],4,0)","v":408},{"$f":"VLOOKUP(Precentación_Quejas[[#This Row],['# Queja]],Historico_Registro_Quejas3[#All],2,0)","v":"2018-08-22"},{"$f":"VLOOKUP(Precentación_Quejas[[#This Row],['# Queja]],Historico_Registro_Quejas3[#All],7,0)","v":"Mas variedad en restaurantes."},{"$f":"VLOOKUP(Precentación_Quejas[[#This Row],['# Queja]],Historico_Registro_Quejas3[#All],22,0)","v":"Variedad desayuno"},{"$f":"VLOOKUP(Precentación_Quejas[[#This Row],[Payaso]],Tabla_Payasos[[Payasos]:[Columna1]],2,0)","v":4},854,{"$f":"VLOOKUP(Precentación_Quejas[[#This Row],['# Queja]],Historico_Registro_Quejas3[[#All],['# Queja]:[Valoración]],15,0)","v":"Roja"}]
[{"$f":"VLOOKUP(Precentación_Quejas[[#This Row],['# Queja]],Historico_Registro_Quejas3[#All],4,0)","v":711},{"$f":"VLOOKUP(Precentación_Quejas[[#This Row],['# Queja]],Historico_Registro_Quejas3[#All],2,0)","v":"2018-08-21"},{"$f":"VLOOKUP(Precentación_Quejas[[#This Row],['# Queja]],Historico_Registro_Quejas3[#All],7,0)","v":"El desayuno es bueno pero estaba muy lleno por lo que sería bueno tener algunas cosas precocinadas como los huevos revueltos."},{"$f":"VLOOKUP(Precentación_Quejas[[#This Row],['# Queja]],Historico_Registro_Quejas3[#All],22,0)","v":"Calida Desayuno"},{"$f":"VLOOKUP(Precentación_Quejas[[#This Row],[Payaso]],Tabla_Payasos[[Payasos]:[Columna1]],2,0)","v":15},853,{"$f":"VLOOKUP(Precentación_Quejas[[#This Row],['# Queja]],Historico_Registro_Quejas3[[#All],['# Queja]:[Valoración]],15,0)","v":"Roja"}]
[{"$f":"VLOOKUP(Precentación_Quejas[[#This Row],['# Queja]],Historico_Registro_Quejas3[#All],4,0)","v":604},{"$f":"VLOOKUP(Precentación_Quejas[[#This Row],['# Queja]],Historico_Registro_Quejas3[#All],2,0)","v":"2018-08-21"},{"$f":"VLOOKUP(Precentación_Quejas[[#This Row],['# Queja]],Historico_Registro_Quejas3[#All],7,0)","v":"Deberian tener mejores opciones vegetarianas y harinas integrales"},{"$f":"VLOOKUP(Precentación_Quejas[[#This Row],['# Queja]],Historico_Registro_Quejas3[#All],22,0)","v":"Menú vegetariano"},{"$f":"VLOOKUP(Precentación_Quejas[[#This Row],[Payaso]],Tabla_Payasos[[Payasos]:[Columna1]],2,0)","v":4},852,{"$f":"VLOOKUP(Precentación_Quejas[[#This Row],['# Queja]],Historico_Registro_Quejas3[[#All],['# Queja]:[Valoración]],15,0)","v":"ROJA "}]
[{"$f":"VLOOKUP(Precentación_Quejas[[#This Row],['# Queja]],Historico_Registro_Quejas3[#All],4,0)","v":506},{"$f":"VLOOKUP(Precentación_Quejas[[#This Row],['# Queja]],Historico_Registro_Quejas3[#All],2,0)","v":"2018-08-21"},{"$f":"VLOOKUP(Precentación_Quejas[[#This Row],['# Queja]],Historico_Registro_Quejas3[#All],7,0)","v":"El área de recepción es más para restaurantes que para ser utilizada como lobby. NO hay suficiente campo para que las familias se sienten a esperar y cuando llueve no hay donde ponerse."},{"$f":"VLOOKUP(Precentación_Quejas[[#This Row],['# Queja]],Historico_Registro_Quejas3[#All],22,0)","v":"Lobby"},{"$f":"VLOOKUP(Precentación_Quejas[[#This Row],[Payaso]],Tabla_Payasos[[Payasos]:[Columna1]],2,0)","v":1},851,{"$f":"VLOOKUP(Precentación_Quejas[[#This Row],['# Queja]],Historico_Registro_Quejas3[[#All],['# Queja]:[Valoración]],15,0)","v":"ROJA "}]
[{"$f":"VLOOKUP(Precentación_Quejas[[#This Row],['# Queja]],Historico_Registro_Quejas3[#All],4,0)","v":506},{"$f":"VLOOKUP(Precentación_Quejas[[#This Row],['# Queja]],Historico_Registro_Quejas3[#All],2,0)","v":"2018-08-21"},{"$f":"VLOOKUP(Precentación_Quejas[[#This Row],['# Queja]],Historico_Registro_Quejas3[#All],7,0)","v":"EL hotel está pensado solo para adultos. NO hay areas infantiles ni salas de juego donde ellos puedan despejarse y divertirse."},{"$f":"VLOOKUP(Precentación_Quejas[[#This Row],['# Queja]],Historico_Registro_Quejas3[#All],22,0)","v":"Entretenimiento"},{"$f":"VLOOKUP(Precentación_Quejas[[#This Row],[Payaso]],Tabla_Payasos[[Payasos]:[Columna1]],2,0)","v":7},850,{"$f":"VLOOKUP(Precentación_Quejas[[#This Row],['# Queja]],Historico_Registro_Quejas3[[#All],['# Queja]:[Valoración]],15,0)","v":"ROJA "}]
[{"$f":"VLOOKUP(Precentación_Quejas[[#This Row],['# Queja]],Historico_Registro_Quejas3[#All],4,0)","v":0},{"$f":"VLOOKUP(Precentación_Quejas[[#This Row],['# Queja]],Historico_Registro_Quejas3[#All],2,0)","v":"2018-08-17"},{"$f":"VLOOKUP(Precentación_Quejas[[#This Row],['# Queja]],Historico_Registro_Quejas3[#All],7,0)","v":"Los precios de lavandería son una broma. Preferí llevar mi ropa a lavar a la Fortuna."},{"$f":"VLOOKUP(Precentación_Quejas[[#This Row],['# Queja]],Historico_Registro_Quejas3[#All],22,0)","v":"Lavanderia"},{"$f":"VLOOKUP(Precentación_Quejas[[#This Row],[Payaso]],Tabla_Payasos[[Payasos]:[Columna1]],2,0)","v":3},849,{"$f":"VLOOKUP(Precentación_Quejas[[#This Row],['# Queja]],Historico_Registro_Quejas3[[#All],['# Queja]:[Valoración]],15,0)","v":"ROJA "}]
[{"$f":"VLOOKUP(Precentación_Quejas[[#This Row],['# Queja]],Historico_Registro_Quejas3[#All],4,0)","v":0},{"$f":"VLOOKUP(Precentación_Quejas[[#This Row],['# Queja]],Historico_Registro_Quejas3[#All],2,0)","v":"2018-08-17"},{"$f":"VLOOKUP(Precentación_Quejas[[#This Row],['# Queja]],Historico_Registro_Quejas3[#All],7,0)","v":"Las bebidas y comida en la piscina son muy caras."},{"$f":"VLOOKUP(Precentación_Quejas[[#This Row],['# Queja]],Historico_Registro_Quejas3[#All],22,0)","v":"Calidad precio"},{"$f":"VLOOKUP(Precentación_Quejas[[#This Row],[Payaso]],Tabla_Payasos[[Payasos]:[Columna1]],2,0)","v":8},848,{"$f":"VLOOKUP(Precentación_Quejas[[#This Row],['# Queja]],Historico_Registro_Quejas3[[#All],['# Queja]:[Valoración]],15,0)","v":"ROJA "}]
[{"$f":"VLOOKUP(Precentación_Quejas[[#This Row],['# Queja]],Historico_Registro_Quejas3[#All],4,0)","v":0},{"$f":"VLOOKUP(Precentación_Quejas[[#This Row],['# Queja]],Historico_Registro_Quejas3[#All],2,0)","v":"2018-08-17"},{"$f":"VLOOKUP(Precentación_Quejas[[#This Row],['# Queja]],Historico_Registro_Quejas3[#All],7,0)","v":"La habitación es muy pequeña y no hay suficiente espacio para equipaje."},{"$f":"VLOOKUP(Precentación_Quejas[[#This Row],['# Queja]],Historico_Registro_Quejas3[#All],22,0)","v":"N/A"},{"$f":"VLOOKUP(Precentación_Quejas[[#This Row],[Payaso]],Tabla_Payasos[[Payasos]:[Columna1]],2,0)","v":44},847,{"$f":"VLOOKUP(Precentación_Quejas[[#This Row],['# Queja]],Historico_Registro_Quejas3[[#All],['# Queja]:[Valoración]],15,0)","v":"Desestimada"}]
[{"$f":"VLOOKUP(Precentación_Quejas[[#This Row],['# Queja]],Historico_Registro_Quejas3[#All],4,0)","v":0},{"$f":"VLOOKUP(Precentación_Quejas[[#This Row],['# Queja]],Historico_Registro_Quejas3[#All],2,0)","v":"2018-08-17"},{"$f":"VLOOKUP(Precentación_Quejas[[#This Row],['# Queja]],Historico_Registro_Quejas3[#All],7,0)","v":"La comida italiana esta sobrevalorada y sin buen sabor, además las porciones son muy pequeñas."},{"$f":"VLOOKUP(Precentación_Quejas[[#This Row],['# Queja]],Historico_Registro_Quejas3[#All],22,0)","v":"Calidad precio"},{"$f":"VLOOKUP(Precentación_Quejas[[#This Row],[Payaso]],Tabla_Payasos[[Payasos]:[Columna1]],2,0)","v":8},846,{"$f":"VLOOKUP(Precentación_Quejas[[#This Row],['# Queja]],Historico_Registro_Quejas3[[#All],['# Queja]:[Valoración]],15,0)","v":"ROJA "}]
[{"$f":"VLOOKUP(Precentación_Quejas[[#This Row],['# Queja]],Historico_Registro_Quejas3[#All],4,0)","v":101},{"$f":"VLOOKUP(Precentación_Quejas[[#This Row],['# Queja]],Historico_Registro_Quejas3[#All],2,0)","v":"2018-08-13"},{"$f":"VLOOKUP(Precentación_Quejas[[#This Row],['# Queja]],Historico_Registro_Quejas3[#All],7,0)","v":"Los restaurantes son muy caros y la comida mas o menos."},{"$f":"VLOOKUP(Precentación_Quejas[[#This Row],['# Queja]],Historico_Registro_Quejas3[#All],22,0)","v":"Calidad precio"},{"$f":"VLOOKUP(Precentación_Quejas[[#This Row],[Payaso]],Tabla_Payasos[[Payasos]:[Columna1]],2,0)","v":8},845,{"$f":"VLOOKUP(Precentación_Quejas[[#This Row],['# Queja]],Historico_Registro_Quejas3[[#All],['# Queja]:[Valoración]],15,0)","v":"ROJA "}]
[{"$f":"VLOOKUP(Precentación_Quejas[[#This Row],['# Queja]],Historico_Registro_Quejas3[#All],4,0)","v":802},{"$f":"VLOOKUP(Precentación_Quejas[[#This Row],['# Queja]],Historico_Registro_Quejas3[#All],2,0)","v":"2018-08-20"},{"$f":"VLOOKUP(Precentación_Quejas[[#This Row],['# Queja]],Historico_Registro_Quejas3[#All],7,0)","v":"Huésped se queja del Internet y de la lentitud del mismo."},{"$f":"VLOOKUP(Precentación_Quejas[[#This Row],['# Queja]],Historico_Registro_Quejas3[#All],22,0)","v":"Wifi"},{"$f":"VLOOKUP(Precentación_Quejas[[#This Row],[Payaso]],Tabla_Payasos[[Payasos]:[Columna1]],2,0)","v":23},844,{"$f":"VLOOKUP(Precentación_Quejas[[#This Row],['# Queja]],Historico_Registro_Quejas3[[#All],['# Queja]:[Valoración]],15,0)","v":"ROJA "}]
[{"$f":"VLOOKUP(Precentación_Quejas[[#This Row],['# Queja]],Historico_Registro_Quejas3[#All],4,0)","v":306},{"$f":"VLOOKUP(Precentación_Quejas[[#This Row],['# Queja]],Historico_Registro_Quejas3[#All],2,0)","v":"2018-08-16"},{"$f":"VLOOKUP(Precentación_Quejas[[#This Row],['# Queja]],Historico_Registro_Quejas3[#All],7,0)","v":"No se podía transferir llamadas de recepción a la hab, huésped tenía una emergencia y estaba molesto por mal funcionamiento e ineficiencia de los teléfonos del hotel."},{"$f":"VLOOKUP(Precentación_Quejas[[#This Row],['# Queja]],Historico_Registro_Quejas3[#All],22,0)","v":"Central telefonica"},{"$f":"VLOOKUP(Precentación_Quejas[[#This Row],[Payaso]],Tabla_Payasos[[Payasos]:[Columna1]],2,0)","v":16},843,{"$f":"VLOOKUP(Precentación_Quejas[[#This Row],['# Queja]],Historico_Registro_Quejas3[[#All],['# Queja]:[Valoración]],15,0)","v":"ROJA "}]
[{"$f":"VLOOKUP(Precentación_Quejas[[#This Row],['# Queja]],Historico_Registro_Quejas3[#All],4,0)","v":102},{"$f":"VLOOKUP(Precentación_Quejas[[#This Row],['# Queja]],Historico_Registro_Quejas3[#All],2,0)","v":"2018-08-16"},{"$f":"VLOOKUP(Precentación_Quejas[[#This Row],['# Queja]],Historico_Registro_Quejas3[#All],7,0)","v":"Teléfono no funciona"},{"$f":"VLOOKUP(Precentación_Quejas[[#This Row],['# Queja]],Historico_Registro_Quejas3[#All],22,0)","v":"Central telefonica"},{"$f":"VLOOKUP(Precentación_Quejas[[#This Row],[Payaso]],Tabla_Payasos[[Payasos]:[Columna1]],2,0)","v":16},842,{"$f":"VLOOKUP(Precentación_Quejas[[#This Row],['# Queja]],Historico_Registro_Quejas3[[#All],['# Queja]:[Valoración]],15,0)","v":"ROJA "}]
[{"$f":"VLOOKUP(Precentación_Quejas[[#This Row],['# Queja]],Historico_Registro_Quejas3[#All],4,0)","v":"205-206"},{"$f":"VLOOKUP(Precentación_Quejas[[#This Row],['# Queja]],Historico_Registro_Quejas3[#All],2,0)","v":"2018-08-16"},{"$f":"VLOOKUP(Precentación_Quejas[[#This Row],['# Queja]],Historico_Registro_Quejas3[#All],7,0)","v":"Teléfonos no funcionan"},{"$f":"VLOOKUP(Precentación_Quejas[[#This Row],['# Queja]],Historico_Registro_Quejas3[#All],22,0)","v":"Central telefonica"},{"$f":"VLOOKUP(Precentación_Quejas[[#This Row],[Payaso]],Tabla_Payasos[[Payasos]:[Columna1]],2,0)","v":16},841,{"$f":"VLOOKUP(Precentación_Quejas[[#This Row],['# Queja]],Historico_Registro_Quejas3[[#All],['# Queja]:[Valoración]],15,0)","v":"ROJA "}]
[{"$f":"VLOOKUP(Precentación_Quejas[[#This Row],['# Queja]],Historico_Registro_Quejas3[#All],4,0)","v":110},{"$f":"VLOOKUP(Precentación_Quejas[[#This Row],['# Queja]],Historico_Registro_Quejas3[#All],2,0)","v":"2018-08-16"},{"$f":"VLOOKUP(Precentación_Quejas[[#This Row],['# Queja]],Historico_Registro_Quejas3[#All],7,0)","v":"Teléfono no sirve"},{"$f":"VLOOKUP(Precentación_Quejas[[#This Row],['# Queja]],Historico_Registro_Quejas3[#All],22,0)","v":"Central telefonica"},{"$f":"VLOOKUP(Precentación_Quejas[[#This Row],[Payaso]],Tabla_Payasos[[Payasos]:[Columna1]],2,0)","v":16},840,{"$f":"VLOOKUP(Precentación_Quejas[[#This Row],['# Queja]],Historico_Registro_Quejas3[[#All],['# Queja]:[Valoración]],15,0)","v":"ROJA "}]
[{"$f":"VLOOKUP(Precentación_Quejas[[#This Row],['# Queja]],Historico_Registro_Quejas3[#All],4,0)","v":102},{"$f":"VLOOKUP(Precentación_Quejas[[#This Row],['# Queja]],Historico_Registro_Quejas3[#All],2,0)","v":"2018-08-15"},{"$f":"VLOOKUP(Precentación_Quejas[[#This Row],['# Queja]],Historico_Registro_Quejas3[#All],7,0)","v":"Teléfono no sirve"},{"$f":"VLOOKUP(Precentación_Quejas[[#This Row],['# Queja]],Historico_Registro_Quejas3[#All],22,0)","v":"Central telefonica"},{"$f":"VLOOKUP(Precentación_Quejas[[#This Row],[Payaso]],Tabla_Payasos[[Payasos]:[Columna1]],2,0)","v":16},839,{"$f":"VLOOKUP(Precentación_Quejas[[#This Row],['# Queja]],Historico_Registro_Quejas3[[#All],['# Queja]:[Valoración]],15,0)","v":"ROJA "}]
[{"$f":"VLOOKUP(Precentación_Quejas[[#This Row],['# Queja]],Historico_Registro_Quejas3[#All],4,0)","v":105},{"$f":"VLOOKUP(Precentación_Quejas[[#This Row],['# Queja]],Historico_Registro_Quejas3[#All],2,0)","v":"2018-08-20"},{"$f":"VLOOKUP(Precentación_Quejas[[#This Row],['# Queja]],Historico_Registro_Quejas3[#All],7,0)","v":"Un mejor rotulo en la carretera que muestre bien la dirección del Hotel"},{"$f":"VLOOKUP(Precentación_Quejas[[#This Row],['# Queja]],Historico_Registro_Quejas3[#All],22,0)","v":"Rotulación Carretera"},{"$f":"VLOOKUP(Precentación_Quejas[[#This Row],[Payaso]],Tabla_Payasos[[Payasos]:[Columna1]],2,0)","v":1},838,{"$f":"VLOOKUP(Precentación_Quejas[[#This Row],['# Queja]],Historico_Registro_Quejas3[[#All],['# Queja]:[Valoración]],15,0)","v":"VERDE"}]
[{"$f":"VLOOKUP(Precentación_Quejas[[#This Row],['# Queja]],Historico_Registro_Quejas3[#All],4,0)","v":504},{"$f":"VLOOKUP(Precentación_Quejas[[#This Row],['# Queja]],Historico_Registro_Quejas3[#All],2,0)","v":"2018-08-20"},{"$f":"VLOOKUP(Precentación_Quejas[[#This Row],['# Queja]],Historico_Registro_Quejas3[#All],7,0)","v":"Se puede mejorar el desayuno"},{"$f":"VLOOKUP(Precentación_Quejas[[#This Row],['# Queja]],Historico_Registro_Quejas3[#All],22,0)","v":"Calida Desayuno"},{"$f":"VLOOKUP(Precentación_Quejas[[#This Row],[Payaso]],Tabla_Payasos[[Payasos]:[Columna1]],2,0)","v":15},837,{"$f":"VLOOKUP(Precentación_Quejas[[#This Row],['# Queja]],Historico_Registro_Quejas3[[#All],['# Queja]:[Valoración]],15,0)","v":"ROJA "}]
[{"$f":"VLOOKUP(Precentación_Quejas[[#This Row],['# Queja]],Historico_Registro_Quejas3[#All],4,0)","v":301},{"$f":"VLOOKUP(Precentación_Quejas[[#This Row],['# Queja]],Historico_Registro_Quejas3[#All],2,0)","v":"2018-08-19"},{"$f":"VLOOKUP(Precentación_Quejas[[#This Row],['# Queja]],Historico_Registro_Quejas3[#All],7,0)","v":"Servicio muy lento"},{"$f":"VLOOKUP(Precentación_Quejas[[#This Row],['# Queja]],Historico_Registro_Quejas3[#All],22,0)","v":"Servicio cliente restaurante "},{"$f":"VLOOKUP(Precentación_Quejas[[#This Row],[Payaso]],Tabla_Payasos[[Payasos]:[Columna1]],2,0)","v":25},836,{"$f":"VLOOKUP(Precentación_Quejas[[#This Row],['# Queja]],Historico_Registro_Quejas3[[#All],['# Queja]:[Valoración]],15,0)","v":"ROJA "}]
[{"$f":"VLOOKUP(Precentación_Quejas[[#This Row],['# Queja]],Historico_Registro_Quejas3[#All],4,0)","v":401},{"$f":"VLOOKUP(Precentación_Quejas[[#This Row],['# Queja]],Historico_Registro_Quejas3[#All],2,0)","v":"2018-08-19"},{"$f":"VLOOKUP(Precentación_Quejas[[#This Row],['# Queja]],Historico_Registro_Quejas3[#All],7,0)","v":"Necesita más basureros alrededor del hotel"},{"$f":"VLOOKUP(Precentación_Quejas[[#This Row],['# Queja]],Historico_Registro_Quejas3[#All],22,0)","v":"Basurero jardines"},{"$f":"VLOOKUP(Precentación_Quejas[[#This Row],[Payaso]],Tabla_Payasos[[Payasos]:[Columna1]],2,0)","v":2},835,{"$f":"VLOOKUP(Precentación_Quejas[[#This Row],['# Queja]],Historico_Registro_Quejas3[[#All],['# Queja]:[Valoración]],15,0)","v":"Desestimada"}]
[{"$f":"VLOOKUP(Precentación_Quejas[[#This Row],['# Queja]],Historico_Registro_Quejas3[#All],4,0)","v":506},{"$f":"VLOOKUP(Precentación_Quejas[[#This Row],['# Queja]],Historico_Registro_Quejas3[#All],2,0)","v":"2018-08-18"},{"$f":"VLOOKUP(Precentación_Quejas[[#This Row],['# Queja]],Historico_Registro_Quejas3[#All],7,0)","v":"Muchas moscas en el desayuno"},{"$f":"VLOOKUP(Precentación_Quejas[[#This Row],['# Queja]],Historico_Registro_Quejas3[#All],22,0)","v":"Plagas Habitaciones"},{"$f":"VLOOKUP(Precentación_Quejas[[#This Row],[Payaso]],Tabla_Payasos[[Payasos]:[Columna1]],2,0)","v":49},834,{"$f":"VLOOKUP(Precentación_Quejas[[#This Row],['# Queja]],Historico_Registro_Quejas3[[#All],['# Queja]:[Valoración]],15,0)","v":"ROJA "}]
[{"$f":"VLOOKUP(Precentación_Quejas[[#This Row],['# Queja]],Historico_Registro_Quejas3[#All],4,0)","v":0},{"$f":"VLOOKUP(Precentación_Quejas[[#This Row],['# Queja]],Historico_Registro_Quejas3[#All],2,0)","v":"2018-08-19"},{"$f":"VLOOKUP(Precentación_Quejas[[#This Row],['# Queja]],Historico_Registro_Quejas3[#All],7,0)","v":"Sería bueno colocar una grada entre la piscina de agua termal de bar las iguana y que lleve al jacuzzi"},{"$f":"VLOOKUP(Precentación_Quejas[[#This Row],['# Queja]],Historico_Registro_Quejas3[#All],22,0)","v":"Piscinas "},{"$f":"VLOOKUP(Precentación_Quejas[[#This Row],[Payaso]],Tabla_Payasos[[Payasos]:[Columna1]],2,0)","v":{"$error":"#N/A"}},833,{"$f":"VLOOKUP(Precentación_Quejas[[#This Row],['# Queja]],Historico_Registro_Quejas3[[#All],['# Queja]:[Valoración]],15,0)","v":"VERDE"}]
[{"$f":"VLOOKUP(Precentación_Quejas[[#This Row],['# Queja]],Historico_Registro_Quejas3[#All],4,0)","v":703},{"$f":"VLOOKUP(Precentación_Quejas[[#This Row],['# Queja]],Historico_Registro_Quejas3[#All],2,0)","v":"2018-08-19"},{"$f":"VLOOKUP(Precentación_Quejas[[#This Row],['# Queja]],Historico_Registro_Quejas3[#All],7,0)","v":"Mejorar wifi en la habitación"},{"$f":"VLOOKUP(Precentación_Quejas[[#This Row],['# Queja]],Historico_Registro_Quejas3[#All],22,0)","v":"Wifi"},{"$f":"VLOOKUP(Precentación_Quejas[[#This Row],[Payaso]],Tabla_Payasos[[Payasos]:[Columna1]],2,0)","v":23},832,{"$f":"VLOOKUP(Precentación_Quejas[[#This Row],['# Queja]],Historico_Registro_Quejas3[[#All],['# Queja]:[Valoración]],15,0)","v":"ROJA "}]
[{"$f":"VLOOKUP(Precentación_Quejas[[#This Row],['# Queja]],Historico_Registro_Quejas3[#All],4,0)","v":"414-415"},{"$f":"VLOOKUP(Precentación_Quejas[[#This Row],['# Queja]],Historico_Registro_Quejas3[#All],2,0)","v":"2018-08-15"},{"$f":"VLOOKUP(Precentación_Quejas[[#This Row],['# Queja]],Historico_Registro_Quejas3[#All],7,0)","v":"Huéspedes se quejan porque la temperatura del agua en las habitaciones no es caliente lo suficiente, además indican que el jacuzzi al momento de llenarse no aguanta la presión del agua y al parecer el tapon se safa y se comienza a drenar el agua."},{"$f":"VLOOKUP(Precentación_Quejas[[#This Row],['# Queja]],Historico_Registro_Quejas3[#All],22,0)","v":"Habitaciones"},{"$f":"VLOOKUP(Precentación_Quejas[[#This Row],[Payaso]],Tabla_Payasos[[Payasos]:[Columna1]],2,0)","v":54},831,{"$f":"VLOOKUP(Precentación_Quejas[[#This Row],['# Queja]],Historico_Registro_Quejas3[[#All],['# Queja]:[Valoración]],15,0)","v":"ROJA "}]
[{"$f":"VLOOKUP(Precentación_Quejas[[#This Row],['# Queja]],Historico_Registro_Quejas3[#All],4,0)","v":405},{"$f":"VLOOKUP(Precentación_Quejas[[#This Row],['# Queja]],Historico_Registro_Quejas3[#All],2,0)","v":"2018-08-15"},{"$f":"VLOOKUP(Precentación_Quejas[[#This Row],['# Queja]],Historico_Registro_Quejas3[#All],7,0)","v":"Huésped se queja que en la lista de canales se muestra el canal italiano sin embargo a la hora de buscarlo no está, pide que actualicen la lista de canales ya que están brindando información falsa y engañosa."},{"$f":"VLOOKUP(Precentación_Quejas[[#This Row],['# Queja]],Historico_Registro_Quejas3[#All],22,0)","v":"Cable tica "},{"$f":"VLOOKUP(Precentación_Quejas[[#This Row],[Payaso]],Tabla_Payasos[[Payasos]:[Columna1]],2,0)","v":2},830,{"$f":"VLOOKUP(Precentación_Quejas[[#This Row],['# Queja]],Historico_Registro_Quejas3[[#All],['# Queja]:[Valoración]],15,0)","v":"ROJA "}]
[{"$f":"VLOOKUP(Precentación_Quejas[[#This Row],['# Queja]],Historico_Registro_Quejas3[#All],4,0)","v":"Mary Blackport"},{"$f":"VLOOKUP(Precentación_Quejas[[#This Row],['# Queja]],Historico_Registro_Quejas3[#All],2,0)","v":"2018-04-05"},{"$f":"VLOOKUP(Precentación_Quejas[[#This Row],['# Queja]],Historico_Registro_Quejas3[#All],7,0)","v":"La comida en los restaurantes estuvo horrible, yo no recomendaria ir a comer ahí"},{"$f":"VLOOKUP(Precentación_Quejas[[#This Row],['# Queja]],Historico_Registro_Quejas3[#All],22,0)","v":"Calidad comida"},{"$f":"VLOOKUP(Precentación_Quejas[[#This Row],[Payaso]],Tabla_Payasos[[Payasos]:[Columna1]],2,0)","v":70},829,{"$f":"VLOOKUP(Precentación_Quejas[[#This Row],['# Queja]],Historico_Registro_Quejas3[[#All],['# Queja]:[Valoración]],15,0)","v":"ROJA "}]
[{"$f":"VLOOKUP(Precentación_Quejas[[#This Row],['# Queja]],Historico_Registro_Quejas3[#All],4,0)","v":"Perry Pawelka"},{"$f":"VLOOKUP(Precentación_Quejas[[#This Row],['# Queja]],Historico_Registro_Quejas3[#All],2,0)","v":"2018-03-30"},{"$f":"VLOOKUP(Precentación_Quejas[[#This Row],['# Queja]],Historico_Registro_Quejas3[#All],7,0)","v":"la única área para mejorar sería un poco más que hacer en el sitio y / o una forma un poco más fácil de llegar a la ciudad"},{"$f":"VLOOKUP(Precentación_Quejas[[#This Row],['# Queja]],Historico_Registro_Quejas3[#All],22,0)","v":"Entretenimiento"},{"$f":"VLOOKUP(Precentación_Quejas[[#This Row],[Payaso]],Tabla_Payasos[[Payasos]:[Columna1]],2,0)","v":7},828,{"$f":"VLOOKUP(Precentación_Quejas[[#This Row],['# Queja]],Historico_Registro_Quejas3[[#All],['# Queja]:[Valoración]],15,0)","v":"ROJA "}]
[{"$f":"VLOOKUP(Precentación_Quejas[[#This Row],['# Queja]],Historico_Registro_Quejas3[#All],4,0)","v":"Heather Burgess"},{"$f":"VLOOKUP(Precentación_Quejas[[#This Row],['# Queja]],Historico_Registro_Quejas3[#All],2,0)","v":"2018-03-31"},{"$f":"VLOOKUP(Precentación_Quejas[[#This Row],['# Queja]],Historico_Registro_Quejas3[#All],7,0)","v":"El servicio estuvo mas o menos. Y las opciones de cenas no nos inspiraron por lo que decidimos ir al pueblo a cenar."},{"$f":"VLOOKUP(Precentación_Quejas[[#This Row],['# Queja]],Historico_Registro_Quejas3[#All],22,0)","v":"Calidad comida"},{"$f":"VLOOKUP(Precentación_Quejas[[#This Row],[Payaso]],Tabla_Payasos[[Payasos]:[Columna1]],2,0)","v":70},827,{"$f":"VLOOKUP(Precentación_Quejas[[#This Row],['# Queja]],Historico_Registro_Quejas3[[#All],['# Queja]:[Valoración]],15,0)","v":"ROJA "}]
[{"$f":"VLOOKUP(Precentación_Quejas[[#This Row],['# Queja]],Historico_Registro_Quejas3[#All],4,0)","v":"Damary Santiago"},{"$f":"VLOOKUP(Precentación_Quejas[[#This Row],['# Queja]],Historico_Registro_Quejas3[#All],2,0)","v":"2018-06-16"},{"$f":"VLOOKUP(Precentación_Quejas[[#This Row],['# Queja]],Historico_Registro_Quejas3[#All],7,0)","v":"Las opciones de almuerzo y cena estuvieron muy caras y limitadas."},{"$f":"VLOOKUP(Precentación_Quejas[[#This Row],['# Queja]],Historico_Registro_Quejas3[#All],22,0)","v":"Calidad comida"},{"$f":"VLOOKUP(Precentación_Quejas[[#This Row],[Payaso]],Tabla_Payasos[[Payasos]:[Columna1]],2,0)","v":70},826,{"$f":"VLOOKUP(Precentación_Quejas[[#This Row],['# Queja]],Historico_Registro_Quejas3[[#All],['# Queja]:[Valoración]],15,0)","v":"ROJA "}]
[{"$f":"VLOOKUP(Precentación_Quejas[[#This Row],['# Queja]],Historico_Registro_Quejas3[#All],4,0)","v":"Sara Parent"},{"$f":"VLOOKUP(Precentación_Quejas[[#This Row],['# Queja]],Historico_Registro_Quejas3[#All],2,0)","v":"2018-04-14"},{"$f":"VLOOKUP(Precentación_Quejas[[#This Row],['# Queja]],Historico_Registro_Quejas3[#All],7,0)","v":"Horribles e incómodas camas."},{"$f":"VLOOKUP(Precentación_Quejas[[#This Row],['# Queja]],Historico_Registro_Quejas3[#All],22,0)","v":"Colchon duro"},{"$f":"VLOOKUP(Precentación_Quejas[[#This Row],[Payaso]],Tabla_Payasos[[Payasos]:[Columna1]],2,0)","v":5},825,{"$f":"VLOOKUP(Precentación_Quejas[[#This Row],['# Queja]],Historico_Registro_Quejas3[[#All],['# Queja]:[Valoración]],15,0)","v":"Desestimada"}]
[{"$f":"VLOOKUP(Precentación_Quejas[[#This Row],['# Queja]],Historico_Registro_Quejas3[#All],4,0)","v":"Tim Brinkley"},{"$f":"VLOOKUP(Precentación_Quejas[[#This Row],['# Queja]],Historico_Registro_Quejas3[#All],2,0)","v":"2018-06-23"},{"$f":"VLOOKUP(Precentación_Quejas[[#This Row],['# Queja]],Historico_Registro_Quejas3[#All],7,0)","v":"La variedad y selección de la comida estuvo muy por debajo del promedio"},{"$f":"VLOOKUP(Precentación_Quejas[[#This Row],['# Queja]],Historico_Registro_Quejas3[#All],22,0)","v":"Calidad comida"},{"$f":"VLOOKUP(Precentación_Quejas[[#This Row],[Payaso]],Tabla_Payasos[[Payasos]:[Columna1]],2,0)","v":70},824,{"$f":"VLOOKUP(Precentación_Quejas[[#This Row],['# Queja]],Historico_Registro_Quejas3[[#All],['# Queja]:[Valoración]],15,0)","v":"ROJA "}]
[{"$f":"VLOOKUP(Precentación_Quejas[[#This Row],['# Queja]],Historico_Registro_Quejas3[#All],4,0)","v":601},{"$f":"VLOOKUP(Precentación_Quejas[[#This Row],['# Queja]],Historico_Registro_Quejas3[#All],2,0)","v":"2018-08-14"},{"$f":"VLOOKUP(Precentación_Quejas[[#This Row],['# Queja]],Historico_Registro_Quejas3[#All],7,0)","v":"Los brazaletes son algo ridículo y ademas incomodos, me sentí como si fuera un ganado que etiquetan."},{"$f":"VLOOKUP(Precentación_Quejas[[#This Row],['# Queja]],Historico_Registro_Quejas3[#All],22,0)","v":"Brazaletes"},{"$f":"VLOOKUP(Precentación_Quejas[[#This Row],[Payaso]],Tabla_Payasos[[Payasos]:[Columna1]],2,0)","v":4},823,{"$f":"VLOOKUP(Precentación_Quejas[[#This Row],['# Queja]],Historico_Registro_Quejas3[[#All],['# Queja]:[Valoración]],15,0)","v":"ROJA "}]
[{"$f":"VLOOKUP(Precentación_Quejas[[#This Row],['# Queja]],Historico_Registro_Quejas3[#All],4,0)","v":904},{"$f":"VLOOKUP(Precentación_Quejas[[#This Row],['# Queja]],Historico_Registro_Quejas3[#All],2,0)","v":"2018-08-14"},{"$f":"VLOOKUP(Precentación_Quejas[[#This Row],['# Queja]],Historico_Registro_Quejas3[#All],7,0)","v":"Necesita variedad en las opciones de comidas y un menú mas barato en el bar."},{"$f":"VLOOKUP(Precentación_Quejas[[#This Row],['# Queja]],Historico_Registro_Quejas3[#All],22,0)","v":"Calidad comida"},{"$f":"VLOOKUP(Precentación_Quejas[[#This Row],[Payaso]],Tabla_Payasos[[Payasos]:[Columna1]],2,0)","v":70},822,{"$f":"VLOOKUP(Precentación_Quejas[[#This Row],['# Queja]],Historico_Registro_Quejas3[[#All],['# Queja]:[Valoración]],15,0)","v":"ROJA "}]
[{"$f":"VLOOKUP(Precentación_Quejas[[#This Row],['# Queja]],Historico_Registro_Quejas3[#All],4,0)","v":401},{"$f":"VLOOKUP(Precentación_Quejas[[#This Row],['# Queja]],Historico_Registro_Quejas3[#All],2,0)","v":"2018-08-14"},{"$f":"VLOOKUP(Precentación_Quejas[[#This Row],['# Queja]],Historico_Registro_Quejas3[#All],7,0)","v":"El baño debería tener una superficie no resbaloso como algún tipo de alfombra de hule."},{"$f":"VLOOKUP(Precentación_Quejas[[#This Row],['# Queja]],Historico_Registro_Quejas3[#All],22,0)","v":"Baño resbalozo "},{"$f":"VLOOKUP(Precentación_Quejas[[#This Row],[Payaso]],Tabla_Payasos[[Payasos]:[Columna1]],2,0)","v":1},821,{"$f":"VLOOKUP(Precentación_Quejas[[#This Row],['# Queja]],Historico_Registro_Quejas3[[#All],['# Queja]:[Valoración]],15,0)","v":"ROJA "}]
[{"$f":"VLOOKUP(Precentación_Quejas[[#This Row],['# Queja]],Historico_Registro_Quejas3[#All],4,0)","v":"414-415"},{"$f":"VLOOKUP(Precentación_Quejas[[#This Row],['# Queja]],Historico_Registro_Quejas3[#All],2,0)","v":"2018-08-12"},{"$f":"VLOOKUP(Precentación_Quejas[[#This Row],['# Queja]],Historico_Registro_Quejas3[#All],7,0)","v":"Huésped se queja por el funcionamiento del aire y porque en la 415 si hay agua caliente y en la 414 no."},{"$f":"VLOOKUP(Precentación_Quejas[[#This Row],['# Queja]],Historico_Registro_Quejas3[#All],22,0)","v":"Habitaciones"},{"$f":"VLOOKUP(Precentación_Quejas[[#This Row],[Payaso]],Tabla_Payasos[[Payasos]:[Columna1]],2,0)","v":54},820,{"$f":"VLOOKUP(Precentación_Quejas[[#This Row],['# Queja]],Historico_Registro_Quejas3[[#All],['# Queja]:[Valoración]],15,0)","v":"ROJA "}]
[{"$f":"VLOOKUP(Precentación_Quejas[[#This Row],['# Queja]],Historico_Registro_Quejas3[#All],4,0)","v":203},{"$f":"VLOOKUP(Precentación_Quejas[[#This Row],['# Queja]],Historico_Registro_Quejas3[#All],2,0)","v":"2018-08-12"},{"$f":"VLOOKUP(Precentación_Quejas[[#This Row],['# Queja]],Historico_Registro_Quejas3[#All],7,0)","v":"Necesitan actividades para huéspedes como música, bailes."},{"$f":"VLOOKUP(Precentación_Quejas[[#This Row],['# Queja]],Historico_Registro_Quejas3[#All],22,0)","v":"Entretenimiento"},{"$f":"VLOOKUP(Precentación_Quejas[[#This Row],[Payaso]],Tabla_Payasos[[Payasos]:[Columna1]],2,0)","v":7},819,{"$f":"VLOOKUP(Precentación_Quejas[[#This Row],['# Queja]],Historico_Registro_Quejas3[[#All],['# Queja]:[Valoración]],15,0)","v":"ROJA "}]
[{"$f":"VLOOKUP(Precentación_Quejas[[#This Row],['# Queja]],Historico_Registro_Quejas3[#All],4,0)","v":711},{"$f":"VLOOKUP(Precentación_Quejas[[#This Row],['# Queja]],Historico_Registro_Quejas3[#All],2,0)","v":"2018-08-12"},{"$f":"VLOOKUP(Precentación_Quejas[[#This Row],['# Queja]],Historico_Registro_Quejas3[#All],7,0)","v":"El aire acondicionado esta descompuesto y se cambia de temperatura solo, además en la ducha había un tornillo del techo."},{"$f":"VLOOKUP(Precentación_Quejas[[#This Row],['# Queja]],Historico_Registro_Quejas3[#All],22,0)","v":"Habitaciones"},{"$f":"VLOOKUP(Precentación_Quejas[[#This Row],[Payaso]],Tabla_Payasos[[Payasos]:[Columna1]],2,0)","v":54},818,{"$f":"VLOOKUP(Precentación_Quejas[[#This Row],['# Queja]],Historico_Registro_Quejas3[[#All],['# Queja]:[Valoración]],15,0)","v":"ROJA "}]
[{"$f":"VLOOKUP(Precentación_Quejas[[#This Row],['# Queja]],Historico_Registro_Quejas3[#All],4,0)","v":704},{"$f":"VLOOKUP(Precentación_Quejas[[#This Row],['# Queja]],Historico_Registro_Quejas3[#All],2,0)","v":"2018-08-12"},{"$f":"VLOOKUP(Precentación_Quejas[[#This Row],['# Queja]],Historico_Registro_Quejas3[#All],7,0)","v":"Spa tiene precios muy elevados."},{"$f":"VLOOKUP(Precentación_Quejas[[#This Row],['# Queja]],Historico_Registro_Quejas3[#All],22,0)","v":"Spa"},{"$f":"VLOOKUP(Precentación_Quejas[[#This Row],[Payaso]],Tabla_Payasos[[Payasos]:[Columna1]],2,0)","v":4},817,{"$f":"VLOOKUP(Precentación_Quejas[[#This Row],['# Queja]],Historico_Registro_Quejas3[[#All],['# Queja]:[Valoración]],15,0)","v":"ROJA "}]
[{"$f":"VLOOKUP(Precentación_Quejas[[#This Row],['# Queja]],Historico_Registro_Quejas3[#All],4,0)","v":704},{"$f":"VLOOKUP(Precentación_Quejas[[#This Row],['# Queja]],Historico_Registro_Quejas3[#All],2,0)","v":"2018-08-12"},{"$f":"VLOOKUP(Precentación_Quejas[[#This Row],['# Queja]],Historico_Registro_Quejas3[#All],7,0)","v":"Restaurantes tiene precios muy elevados."},{"$f":"VLOOKUP(Precentación_Quejas[[#This Row],['# Queja]],Historico_Registro_Quejas3[#All],22,0)","v":"Calidad comida"},{"$f":"VLOOKUP(Precentación_Quejas[[#This Row],[Payaso]],Tabla_Payasos[[Payasos]:[Columna1]],2,0)","v":70},816,{"$f":"VLOOKUP(Precentación_Quejas[[#This Row],['# Queja]],Historico_Registro_Quejas3[[#All],['# Queja]:[Valoración]],15,0)","v":"ROJA "}]
[{"$f":"VLOOKUP(Precentación_Quejas[[#This Row],['# Queja]],Historico_Registro_Quejas3[#All],4,0)","v":504},{"$f":"VLOOKUP(Precentación_Quejas[[#This Row],['# Queja]],Historico_Registro_Quejas3[#All],2,0)","v":"2018-08-11"},{"$f":"VLOOKUP(Precentación_Quejas[[#This Row],['# Queja]],Historico_Registro_Quejas3[#All],7,0)","v":"La comida es muy cara, por favor tener opciones mas cómodas."},{"$f":"VLOOKUP(Precentación_Quejas[[#This Row],['# Queja]],Historico_Registro_Quejas3[#All],22,0)","v":"Calidad comida"},{"$f":"VLOOKUP(Precentación_Quejas[[#This Row],[Payaso]],Tabla_Payasos[[Payasos]:[Columna1]],2,0)","v":70},815,{"$f":"VLOOKUP(Precentación_Quejas[[#This Row],['# Queja]],Historico_Registro_Quejas3[[#All],['# Queja]:[Valoración]],15,0)","v":"ROJA "}]
[{"$f":"VLOOKUP(Precentación_Quejas[[#This Row],['# Queja]],Historico_Registro_Quejas3[#All],4,0)","v":0},{"$f":"VLOOKUP(Precentación_Quejas[[#This Row],['# Queja]],Historico_Registro_Quejas3[#All],2,0)","v":"2018-08-12"},{"$f":"VLOOKUP(Precentación_Quejas[[#This Row],['# Queja]],Historico_Registro_Quejas3[#All],7,0)","v":"Huésped se queja de los precios excesivos en el Sushi e Italiano."},{"$f":"VLOOKUP(Precentación_Quejas[[#This Row],['# Queja]],Historico_Registro_Quejas3[#All],22,0)","v":"Calidad Sushi"},{"$f":"VLOOKUP(Precentación_Quejas[[#This Row],[Payaso]],Tabla_Payasos[[Payasos]:[Columna1]],2,0)","v":7},814,{"$f":"VLOOKUP(Precentación_Quejas[[#This Row],['# Queja]],Historico_Registro_Quejas3[[#All],['# Queja]:[Valoración]],15,0)","v":"ROJA "}]
[{"$f":"VLOOKUP(Precentación_Quejas[[#This Row],['# Queja]],Historico_Registro_Quejas3[#All],4,0)","v":406},{"$f":"VLOOKUP(Precentación_Quejas[[#This Row],['# Queja]],Historico_Registro_Quejas3[#All],2,0)","v":"2018-08-11"},{"$f":"VLOOKUP(Precentación_Quejas[[#This Row],['# Queja]],Historico_Registro_Quejas3[#All],7,0)","v":"Huésped reporta que piensan que el colchon tiene bichillos porque al despertar tenían picaduras en todo el cuerpo"},{"$f":"VLOOKUP(Precentación_Quejas[[#This Row],['# Queja]],Historico_Registro_Quejas3[#All],22,0)","v":"Plagas Habitaciones"},{"$f":"VLOOKUP(Precentación_Quejas[[#This Row],[Payaso]],Tabla_Payasos[[Payasos]:[Columna1]],2,0)","v":49},813,{"$f":"VLOOKUP(Precentación_Quejas[[#This Row],['# Queja]],Historico_Registro_Quejas3[[#All],['# Queja]:[Valoración]],15,0)","v":"Desestimada"}]
[{"$f":"VLOOKUP(Precentación_Quejas[[#This Row],['# Queja]],Historico_Registro_Quejas3[#All],4,0)","v":406},{"$f":"VLOOKUP(Precentación_Quejas[[#This Row],['# Queja]],Historico_Registro_Quejas3[#All],2,0)","v":"2018-08-11"},{"$f":"VLOOKUP(Precentación_Quejas[[#This Row],['# Queja]],Historico_Registro_Quejas3[#All],7,0)","v":"Huésped se queja al check out, que los tomas no funcionan bien"},{"$f":"VLOOKUP(Precentación_Quejas[[#This Row],['# Queja]],Historico_Registro_Quejas3[#All],22,0)","v":"Habitaciones"},{"$f":"VLOOKUP(Precentación_Quejas[[#This Row],[Payaso]],Tabla_Payasos[[Payasos]:[Columna1]],2,0)","v":54},812,{"$f":"VLOOKUP(Precentación_Quejas[[#This Row],['# Queja]],Historico_Registro_Quejas3[[#All],['# Queja]:[Valoración]],15,0)","v":"ROJA "}]
[{"$f":"VLOOKUP(Precentación_Quejas[[#This Row],['# Queja]],Historico_Registro_Quejas3[#All],4,0)","v":109},{"$f":"VLOOKUP(Precentación_Quejas[[#This Row],['# Queja]],Historico_Registro_Quejas3[#All],2,0)","v":"2018-08-06"},{"$f":"VLOOKUP(Precentación_Quejas[[#This Row],['# Queja]],Historico_Registro_Quejas3[#All],7,0)","v":"Necesitan Mayor variedad en frutas y dulces en el desayuno como pastelitos."},{"$f":"VLOOKUP(Precentación_Quejas[[#This Row],['# Queja]],Historico_Registro_Quejas3[#All],22,0)","v":"Calidad comida"},{"$f":"VLOOKUP(Precentación_Quejas[[#This Row],[Payaso]],Tabla_Payasos[[Payasos]:[Columna1]],2,0)","v":70},811,{"$f":"VLOOKUP(Precentación_Quejas[[#This Row],['# Queja]],Historico_Registro_Quejas3[[#All],['# Queja]:[Valoración]],15,0)","v":"ROJA "}]
[{"$f":"VLOOKUP(Precentación_Quejas[[#This Row],['# Queja]],Historico_Registro_Quejas3[#All],4,0)","v":0},{"$f":"VLOOKUP(Precentación_Quejas[[#This Row],['# Queja]],Historico_Registro_Quejas3[#All],2,0)","v":"2018-08-06"},{"$f":"VLOOKUP(Precentación_Quejas[[#This Row],['# Queja]],Historico_Registro_Quejas3[#All],7,0)","v":"El hotel requiere actualización en el area de piscinas y en las habitaciones."},{"$f":"VLOOKUP(Precentación_Quejas[[#This Row],['# Queja]],Historico_Registro_Quejas3[#All],22,0)","v":"Piscinas "},{"$f":"VLOOKUP(Precentación_Quejas[[#This Row],[Payaso]],Tabla_Payasos[[Payasos]:[Columna1]],2,0)","v":{"$error":"#N/A"}},810,{"$f":"VLOOKUP(Precentación_Quejas[[#This Row],['# Queja]],Historico_Registro_Quejas3[[#All],['# Queja]:[Valoración]],15,0)","v":"Desestimada"}]
[{"$f":"VLOOKUP(Precentación_Quejas[[#This Row],['# Queja]],Historico_Registro_Quejas3[#All],4,0)","v":508},{"$f":"VLOOKUP(Precentación_Quejas[[#This Row],['# Queja]],Historico_Registro_Quejas3[#All],2,0)","v":"2018-08-07"},{"$f":"VLOOKUP(Precentación_Quejas[[#This Row],['# Queja]],Historico_Registro_Quejas3[#All],7,0)","v":"Cambien los menus en ambos restaurantes"},{"$f":"VLOOKUP(Precentación_Quejas[[#This Row],['# Queja]],Historico_Registro_Quejas3[#All],22,0)","v":"Calidad comida"},{"$f":"VLOOKUP(Precentación_Quejas[[#This Row],[Payaso]],Tabla_Payasos[[Payasos]:[Columna1]],2,0)","v":70},809,{"$f":"VLOOKUP(Precentación_Quejas[[#This Row],['# Queja]],Historico_Registro_Quejas3[[#All],['# Queja]:[Valoración]],15,0)","v":"ROJA "}]
[{"$f":"VLOOKUP(Precentación_Quejas[[#This Row],['# Queja]],Historico_Registro_Quejas3[#All],4,0)","v":508},{"$f":"VLOOKUP(Precentación_Quejas[[#This Row],['# Queja]],Historico_Registro_Quejas3[#All],2,0)","v":"2018-08-07"},{"$f":"VLOOKUP(Precentación_Quejas[[#This Row],['# Queja]],Historico_Registro_Quejas3[#All],7,0)","v":"Se necesita ás espacio para almacenar cosas en la habitación y también sillas. Además no había suficientes ganchos."},{"$f":"VLOOKUP(Precentación_Quejas[[#This Row],['# Queja]],Historico_Registro_Quejas3[#All],22,0)","v":"Habitaciones"},{"$f":"VLOOKUP(Precentación_Quejas[[#This Row],[Payaso]],Tabla_Payasos[[Payasos]:[Columna1]],2,0)","v":54},808,{"$f":"VLOOKUP(Precentación_Quejas[[#This Row],['# Queja]],Historico_Registro_Quejas3[[#All],['# Queja]:[Valoración]],15,0)","v":"VERDE"}]
[{"$f":"VLOOKUP(Precentación_Quejas[[#This Row],['# Queja]],Historico_Registro_Quejas3[#All],4,0)","v":103},{"$f":"VLOOKUP(Precentación_Quejas[[#This Row],['# Queja]],Historico_Registro_Quejas3[#All],2,0)","v":"2018-08-05"},{"$f":"VLOOKUP(Precentación_Quejas[[#This Row],['# Queja]],Historico_Registro_Quejas3[#All],7,0)","v":"Se queja porque no hay clases de yoga en la tarde y porque el gimnasio es muy pequeño"},{"$f":"VLOOKUP(Precentación_Quejas[[#This Row],['# Queja]],Historico_Registro_Quejas3[#All],22,0)","v":"N/A"},{"$f":"VLOOKUP(Precentación_Quejas[[#This Row],[Payaso]],Tabla_Payasos[[Payasos]:[Columna1]],2,0)","v":44},807,{"$f":"VLOOKUP(Precentación_Quejas[[#This Row],['# Queja]],Historico_Registro_Quejas3[[#All],['# Queja]:[Valoración]],15,0)","v":"Desestimada"}]
[{"$f":"VLOOKUP(Precentación_Quejas[[#This Row],['# Queja]],Historico_Registro_Quejas3[#All],4,0)","v":210},{"$f":"VLOOKUP(Precentación_Quejas[[#This Row],['# Queja]],Historico_Registro_Quejas3[#All],2,0)","v":"2018-08-03"},{"$f":"VLOOKUP(Precentación_Quejas[[#This Row],['# Queja]],Historico_Registro_Quejas3[#All],7,0)","v":"Sería muy bueno tener menus en la habitación."},{"$f":"VLOOKUP(Precentación_Quejas[[#This Row],['# Queja]],Historico_Registro_Quejas3[#All],22,0)","v":"Calidad comida"},{"$f":"VLOOKUP(Precentación_Quejas[[#This Row],[Payaso]],Tabla_Payasos[[Payasos]:[Columna1]],2,0)","v":70},806,{"$f":"VLOOKUP(Precentación_Quejas[[#This Row],['# Queja]],Historico_Registro_Quejas3[[#All],['# Queja]:[Valoración]],15,0)","v":"ROJA "}]
[{"$f":"VLOOKUP(Precentación_Quejas[[#This Row],['# Queja]],Historico_Registro_Quejas3[#All],4,0)","v":210},{"$f":"VLOOKUP(Precentación_Quejas[[#This Row],['# Queja]],Historico_Registro_Quejas3[#All],2,0)","v":"2018-08-03"},{"$f":"VLOOKUP(Precentación_Quejas[[#This Row],['# Queja]],Historico_Registro_Quejas3[#All],7,0)","v":"Precios elevados."},{"$f":"VLOOKUP(Precentación_Quejas[[#This Row],['# Queja]],Historico_Registro_Quejas3[#All],22,0)","v":"Calidad comida"},{"$f":"VLOOKUP(Precentación_Quejas[[#This Row],[Payaso]],Tabla_Payasos[[Payasos]:[Columna1]],2,0)","v":70},805,{"$f":"VLOOKUP(Precentación_Quejas[[#This Row],['# Queja]],Historico_Registro_Quejas3[[#All],['# Queja]:[Valoración]],15,0)","v":"ROJA "}]
[{"$f":"VLOOKUP(Precentación_Quejas[[#This Row],['# Queja]],Historico_Registro_Quejas3[#All],4,0)","v":307},{"$f":"VLOOKUP(Precentación_Quejas[[#This Row],['# Queja]],Historico_Registro_Quejas3[#All],2,0)","v":"2018-08-05"},{"$f":"VLOOKUP(Precentación_Quejas[[#This Row],['# Queja]],Historico_Registro_Quejas3[#All],7,0)","v":"Mejorar el Wi-fi ya que es muy inconsistente"},{"$f":"VLOOKUP(Precentación_Quejas[[#This Row],['# Queja]],Historico_Registro_Quejas3[#All],22,0)","v":"Wifi"},{"$f":"VLOOKUP(Precentación_Quejas[[#This Row],[Payaso]],Tabla_Payasos[[Payasos]:[Columna1]],2,0)","v":23},804,{"$f":"VLOOKUP(Precentación_Quejas[[#This Row],['# Queja]],Historico_Registro_Quejas3[[#All],['# Queja]:[Valoración]],15,0)","v":"ROJA "}]
[{"$f":"VLOOKUP(Precentación_Quejas[[#This Row],['# Queja]],Historico_Registro_Quejas3[#All],4,0)","v":611},{"$f":"VLOOKUP(Precentación_Quejas[[#This Row],['# Queja]],Historico_Registro_Quejas3[#All],2,0)","v":"2018-08-06"},{"$f":"VLOOKUP(Precentación_Quejas[[#This Row],['# Queja]],Historico_Registro_Quejas3[#All],7,0)","v":"No tenían agua caliente"},{"$f":"VLOOKUP(Precentación_Quejas[[#This Row],['# Queja]],Historico_Registro_Quejas3[#All],22,0)","v":"Agua caliente"},{"$f":"VLOOKUP(Precentación_Quejas[[#This Row],[Payaso]],Tabla_Payasos[[Payasos]:[Columna1]],2,0)","v":13},803,{"$f":"VLOOKUP(Precentación_Quejas[[#This Row],['# Queja]],Historico_Registro_Quejas3[[#All],['# Queja]:[Valoración]],15,0)","v":"ROJA "}]
[{"$f":"VLOOKUP(Precentación_Quejas[[#This Row],['# Queja]],Historico_Registro_Quejas3[#All],4,0)","v":610},{"$f":"VLOOKUP(Precentación_Quejas[[#This Row],['# Queja]],Historico_Registro_Quejas3[#All],2,0)","v":"2018-08-06"},{"$f":"VLOOKUP(Precentación_Quejas[[#This Row],['# Queja]],Historico_Registro_Quejas3[#All],7,0)","v":"No tenían agua caliente"},{"$f":"VLOOKUP(Precentación_Quejas[[#This Row],['# Queja]],Historico_Registro_Quejas3[#All],22,0)","v":"Agua caliente"},{"$f":"VLOOKUP(Precentación_Quejas[[#This Row],[Payaso]],Tabla_Payasos[[Payasos]:[Columna1]],2,0)","v":13},802,{"$f":"VLOOKUP(Precentación_Quejas[[#This Row],['# Queja]],Historico_Registro_Quejas3[[#All],['# Queja]:[Valoración]],15,0)","v":"ROJA "}]
[{"$f":"VLOOKUP(Precentación_Quejas[[#This Row],['# Queja]],Historico_Registro_Quejas3[#All],4,0)","v":108},{"$f":"VLOOKUP(Precentación_Quejas[[#This Row],['# Queja]],Historico_Registro_Quejas3[#All],2,0)","v":"2018-08-05"},{"$f":"VLOOKUP(Precentación_Quejas[[#This Row],['# Queja]],Historico_Registro_Quejas3[#All],7,0)","v":"Teléfono no sirve"},{"$f":"VLOOKUP(Precentación_Quejas[[#This Row],['# Queja]],Historico_Registro_Quejas3[#All],22,0)","v":"Central telefonica"},{"$f":"VLOOKUP(Precentación_Quejas[[#This Row],[Payaso]],Tabla_Payasos[[Payasos]:[Columna1]],2,0)","v":16},801,{"$f":"VLOOKUP(Precentación_Quejas[[#This Row],['# Queja]],Historico_Registro_Quejas3[[#All],['# Queja]:[Valoración]],15,0)","v":"ROJA "}]
[{"$f":"VLOOKUP(Precentación_Quejas[[#This Row],['# Queja]],Historico_Registro_Quejas3[#All],4,0)","v":202},{"$f":"VLOOKUP(Precentación_Quejas[[#This Row],['# Queja]],Historico_Registro_Quejas3[#All],2,0)","v":"2018-08-05"},{"$f":"VLOOKUP(Precentación_Quejas[[#This Row],['# Queja]],Historico_Registro_Quejas3[#All],7,0)","v":"Teléfono no sirve"},{"$f":"VLOOKUP(Precentación_Quejas[[#This Row],['# Queja]],Historico_Registro_Quejas3[#All],22,0)","v":"Central telefonica"},{"$f":"VLOOKUP(Precentación_Quejas[[#This Row],[Payaso]],Tabla_Payasos[[Payasos]:[Columna1]],2,0)","v":16},800,{"$f":"VLOOKUP(Precentación_Quejas[[#This Row],['# Queja]],Historico_Registro_Quejas3[[#All],['# Queja]:[Valoración]],15,0)","v":"ROJA "}]
[{"$f":"VLOOKUP(Precentación_Quejas[[#This Row],['# Queja]],Historico_Registro_Quejas3[#All],4,0)","v":102},{"$f":"VLOOKUP(Precentación_Quejas[[#This Row],['# Queja]],Historico_Registro_Quejas3[#All],2,0)","v":"2018-08-05"},{"$f":"VLOOKUP(Precentación_Quejas[[#This Row],['# Queja]],Historico_Registro_Quejas3[#All],7,0)","v":"Teléfono no sirve"},{"$f":"VLOOKUP(Precentación_Quejas[[#This Row],['# Queja]],Historico_Registro_Quejas3[#All],22,0)","v":"Central telefonica"},{"$f":"VLOOKUP(Precentación_Quejas[[#This Row],[Payaso]],Tabla_Payasos[[Payasos]:[Columna1]],2,0)","v":16},799,{"$f":"VLOOKUP(Precentación_Quejas[[#This Row],['# Queja]],Historico_Registro_Quejas3[[#All],['# Queja]:[Valoración]],15,0)","v":"ROJA "}]
[{"$f":"VLOOKUP(Precentación_Quejas[[#This Row],['# Queja]],Historico_Registro_Quejas3[#All],4,0)","v":101},{"$f":"VLOOKUP(Precentación_Quejas[[#This Row],['# Queja]],Historico_Registro_Quejas3[#All],2,0)","v":"2018-08-05"},{"$f":"VLOOKUP(Precentación_Quejas[[#This Row],['# Queja]],Historico_Registro_Quejas3[#All],7,0)","v":"Teléfono no sirve"},{"$f":"VLOOKUP(Precentación_Quejas[[#This Row],['# Queja]],Historico_Registro_Quejas3[#All],22,0)","v":"Central telefonica"},{"$f":"VLOOKUP(Precentación_Quejas[[#This Row],[Payaso]],Tabla_Payasos[[Payasos]:[Columna1]],2,0)","v":16},798,{"$f":"VLOOKUP(Precentación_Quejas[[#This Row],['# Queja]],Historico_Registro_Quejas3[[#All],['# Queja]:[Valoración]],15,0)","v":"ROJA "}]
[{"$f":"VLOOKUP(Precentación_Quejas[[#This Row],['# Queja]],Historico_Registro_Quejas3[#All],4,0)","v":706},{"$f":"VLOOKUP(Precentación_Quejas[[#This Row],['# Queja]],Historico_Registro_Quejas3[#All],2,0)","v":"2018-08-05"},{"$f":"VLOOKUP(Precentación_Quejas[[#This Row],['# Queja]],Historico_Registro_Quejas3[#All],7,0)","v":"Teléfono no sirve"},{"$f":"VLOOKUP(Precentación_Quejas[[#This Row],['# Queja]],Historico_Registro_Quejas3[#All],22,0)","v":"Central telefonica"},{"$f":"VLOOKUP(Precentación_Quejas[[#This Row],[Payaso]],Tabla_Payasos[[Payasos]:[Columna1]],2,0)","v":16},797,{"$f":"VLOOKUP(Precentación_Quejas[[#This Row],['# Queja]],Historico_Registro_Quejas3[[#All],['# Queja]:[Valoración]],15,0)","v":"ROJA "}]
[{"$f":"VLOOKUP(Precentación_Quejas[[#This Row],['# Queja]],Historico_Registro_Quejas3[#All],4,0)","v":106},{"$f":"VLOOKUP(Precentación_Quejas[[#This Row],['# Queja]],Historico_Registro_Quejas3[#All],2,0)","v":"2018-08-05"},{"$f":"VLOOKUP(Precentación_Quejas[[#This Row],['# Queja]],Historico_Registro_Quejas3[#All],7,0)","v":"Teléfono no sirve"},{"$f":"VLOOKUP(Precentación_Quejas[[#This Row],['# Queja]],Historico_Registro_Quejas3[#All],22,0)","v":"Central telefonica"},{"$f":"VLOOKUP(Precentación_Quejas[[#This Row],[Payaso]],Tabla_Payasos[[Payasos]:[Columna1]],2,0)","v":16},796,{"$f":"VLOOKUP(Precentación_Quejas[[#This Row],['# Queja]],Historico_Registro_Quejas3[[#All],['# Queja]:[Valoración]],15,0)","v":"ROJA "}]
[{"$f":"VLOOKUP(Precentación_Quejas[[#This Row],['# Queja]],Historico_Registro_Quejas3[#All],4,0)","v":110},{"$f":"VLOOKUP(Precentación_Quejas[[#This Row],['# Queja]],Historico_Registro_Quejas3[#All],2,0)","v":"2018-08-05"},{"$f":"VLOOKUP(Precentación_Quejas[[#This Row],['# Queja]],Historico_Registro_Quejas3[#All],7,0)","v":"Teléfono no sirve"},{"$f":"VLOOKUP(Precentación_Quejas[[#This Row],['# Queja]],Historico_Registro_Quejas3[#All],22,0)","v":"Central telefonica"},{"$f":"VLOOKUP(Precentación_Quejas[[#This Row],[Payaso]],Tabla_Payasos[[Payasos]:[Columna1]],2,0)","v":16},795,{"$f":"VLOOKUP(Precentación_Quejas[[#This Row],['# Queja]],Historico_Registro_Quejas3[[#All],['# Queja]:[Valoración]],15,0)","v":"ROJA "}]
[{"$f":"VLOOKUP(Precentación_Quejas[[#This Row],['# Queja]],Historico_Registro_Quejas3[#All],4,0)","v":0},{"$f":"VLOOKUP(Precentación_Quejas[[#This Row],['# Queja]],Historico_Registro_Quejas3[#All],2,0)","v":"2018-08-04"},{"$f":"VLOOKUP(Precentación_Quejas[[#This Row],['# Queja]],Historico_Registro_Quejas3[#All],7,0)","v":"Se queja de la comida de los restaurantes los cuales fueron una estafa, muy baja calidad en las comidas. La pizza fue la peor que ha comido, muy mala. Además precios sumamente caros por nada especial a cambio."},{"$f":"VLOOKUP(Precentación_Quejas[[#This Row],['# Queja]],Historico_Registro_Quejas3[#All],22,0)","v":"Calidad comida"},{"$f":"VLOOKUP(Precentación_Quejas[[#This Row],[Payaso]],Tabla_Payasos[[Payasos]:[Columna1]],2,0)","v":70},794,{"$f":"VLOOKUP(Precentación_Quejas[[#This Row],['# Queja]],Historico_Registro_Quejas3[[#All],['# Queja]:[Valoración]],15,0)","v":"ROJA "}]
[{"$f":"VLOOKUP(Precentación_Quejas[[#This Row],['# Queja]],Historico_Registro_Quejas3[#All],4,0)","v":0},{"$f":"VLOOKUP(Precentación_Quejas[[#This Row],['# Queja]],Historico_Registro_Quejas3[#All],2,0)","v":"2018-08-04"},{"$f":"VLOOKUP(Precentación_Quejas[[#This Row],['# Queja]],Historico_Registro_Quejas3[#All],7,0)","v":"Huésped se queja del uso de brazaletes y de los tiquetes para intercambiar toallas y paraguas indicando que le recuerda a los hoteles baratos de Cancún. Además no les gustó escuchar a los vecinos ni tampoco los colchones los cuales consideraron raros e incómodos. "},{"$f":"VLOOKUP(Precentación_Quejas[[#This Row],['# Queja]],Historico_Registro_Quejas3[#All],22,0)","v":"Brazaletes"},{"$f":"VLOOKUP(Precentación_Quejas[[#This Row],[Payaso]],Tabla_Payasos[[Payasos]:[Columna1]],2,0)","v":4},793,{"$f":"VLOOKUP(Precentación_Quejas[[#This Row],['# Queja]],Historico_Registro_Quejas3[[#All],['# Queja]:[Valoración]],15,0)","v":"Desestimada"}]
[{"$f":"VLOOKUP(Precentación_Quejas[[#This Row],['# Queja]],Historico_Registro_Quejas3[#All],4,0)","v":0},{"$f":"VLOOKUP(Precentación_Quejas[[#This Row],['# Queja]],Historico_Registro_Quejas3[#All],2,0)","v":"2018-08-02"},{"$f":"VLOOKUP(Precentación_Quejas[[#This Row],['# Queja]],Historico_Registro_Quejas3[#All],7,0)","v":"Precios del restaurante y de los bares muy elevados"},{"$f":"VLOOKUP(Precentación_Quejas[[#This Row],['# Queja]],Historico_Registro_Quejas3[#All],22,0)","v":"Calidad comida"},{"$f":"VLOOKUP(Precentación_Quejas[[#This Row],[Payaso]],Tabla_Payasos[[Payasos]:[Columna1]],2,0)","v":70},792,{"$f":"VLOOKUP(Precentación_Quejas[[#This Row],['# Queja]],Historico_Registro_Quejas3[[#All],['# Queja]:[Valoración]],15,0)","v":"ROJA "}]
[{"$f":"VLOOKUP(Precentación_Quejas[[#This Row],['# Queja]],Historico_Registro_Quejas3[#All],4,0)","v":0},{"$f":"VLOOKUP(Precentación_Quejas[[#This Row],['# Queja]],Historico_Registro_Quejas3[#All],2,0)","v":"2018-08-01"},{"$f":"VLOOKUP(Precentación_Quejas[[#This Row],['# Queja]],Historico_Registro_Quejas3[#All],7,0)","v":"El hotel parece estar expandiendose y sino estas en algún tour es sumamente molesto el ruido de la construcción mientras estas en la habitación"},{"$f":"VLOOKUP(Precentación_Quejas[[#This Row],['# Queja]],Historico_Registro_Quejas3[#All],22,0)","v":"Ruido habitación"},{"$f":"VLOOKUP(Precentación_Quejas[[#This Row],[Payaso]],Tabla_Payasos[[Payasos]:[Columna1]],2,0)","v":15},791,{"$f":"VLOOKUP(Precentación_Quejas[[#This Row],['# Queja]],Historico_Registro_Quejas3[[#All],['# Queja]:[Valoración]],15,0)","v":"ROJA "}]
[{"$f":"VLOOKUP(Precentación_Quejas[[#This Row],['# Queja]],Historico_Registro_Quejas3[#All],4,0)","v":109},{"$f":"VLOOKUP(Precentación_Quejas[[#This Row],['# Queja]],Historico_Registro_Quejas3[#All],2,0)","v":"2018-08-01"},{"$f":"VLOOKUP(Precentación_Quejas[[#This Row],['# Queja]],Historico_Registro_Quejas3[#All],7,0)","v":"Porciones ridiculamente pequeñas y el sushi estaba mediocre, mas arroz que pescado. "},{"$f":"VLOOKUP(Precentación_Quejas[[#This Row],['# Queja]],Historico_Registro_Quejas3[#All],22,0)","v":"Calidad Sushi"},{"$f":"VLOOKUP(Precentación_Quejas[[#This Row],[Payaso]],Tabla_Payasos[[Payasos]:[Columna1]],2,0)","v":7},790,{"$f":"VLOOKUP(Precentación_Quejas[[#This Row],['# Queja]],Historico_Registro_Quejas3[[#All],['# Queja]:[Valoración]],15,0)","v":"ROJA "}]
[{"$f":"VLOOKUP(Precentación_Quejas[[#This Row],['# Queja]],Historico_Registro_Quejas3[#All],4,0)","v":"609-610"},{"$f":"VLOOKUP(Precentación_Quejas[[#This Row],['# Queja]],Historico_Registro_Quejas3[#All],2,0)","v":"2018-08-02"},{"$f":"VLOOKUP(Precentación_Quejas[[#This Row],['# Queja]],Historico_Registro_Quejas3[#All],7,0)","v":"Bastante caro el Italiano."},{"$f":"VLOOKUP(Precentación_Quejas[[#This Row],['# Queja]],Historico_Registro_Quejas3[#All],22,0)","v":"Calidad comida"},{"$f":"VLOOKUP(Precentación_Quejas[[#This Row],[Payaso]],Tabla_Payasos[[Payasos]:[Columna1]],2,0)","v":70},789,{"$f":"VLOOKUP(Precentación_Quejas[[#This Row],['# Queja]],Historico_Registro_Quejas3[[#All],['# Queja]:[Valoración]],15,0)","v":"ROJA "}]
[{"$f":"VLOOKUP(Precentación_Quejas[[#This Row],['# Queja]],Historico_Registro_Quejas3[#All],4,0)","v":"201-202"},{"$f":"VLOOKUP(Precentación_Quejas[[#This Row],['# Queja]],Historico_Registro_Quejas3[#All],2,0)","v":"2018-08-03"},{"$f":"VLOOKUP(Precentación_Quejas[[#This Row],['# Queja]],Historico_Registro_Quejas3[#All],7,0)","v":"Ruidos extraños en el techo ( pájaros o ratas) que nos mantuvo despiertos en la noche."},{"$f":"VLOOKUP(Precentación_Quejas[[#This Row],['# Queja]],Historico_Registro_Quejas3[#All],22,0)","v":"Plagas Habitaciones"},{"$f":"VLOOKUP(Precentación_Quejas[[#This Row],[Payaso]],Tabla_Payasos[[Payasos]:[Columna1]],2,0)","v":49},788,{"$f":"VLOOKUP(Precentación_Quejas[[#This Row],['# Queja]],Historico_Registro_Quejas3[[#All],['# Queja]:[Valoración]],15,0)","v":"ROJA "}]
[{"$f":"VLOOKUP(Precentación_Quejas[[#This Row],['# Queja]],Historico_Registro_Quejas3[#All],4,0)","v":"201-202"},{"$f":"VLOOKUP(Precentación_Quejas[[#This Row],['# Queja]],Historico_Registro_Quejas3[#All],2,0)","v":"2018-08-03"},{"$f":"VLOOKUP(Precentación_Quejas[[#This Row],['# Queja]],Historico_Registro_Quejas3[#All],7,0)","v":"Huésped sugiere que el hotel no promueva Natura Park como una opción ya que es una experiencia mediocre y muy cara."},{"$f":"VLOOKUP(Precentación_Quejas[[#This Row],['# Queja]],Historico_Registro_Quejas3[#All],22,0)","v":"N/A"},{"$f":"VLOOKUP(Precentación_Quejas[[#This Row],[Payaso]],Tabla_Payasos[[Payasos]:[Columna1]],2,0)","v":44},787,{"$f":"VLOOKUP(Precentación_Quejas[[#This Row],['# Queja]],Historico_Registro_Quejas3[[#All],['# Queja]:[Valoración]],15,0)","v":"Desestimada"}]
[{"$f":"VLOOKUP(Precentación_Quejas[[#This Row],['# Queja]],Historico_Registro_Quejas3[#All],4,0)","v":511},{"$f":"VLOOKUP(Precentación_Quejas[[#This Row],['# Queja]],Historico_Registro_Quejas3[#All],2,0)","v":"2018-08-04"},{"$f":"VLOOKUP(Precentación_Quejas[[#This Row],['# Queja]],Historico_Registro_Quejas3[#All],7,0)","v":"Variedad limitada en opciones de glutten, problemas con inocuidad."},{"$f":"VLOOKUP(Precentación_Quejas[[#This Row],['# Queja]],Historico_Registro_Quejas3[#All],22,0)","v":"Menú Celiacos"},{"$f":"VLOOKUP(Precentación_Quejas[[#This Row],[Payaso]],Tabla_Payasos[[Payasos]:[Columna1]],2,0)","v":7},786,{"$f":"VLOOKUP(Precentación_Quejas[[#This Row],['# Queja]],Historico_Registro_Quejas3[[#All],['# Queja]:[Valoración]],15,0)","v":"ROJA "}]
[{"$f":"VLOOKUP(Precentación_Quejas[[#This Row],['# Queja]],Historico_Registro_Quejas3[#All],4,0)","v":512},{"$f":"VLOOKUP(Precentación_Quejas[[#This Row],['# Queja]],Historico_Registro_Quejas3[#All],2,0)","v":"2018-08-04"},{"$f":"VLOOKUP(Precentación_Quejas[[#This Row],['# Queja]],Historico_Registro_Quejas3[#All],7,0)","v":"Más opciones libres de glutten son muy necesarias"},{"$f":"VLOOKUP(Precentación_Quejas[[#This Row],['# Queja]],Historico_Registro_Quejas3[#All],22,0)","v":"Menú Celiacos"},{"$f":"VLOOKUP(Precentación_Quejas[[#This Row],[Payaso]],Tabla_Payasos[[Payasos]:[Columna1]],2,0)","v":7},785,{"$f":"VLOOKUP(Precentación_Quejas[[#This Row],['# Queja]],Historico_Registro_Quejas3[[#All],['# Queja]:[Valoración]],15,0)","v":"ROJA "}]
[{"$f":"VLOOKUP(Precentación_Quejas[[#This Row],['# Queja]],Historico_Registro_Quejas3[#All],4,0)","v":401},{"$f":"VLOOKUP(Precentación_Quejas[[#This Row],['# Queja]],Historico_Registro_Quejas3[#All],2,0)","v":"2018-08-04"},{"$f":"VLOOKUP(Precentación_Quejas[[#This Row],['# Queja]],Historico_Registro_Quejas3[#All],7,0)","v":"La comida en el Italiano muy cara."},{"$f":"VLOOKUP(Precentación_Quejas[[#This Row],['# Queja]],Historico_Registro_Quejas3[#All],22,0)","v":"Calidad comida"},{"$f":"VLOOKUP(Precentación_Quejas[[#This Row],[Payaso]],Tabla_Payasos[[Payasos]:[Columna1]],2,0)","v":70},784,{"$f":"VLOOKUP(Precentación_Quejas[[#This Row],['# Queja]],Historico_Registro_Quejas3[[#All],['# Queja]:[Valoración]],15,0)","v":"ROJA "}]
[{"$f":"VLOOKUP(Precentación_Quejas[[#This Row],['# Queja]],Historico_Registro_Quejas3[#All],4,0)","v":703},{"$f":"VLOOKUP(Precentación_Quejas[[#This Row],['# Queja]],Historico_Registro_Quejas3[#All],2,0)","v":"2018-08-04"},{"$f":"VLOOKUP(Precentación_Quejas[[#This Row],['# Queja]],Historico_Registro_Quejas3[#All],7,0)","v":"Huéspedes se quejan de la inconsistencia del agua caliente."},{"$f":"VLOOKUP(Precentación_Quejas[[#This Row],['# Queja]],Historico_Registro_Quejas3[#All],22,0)","v":"Agua caliente"},{"$f":"VLOOKUP(Precentación_Quejas[[#This Row],[Payaso]],Tabla_Payasos[[Payasos]:[Columna1]],2,0)","v":13},783,{"$f":"VLOOKUP(Precentación_Quejas[[#This Row],['# Queja]],Historico_Registro_Quejas3[[#All],['# Queja]:[Valoración]],15,0)","v":"ROJA "}]
[{"$f":"VLOOKUP(Precentación_Quejas[[#This Row],['# Queja]],Historico_Registro_Quejas3[#All],4,0)","v":801},{"$f":"VLOOKUP(Precentación_Quejas[[#This Row],['# Queja]],Historico_Registro_Quejas3[#All],2,0)","v":"2018-08-02"},{"$f":"VLOOKUP(Precentación_Quejas[[#This Row],['# Queja]],Historico_Registro_Quejas3[#All],7,0)","v":"Huéspedes se quejan que las porciones del restaurante italiano son pequeñas y muy caras."},{"$f":"VLOOKUP(Precentación_Quejas[[#This Row],['# Queja]],Historico_Registro_Quejas3[#All],22,0)","v":"Calidad comida"},{"$f":"VLOOKUP(Precentación_Quejas[[#This Row],[Payaso]],Tabla_Payasos[[Payasos]:[Columna1]],2,0)","v":70},782,{"$f":"VLOOKUP(Precentación_Quejas[[#This Row],['# Queja]],Historico_Registro_Quejas3[[#All],['# Queja]:[Valoración]],15,0)","v":"ROJA "}]
[{"$f":"VLOOKUP(Precentación_Quejas[[#This Row],['# Queja]],Historico_Registro_Quejas3[#All],4,0)","v":204},{"$f":"VLOOKUP(Precentación_Quejas[[#This Row],['# Queja]],Historico_Registro_Quejas3[#All],2,0)","v":"2018-08-02"},{"$f":"VLOOKUP(Precentación_Quejas[[#This Row],['# Queja]],Historico_Registro_Quejas3[#All],7,0)","v":"Huéspedes se quejan de los precios, reclaman mejores precios."},{"$f":"VLOOKUP(Precentación_Quejas[[#This Row],['# Queja]],Historico_Registro_Quejas3[#All],22,0)","v":"Calidad comida"},{"$f":"VLOOKUP(Precentación_Quejas[[#This Row],[Payaso]],Tabla_Payasos[[Payasos]:[Columna1]],2,0)","v":70},781,{"$f":"VLOOKUP(Precentación_Quejas[[#This Row],['# Queja]],Historico_Registro_Quejas3[[#All],['# Queja]:[Valoración]],15,0)","v":"ROJA "}]
[{"$f":"VLOOKUP(Precentación_Quejas[[#This Row],['# Queja]],Historico_Registro_Quejas3[#All],4,0)","v":"701-904"},{"$f":"VLOOKUP(Precentación_Quejas[[#This Row],['# Queja]],Historico_Registro_Quejas3[#All],2,0)","v":"2018-08-03"},{"$f":"VLOOKUP(Precentación_Quejas[[#This Row],['# Queja]],Historico_Registro_Quejas3[#All],7,0)","v":"Huéspedes reclaman que no tiene agua en las habitaciones."},{"$f":"VLOOKUP(Precentación_Quejas[[#This Row],['# Queja]],Historico_Registro_Quejas3[#All],22,0)","v":"Agua caliente"},{"$f":"VLOOKUP(Precentación_Quejas[[#This Row],[Payaso]],Tabla_Payasos[[Payasos]:[Columna1]],2,0)","v":13},780,{"$f":"VLOOKUP(Precentación_Quejas[[#This Row],['# Queja]],Historico_Registro_Quejas3[[#All],['# Queja]:[Valoración]],15,0)","v":"ROJA "}]
[{"$f":"VLOOKUP(Precentación_Quejas[[#This Row],['# Queja]],Historico_Registro_Quejas3[#All],4,0)","v":708},{"$f":"VLOOKUP(Precentación_Quejas[[#This Row],['# Queja]],Historico_Registro_Quejas3[#All],2,0)","v":"2018-08-02"},{"$f":"VLOOKUP(Precentación_Quejas[[#This Row],['# Queja]],Historico_Registro_Quejas3[#All],7,0)","v":"Huéspedes molestos porque se les indicó que al llegar al hotel a las 3:30pm todas las habitaciones de su grupo iban a estar listas, sin embargo la hab 707 presentó problemas con el aire que al final no pudo ser reparado a pesar de que los huéspedes habian decidio esperar a que se reparara con tal de estar en la habitación junto a su familia,  procedimos a cambiarlos de hab sin embargo ellos se enojaron porque no les gustó la situación ni tampoco como fue manejada. El guía Cesar me dice que ellos ya llamaron a Swiss Travel a dar las quejas y que esta agencia quiere respuesta dado que son muy amigos de los dueños de Swiss Travel."},{"$f":"VLOOKUP(Precentación_Quejas[[#This Row],['# Queja]],Historico_Registro_Quejas3[#All],22,0)","v":"A/C"},{"$f":"VLOOKUP(Precentación_Quejas[[#This Row],[Payaso]],Tabla_Payasos[[Payasos]:[Columna1]],2,0)","v":25},779,{"$f":"VLOOKUP(Precentación_Quejas[[#This Row],['# Queja]],Historico_Registro_Quejas3[[#All],['# Queja]:[Valoración]],15,0)","v":"ROJA "}]
[{"$f":"VLOOKUP(Precentación_Quejas[[#This Row],['# Queja]],Historico_Registro_Quejas3[#All],4,0)","v":503},{"$f":"VLOOKUP(Precentación_Quejas[[#This Row],['# Queja]],Historico_Registro_Quejas3[#All],2,0)","v":"2018-08-02"},{"$f":"VLOOKUP(Precentación_Quejas[[#This Row],['# Queja]],Historico_Registro_Quejas3[#All],7,0)","v":"Huéspedes molestos porque desde las 7 am entregaron lavandería y llegaron a las 7:00pm a preguntar a recepción y aún no estaba lista."},{"$f":"VLOOKUP(Precentación_Quejas[[#This Row],['# Queja]],Historico_Registro_Quejas3[#All],22,0)","v":"Lavanderia"},{"$f":"VLOOKUP(Precentación_Quejas[[#This Row],[Payaso]],Tabla_Payasos[[Payasos]:[Columna1]],2,0)","v":3},778,{"$f":"VLOOKUP(Precentación_Quejas[[#This Row],['# Queja]],Historico_Registro_Quejas3[[#All],['# Queja]:[Valoración]],15,0)","v":"ROJA "}]
[{"$f":"VLOOKUP(Precentación_Quejas[[#This Row],['# Queja]],Historico_Registro_Quejas3[#All],4,0)","v":411},{"$f":"VLOOKUP(Precentación_Quejas[[#This Row],['# Queja]],Historico_Registro_Quejas3[#All],2,0)","v":"2018-08-01"},{"$f":"VLOOKUP(Precentación_Quejas[[#This Row],['# Queja]],Historico_Registro_Quejas3[#All],7,0)","v":"Huésped se queja que la lista de canales no coincide con los canales que se proyectan en el televisor, molesto primero porque indicá que un hotel en San José si pudo cambiar el audio a Inglés y aquí no."},{"$f":"VLOOKUP(Precentación_Quejas[[#This Row],['# Queja]],Historico_Registro_Quejas3[#All],22,0)","v":"Habitaciones"},{"$f":"VLOOKUP(Precentación_Quejas[[#This Row],[Payaso]],Tabla_Payasos[[Payasos]:[Columna1]],2,0)","v":54},777,{"$f":"VLOOKUP(Precentación_Quejas[[#This Row],['# Queja]],Historico_Registro_Quejas3[[#All],['# Queja]:[Valoración]],15,0)","v":"ROJA "}]
[{"$f":"VLOOKUP(Precentación_Quejas[[#This Row],['# Queja]],Historico_Registro_Quejas3[#All],4,0)","v":609},{"$f":"VLOOKUP(Precentación_Quejas[[#This Row],['# Queja]],Historico_Registro_Quejas3[#All],2,0)","v":"2018-07-31"},{"$f":"VLOOKUP(Precentación_Quejas[[#This Row],['# Queja]],Historico_Registro_Quejas3[#All],7,0)","v":"Agua caliente del baño sale demasiado caliente al instante además las paredes parecen hechas de papel ya que se escucha absolutamente todo de los vecinos."},{"$f":"VLOOKUP(Precentación_Quejas[[#This Row],['# Queja]],Historico_Registro_Quejas3[#All],22,0)","v":"Habitaciones"},{"$f":"VLOOKUP(Precentación_Quejas[[#This Row],[Payaso]],Tabla_Payasos[[Payasos]:[Columna1]],2,0)","v":54},776,{"$f":"VLOOKUP(Precentación_Quejas[[#This Row],['# Queja]],Historico_Registro_Quejas3[[#All],['# Queja]:[Valoración]],15,0)","v":"Desestimada"}]
[{"$f":"VLOOKUP(Precentación_Quejas[[#This Row],['# Queja]],Historico_Registro_Quejas3[#All],4,0)","v":107},{"$f":"VLOOKUP(Precentación_Quejas[[#This Row],['# Queja]],Historico_Registro_Quejas3[#All],2,0)","v":"2018-07-30"},{"$f":"VLOOKUP(Precentación_Quejas[[#This Row],['# Queja]],Historico_Registro_Quejas3[#All],7,0)","v":"Tortillas del bar húmedo que sirvieron tenían  moho. Además deberían tener opciones para personas alergicas a la lactosa."},{"$f":"VLOOKUP(Precentación_Quejas[[#This Row],['# Queja]],Historico_Registro_Quejas3[#All],22,0)","v":"Calidad comida"},{"$f":"VLOOKUP(Precentación_Quejas[[#This Row],[Payaso]],Tabla_Payasos[[Payasos]:[Columna1]],2,0)","v":70},775,{"$f":"VLOOKUP(Precentación_Quejas[[#This Row],['# Queja]],Historico_Registro_Quejas3[[#All],['# Queja]:[Valoración]],15,0)","v":"ROJA "}]
[{"$f":"VLOOKUP(Precentación_Quejas[[#This Row],['# Queja]],Historico_Registro_Quejas3[#All],4,0)","v":303},{"$f":"VLOOKUP(Precentación_Quejas[[#This Row],['# Queja]],Historico_Registro_Quejas3[#All],2,0)","v":"2018-07-30"},{"$f":"VLOOKUP(Precentación_Quejas[[#This Row],['# Queja]],Historico_Registro_Quejas3[#All],7,0)","v":"La habitación es inferior a una junior suite."},{"$f":"VLOOKUP(Precentación_Quejas[[#This Row],['# Queja]],Historico_Registro_Quejas3[#All],22,0)","v":"Habitaciones"},{"$f":"VLOOKUP(Precentación_Quejas[[#This Row],[Payaso]],Tabla_Payasos[[Payasos]:[Columna1]],2,0)","v":54},774,{"$f":"VLOOKUP(Precentación_Quejas[[#This Row],['# Queja]],Historico_Registro_Quejas3[[#All],['# Queja]:[Valoración]],15,0)","v":"Desestimada"}]
[{"$f":"VLOOKUP(Precentación_Quejas[[#This Row],['# Queja]],Historico_Registro_Quejas3[#All],4,0)","v":303},{"$f":"VLOOKUP(Precentación_Quejas[[#This Row],['# Queja]],Historico_Registro_Quejas3[#All],2,0)","v":"2018-07-30"},{"$f":"VLOOKUP(Precentación_Quejas[[#This Row],['# Queja]],Historico_Registro_Quejas3[#All],7,0)","v":"Precios muy elevados en las comidas."},{"$f":"VLOOKUP(Precentación_Quejas[[#This Row],['# Queja]],Historico_Registro_Quejas3[#All],22,0)","v":"Calidad comida"},{"$f":"VLOOKUP(Precentación_Quejas[[#This Row],[Payaso]],Tabla_Payasos[[Payasos]:[Columna1]],2,0)","v":70},773,{"$f":"VLOOKUP(Precentación_Quejas[[#This Row],['# Queja]],Historico_Registro_Quejas3[[#All],['# Queja]:[Valoración]],15,0)","v":"ROJA "}]
[{"$f":"VLOOKUP(Precentación_Quejas[[#This Row],['# Queja]],Historico_Registro_Quejas3[#All],4,0)","v":604},{"$f":"VLOOKUP(Precentación_Quejas[[#This Row],['# Queja]],Historico_Registro_Quejas3[#All],2,0)","v":"2018-07-29"},{"$f":"VLOOKUP(Precentación_Quejas[[#This Row],['# Queja]],Historico_Registro_Quejas3[#All],7,0)","v":"No había agua caliente y el control deo aire no funcionó."},{"$f":"VLOOKUP(Precentación_Quejas[[#This Row],['# Queja]],Historico_Registro_Quejas3[#All],22,0)","v":"A/C"},{"$f":"VLOOKUP(Precentación_Quejas[[#This Row],[Payaso]],Tabla_Payasos[[Payasos]:[Columna1]],2,0)","v":25},772,{"$f":"VLOOKUP(Precentación_Quejas[[#This Row],['# Queja]],Historico_Registro_Quejas3[[#All],['# Queja]:[Valoración]],15,0)","v":"ROJA "}]
[{"$f":"VLOOKUP(Precentación_Quejas[[#This Row],['# Queja]],Historico_Registro_Quejas3[#All],4,0)","v":0},{"$f":"VLOOKUP(Precentación_Quejas[[#This Row],['# Queja]],Historico_Registro_Quejas3[#All],2,0)","v":"2018-07-26"},{"$f":"VLOOKUP(Precentación_Quejas[[#This Row],['# Queja]],Historico_Registro_Quejas3[#All],7,0)","v":"La comida del restaurante italiano fue deficiente"},{"$f":"VLOOKUP(Precentación_Quejas[[#This Row],['# Queja]],Historico_Registro_Quejas3[#All],22,0)","v":"Calidad comida"},{"$f":"VLOOKUP(Precentación_Quejas[[#This Row],[Payaso]],Tabla_Payasos[[Payasos]:[Columna1]],2,0)","v":70},771,{"$f":"VLOOKUP(Precentación_Quejas[[#This Row],['# Queja]],Historico_Registro_Quejas3[[#All],['# Queja]:[Valoración]],15,0)","v":"ROJA "}]
[{"$f":"VLOOKUP(Precentación_Quejas[[#This Row],['# Queja]],Historico_Registro_Quejas3[#All],4,0)","v":0},{"$f":"VLOOKUP(Precentación_Quejas[[#This Row],['# Queja]],Historico_Registro_Quejas3[#All],2,0)","v":"2018-07-17"},{"$f":"VLOOKUP(Precentación_Quejas[[#This Row],['# Queja]],Historico_Registro_Quejas3[#All],7,0)","v":"El restaurante principal de la cena en sí es bastante caro y nada especial. No había nada de malo en ello, pero nos habíamos acostumbrado a grandes porciones de Costa Rica, y nuestra cena aquí era mucho más pequeña y no estuvo a la altura de la comida que tuvimos en otro lugar en nuestro viaje."},{"$f":"VLOOKUP(Precentación_Quejas[[#This Row],['# Queja]],Historico_Registro_Quejas3[#All],22,0)","v":"Calidad comida"},{"$f":"VLOOKUP(Precentación_Quejas[[#This Row],[Payaso]],Tabla_Payasos[[Payasos]:[Columna1]],2,0)","v":70},770,{"$f":"VLOOKUP(Precentación_Quejas[[#This Row],['# Queja]],Historico_Registro_Quejas3[[#All],['# Queja]:[Valoración]],15,0)","v":"ROJA "}]
[{"$f":"VLOOKUP(Precentación_Quejas[[#This Row],['# Queja]],Historico_Registro_Quejas3[#All],4,0)","v":0},{"$f":"VLOOKUP(Precentación_Quejas[[#This Row],['# Queja]],Historico_Registro_Quejas3[#All],2,0)","v":"2018-07-13"},{"$f":"VLOOKUP(Precentación_Quejas[[#This Row],['# Queja]],Historico_Registro_Quejas3[#All],7,0)","v":"El aire acondicionado no funcionó bien la última noche"},{"$f":"VLOOKUP(Precentación_Quejas[[#This Row],['# Queja]],Historico_Registro_Quejas3[#All],22,0)","v":"A/C"},{"$f":"VLOOKUP(Precentación_Quejas[[#This Row],[Payaso]],Tabla_Payasos[[Payasos]:[Columna1]],2,0)","v":25},769,{"$f":"VLOOKUP(Precentación_Quejas[[#This Row],['# Queja]],Historico_Registro_Quejas3[[#All],['# Queja]:[Valoración]],15,0)","v":"Desestimada"}]
[{"$f":"VLOOKUP(Precentación_Quejas[[#This Row],['# Queja]],Historico_Registro_Quejas3[#All],4,0)","v":0},{"$f":"VLOOKUP(Precentación_Quejas[[#This Row],['# Queja]],Historico_Registro_Quejas3[#All],2,0)","v":"2018-07-04"},{"$f":"VLOOKUP(Precentación_Quejas[[#This Row],['# Queja]],Historico_Registro_Quejas3[#All],7,0)","v":"EN el desayuno vimos varias moscas sobre los alimentos, incluso habían 2 ahogadas en el yogurt por lo que evitamos esos alimentos"},{"$f":"VLOOKUP(Precentación_Quejas[[#This Row],['# Queja]],Historico_Registro_Quejas3[#All],22,0)","v":"Calida Desayuno"},{"$f":"VLOOKUP(Precentación_Quejas[[#This Row],[Payaso]],Tabla_Payasos[[Payasos]:[Columna1]],2,0)","v":15},768,{"$f":"VLOOKUP(Precentación_Quejas[[#This Row],['# Queja]],Historico_Registro_Quejas3[[#All],['# Queja]:[Valoración]],15,0)","v":"Roja"}]
[{"$f":"VLOOKUP(Precentación_Quejas[[#This Row],['# Queja]],Historico_Registro_Quejas3[#All],4,0)","v":0},{"$f":"VLOOKUP(Precentación_Quejas[[#This Row],['# Queja]],Historico_Registro_Quejas3[#All],2,0)","v":"2018-07-04"},{"$f":"VLOOKUP(Precentación_Quejas[[#This Row],['# Queja]],Historico_Registro_Quejas3[#All],7,0)","v":". Además ojala y pudieran brindar juegos para la habitación o algo para que se entretengan los niños."},{"$f":"VLOOKUP(Precentación_Quejas[[#This Row],['# Queja]],Historico_Registro_Quejas3[#All],22,0)","v":"Área  para niños "},{"$f":"VLOOKUP(Precentación_Quejas[[#This Row],[Payaso]],Tabla_Payasos[[Payasos]:[Columna1]],2,0)","v":3},767,{"$f":"VLOOKUP(Precentación_Quejas[[#This Row],['# Queja]],Historico_Registro_Quejas3[[#All],['# Queja]:[Valoración]],15,0)","v":"Amarilla"}]
[{"$f":"VLOOKUP(Precentación_Quejas[[#This Row],['# Queja]],Historico_Registro_Quejas3[#All],4,0)","v":0},{"$f":"VLOOKUP(Precentación_Quejas[[#This Row],['# Queja]],Historico_Registro_Quejas3[#All],2,0)","v":"2018-07-04"},{"$f":"VLOOKUP(Precentación_Quejas[[#This Row],['# Queja]],Historico_Registro_Quejas3[#All],7,0)","v":"LA caja de seguridad es muy pequeña y vieja ( no pude guardar mi laptop)"},{"$f":"VLOOKUP(Precentación_Quejas[[#This Row],['# Queja]],Historico_Registro_Quejas3[#All],22,0)","v":"N/A"},{"$f":"VLOOKUP(Precentación_Quejas[[#This Row],[Payaso]],Tabla_Payasos[[Payasos]:[Columna1]],2,0)","v":44},766,{"$f":"VLOOKUP(Precentación_Quejas[[#This Row],['# Queja]],Historico_Registro_Quejas3[[#All],['# Queja]:[Valoración]],15,0)","v":"Desestimada"}]
[{"$f":"VLOOKUP(Precentación_Quejas[[#This Row],['# Queja]],Historico_Registro_Quejas3[#All],4,0)","v":0},{"$f":"VLOOKUP(Precentación_Quejas[[#This Row],['# Queja]],Historico_Registro_Quejas3[#All],2,0)","v":"2018-07-02"},{"$f":"VLOOKUP(Precentación_Quejas[[#This Row],['# Queja]],Historico_Registro_Quejas3[#All],7,0)","v":" la selección de los alimentos en el desayuno es pobre, mi esposo quería salchicha o tocino y no fue posible. Además las cenas son muy caras y las porciones muy pequeñas."},{"$f":"VLOOKUP(Precentación_Quejas[[#This Row],['# Queja]],Historico_Registro_Quejas3[#All],22,0)","v":"Calidad comida"},{"$f":"VLOOKUP(Precentación_Quejas[[#This Row],[Payaso]],Tabla_Payasos[[Payasos]:[Columna1]],2,0)","v":70},765,{"$f":"VLOOKUP(Precentación_Quejas[[#This Row],['# Queja]],Historico_Registro_Quejas3[[#All],['# Queja]:[Valoración]],15,0)","v":"ROJA "}]
[{"$f":"VLOOKUP(Precentación_Quejas[[#This Row],['# Queja]],Historico_Registro_Quejas3[#All],4,0)","v":0},{"$f":"VLOOKUP(Precentación_Quejas[[#This Row],['# Queja]],Historico_Registro_Quejas3[#All],2,0)","v":"2018-07-01"},{"$f":"VLOOKUP(Precentación_Quejas[[#This Row],['# Queja]],Historico_Registro_Quejas3[#All],7,0)","v":"Como otros comentarios de otros huéspedes también terminamos decepcionados de la cena,  los precios son demasiado elevados y la calidad de la comida en relación a otros hoteles quedó debiendo"},{"$f":"VLOOKUP(Precentación_Quejas[[#This Row],['# Queja]],Historico_Registro_Quejas3[#All],22,0)","v":"Calidad comida"},{"$f":"VLOOKUP(Precentación_Quejas[[#This Row],[Payaso]],Tabla_Payasos[[Payasos]:[Columna1]],2,0)","v":70},764,{"$f":"VLOOKUP(Precentación_Quejas[[#This Row],['# Queja]],Historico_Registro_Quejas3[[#All],['# Queja]:[Valoración]],15,0)","v":"ROJA "}]
[{"$f":"VLOOKUP(Precentación_Quejas[[#This Row],['# Queja]],Historico_Registro_Quejas3[#All],4,0)","v":112},{"$f":"VLOOKUP(Precentación_Quejas[[#This Row],['# Queja]],Historico_Registro_Quejas3[#All],2,0)","v":"2018-07-27"},{"$f":"VLOOKUP(Precentación_Quejas[[#This Row],['# Queja]],Historico_Registro_Quejas3[#All],7,0)","v":"Limpieza en términos de insectos debe mejorar con algún spray en el closet o baño para eliminar insectos."},{"$f":"VLOOKUP(Precentación_Quejas[[#This Row],['# Queja]],Historico_Registro_Quejas3[#All],22,0)","v":"Plagas Habitaciones"},{"$f":"VLOOKUP(Precentación_Quejas[[#This Row],[Payaso]],Tabla_Payasos[[Payasos]:[Columna1]],2,0)","v":49},763,{"$f":"VLOOKUP(Precentación_Quejas[[#This Row],['# Queja]],Historico_Registro_Quejas3[[#All],['# Queja]:[Valoración]],15,0)","v":"ROJA "}]
[{"$f":"VLOOKUP(Precentación_Quejas[[#This Row],['# Queja]],Historico_Registro_Quejas3[#All],4,0)","v":109},{"$f":"VLOOKUP(Precentación_Quejas[[#This Row],['# Queja]],Historico_Registro_Quejas3[#All],2,0)","v":"2018-07-28"},{"$f":"VLOOKUP(Precentación_Quejas[[#This Row],['# Queja]],Historico_Registro_Quejas3[#All],7,0)","v":"Un Cajero Automático en Recepción sería muy útil "},{"$f":"VLOOKUP(Precentación_Quejas[[#This Row],['# Queja]],Historico_Registro_Quejas3[#All],22,0)","v":"N/A"},{"$f":"VLOOKUP(Precentación_Quejas[[#This Row],[Payaso]],Tabla_Payasos[[Payasos]:[Columna1]],2,0)","v":44},762,{"$f":"VLOOKUP(Precentación_Quejas[[#This Row],['# Queja]],Historico_Registro_Quejas3[[#All],['# Queja]:[Valoración]],15,0)","v":"Desestimada"}]
[{"$f":"VLOOKUP(Precentación_Quejas[[#This Row],['# Queja]],Historico_Registro_Quejas3[#All],4,0)","v":710},{"$f":"VLOOKUP(Precentación_Quejas[[#This Row],['# Queja]],Historico_Registro_Quejas3[#All],2,0)","v":"2018-07-28"},{"$f":"VLOOKUP(Precentación_Quejas[[#This Row],['# Queja]],Historico_Registro_Quejas3[#All],7,0)","v":"Cambiar las cajas de seguridad por cajas modernas y fáciles de utilizar. Las que hay son complejas de operar."},{"$f":"VLOOKUP(Precentación_Quejas[[#This Row],['# Queja]],Historico_Registro_Quejas3[#All],22,0)","v":"N/A"},{"$f":"VLOOKUP(Precentación_Quejas[[#This Row],[Payaso]],Tabla_Payasos[[Payasos]:[Columna1]],2,0)","v":44},761,{"$f":"VLOOKUP(Precentación_Quejas[[#This Row],['# Queja]],Historico_Registro_Quejas3[[#All],['# Queja]:[Valoración]],15,0)","v":"Desestimada"}]
[{"$f":"VLOOKUP(Precentación_Quejas[[#This Row],['# Queja]],Historico_Registro_Quejas3[#All],4,0)","v":308},{"$f":"VLOOKUP(Precentación_Quejas[[#This Row],['# Queja]],Historico_Registro_Quejas3[#All],2,0)","v":"2018-07-28"},{"$f":"VLOOKUP(Precentación_Quejas[[#This Row],['# Queja]],Historico_Registro_Quejas3[#All],7,0)","v":"La conexión a Internet debería ser mejor y más estable. Conexión buena es lo que falta"},{"$f":"VLOOKUP(Precentación_Quejas[[#This Row],['# Queja]],Historico_Registro_Quejas3[#All],22,0)","v":"Wifi"},{"$f":"VLOOKUP(Precentación_Quejas[[#This Row],[Payaso]],Tabla_Payasos[[Payasos]:[Columna1]],2,0)","v":23},760,{"$f":"VLOOKUP(Precentación_Quejas[[#This Row],['# Queja]],Historico_Registro_Quejas3[[#All],['# Queja]:[Valoración]],15,0)","v":"ROJA "}]
[{"$f":"VLOOKUP(Precentación_Quejas[[#This Row],['# Queja]],Historico_Registro_Quejas3[#All],4,0)","v":307},{"$f":"VLOOKUP(Precentación_Quejas[[#This Row],['# Queja]],Historico_Registro_Quejas3[#All],2,0)","v":"2018-07-28"},{"$f":"VLOOKUP(Precentación_Quejas[[#This Row],['# Queja]],Historico_Registro_Quejas3[#All],7,0)","v":"Internet no funcionó bien en la habitación."},{"$f":"VLOOKUP(Precentación_Quejas[[#This Row],['# Queja]],Historico_Registro_Quejas3[#All],22,0)","v":"Wifi"},{"$f":"VLOOKUP(Precentación_Quejas[[#This Row],[Payaso]],Tabla_Payasos[[Payasos]:[Columna1]],2,0)","v":23},759,{"$f":"VLOOKUP(Precentación_Quejas[[#This Row],['# Queja]],Historico_Registro_Quejas3[[#All],['# Queja]:[Valoración]],15,0)","v":"ROJA "}]
[{"$f":"VLOOKUP(Precentación_Quejas[[#This Row],['# Queja]],Historico_Registro_Quejas3[#All],4,0)","v":801},{"$f":"VLOOKUP(Precentación_Quejas[[#This Row],['# Queja]],Historico_Registro_Quejas3[#All],2,0)","v":"2018-07-27"},{"$f":"VLOOKUP(Precentación_Quejas[[#This Row],['# Queja]],Historico_Registro_Quejas3[#All],7,0)","v":"Poner precios mas bajos en los restaurantes ya que son muy caros."},{"$f":"VLOOKUP(Precentación_Quejas[[#This Row],['# Queja]],Historico_Registro_Quejas3[#All],22,0)","v":"Calidad comida"},{"$f":"VLOOKUP(Precentación_Quejas[[#This Row],[Payaso]],Tabla_Payasos[[Payasos]:[Columna1]],2,0)","v":70},758,{"$f":"VLOOKUP(Precentación_Quejas[[#This Row],['# Queja]],Historico_Registro_Quejas3[[#All],['# Queja]:[Valoración]],15,0)","v":"ROJA "}]
[{"$f":"VLOOKUP(Precentación_Quejas[[#This Row],['# Queja]],Historico_Registro_Quejas3[#All],4,0)","v":404},{"$f":"VLOOKUP(Precentación_Quejas[[#This Row],['# Queja]],Historico_Registro_Quejas3[#All],2,0)","v":"2018-07-28"},{"$f":"VLOOKUP(Precentación_Quejas[[#This Row],['# Queja]],Historico_Registro_Quejas3[#All],7,0)","v":"la limpieza de la habitación el día de ayer no las satisfizo, me muestran que no les reemplazaron los vasos sucios, las camas no fueron bien acomodadas, que no se les agrego más bolsitas de té, y que no se les hizo tampoco ninguna decoración con las toallas como sí se les hizo a las otras habitaciones (405-406) que vienen con ellos"},{"$f":"VLOOKUP(Precentación_Quejas[[#This Row],['# Queja]],Historico_Registro_Quejas3[#All],22,0)","v":"Limpieza en habitación"},{"$f":"VLOOKUP(Precentación_Quejas[[#This Row],[Payaso]],Tabla_Payasos[[Payasos]:[Columna1]],2,0)","v":8},757,{"$f":"VLOOKUP(Precentación_Quejas[[#This Row],['# Queja]],Historico_Registro_Quejas3[[#All],['# Queja]:[Valoración]],15,0)","v":"ROJA "}]
[{"$f":"VLOOKUP(Precentación_Quejas[[#This Row],['# Queja]],Historico_Registro_Quejas3[#All],4,0)","v":801},{"$f":"VLOOKUP(Precentación_Quejas[[#This Row],['# Queja]],Historico_Registro_Quejas3[#All],2,0)","v":"2018-07-27"},{"$f":"VLOOKUP(Precentación_Quejas[[#This Row],['# Queja]],Historico_Registro_Quejas3[#All],7,0)","v":"  también que existe un gran espacio entre el marco y la puerta misma que permite ingresar mosquitos y demás insectos"},{"$f":"VLOOKUP(Precentación_Quejas[[#This Row],['# Queja]],Historico_Registro_Quejas3[#All],22,0)","v":"Plagas Habitaciones"},{"$f":"VLOOKUP(Precentación_Quejas[[#This Row],[Payaso]],Tabla_Payasos[[Payasos]:[Columna1]],2,0)","v":49},756,{"$f":"VLOOKUP(Precentación_Quejas[[#This Row],['# Queja]],Historico_Registro_Quejas3[[#All],['# Queja]:[Valoración]],15,0)","v":"ROJA "}]
[{"$f":"VLOOKUP(Precentación_Quejas[[#This Row],['# Queja]],Historico_Registro_Quejas3[#All],4,0)","v":801},{"$f":"VLOOKUP(Precentación_Quejas[[#This Row],['# Queja]],Historico_Registro_Quejas3[#All],2,0)","v":"2018-07-26"},{"$f":"VLOOKUP(Precentación_Quejas[[#This Row],['# Queja]],Historico_Registro_Quejas3[#All],7,0)","v":" además del teléfono que no funciona, "},{"$f":"VLOOKUP(Precentación_Quejas[[#This Row],['# Queja]],Historico_Registro_Quejas3[#All],22,0)","v":"Teléfonos"},{"$f":"VLOOKUP(Precentación_Quejas[[#This Row],[Payaso]],Tabla_Payasos[[Payasos]:[Columna1]],2,0)","v":4},755,{"$f":"VLOOKUP(Precentación_Quejas[[#This Row],['# Queja]],Historico_Registro_Quejas3[[#All],['# Queja]:[Valoración]],15,0)","v":"ROJA "}]
[{"$f":"VLOOKUP(Precentación_Quejas[[#This Row],['# Queja]],Historico_Registro_Quejas3[#All],4,0)","v":801},{"$f":"VLOOKUP(Precentación_Quejas[[#This Row],['# Queja]],Historico_Registro_Quejas3[#All],2,0)","v":"2018-07-26"},{"$f":"VLOOKUP(Precentación_Quejas[[#This Row],['# Queja]],Historico_Registro_Quejas3[#All],7,0)","v":"los huéspedes expresaron su disconformidad y molestia debido a los problemas ocasionados por el aire acondicionado de la habitación"},{"$f":"VLOOKUP(Precentación_Quejas[[#This Row],['# Queja]],Historico_Registro_Quejas3[#All],22,0)","v":"A/C"},{"$f":"VLOOKUP(Precentación_Quejas[[#This Row],[Payaso]],Tabla_Payasos[[Payasos]:[Columna1]],2,0)","v":25},754,{"$f":"VLOOKUP(Precentación_Quejas[[#This Row],['# Queja]],Historico_Registro_Quejas3[[#All],['# Queja]:[Valoración]],15,0)","v":"Roja"}]
[{"$f":"VLOOKUP(Precentación_Quejas[[#This Row],['# Queja]],Historico_Registro_Quejas3[#All],4,0)","v":904},{"$f":"VLOOKUP(Precentación_Quejas[[#This Row],['# Queja]],Historico_Registro_Quejas3[#All],2,0)","v":"2018-07-25"},{"$f":"VLOOKUP(Precentación_Quejas[[#This Row],['# Queja]],Historico_Registro_Quejas3[#All],7,0)","v":"Baño huele muy mal como a cañería, además habían insectos, hormigas y lagartijas en la habitación"},{"$f":"VLOOKUP(Precentación_Quejas[[#This Row],['# Queja]],Historico_Registro_Quejas3[#All],22,0)","v":"Plagas Habitaciones"},{"$f":"VLOOKUP(Precentación_Quejas[[#This Row],[Payaso]],Tabla_Payasos[[Payasos]:[Columna1]],2,0)","v":49},753,{"$f":"VLOOKUP(Precentación_Quejas[[#This Row],['# Queja]],Historico_Registro_Quejas3[[#All],['# Queja]:[Valoración]],15,0)","v":"ROJA"}]
[{"$f":"VLOOKUP(Precentación_Quejas[[#This Row],['# Queja]],Historico_Registro_Quejas3[#All],4,0)","v":409},{"$f":"VLOOKUP(Precentación_Quejas[[#This Row],['# Queja]],Historico_Registro_Quejas3[#All],2,0)","v":"2018-07-23"},{"$f":"VLOOKUP(Precentación_Quejas[[#This Row],['# Queja]],Historico_Registro_Quejas3[#All],7,0)","v":"Huésped se queja que durante el buffet del sábado vió muy poca etiquetas en las comidas y hace falta rotulación."},{"$f":"VLOOKUP(Precentación_Quejas[[#This Row],['# Queja]],Historico_Registro_Quejas3[#All],22,0)","v":"Rotulación cena"},{"$f":"VLOOKUP(Precentación_Quejas[[#This Row],[Payaso]],Tabla_Payasos[[Payasos]:[Columna1]],2,0)","v":1},752,{"$f":"VLOOKUP(Precentación_Quejas[[#This Row],['# Queja]],Historico_Registro_Quejas3[[#All],['# Queja]:[Valoración]],15,0)","v":"ROJA"}]
[{"$f":"VLOOKUP(Precentación_Quejas[[#This Row],['# Queja]],Historico_Registro_Quejas3[#All],4,0)","v":411},{"$f":"VLOOKUP(Precentación_Quejas[[#This Row],['# Queja]],Historico_Registro_Quejas3[#All],2,0)","v":"2018-07-22"},{"$f":"VLOOKUP(Precentación_Quejas[[#This Row],['# Queja]],Historico_Registro_Quejas3[#All],7,0)","v":"En las habitaciones hay polvo, mejorar la limpieza"},{"$f":"VLOOKUP(Precentación_Quejas[[#This Row],['# Queja]],Historico_Registro_Quejas3[#All],22,0)","v":"Aseo en habitación"},{"$f":"VLOOKUP(Precentación_Quejas[[#This Row],[Payaso]],Tabla_Payasos[[Payasos]:[Columna1]],2,0)","v":1},751,{"$f":"VLOOKUP(Precentación_Quejas[[#This Row],['# Queja]],Historico_Registro_Quejas3[[#All],['# Queja]:[Valoración]],15,0)","v":"ROJA"}]
[{"$f":"VLOOKUP(Precentación_Quejas[[#This Row],['# Queja]],Historico_Registro_Quejas3[#All],4,0)","v":312},{"$f":"VLOOKUP(Precentación_Quejas[[#This Row],['# Queja]],Historico_Registro_Quejas3[#All],2,0)","v":"2018-07-23"},{"$f":"VLOOKUP(Precentación_Quejas[[#This Row],['# Queja]],Historico_Registro_Quejas3[#All],7,0)","v":"Huésped se queja de gotera en la ventana."},{"$f":"VLOOKUP(Precentación_Quejas[[#This Row],['# Queja]],Historico_Registro_Quejas3[#All],22,0)","v":"Goteras"},{"$f":"VLOOKUP(Precentación_Quejas[[#This Row],[Payaso]],Tabla_Payasos[[Payasos]:[Columna1]],2,0)","v":6},750,{"$f":"VLOOKUP(Precentación_Quejas[[#This Row],['# Queja]],Historico_Registro_Quejas3[[#All],['# Queja]:[Valoración]],15,0)","v":"ROJA"}]
[{"$f":"VLOOKUP(Precentación_Quejas[[#This Row],['# Queja]],Historico_Registro_Quejas3[#All],4,0)","v":0},{"$f":"VLOOKUP(Precentación_Quejas[[#This Row],['# Queja]],Historico_Registro_Quejas3[#All],2,0)","v":"2018-07-24"},{"$f":"VLOOKUP(Precentación_Quejas[[#This Row],['# Queja]],Historico_Registro_Quejas3[#All],7,0)","v":"La impresora de comandas da problemas porque no imprime de manera correcta las amenidades que se comandan a cocina, presenta un error al parecer que provoca que se imprima en blanco gran cantidad de papel en blanco."},{"$f":"VLOOKUP(Precentación_Quejas[[#This Row],['# Queja]],Historico_Registro_Quejas3[#All],22,0)","v":"Desestimado"},{"$f":"VLOOKUP(Precentación_Quejas[[#This Row],[Payaso]],Tabla_Payasos[[Payasos]:[Columna1]],2,0)","v":29},749,{"$f":"VLOOKUP(Precentación_Quejas[[#This Row],['# Queja]],Historico_Registro_Quejas3[[#All],['# Queja]:[Valoración]],15,0)","v":"Desestimada"}]
[{"$f":"VLOOKUP(Precentación_Quejas[[#This Row],['# Queja]],Historico_Registro_Quejas3[#All],4,0)","v":"403-211"},{"$f":"VLOOKUP(Precentación_Quejas[[#This Row],['# Queja]],Historico_Registro_Quejas3[#All],2,0)","v":"2018-07-23"},{"$f":"VLOOKUP(Precentación_Quejas[[#This Row],['# Queja]],Historico_Registro_Quejas3[#All],7,0)","v":"El siguiente correo es para notificar acerca de una misma situación en la cual se  vieron afectadas 2 habitaciones, las mismas serian 403 – 211 , alrededor de las 6 pm se recibe el informe de ambas habitaciones en el cual los huéspedes informan que desde sus baños provienen olores muy fuertes y desagradables y ambos lo describen como un olor a cloaca y humedad y que les perturba su estadía en el hotel, inmediatamente se coordina con las compañeras de áreas públicas para verificar el estado de la situación, ellas nos informan que dichos olores efectivamente provienen del desagüe del baño de las duchas, ellas hacen la limpieza respectiva y de igual forma dejan fragancias en las habitaciones para disminuir dichos olores, se esperan alrededor de 30 min y mi persona juntamente con la compañera nos dirigimos para corroborar que todo se encuentre en orden, la hab 211 no posee ningún inconveniente, sin embargo la hab 403 aun contaba con un poco de olor. A los huéspedes se les ofrece el traslado de habitaciones pero ellos desean permanecer en sus habitaciones respectivas e indican que si el problema persiste aceptarán dichos cambios. Quiero hacer la connotación de que dichas situaciones al parecer es producto de las constantes lluvias y por este motivo los desagües se rebalsan emitiendo dichos olores. Favor darle el seguimiento respectivo a la situación ocurrida, cualquier consulta estoy para servirles."},{"$f":"VLOOKUP(Precentación_Quejas[[#This Row],['# Queja]],Historico_Registro_Quejas3[#All],22,0)","v":"Mal olor habitación"},{"$f":"VLOOKUP(Precentación_Quejas[[#This Row],[Payaso]],Tabla_Payasos[[Payasos]:[Columna1]],2,0)","v":8},748,{"$f":"VLOOKUP(Precentación_Quejas[[#This Row],['# Queja]],Historico_Registro_Quejas3[[#All],['# Queja]:[Valoración]],15,0)","v":"ROJA"}]
[{"$f":"VLOOKUP(Precentación_Quejas[[#This Row],['# Queja]],Historico_Registro_Quejas3[#All],4,0)","v":"209-210"},{"$f":"VLOOKUP(Precentación_Quejas[[#This Row],['# Queja]],Historico_Registro_Quejas3[#All],2,0)","v":"2018-07-22"},{"$f":"VLOOKUP(Precentación_Quejas[[#This Row],['# Queja]],Historico_Registro_Quejas3[#All],7,0)","v":"fuerte reclamo de su parte por el hecho de que se les dieron habitaciones diferentes a las que se les prometió cuando reservaron. Cuando se les realizó el check-in los huéspedes daban por hecho que se les iban a otorgar las habitaciones 311 y 312 debido a que en frente de estas habitaciones hay jardines y zonas verdes que básicamente a lo que nos dicen fue por esa la razón principal de su visita. A la hora de abordar la queja, a la señora se le explica que las habitaciones 209-210 tienen exactamente las mismas características ( Puertas Conectadas, 1 cama King y 2 camas Queen), sin embargo ella muy decepcionada y molesta nos insiste en un explicación del porque se le está entregando algo diferente si eso no fue lo acordado. Por más que se le intentó explicar la similitud de las habitaciones ella solicitó hablar con los encargados de las reservas, pero esto no fue posible debido a que no se encontraban. Les expliqué que no podríamos cumplir su solicitud ni hoy ni mañana porque no podíamos sacar a los huéspedes de las habitaciones 311-312 y que estos salían hasta el día 24/07/2018. La opción más viable fue compensarles con la cena carta paquete cortesía. Quisiera resaltar que fue necesario hablar con ellos en dos ocasiones frente a frente y una por teléfono para poder llegar a un acuerdo y que aceptaran la compensación. Me di a la tarea de ofrecerles las disculpas porque no se pudo cumplir lo que solicitaron e indiqué que nos hacíamos responsables de la situación y que esperábamos pudieran pasar una muy buena estadía . "},{"$f":"VLOOKUP(Precentación_Quejas[[#This Row],['# Queja]],Historico_Registro_Quejas3[#All],22,0)","v":"Proceso de reservas"},{"$f":"VLOOKUP(Precentación_Quejas[[#This Row],[Payaso]],Tabla_Payasos[[Payasos]:[Columna1]],2,0)","v":2},747,{"$f":"VLOOKUP(Precentación_Quejas[[#This Row],['# Queja]],Historico_Registro_Quejas3[[#All],['# Queja]:[Valoración]],15,0)","v":"ROJA"}]
[{"$f":"VLOOKUP(Precentación_Quejas[[#This Row],['# Queja]],Historico_Registro_Quejas3[#All],4,0)","v":511},{"$f":"VLOOKUP(Precentación_Quejas[[#This Row],['# Queja]],Historico_Registro_Quejas3[#All],2,0)","v":"2018-07-22"},{"$f":"VLOOKUP(Precentación_Quejas[[#This Row],['# Queja]],Historico_Registro_Quejas3[#All],7,0)","v":"Huéspedes se quejan de gotera justo arriba de su cama, debido a esto se les mojó su ropa de cama."},{"$f":"VLOOKUP(Precentación_Quejas[[#This Row],['# Queja]],Historico_Registro_Quejas3[#All],22,0)","v":"Goteras"},{"$f":"VLOOKUP(Precentación_Quejas[[#This Row],[Payaso]],Tabla_Payasos[[Payasos]:[Columna1]],2,0)","v":6},746,{"$f":"VLOOKUP(Precentación_Quejas[[#This Row],['# Queja]],Historico_Registro_Quejas3[[#All],['# Queja]:[Valoración]],15,0)","v":"ROJA"}]
[{"$f":"VLOOKUP(Precentación_Quejas[[#This Row],['# Queja]],Historico_Registro_Quejas3[#All],4,0)","v":"Grupo Patty Searcy"},{"$f":"VLOOKUP(Precentación_Quejas[[#This Row],['# Queja]],Historico_Registro_Quejas3[#All],2,0)","v":"2018-07-22"},{"$f":"VLOOKUP(Precentación_Quejas[[#This Row],['# Queja]],Historico_Registro_Quejas3[#All],7,0)","v":"Señoras se quejan de la oscuridad y peligro que existe cuando los huéspedes caminan de noche por el hotel, una de las señoras del grupo sufrió una caída doblandose uno de sus tobillos y cayendo estrepitosamente en unos de los caños, el problema que ellas me indican es el desnivel que existe entre el pavimento y el caño. La caída se dió por las habitaciones 501-502 donde se confirma que la visibilidad es casi nula y no es posible apreciar el desnivel que causó caída."},{"$f":"VLOOKUP(Precentación_Quejas[[#This Row],['# Queja]],Historico_Registro_Quejas3[#All],22,0)","v":"Acera para transitar "},{"$f":"VLOOKUP(Precentación_Quejas[[#This Row],[Payaso]],Tabla_Payasos[[Payasos]:[Columna1]],2,0)","v":2},745,{"$f":"VLOOKUP(Precentación_Quejas[[#This Row],['# Queja]],Historico_Registro_Quejas3[[#All],['# Queja]:[Valoración]],15,0)","v":"ROJA"}]
[{"$f":"VLOOKUP(Precentación_Quejas[[#This Row],['# Queja]],Historico_Registro_Quejas3[#All],4,0)","v":"Recepción"},{"$f":"VLOOKUP(Precentación_Quejas[[#This Row],['# Queja]],Historico_Registro_Quejas3[#All],2,0)","v":"2018-07-22"},{"$f":"VLOOKUP(Precentación_Quejas[[#This Row],['# Queja]],Historico_Registro_Quejas3[#All],7,0)","v":"Buenos días compañeros\nEspero se encuentren bien, quiero hacer de su conocimiento un problema que hemos tenido en reiteradas ocasiones y ha estado entorpeciendo nuestra labor al momento de realizar un cobro:\nEn primera instancia el datafono de Credomatic de recepción comenzó a duplicar montos y solo podemos usarlo para tarjetas American Express dado que es la única a la que no duplica, está mañana también comenzamos a tener problemas con los 2 datafonos del banco nacional, tuvimos que hacer uso del datafono del departamento de reservas, esto provoca que nuestro servicio sea lento y mediocre, dado que tenemos que pedirle a los huéspedes pasar a la oficina de reservas cuando la  tarjeta necesita un código pin para poder realizar un cargo, les solicitamos que por favor nos ayuden los más pronto posible con el tema para poder brindar un mejor y más rápido servicio, muchas gracias.\n"},{"$f":"VLOOKUP(Precentación_Quejas[[#This Row],['# Queja]],Historico_Registro_Quejas3[#All],22,0)","v":"Datafonos"},{"$f":"VLOOKUP(Precentación_Quejas[[#This Row],[Payaso]],Tabla_Payasos[[Payasos]:[Columna1]],2,0)","v":1},744,{"$f":"VLOOKUP(Precentación_Quejas[[#This Row],['# Queja]],Historico_Registro_Quejas3[[#All],['# Queja]:[Valoración]],15,0)","v":"ROJA"}]
[{"$f":"VLOOKUP(Precentación_Quejas[[#This Row],['# Queja]],Historico_Registro_Quejas3[#All],4,0)","v":902},{"$f":"VLOOKUP(Precentación_Quejas[[#This Row],['# Queja]],Historico_Registro_Quejas3[#All],2,0)","v":"2018-07-21"},{"$f":"VLOOKUP(Precentación_Quejas[[#This Row],['# Queja]],Historico_Registro_Quejas3[#All],7,0)","v":"Huésped reporta un fuerte olor en la habitación que los mantiene inconformes"},{"$f":"VLOOKUP(Precentación_Quejas[[#This Row],['# Queja]],Historico_Registro_Quejas3[#All],22,0)","v":"Mal olor habitación"},{"$f":"VLOOKUP(Precentación_Quejas[[#This Row],[Payaso]],Tabla_Payasos[[Payasos]:[Columna1]],2,0)","v":8},743,{"$f":"VLOOKUP(Precentación_Quejas[[#This Row],['# Queja]],Historico_Registro_Quejas3[[#All],['# Queja]:[Valoración]],15,0)","v":"ROJA"}]
[{"$f":"VLOOKUP(Precentación_Quejas[[#This Row],['# Queja]],Historico_Registro_Quejas3[#All],4,0)","v":705},{"$f":"VLOOKUP(Precentación_Quejas[[#This Row],['# Queja]],Historico_Registro_Quejas3[#All],2,0)","v":"2018-07-19"},{"$f":"VLOOKUP(Precentación_Quejas[[#This Row],['# Queja]],Historico_Registro_Quejas3[#All],7,0)","v":"Huésped no pudo dormir durante dos horas a partir de las 3 am, debido a que se había ido la electricidad y el generador producía mucho ruido."},{"$f":"VLOOKUP(Precentación_Quejas[[#This Row],['# Queja]],Historico_Registro_Quejas3[#All],22,0)","v":"Ruido generadores"},{"$f":"VLOOKUP(Precentación_Quejas[[#This Row],[Payaso]],Tabla_Payasos[[Payasos]:[Columna1]],2,0)","v":3},742,{"$f":"VLOOKUP(Precentación_Quejas[[#This Row],['# Queja]],Historico_Registro_Quejas3[[#All],['# Queja]:[Valoración]],15,0)","v":"ROJA"}]
[{"$f":"VLOOKUP(Precentación_Quejas[[#This Row],['# Queja]],Historico_Registro_Quejas3[#All],4,0)","v":"207-208"},{"$f":"VLOOKUP(Precentación_Quejas[[#This Row],['# Queja]],Historico_Registro_Quejas3[#All],2,0)","v":"2018-07-19"},{"$f":"VLOOKUP(Precentación_Quejas[[#This Row],['# Queja]],Historico_Registro_Quejas3[#All],7,0)","v":"Telefonos no funcionan y huéspedes no pudieron recibir el wake up call"},{"$f":"VLOOKUP(Precentación_Quejas[[#This Row],['# Queja]],Historico_Registro_Quejas3[#All],22,0)","v":"Teléfonos"},{"$f":"VLOOKUP(Precentación_Quejas[[#This Row],[Payaso]],Tabla_Payasos[[Payasos]:[Columna1]],2,0)","v":4},741,{"$f":"VLOOKUP(Precentación_Quejas[[#This Row],['# Queja]],Historico_Registro_Quejas3[[#All],['# Queja]:[Valoración]],15,0)","v":"ROJA"}]
[{"$f":"VLOOKUP(Precentación_Quejas[[#This Row],['# Queja]],Historico_Registro_Quejas3[#All],4,0)","v":208},{"$f":"VLOOKUP(Precentación_Quejas[[#This Row],['# Queja]],Historico_Registro_Quejas3[#All],2,0)","v":"2018-07-18"},{"$f":"VLOOKUP(Precentación_Quejas[[#This Row],['# Queja]],Historico_Registro_Quejas3[#All],7,0)","v":"Mal olor en habitación"},{"$f":"VLOOKUP(Precentación_Quejas[[#This Row],['# Queja]],Historico_Registro_Quejas3[#All],22,0)","v":"Mal olor habitación"},{"$f":"VLOOKUP(Precentación_Quejas[[#This Row],[Payaso]],Tabla_Payasos[[Payasos]:[Columna1]],2,0)","v":8},740,{"$f":"VLOOKUP(Precentación_Quejas[[#This Row],['# Queja]],Historico_Registro_Quejas3[[#All],['# Queja]:[Valoración]],15,0)","v":"ROJA"}]
[{"$f":"VLOOKUP(Precentación_Quejas[[#This Row],['# Queja]],Historico_Registro_Quejas3[#All],4,0)","v":"204-210-304,,,"},{"$f":"VLOOKUP(Precentación_Quejas[[#This Row],['# Queja]],Historico_Registro_Quejas3[#All],2,0)","v":"2018-07-21"},{"$f":"VLOOKUP(Precentación_Quejas[[#This Row],['# Queja]],Historico_Registro_Quejas3[#All],7,0)","v":"Las puertas principales en estos días, seguramente por el clima, han estado presentando fallas a la hora de cerrar, esto de dos formas, la primera cuesta queda como baja y cuesta mucho abrirla, y la segunda es que cuesta que cierre bien."},{"$f":"VLOOKUP(Precentación_Quejas[[#This Row],['# Queja]],Historico_Registro_Quejas3[#All],22,0)","v":"Puerta de habitación"},{"$f":"VLOOKUP(Precentación_Quejas[[#This Row],[Payaso]],Tabla_Payasos[[Payasos]:[Columna1]],2,0)","v":1},739,{"$f":"VLOOKUP(Precentación_Quejas[[#This Row],['# Queja]],Historico_Registro_Quejas3[[#All],['# Queja]:[Valoración]],15,0)","v":"Desestimada"}]
[{"$f":"VLOOKUP(Precentación_Quejas[[#This Row],['# Queja]],Historico_Registro_Quejas3[#All],4,0)","v":302},{"$f":"VLOOKUP(Precentación_Quejas[[#This Row],['# Queja]],Historico_Registro_Quejas3[#All],2,0)","v":"2018-07-21"},{"$f":"VLOOKUP(Precentación_Quejas[[#This Row],['# Queja]],Historico_Registro_Quejas3[#All],7,0)","v":"Al realizar la llamada de bienvenida el huésped molesto reporta su malestar por que se duró mucho tiempo en entregarle la habitación"},{"$f":"VLOOKUP(Precentación_Quejas[[#This Row],['# Queja]],Historico_Registro_Quejas3[#All],22,0)","v":"Room service"},{"$f":"VLOOKUP(Precentación_Quejas[[#This Row],[Payaso]],Tabla_Payasos[[Payasos]:[Columna1]],2,0)","v":2},738,{"$f":"VLOOKUP(Precentación_Quejas[[#This Row],['# Queja]],Historico_Registro_Quejas3[[#All],['# Queja]:[Valoración]],15,0)","v":"ROJA"}]
[{"$f":"VLOOKUP(Precentación_Quejas[[#This Row],['# Queja]],Historico_Registro_Quejas3[#All],4,0)","v":708},{"$f":"VLOOKUP(Precentación_Quejas[[#This Row],['# Queja]],Historico_Registro_Quejas3[#All],2,0)","v":"2018-07-21"},{"$f":"VLOOKUP(Precentación_Quejas[[#This Row],['# Queja]],Historico_Registro_Quejas3[#All],7,0)","v":"Huésped reporta hormigas en la habitación"},{"$f":"VLOOKUP(Precentación_Quejas[[#This Row],['# Queja]],Historico_Registro_Quejas3[#All],22,0)","v":"Plagas Habitaciones"},{"$f":"VLOOKUP(Precentación_Quejas[[#This Row],[Payaso]],Tabla_Payasos[[Payasos]:[Columna1]],2,0)","v":49},737,{"$f":"VLOOKUP(Precentación_Quejas[[#This Row],['# Queja]],Historico_Registro_Quejas3[[#All],['# Queja]:[Valoración]],15,0)","v":"ROJA"}]
[{"$f":"VLOOKUP(Precentación_Quejas[[#This Row],['# Queja]],Historico_Registro_Quejas3[#All],4,0)","v":706},{"$f":"VLOOKUP(Precentación_Quejas[[#This Row],['# Queja]],Historico_Registro_Quejas3[#All],2,0)","v":"2018-07-20"},{"$f":"VLOOKUP(Precentación_Quejas[[#This Row],['# Queja]],Historico_Registro_Quejas3[#All],7,0)","v":"Huésped se queja del ruido generado en la construcción, nos comenta que el problema es que inicia muy temprano a realizar los trabajos."},{"$f":"VLOOKUP(Precentación_Quejas[[#This Row],['# Queja]],Historico_Registro_Quejas3[#All],22,0)","v":"Construcción"},{"$f":"VLOOKUP(Precentación_Quejas[[#This Row],[Payaso]],Tabla_Payasos[[Payasos]:[Columna1]],2,0)","v":4},736,{"$f":"VLOOKUP(Precentación_Quejas[[#This Row],['# Queja]],Historico_Registro_Quejas3[[#All],['# Queja]:[Valoración]],15,0)","v":"ROJA"}]
[{"$f":"VLOOKUP(Precentación_Quejas[[#This Row],['# Queja]],Historico_Registro_Quejas3[#All],4,0)","v":0},{"$f":"VLOOKUP(Precentación_Quejas[[#This Row],['# Queja]],Historico_Registro_Quejas3[#All],2,0)","v":"2018-07-18"},{"$f":"VLOOKUP(Precentación_Quejas[[#This Row],['# Queja]],Historico_Registro_Quejas3[#All],7,0)","v":"Buen día Jefa!\nEs para informarte que la noche de hoy al check-in de 5 personas (Habitaciones 101 y 102) no se les entrego coctel de bienvenida pues no habían disponibles.\nNo hizo mucha falta a decir verdad dado que los clientes venían muy cansados sin embargo, si me manifestaron que tenían mucha hambre.\nHoy en particular venía muy lleno por lo que les ofrecí mi cena. Estaba un poco “seca” entonces le agregue un poco de chimichurri y aguacate que fue lo que encontré en el restaurante italiano. Además les di  5 manzanas que tome de la cámara del barril.\nPasado el tiempo me llamo la cliente diciendo que si podía tener agua, que no había en la habitación a lo q le respondí que en el mini-bar debía tener pero me dijo que no vio ninguna.\nPor esta razón tome 5 botellas de la bodega de los botones y las envié pero una vez entregadas me dijo que la disculpara. Que ya había encontrado las botellas de agua.\nComo vez es un reporte informativo más que cualquier otra cosa, no sé por el tema de control de inventarios si debe esto ser del conocimiento de alguien más pero lo dejo a tu criterio.\nAdemás de la oportunidad de mejorar en algunos detalles sin embargo los clientes muy contentos y agradecidos con la empatía y el servicio.\nCualquier consulta estoy para servirte!\nGelipe"},{"$f":"VLOOKUP(Precentación_Quejas[[#This Row],['# Queja]],Historico_Registro_Quejas3[#All],22,0)","v":"Refrigerio nocturno"},{"$f":"VLOOKUP(Precentación_Quejas[[#This Row],[Payaso]],Tabla_Payasos[[Payasos]:[Columna1]],2,0)","v":1},735,{"$f":"VLOOKUP(Precentación_Quejas[[#This Row],['# Queja]],Historico_Registro_Quejas3[[#All],['# Queja]:[Valoración]],15,0)","v":"ROJA"}]
[{"$f":"VLOOKUP(Precentación_Quejas[[#This Row],['# Queja]],Historico_Registro_Quejas3[#All],4,0)","v":0},{"$f":"VLOOKUP(Precentación_Quejas[[#This Row],['# Queja]],Historico_Registro_Quejas3[#All],2,0)","v":"2018-07-18"},{"$f":"VLOOKUP(Precentación_Quejas[[#This Row],['# Queja]],Historico_Registro_Quejas3[#All],7,0)","v":"Buenos Días Diego,\n\nEspero se encuentre bien. \nLe escribo para solicitarle ayuda con algo que a mi parecer se ha vuelto reiterado y hasta desgastante para recepción, botones, ama de llaves y servicio al cliente. \nEl tema aquí tiene que ver con las amenidades y los detalles especiales que Servicio al Cliente se encarga de solicitar a cocina con un día de anticipación por dos medios ( correo y en físico ). Yo mismo he sido testigo que existe un claro desorden de comunicación o de asignación de funciones ya que unos días si se le da seguimiento al reporte de detalles especiales y otros al parecer nadie se quiere hacer cargo. En este sentido yo me apego al procedimiento que mi superior Liz Aguilar nos ha solicitado, sin embargo mi duda es si el 100% de su departamento conoce el procedimiento? \nHablando con los botones ellos me indican que los han devuelto varias veces diciendo que nadie les ha pedido amenidades, y ellos ante esta respuesta acuden a mi persona en donde yo he tenido que llamar y solicitar que por favor revisen la hoja que se deja pegada en la pizarra de cocina. Muchas veces he tenido que acudir a Don Gerardo Meléndez el cual muy amablemente ha tratado de que se mejore en este aspecto, de hecho cuando se encuentra en el hotel, es el único que responde los correos en donde me hace ver que ya conocen de las amenidades requeridas y que le darán seguimiento, él hasta me ha sugerido que yo pida una firma de entregado pero creo que esto no es necesario cuando existe un compromiso por el trabajo.  La intención de compartirle todo esto es con el único fin de mejorar siempre pensando en nuestros huéspedes, hablando con Melissa ella me sugiere la posibilidad de dejar las bolsas de frutas listas la noche antes o que exista una hora de la mañana en donde se tengan listas siempre y cuando sea temprano.  Como usted puede ver es algo que está afectando a más de un departamento y como se lo pedí al inicio me gustaría contar con su ayuda para mejorar estos detalles que aunque parezcan simples tienen peso a la hora de que no se prepara un queque, de que no mandamos las bolsas de frutas correctamente, entre otras cosas que han pasado. \nMuchas gracias de antemano y cualquier consulta estoy a la orden.\nSaludos!\n"},{"$f":"VLOOKUP(Precentación_Quejas[[#This Row],['# Queja]],Historico_Registro_Quejas3[#All],22,0)","v":"Servicio cliente cocina"},{"$f":"VLOOKUP(Precentación_Quejas[[#This Row],[Payaso]],Tabla_Payasos[[Payasos]:[Columna1]],2,0)","v":1},734,{"$f":"VLOOKUP(Precentación_Quejas[[#This Row],['# Queja]],Historico_Registro_Quejas3[[#All],['# Queja]:[Valoración]],15,0)","v":"ROJA"}]
[{"$f":"VLOOKUP(Precentación_Quejas[[#This Row],['# Queja]],Historico_Registro_Quejas3[#All],4,0)","v":403},{"$f":"VLOOKUP(Precentación_Quejas[[#This Row],['# Queja]],Historico_Registro_Quejas3[#All],2,0)","v":"2018-07-18"},{"$f":"VLOOKUP(Precentación_Quejas[[#This Row],['# Queja]],Historico_Registro_Quejas3[#All],7,0)","v":"Muy señores nuestros, \nMi nombre es Naresh Lakhwani y estuvimos alojados en la habitacion 403 de su hotel del 13 al 15 de este mes (Julio) junto a mi esposa Juliana Sánchez a cuyo nombre estaba la reserva , al check out del hotel tuvimos la desgracia de dejar olvidado una carpeta con nuestra documentación, itinerario de viaje y 950 euros en efectivo.\nAl llegar a nuestro hotel en Monteverde llamamos a vuestro hotel y nos dijeron que estaba allí, supuestamente intacta, y que la mandarian por empresa de transporte al nuevo destino. Hoy día 16 hemos recibido el envío que nos han entregado en un sobre cerrado y al abrirlo nos hemos dado cuenta que han sustraído 200 euros del efectivo además de haber cambiado el dinero de compartimento (sabíamos exactamente la cantidad que había y donde estaba guardado porque era exactamente el importe de algo que íbamos a comprar)\nHe llamado personalmente y hablado con atención al cliente de ustedes y me comentan que entregaron a la empresa de transporte el paquete ya cerrado con lo cual en algún momento se ha sustraído ese dinero.\nEl motivo de ponerme en contacto con ustedes es hacerles saber que no tanto por la cuantía económica, que también, sino más por el agravio, hemos decidido denunciar lo ocurrido a la policía y postear todo lo ocurrido y la denuncia en todos los medios a nuestro alcance. Seguramente no recuperemos nada puesto que solo nos quedamos en el pais 4 dias mas, pero por lo menos daremos a conocer lo ocurrido a la mayor cantidad de gente posible nombrandolos tanto a ustedes como a la empresa de transporte.\nLo ocurrido ha sido la única mancha en nuestra luna de miel ya que su país tanto como la mayor parte de su gente son encantadores pero no nos parece justo lo sucedido!!\n\nSin otro particular, le saluda atentamente: \n\nNaresh Lakhwani \n"},{"$f":"VLOOKUP(Precentación_Quejas[[#This Row],['# Queja]],Historico_Registro_Quejas3[#All],22,0)","v":"Servicio cliente recepción"},{"$f":"VLOOKUP(Precentación_Quejas[[#This Row],[Payaso]],Tabla_Payasos[[Payasos]:[Columna1]],2,0)","v":14},733,{"$f":"VLOOKUP(Precentación_Quejas[[#This Row],['# Queja]],Historico_Registro_Quejas3[[#All],['# Queja]:[Valoración]],15,0)","v":"ROJA"}]
[{"$f":"VLOOKUP(Precentación_Quejas[[#This Row],['# Queja]],Historico_Registro_Quejas3[#All],4,0)","v":208},{"$f":"VLOOKUP(Precentación_Quejas[[#This Row],['# Queja]],Historico_Registro_Quejas3[#All],2,0)","v":"2018-07-18"},{"$f":"VLOOKUP(Precentación_Quejas[[#This Row],['# Queja]],Historico_Registro_Quejas3[#All],7,0)","v":"Huéspedes se quejan por mal olor."},{"$f":"VLOOKUP(Precentación_Quejas[[#This Row],['# Queja]],Historico_Registro_Quejas3[#All],22,0)","v":"Mal olor habitación"},{"$f":"VLOOKUP(Precentación_Quejas[[#This Row],[Payaso]],Tabla_Payasos[[Payasos]:[Columna1]],2,0)","v":8},732,{"$f":"VLOOKUP(Precentación_Quejas[[#This Row],['# Queja]],Historico_Registro_Quejas3[[#All],['# Queja]:[Valoración]],15,0)","v":"ROJA"}]
[{"$f":"VLOOKUP(Precentación_Quejas[[#This Row],['# Queja]],Historico_Registro_Quejas3[#All],4,0)","v":512},{"$f":"VLOOKUP(Precentación_Quejas[[#This Row],['# Queja]],Historico_Registro_Quejas3[#All],2,0)","v":"2018-07-18"},{"$f":"VLOOKUP(Precentación_Quejas[[#This Row],['# Queja]],Historico_Registro_Quejas3[#All],7,0)","v":"Gotera justo encima de la cama"},{"$f":"VLOOKUP(Precentación_Quejas[[#This Row],['# Queja]],Historico_Registro_Quejas3[#All],22,0)","v":"Goteras"},{"$f":"VLOOKUP(Precentación_Quejas[[#This Row],[Payaso]],Tabla_Payasos[[Payasos]:[Columna1]],2,0)","v":6},731,{"$f":"VLOOKUP(Precentación_Quejas[[#This Row],['# Queja]],Historico_Registro_Quejas3[[#All],['# Queja]:[Valoración]],15,0)","v":"ROJA"}]
[{"$f":"VLOOKUP(Precentación_Quejas[[#This Row],['# Queja]],Historico_Registro_Quejas3[#All],4,0)","v":201},{"$f":"VLOOKUP(Precentación_Quejas[[#This Row],['# Queja]],Historico_Registro_Quejas3[#All],2,0)","v":"2018-07-17"},{"$f":"VLOOKUP(Precentación_Quejas[[#This Row],['# Queja]],Historico_Registro_Quejas3[#All],7,0)","v":"Huésped se queja de fuerte ruido en el techo del lado del panel"},{"$f":"VLOOKUP(Precentación_Quejas[[#This Row],['# Queja]],Historico_Registro_Quejas3[#All],22,0)","v":"Alarmas "},{"$f":"VLOOKUP(Precentación_Quejas[[#This Row],[Payaso]],Tabla_Payasos[[Payasos]:[Columna1]],2,0)","v":5},730,{"$f":"VLOOKUP(Precentación_Quejas[[#This Row],['# Queja]],Historico_Registro_Quejas3[[#All],['# Queja]:[Valoración]],15,0)","v":"ROJA"}]
[{"$f":"VLOOKUP(Precentación_Quejas[[#This Row],['# Queja]],Historico_Registro_Quejas3[#All],4,0)","v":0},{"$f":"VLOOKUP(Precentación_Quejas[[#This Row],['# Queja]],Historico_Registro_Quejas3[#All],2,0)","v":"2018-07-18"},{"$f":"VLOOKUP(Precentación_Quejas[[#This Row],['# Queja]],Historico_Registro_Quejas3[#All],7,0)","v":"Teléfonos de las habitaciones no funcionan correctamente ni tampoco el de caseta"},{"$f":"VLOOKUP(Precentación_Quejas[[#This Row],['# Queja]],Historico_Registro_Quejas3[#All],22,0)","v":"Teléfonos"},{"$f":"VLOOKUP(Precentación_Quejas[[#This Row],[Payaso]],Tabla_Payasos[[Payasos]:[Columna1]],2,0)","v":4},729,{"$f":"VLOOKUP(Precentación_Quejas[[#This Row],['# Queja]],Historico_Registro_Quejas3[[#All],['# Queja]:[Valoración]],15,0)","v":"ROJA"}]
[{"$f":"VLOOKUP(Precentación_Quejas[[#This Row],['# Queja]],Historico_Registro_Quejas3[#All],4,0)","v":901},{"$f":"VLOOKUP(Precentación_Quejas[[#This Row],['# Queja]],Historico_Registro_Quejas3[#All],2,0)","v":"2018-07-16"},{"$f":"VLOOKUP(Precentación_Quejas[[#This Row],['# Queja]],Historico_Registro_Quejas3[#All],7,0)","v":"Canoa en el balcón tiene fuga, y por esto se mete mucha agua al balcón."},{"$f":"VLOOKUP(Precentación_Quejas[[#This Row],['# Queja]],Historico_Registro_Quejas3[#All],22,0)","v":"Goteras"},{"$f":"VLOOKUP(Precentación_Quejas[[#This Row],[Payaso]],Tabla_Payasos[[Payasos]:[Columna1]],2,0)","v":6},728,{"$f":"VLOOKUP(Precentación_Quejas[[#This Row],['# Queja]],Historico_Registro_Quejas3[[#All],['# Queja]:[Valoración]],15,0)","v":"ROJA"}]
[{"$f":"VLOOKUP(Precentación_Quejas[[#This Row],['# Queja]],Historico_Registro_Quejas3[#All],4,0)","v":901},{"$f":"VLOOKUP(Precentación_Quejas[[#This Row],['# Queja]],Historico_Registro_Quejas3[#All],2,0)","v":"2018-07-16"},{"$f":"VLOOKUP(Precentación_Quejas[[#This Row],['# Queja]],Historico_Registro_Quejas3[#All],7,0)","v":"Fuerto olor a agua estancada en el baño"},{"$f":"VLOOKUP(Precentación_Quejas[[#This Row],['# Queja]],Historico_Registro_Quejas3[#All],22,0)","v":"Mal olor habitación"},{"$f":"VLOOKUP(Precentación_Quejas[[#This Row],[Payaso]],Tabla_Payasos[[Payasos]:[Columna1]],2,0)","v":8},727,{"$f":"VLOOKUP(Precentación_Quejas[[#This Row],['# Queja]],Historico_Registro_Quejas3[[#All],['# Queja]:[Valoración]],15,0)","v":"ROJA"}]
[{"$f":"VLOOKUP(Precentación_Quejas[[#This Row],['# Queja]],Historico_Registro_Quejas3[#All],4,0)","v":904},{"$f":"VLOOKUP(Precentación_Quejas[[#This Row],['# Queja]],Historico_Registro_Quejas3[#All],2,0)","v":"2018-07-13"},{"$f":"VLOOKUP(Precentación_Quejas[[#This Row],['# Queja]],Historico_Registro_Quejas3[#All],7,0)","v":"Huéspedes muy molestos por transfer contratado con nosotros que no llegó a recogerlos a la hora y el día acordado, por lo que los huéspedes pagaron una transfer privado hasta el hotel."},{"$f":"VLOOKUP(Precentación_Quejas[[#This Row],['# Queja]],Historico_Registro_Quejas3[#All],22,0)","v":"Transfer"},{"$f":"VLOOKUP(Precentación_Quejas[[#This Row],[Payaso]],Tabla_Payasos[[Payasos]:[Columna1]],2,0)","v":1},726,{"$f":"VLOOKUP(Precentación_Quejas[[#This Row],['# Queja]],Historico_Registro_Quejas3[[#All],['# Queja]:[Valoración]],15,0)","v":"ROJA"}]
[{"$f":"VLOOKUP(Precentación_Quejas[[#This Row],['# Queja]],Historico_Registro_Quejas3[#All],4,0)","v":406},{"$f":"VLOOKUP(Precentación_Quejas[[#This Row],['# Queja]],Historico_Registro_Quejas3[#All],2,0)","v":"2018-07-13"},{"$f":"VLOOKUP(Precentación_Quejas[[#This Row],['# Queja]],Historico_Registro_Quejas3[#All],7,0)","v":"NO hay variedad en menú para niños."},{"$f":"VLOOKUP(Precentación_Quejas[[#This Row],['# Queja]],Historico_Registro_Quejas3[#All],22,0)","v":"Menú niños"},{"$f":"VLOOKUP(Precentación_Quejas[[#This Row],[Payaso]],Tabla_Payasos[[Payasos]:[Columna1]],2,0)","v":2},725,{"$f":"VLOOKUP(Precentación_Quejas[[#This Row],['# Queja]],Historico_Registro_Quejas3[[#All],['# Queja]:[Valoración]],15,0)","v":"ROJA"}]
[{"$f":"VLOOKUP(Precentación_Quejas[[#This Row],['# Queja]],Historico_Registro_Quejas3[#All],4,0)","v":107},{"$f":"VLOOKUP(Precentación_Quejas[[#This Row],['# Queja]],Historico_Registro_Quejas3[#All],2,0)","v":"2018-07-10"},{"$f":"VLOOKUP(Precentación_Quejas[[#This Row],['# Queja]],Historico_Registro_Quejas3[#All],7,0)","v":"Las instrucciones del coffee maker no están claras, es para hervir agua o solo calentarla? Si no lo dice no lo sabran los huéspedes. Además las instrucciones de como encender el ventilador de techo no se ven."},{"$f":"VLOOKUP(Precentación_Quejas[[#This Row],['# Queja]],Historico_Registro_Quejas3[#All],22,0)","v":"Rotulación ventilador"},{"$f":"VLOOKUP(Precentación_Quejas[[#This Row],[Payaso]],Tabla_Payasos[[Payasos]:[Columna1]],2,0)","v":3},724,{"$f":"VLOOKUP(Precentación_Quejas[[#This Row],['# Queja]],Historico_Registro_Quejas3[[#All],['# Queja]:[Valoración]],15,0)","v":"ROJA"}]
[{"$f":"VLOOKUP(Precentación_Quejas[[#This Row],['# Queja]],Historico_Registro_Quejas3[#All],4,0)","v":107},{"$f":"VLOOKUP(Precentación_Quejas[[#This Row],['# Queja]],Historico_Registro_Quejas3[#All],2,0)","v":"2018-07-10"},{"$f":"VLOOKUP(Precentación_Quejas[[#This Row],['# Queja]],Historico_Registro_Quejas3[#All],7,0)","v":"Caminos cruzando por el pasto muy húmedos y resbalosos que podrían causar una caída, talvez colocar piedras para facilitar caminar por ahí."},{"$f":"VLOOKUP(Precentación_Quejas[[#This Row],['# Queja]],Historico_Registro_Quejas3[#All],22,0)","v":"Desestimado"},{"$f":"VLOOKUP(Precentación_Quejas[[#This Row],[Payaso]],Tabla_Payasos[[Payasos]:[Columna1]],2,0)","v":29},723,{"$f":"VLOOKUP(Precentación_Quejas[[#This Row],['# Queja]],Historico_Registro_Quejas3[[#All],['# Queja]:[Valoración]],15,0)","v":"Desestimada"}]
[{"$f":"VLOOKUP(Precentación_Quejas[[#This Row],['# Queja]],Historico_Registro_Quejas3[#All],4,0)","v":502},{"$f":"VLOOKUP(Precentación_Quejas[[#This Row],['# Queja]],Historico_Registro_Quejas3[#All],2,0)","v":"2018-07-13"},{"$f":"VLOOKUP(Precentación_Quejas[[#This Row],['# Queja]],Historico_Registro_Quejas3[#All],7,0)","v":"Poner espejo fuera del baño."},{"$f":"VLOOKUP(Precentación_Quejas[[#This Row],['# Queja]],Historico_Registro_Quejas3[#All],22,0)","v":"Desestimado"},{"$f":"VLOOKUP(Precentación_Quejas[[#This Row],[Payaso]],Tabla_Payasos[[Payasos]:[Columna1]],2,0)","v":29},722,{"$f":"VLOOKUP(Precentación_Quejas[[#This Row],['# Queja]],Historico_Registro_Quejas3[[#All],['# Queja]:[Valoración]],15,0)","v":"Desestimada"}]
[{"$f":"VLOOKUP(Precentación_Quejas[[#This Row],['# Queja]],Historico_Registro_Quejas3[#All],4,0)","v":509},{"$f":"VLOOKUP(Precentación_Quejas[[#This Row],['# Queja]],Historico_Registro_Quejas3[#All],2,0)","v":"2018-07-14"},{"$f":"VLOOKUP(Precentación_Quejas[[#This Row],['# Queja]],Historico_Registro_Quejas3[#All],7,0)","v":"Huespedes molestos tuvieron que cancelar masaje de luna de miel por jacuzzi en mal estado (tapon dañado)"},{"$f":"VLOOKUP(Precentación_Quejas[[#This Row],['# Queja]],Historico_Registro_Quejas3[#All],22,0)","v":"Rotulación Jacuzzi"},{"$f":"VLOOKUP(Precentación_Quejas[[#This Row],[Payaso]],Tabla_Payasos[[Payasos]:[Columna1]],2,0)","v":4},721,{"$f":"VLOOKUP(Precentación_Quejas[[#This Row],['# Queja]],Historico_Registro_Quejas3[[#All],['# Queja]:[Valoración]],15,0)","v":"ROJA"}]
[{"$f":"VLOOKUP(Precentación_Quejas[[#This Row],['# Queja]],Historico_Registro_Quejas3[#All],4,0)","v":202},{"$f":"VLOOKUP(Precentación_Quejas[[#This Row],['# Queja]],Historico_Registro_Quejas3[#All],2,0)","v":"2018-07-13"},{"$f":"VLOOKUP(Precentación_Quejas[[#This Row],['# Queja]],Historico_Registro_Quejas3[#All],7,0)","v":"Habitación sin agua caliente"},{"$f":"VLOOKUP(Precentación_Quejas[[#This Row],['# Queja]],Historico_Registro_Quejas3[#All],22,0)","v":"Agua caliente"},{"$f":"VLOOKUP(Precentación_Quejas[[#This Row],[Payaso]],Tabla_Payasos[[Payasos]:[Columna1]],2,0)","v":13},720,{"$f":"VLOOKUP(Precentación_Quejas[[#This Row],['# Queja]],Historico_Registro_Quejas3[[#All],['# Queja]:[Valoración]],15,0)","v":"ROJA"}]
[{"$f":"VLOOKUP(Precentación_Quejas[[#This Row],['# Queja]],Historico_Registro_Quejas3[#All],4,0)","v":302},{"$f":"VLOOKUP(Precentación_Quejas[[#This Row],['# Queja]],Historico_Registro_Quejas3[#All],2,0)","v":"2018-07-12"},{"$f":"VLOOKUP(Precentación_Quejas[[#This Row],['# Queja]],Historico_Registro_Quejas3[#All],7,0)","v":"Colocar rotulación llamativa o colorida que indique por ejemplo cual es el Souvenir, cual es el Tour Operador, cual es Servicio al cliente, cual es la recepción, etc. "},{"$f":"VLOOKUP(Precentación_Quejas[[#This Row],['# Queja]],Historico_Registro_Quejas3[#All],22,0)","v":"N/A"},{"$f":"VLOOKUP(Precentación_Quejas[[#This Row],[Payaso]],Tabla_Payasos[[Payasos]:[Columna1]],2,0)","v":44},719,{"$f":"VLOOKUP(Precentación_Quejas[[#This Row],['# Queja]],Historico_Registro_Quejas3[[#All],['# Queja]:[Valoración]],15,0)","v":"VERDE"}]
[{"$f":"VLOOKUP(Precentación_Quejas[[#This Row],['# Queja]],Historico_Registro_Quejas3[#All],4,0)","v":302},{"$f":"VLOOKUP(Precentación_Quejas[[#This Row],['# Queja]],Historico_Registro_Quejas3[#All],2,0)","v":"2018-07-12"},{"$f":"VLOOKUP(Precentación_Quejas[[#This Row],['# Queja]],Historico_Registro_Quejas3[#All],7,0)","v":"Renovar la recepción que es anticuada, fea y no va acorde con el hotel."},{"$f":"VLOOKUP(Precentación_Quejas[[#This Row],['# Queja]],Historico_Registro_Quejas3[#All],22,0)","v":"N/A"},{"$f":"VLOOKUP(Precentación_Quejas[[#This Row],[Payaso]],Tabla_Payasos[[Payasos]:[Columna1]],2,0)","v":44},718,{"$f":"VLOOKUP(Precentación_Quejas[[#This Row],['# Queja]],Historico_Registro_Quejas3[[#All],['# Queja]:[Valoración]],15,0)","v":"VERDE"}]
[{"$f":"VLOOKUP(Precentación_Quejas[[#This Row],['# Queja]],Historico_Registro_Quejas3[#All],4,0)","v":312},{"$f":"VLOOKUP(Precentación_Quejas[[#This Row],['# Queja]],Historico_Registro_Quejas3[#All],2,0)","v":"2018-07-11"},{"$f":"VLOOKUP(Precentación_Quejas[[#This Row],['# Queja]],Historico_Registro_Quejas3[#All],7,0)","v":"En la Habitación hay una gotera"},{"$f":"VLOOKUP(Precentación_Quejas[[#This Row],['# Queja]],Historico_Registro_Quejas3[#All],22,0)","v":"Goteras"},{"$f":"VLOOKUP(Precentación_Quejas[[#This Row],[Payaso]],Tabla_Payasos[[Payasos]:[Columna1]],2,0)","v":6},717,{"$f":"VLOOKUP(Precentación_Quejas[[#This Row],['# Queja]],Historico_Registro_Quejas3[[#All],['# Queja]:[Valoración]],15,0)","v":"ROJA"}]
[{"$f":"VLOOKUP(Precentación_Quejas[[#This Row],['# Queja]],Historico_Registro_Quejas3[#All],4,0)","v":309},{"$f":"VLOOKUP(Precentación_Quejas[[#This Row],['# Queja]],Historico_Registro_Quejas3[#All],2,0)","v":"2018-07-11"},{"$f":"VLOOKUP(Precentación_Quejas[[#This Row],['# Queja]],Historico_Registro_Quejas3[#All],7,0)","v":"Huéspedes se quejan de las computadoras del lobby las cuales no les funciona la unidad de CD-Room y no fue posible leer un disco de fotos que necesitaban compartir entre ellos."},{"$f":"VLOOKUP(Precentación_Quejas[[#This Row],['# Queja]],Historico_Registro_Quejas3[#All],22,0)","v":"Computadoras de recepción"},{"$f":"VLOOKUP(Precentación_Quejas[[#This Row],[Payaso]],Tabla_Payasos[[Payasos]:[Columna1]],2,0)","v":1},716,{"$f":"VLOOKUP(Precentación_Quejas[[#This Row],['# Queja]],Historico_Registro_Quejas3[[#All],['# Queja]:[Valoración]],15,0)","v":"ROJA"}]
[{"$f":"VLOOKUP(Precentación_Quejas[[#This Row],['# Queja]],Historico_Registro_Quejas3[#All],4,0)","v":0},{"$f":"VLOOKUP(Precentación_Quejas[[#This Row],['# Queja]],Historico_Registro_Quejas3[#All],2,0)","v":"2018-09-09"},{"$f":"VLOOKUP(Precentación_Quejas[[#This Row],['# Queja]],Historico_Registro_Quejas3[#All],7,0)","v":"Por este medio le comunico que hoy tuve una situación con Katia debido a un cambio que se hizo a última hora. \nTeníamos una reserva del señor Oscar Molina quien es un cliente frecuente en la 104 y él dijo que si la habitación 105 estaba disponible le gustaría esa en vez de la 104. \nAl venir todos los años se le hizo un arreglo el cual teníamos que mover a la 105 – esta habitación ya estaba lista- era solo de mover las cosas. Solicite un 21 a Katia ya que el cliente estaba en frente de mí, pero la compañera se alteró de una manera muy inadecuada diciendo que la habitación estaba lista y que como la íbamos a poner a correr “estamos en el agua”, y que además no le estaba dando una explicación de por qué moverlos. Y de la misma manera molesta me dijo que iba a estar en 20 minutos, le dije que porque si ya estaba lista, y era solo de pasar las cosas, ella me repitió lo mismo muy alterada y que si quería que fuera adentro para que viera como estaban ellas. \nSimplemente le dije que no había razón para que me alzara la voz de esta manera, y decidí colgar el teléfono. \nLuego a los 5 minutos me pasó la habitación lista el compañero Oscar, me dijo que él fue y movió las cosas ya que era lo único que había que hacer."},{"$f":"VLOOKUP(Precentación_Quejas[[#This Row],['# Queja]],Historico_Registro_Quejas3[#All],22,0)","v":"Servicio cliente mucamas"},{"$f":"VLOOKUP(Precentación_Quejas[[#This Row],[Payaso]],Tabla_Payasos[[Payasos]:[Columna1]],2,0)","v":2},715,{"$f":"VLOOKUP(Precentación_Quejas[[#This Row],['# Queja]],Historico_Registro_Quejas3[[#All],['# Queja]:[Valoración]],15,0)","v":"ROJA"}]
[{"$f":"VLOOKUP(Precentación_Quejas[[#This Row],['# Queja]],Historico_Registro_Quejas3[#All],4,0)","v":0},{"$f":"VLOOKUP(Precentación_Quejas[[#This Row],['# Queja]],Historico_Registro_Quejas3[#All],2,0)","v":"2018-07-10"},{"$f":"VLOOKUP(Precentación_Quejas[[#This Row],['# Queja]],Historico_Registro_Quejas3[#All],7,0)","v":"Le informo que le día de hoy , durante3 el desayuno, pudimos detectar a tiempo la presencia de una cucaracha.\nEn realidad una huésped de la habitación 402, fue quien alerto al compañero José Quirós. M la misma se encontraba sobre la mesa y esta estaba desocupada. El compañero la retiro rápida y discretamente.\nPuedo decir que dicho evento, no causo mayor relevancia, nadie más se dio cuenta y no tuvo mayor repercusión.\n\n\n"},{"$f":"VLOOKUP(Precentación_Quejas[[#This Row],['# Queja]],Historico_Registro_Quejas3[#All],22,0)","v":"Habitaciones"},{"$f":"VLOOKUP(Precentación_Quejas[[#This Row],[Payaso]],Tabla_Payasos[[Payasos]:[Columna1]],2,0)","v":54},714,{"$f":"VLOOKUP(Precentación_Quejas[[#This Row],['# Queja]],Historico_Registro_Quejas3[[#All],['# Queja]:[Valoración]],15,0)","v":"ROJA"}]
[{"$f":"VLOOKUP(Precentación_Quejas[[#This Row],['# Queja]],Historico_Registro_Quejas3[#All],4,0)","v":107},{"$f":"VLOOKUP(Precentación_Quejas[[#This Row],['# Queja]],Historico_Registro_Quejas3[#All],2,0)","v":"2018-07-10"},{"$f":"VLOOKUP(Precentación_Quejas[[#This Row],['# Queja]],Historico_Registro_Quejas3[#All],7,0)","v":"Cajas fuertes más grandes, que puedan caber laptops"},{"$f":"VLOOKUP(Precentación_Quejas[[#This Row],['# Queja]],Historico_Registro_Quejas3[#All],22,0)","v":"Desestimado"},{"$f":"VLOOKUP(Precentación_Quejas[[#This Row],[Payaso]],Tabla_Payasos[[Payasos]:[Columna1]],2,0)","v":29},713,{"$f":"VLOOKUP(Precentación_Quejas[[#This Row],['# Queja]],Historico_Registro_Quejas3[[#All],['# Queja]:[Valoración]],15,0)","v":"Desestimada"}]
[{"$f":"VLOOKUP(Precentación_Quejas[[#This Row],['# Queja]],Historico_Registro_Quejas3[#All],4,0)","v":401},{"$f":"VLOOKUP(Precentación_Quejas[[#This Row],['# Queja]],Historico_Registro_Quejas3[#All],2,0)","v":"2018-07-09"},{"$f":"VLOOKUP(Precentación_Quejas[[#This Row],['# Queja]],Historico_Registro_Quejas3[#All],7,0)","v":"Promover actividades para adolescentes donde se reúnan, compartan y se conozcan."},{"$f":"VLOOKUP(Precentación_Quejas[[#This Row],['# Queja]],Historico_Registro_Quejas3[#All],22,0)","v":"Sala de juegos"},{"$f":"VLOOKUP(Precentación_Quejas[[#This Row],[Payaso]],Tabla_Payasos[[Payasos]:[Columna1]],2,0)","v":3},712,{"$f":"VLOOKUP(Precentación_Quejas[[#This Row],['# Queja]],Historico_Registro_Quejas3[[#All],['# Queja]:[Valoración]],15,0)","v":"ROJA"}]
[{"$f":"VLOOKUP(Precentación_Quejas[[#This Row],['# Queja]],Historico_Registro_Quejas3[#All],4,0)","v":0},{"$f":"VLOOKUP(Precentación_Quejas[[#This Row],['# Queja]],Historico_Registro_Quejas3[#All],2,0)","v":"2018-07-10"},{"$f":"VLOOKUP(Precentación_Quejas[[#This Row],['# Queja]],Historico_Registro_Quejas3[#All],7,0)","v":"Debería haber más variedad de opciones en el desayuno "},{"$f":"VLOOKUP(Precentación_Quejas[[#This Row],['# Queja]],Historico_Registro_Quejas3[#All],22,0)","v":"Calida Desayuno"},{"$f":"VLOOKUP(Precentación_Quejas[[#This Row],[Payaso]],Tabla_Payasos[[Payasos]:[Columna1]],2,0)","v":15},711,{"$f":"VLOOKUP(Precentación_Quejas[[#This Row],['# Queja]],Historico_Registro_Quejas3[[#All],['# Queja]:[Valoración]],15,0)","v":"ROJA"}]
[{"$f":"VLOOKUP(Precentación_Quejas[[#This Row],['# Queja]],Historico_Registro_Quejas3[#All],4,0)","v":707},{"$f":"VLOOKUP(Precentación_Quejas[[#This Row],['# Queja]],Historico_Registro_Quejas3[#All],2,0)","v":"2018-07-10"},{"$f":"VLOOKUP(Precentación_Quejas[[#This Row],['# Queja]],Historico_Registro_Quejas3[#All],7,0)","v":"Deberían haber ganchos para poder colgar las capas"},{"$f":"VLOOKUP(Precentación_Quejas[[#This Row],['# Queja]],Historico_Registro_Quejas3[#All],22,0)","v":"Desestimado"},{"$f":"VLOOKUP(Precentación_Quejas[[#This Row],[Payaso]],Tabla_Payasos[[Payasos]:[Columna1]],2,0)","v":29},710,{"$f":"VLOOKUP(Precentación_Quejas[[#This Row],['# Queja]],Historico_Registro_Quejas3[[#All],['# Queja]:[Valoración]],15,0)","v":"Desestimada"}]
[{"$f":"VLOOKUP(Precentación_Quejas[[#This Row],['# Queja]],Historico_Registro_Quejas3[#All],4,0)","v":707},{"$f":"VLOOKUP(Precentación_Quejas[[#This Row],['# Queja]],Historico_Registro_Quejas3[#All],2,0)","v":"2018-07-10"},{"$f":"VLOOKUP(Precentación_Quejas[[#This Row],['# Queja]],Historico_Registro_Quejas3[#All],7,0)","v":"Deben haber más ganchos para poder colgar las toallas en el baño"},{"$f":"VLOOKUP(Precentación_Quejas[[#This Row],['# Queja]],Historico_Registro_Quejas3[#All],22,0)","v":"Desestimado"},{"$f":"VLOOKUP(Precentación_Quejas[[#This Row],[Payaso]],Tabla_Payasos[[Payasos]:[Columna1]],2,0)","v":29},709,{"$f":"VLOOKUP(Precentación_Quejas[[#This Row],['# Queja]],Historico_Registro_Quejas3[[#All],['# Queja]:[Valoración]],15,0)","v":"Desestimada"}]
[{"$f":"VLOOKUP(Precentación_Quejas[[#This Row],['# Queja]],Historico_Registro_Quejas3[#All],4,0)","v":405},{"$f":"VLOOKUP(Precentación_Quejas[[#This Row],['# Queja]],Historico_Registro_Quejas3[#All],2,0)","v":"2018-07-10"},{"$f":"VLOOKUP(Precentación_Quejas[[#This Row],['# Queja]],Historico_Registro_Quejas3[#All],7,0)","v":"El refrigerador de la habitación tiene un ruido muy fuerte"},{"$f":"VLOOKUP(Precentación_Quejas[[#This Row],['# Queja]],Historico_Registro_Quejas3[#All],22,0)","v":"Ruido habitación"},{"$f":"VLOOKUP(Precentación_Quejas[[#This Row],[Payaso]],Tabla_Payasos[[Payasos]:[Columna1]],2,0)","v":15},708,{"$f":"VLOOKUP(Precentación_Quejas[[#This Row],['# Queja]],Historico_Registro_Quejas3[[#All],['# Queja]:[Valoración]],15,0)","v":"ROJA"}]
[{"$f":"VLOOKUP(Precentación_Quejas[[#This Row],['# Queja]],Historico_Registro_Quejas3[#All],4,0)","v":"103-502"},{"$f":"VLOOKUP(Precentación_Quejas[[#This Row],['# Queja]],Historico_Registro_Quejas3[#All],2,0)","v":"2018-07-09"},{"$f":"VLOOKUP(Precentación_Quejas[[#This Row],['# Queja]],Historico_Registro_Quejas3[#All],7,0)","v":"Habitaciones fumigadas con el piso resbaloso y fuerte olor. Al parecer no hubo comunicación entre los compañeros de fumigación y las mucamas por lo que en recepción se nos informó que estas habitaciones estaban listas para entregar lo cual fue vergonzoso ya que al llevar a los huéspedes a las habitaciones se toparon con la sorpresa de que las habitaciones no estaban aptas debido al humo y olor."},{"$f":"VLOOKUP(Precentación_Quejas[[#This Row],['# Queja]],Historico_Registro_Quejas3[#All],22,0)","v":"Plagas Habitaciones"},{"$f":"VLOOKUP(Precentación_Quejas[[#This Row],[Payaso]],Tabla_Payasos[[Payasos]:[Columna1]],2,0)","v":49},707,{"$f":"VLOOKUP(Precentación_Quejas[[#This Row],['# Queja]],Historico_Registro_Quejas3[[#All],['# Queja]:[Valoración]],15,0)","v":"ROJA"}]
[{"$f":"VLOOKUP(Precentación_Quejas[[#This Row],['# Queja]],Historico_Registro_Quejas3[#All],4,0)","v":201},{"$f":"VLOOKUP(Precentación_Quejas[[#This Row],['# Queja]],Historico_Registro_Quejas3[#All],2,0)","v":"2018-07-09"},{"$f":"VLOOKUP(Precentación_Quejas[[#This Row],['# Queja]],Historico_Registro_Quejas3[#All],7,0)","v":"Cliente llama para informar que no tienen agua caliente en la habitacion, y que son 5 personas en la habitación. "},{"$f":"VLOOKUP(Precentación_Quejas[[#This Row],['# Queja]],Historico_Registro_Quejas3[#All],22,0)","v":"Agua caliente"},{"$f":"VLOOKUP(Precentación_Quejas[[#This Row],[Payaso]],Tabla_Payasos[[Payasos]:[Columna1]],2,0)","v":13},706,{"$f":"VLOOKUP(Precentación_Quejas[[#This Row],['# Queja]],Historico_Registro_Quejas3[[#All],['# Queja]:[Valoración]],15,0)","v":"ROJA"}]
[{"$f":"VLOOKUP(Precentación_Quejas[[#This Row],['# Queja]],Historico_Registro_Quejas3[#All],4,0)","v":609},{"$f":"VLOOKUP(Precentación_Quejas[[#This Row],['# Queja]],Historico_Registro_Quejas3[#All],2,0)","v":"2018-07-09"},{"$f":"VLOOKUP(Precentación_Quejas[[#This Row],['# Queja]],Historico_Registro_Quejas3[#All],7,0)","v":"Cliente de caravan comunica que no tiene electricidad en la habitación, al parecer no estaba sirviendo el tarjetero. "},{"$f":"VLOOKUP(Precentación_Quejas[[#This Row],['# Queja]],Historico_Registro_Quejas3[#All],22,0)","v":"Habitaciones"},{"$f":"VLOOKUP(Precentación_Quejas[[#This Row],[Payaso]],Tabla_Payasos[[Payasos]:[Columna1]],2,0)","v":54},705,{"$f":"VLOOKUP(Precentación_Quejas[[#This Row],['# Queja]],Historico_Registro_Quejas3[[#All],['# Queja]:[Valoración]],15,0)","v":"ROJA"}]
[{"$f":"VLOOKUP(Precentación_Quejas[[#This Row],['# Queja]],Historico_Registro_Quejas3[#All],4,0)","v":306},{"$f":"VLOOKUP(Precentación_Quejas[[#This Row],['# Queja]],Historico_Registro_Quejas3[#All],2,0)","v":"2018-07-09"},{"$f":"VLOOKUP(Precentación_Quejas[[#This Row],['# Queja]],Historico_Registro_Quejas3[#All],7,0)","v":"Huésped se queja de la hoja de evaluación que se deja en las habitaciones para que los huéspedes la llenen antes de irse, el mismo indica que tiene errores gramaticales tanto en Inglés como en Alemán y que eso es mal visto ya que el hotel debería de ser profesional en ese aspecto. "},{"$f":"VLOOKUP(Precentación_Quejas[[#This Row],['# Queja]],Historico_Registro_Quejas3[#All],22,0)","v":"Hojas de evaluación"},{"$f":"VLOOKUP(Precentación_Quejas[[#This Row],[Payaso]],Tabla_Payasos[[Payasos]:[Columna1]],2,0)","v":1},704,{"$f":"VLOOKUP(Precentación_Quejas[[#This Row],['# Queja]],Historico_Registro_Quejas3[[#All],['# Queja]:[Valoración]],15,0)","v":"ROJA"}]
[{"$f":"VLOOKUP(Precentación_Quejas[[#This Row],['# Queja]],Historico_Registro_Quejas3[#All],4,0)","v":104},{"$f":"VLOOKUP(Precentación_Quejas[[#This Row],['# Queja]],Historico_Registro_Quejas3[#All],2,0)","v":"2018-07-07"},{"$f":"VLOOKUP(Precentación_Quejas[[#This Row],['# Queja]],Historico_Registro_Quejas3[#All],7,0)","v":"aiRE ACONDICIONADO nunca funcionó."},{"$f":"VLOOKUP(Precentación_Quejas[[#This Row],['# Queja]],Historico_Registro_Quejas3[#All],22,0)","v":"A/C"},{"$f":"VLOOKUP(Precentación_Quejas[[#This Row],[Payaso]],Tabla_Payasos[[Payasos]:[Columna1]],2,0)","v":25},703,{"$f":"VLOOKUP(Precentación_Quejas[[#This Row],['# Queja]],Historico_Registro_Quejas3[[#All],['# Queja]:[Valoración]],15,0)","v":"ROJA"}]
[{"$f":"VLOOKUP(Precentación_Quejas[[#This Row],['# Queja]],Historico_Registro_Quejas3[#All],4,0)","v":110},{"$f":"VLOOKUP(Precentación_Quejas[[#This Row],['# Queja]],Historico_Registro_Quejas3[#All],2,0)","v":"2018-07-07"},{"$f":"VLOOKUP(Precentación_Quejas[[#This Row],['# Queja]],Historico_Registro_Quejas3[#All],7,0)","v":"Red WiFi funcionaba bien en restaurantes pero en el cuarto nunca funcionó bien"},{"$f":"VLOOKUP(Precentación_Quejas[[#This Row],['# Queja]],Historico_Registro_Quejas3[#All],22,0)","v":"Wifi"},{"$f":"VLOOKUP(Precentación_Quejas[[#This Row],[Payaso]],Tabla_Payasos[[Payasos]:[Columna1]],2,0)","v":23},702,{"$f":"VLOOKUP(Precentación_Quejas[[#This Row],['# Queja]],Historico_Registro_Quejas3[[#All],['# Queja]:[Valoración]],15,0)","v":"ROJA"}]
[{"$f":"VLOOKUP(Precentación_Quejas[[#This Row],['# Queja]],Historico_Registro_Quejas3[#All],4,0)","v":110},{"$f":"VLOOKUP(Precentación_Quejas[[#This Row],['# Queja]],Historico_Registro_Quejas3[#All],2,0)","v":"2018-07-07"},{"$f":"VLOOKUP(Precentación_Quejas[[#This Row],['# Queja]],Historico_Registro_Quejas3[#All],7,0)","v":"Por favor modernizar instalaciones del gimnasio. Como pueden ver, todo fue calificado como excelente pero las maquinas del gimnasio no estan acordes con la calidad del hotel."},{"$f":"VLOOKUP(Precentación_Quejas[[#This Row],['# Queja]],Historico_Registro_Quejas3[#All],22,0)","v":"Gimnasio"},{"$f":"VLOOKUP(Precentación_Quejas[[#This Row],[Payaso]],Tabla_Payasos[[Payasos]:[Columna1]],2,0)","v":4},701,{"$f":"VLOOKUP(Precentación_Quejas[[#This Row],['# Queja]],Historico_Registro_Quejas3[[#All],['# Queja]:[Valoración]],15,0)","v":"ROJA"}]
[{"$f":"VLOOKUP(Precentación_Quejas[[#This Row],['# Queja]],Historico_Registro_Quejas3[#All],4,0)","v":505},{"$f":"VLOOKUP(Precentación_Quejas[[#This Row],['# Queja]],Historico_Registro_Quejas3[#All],2,0)","v":"2018-07-07"},{"$f":"VLOOKUP(Precentación_Quejas[[#This Row],['# Queja]],Historico_Registro_Quejas3[#All],7,0)","v":"Espejo frente al inodoro es raro y además las sabanas no son cómodas."},{"$f":"VLOOKUP(Precentación_Quejas[[#This Row],['# Queja]],Historico_Registro_Quejas3[#All],22,0)","v":"Espejo grande fuera del baño"},{"$f":"VLOOKUP(Precentación_Quejas[[#This Row],[Payaso]],Tabla_Payasos[[Payasos]:[Columna1]],2,0)","v":4},700,{"$f":"VLOOKUP(Precentación_Quejas[[#This Row],['# Queja]],Historico_Registro_Quejas3[[#All],['# Queja]:[Valoración]],15,0)","v":"ROJA"}]
[{"$f":"VLOOKUP(Precentación_Quejas[[#This Row],['# Queja]],Historico_Registro_Quejas3[#All],4,0)","v":"205-206"},{"$f":"VLOOKUP(Precentación_Quejas[[#This Row],['# Queja]],Historico_Registro_Quejas3[#All],2,0)","v":"2018-07-08"},{"$f":"VLOOKUP(Precentación_Quejas[[#This Row],['# Queja]],Historico_Registro_Quejas3[#All],7,0)","v":"Huésped se queja de la mala actitud de uno de nuestros empleados llamado Marco del bar húmedo, el mismo indica que no le gustó la manera en que lo atendió y que cuando le pidió le cambiara un vaso caliente por uno frío la solución no fue la que esperaba además de que ni empatía le mostró, lo cual indica el señor debe ser indispensable en esa área. Se le ofrecieron disculpas al señor y se le agradeció por la retroalimentación, que iba ser tomada en cuenta para mejorar."},{"$f":"VLOOKUP(Precentación_Quejas[[#This Row],['# Queja]],Historico_Registro_Quejas3[#All],22,0)","v":"Servicio cliente restaurante "},{"$f":"VLOOKUP(Precentación_Quejas[[#This Row],[Payaso]],Tabla_Payasos[[Payasos]:[Columna1]],2,0)","v":25},699,{"$f":"VLOOKUP(Precentación_Quejas[[#This Row],['# Queja]],Historico_Registro_Quejas3[[#All],['# Queja]:[Valoración]],15,0)","v":"ROJA"}]
[{"$f":"VLOOKUP(Precentación_Quejas[[#This Row],['# Queja]],Historico_Registro_Quejas3[#All],4,0)","v":602},{"$f":"VLOOKUP(Precentación_Quejas[[#This Row],['# Queja]],Historico_Registro_Quejas3[#All],2,0)","v":"2018-07-05"},{"$f":"VLOOKUP(Precentación_Quejas[[#This Row],['# Queja]],Historico_Registro_Quejas3[#All],7,0)","v":"El espejo del baño debe ser mas grande ya que no me gusta sentarme en el sanitario para mirarme en el espejo."},{"$f":"VLOOKUP(Precentación_Quejas[[#This Row],['# Queja]],Historico_Registro_Quejas3[#All],22,0)","v":"Espejo grande fuera del baño"},{"$f":"VLOOKUP(Precentación_Quejas[[#This Row],[Payaso]],Tabla_Payasos[[Payasos]:[Columna1]],2,0)","v":4},698,{"$f":"VLOOKUP(Precentación_Quejas[[#This Row],['# Queja]],Historico_Registro_Quejas3[[#All],['# Queja]:[Valoración]],15,0)","v":"ROJA"}]
[{"$f":"VLOOKUP(Precentación_Quejas[[#This Row],['# Queja]],Historico_Registro_Quejas3[#All],4,0)","v":505},{"$f":"VLOOKUP(Precentación_Quejas[[#This Row],['# Queja]],Historico_Registro_Quejas3[#All],2,0)","v":"2018-07-05"},{"$f":"VLOOKUP(Precentación_Quejas[[#This Row],['# Queja]],Historico_Registro_Quejas3[#All],7,0)","v":"El internet está muy mal, no sirve en la habitación"},{"$f":"VLOOKUP(Precentación_Quejas[[#This Row],['# Queja]],Historico_Registro_Quejas3[#All],22,0)","v":"Wifi"},{"$f":"VLOOKUP(Precentación_Quejas[[#This Row],[Payaso]],Tabla_Payasos[[Payasos]:[Columna1]],2,0)","v":23},697,{"$f":"VLOOKUP(Precentación_Quejas[[#This Row],['# Queja]],Historico_Registro_Quejas3[[#All],['# Queja]:[Valoración]],15,0)","v":"ROJA"}]
[{"$f":"VLOOKUP(Precentación_Quejas[[#This Row],['# Queja]],Historico_Registro_Quejas3[#All],4,0)","v":902},{"$f":"VLOOKUP(Precentación_Quejas[[#This Row],['# Queja]],Historico_Registro_Quejas3[#All],2,0)","v":"2018-07-05"},{"$f":"VLOOKUP(Precentación_Quejas[[#This Row],['# Queja]],Historico_Registro_Quejas3[#All],7,0)","v":"Mejorar el internet"},{"$f":"VLOOKUP(Precentación_Quejas[[#This Row],['# Queja]],Historico_Registro_Quejas3[#All],22,0)","v":"Wifi"},{"$f":"VLOOKUP(Precentación_Quejas[[#This Row],[Payaso]],Tabla_Payasos[[Payasos]:[Columna1]],2,0)","v":23},696,{"$f":"VLOOKUP(Precentación_Quejas[[#This Row],['# Queja]],Historico_Registro_Quejas3[[#All],['# Queja]:[Valoración]],15,0)","v":"ROJA"}]
[{"$f":"VLOOKUP(Precentación_Quejas[[#This Row],['# Queja]],Historico_Registro_Quejas3[#All],4,0)","v":405},{"$f":"VLOOKUP(Precentación_Quejas[[#This Row],['# Queja]],Historico_Registro_Quejas3[#All],2,0)","v":"2018-07-04"},{"$f":"VLOOKUP(Precentación_Quejas[[#This Row],['# Queja]],Historico_Registro_Quejas3[#All],7,0)","v":"Se activa el panel de la 403, indican que las alarma se activó en la habitacion  405  procedemos a llamar a la habitacion para consultarle a los clientes si todo estaba bien, los mismos nos indican que todo está en orden, una vez verificado el estado de las habitaciones con los huéspedes  el compañero Kenneth procede a  apagar el panel"},{"$f":"VLOOKUP(Precentación_Quejas[[#This Row],['# Queja]],Historico_Registro_Quejas3[#All],22,0)","v":"Desestimado"},{"$f":"VLOOKUP(Precentación_Quejas[[#This Row],[Payaso]],Tabla_Payasos[[Payasos]:[Columna1]],2,0)","v":29},695,{"$f":"VLOOKUP(Precentación_Quejas[[#This Row],['# Queja]],Historico_Registro_Quejas3[[#All],['# Queja]:[Valoración]],15,0)","v":"Desestimada"}]
[{"$f":"VLOOKUP(Precentación_Quejas[[#This Row],['# Queja]],Historico_Registro_Quejas3[#All],4,0)","v":207},{"$f":"VLOOKUP(Precentación_Quejas[[#This Row],['# Queja]],Historico_Registro_Quejas3[#All],2,0)","v":"2018-07-04"},{"$f":"VLOOKUP(Precentación_Quejas[[#This Row],['# Queja]],Historico_Registro_Quejas3[#All],7,0)","v":"Al ser las 6:45pm de hoy 04/07/2018 el compañero Kenneth de seguridad reporta que se activaron las alarmas, específicamente  los paneles de las habitaciones  203 y 403, estos indican que las alarmas se activaron en las habitaciones 207 y 405 respectivamente, procedemos a llamar a las habitaciones para consultarle a los clientes si todo estaba bien en las habitaciones, los mismos nos indican que todo está en orden, una vez verificado el estado de las habitaciones con los huéspedes  el compañero Kenneth procede a  desactivar las alarmas."},{"$f":"VLOOKUP(Precentación_Quejas[[#This Row],['# Queja]],Historico_Registro_Quejas3[#All],22,0)","v":"Desestimado"},{"$f":"VLOOKUP(Precentación_Quejas[[#This Row],[Payaso]],Tabla_Payasos[[Payasos]:[Columna1]],2,0)","v":29},694,{"$f":"VLOOKUP(Precentación_Quejas[[#This Row],['# Queja]],Historico_Registro_Quejas3[[#All],['# Queja]:[Valoración]],15,0)","v":"Desestimada"}]
[{"$f":"VLOOKUP(Precentación_Quejas[[#This Row],['# Queja]],Historico_Registro_Quejas3[#All],4,0)","v":904},{"$f":"VLOOKUP(Precentación_Quejas[[#This Row],['# Queja]],Historico_Registro_Quejas3[#All],2,0)","v":"2018-07-04"},{"$f":"VLOOKUP(Precentación_Quejas[[#This Row],['# Queja]],Historico_Registro_Quejas3[#All],7,0)","v":"Poner alfombra a la entrada de las escaleras, ya que el piso es resbaloso"},{"$f":"VLOOKUP(Precentación_Quejas[[#This Row],['# Queja]],Historico_Registro_Quejas3[#All],22,0)","v":"Alfombra en escaleras"},{"$f":"VLOOKUP(Precentación_Quejas[[#This Row],[Payaso]],Tabla_Payasos[[Payasos]:[Columna1]],2,0)","v":1},693,{"$f":"VLOOKUP(Precentación_Quejas[[#This Row],['# Queja]],Historico_Registro_Quejas3[[#All],['# Queja]:[Valoración]],15,0)","v":"ROJA"}]
[{"$f":"VLOOKUP(Precentación_Quejas[[#This Row],['# Queja]],Historico_Registro_Quejas3[#All],4,0)","v":202},{"$f":"VLOOKUP(Precentación_Quejas[[#This Row],['# Queja]],Historico_Registro_Quejas3[#All],2,0)","v":"2018-07-04"},{"$f":"VLOOKUP(Precentación_Quejas[[#This Row],['# Queja]],Historico_Registro_Quejas3[#All],7,0)","v":"Al ser las 8:15pm los huéspedes llaman indicando que hay una víbora en su habitación y que por favor les ayuden ya que no quieren que los niños se den cuenta."},{"$f":"VLOOKUP(Precentación_Quejas[[#This Row],['# Queja]],Historico_Registro_Quejas3[#All],22,0)","v":"Desestimado"},{"$f":"VLOOKUP(Precentación_Quejas[[#This Row],[Payaso]],Tabla_Payasos[[Payasos]:[Columna1]],2,0)","v":29},692,{"$f":"VLOOKUP(Precentación_Quejas[[#This Row],['# Queja]],Historico_Registro_Quejas3[[#All],['# Queja]:[Valoración]],15,0)","v":"Desestimada"}]
[{"$f":"VLOOKUP(Precentación_Quejas[[#This Row],['# Queja]],Historico_Registro_Quejas3[#All],4,0)","v":0},{"$f":"VLOOKUP(Precentación_Quejas[[#This Row],['# Queja]],Historico_Registro_Quejas3[#All],2,0)","v":"2018-07-04"},{"$f":"VLOOKUP(Precentación_Quejas[[#This Row],['# Queja]],Historico_Registro_Quejas3[#All],7,0)","v":"Huéspedes se quejan que en el desayuno habían moscas dentro del yogurt y además en algunas otras comidas que estaban en el buffet, dicen que nunca habían sido testigos de esto en los paseos que han realizado."},{"$f":"VLOOKUP(Precentación_Quejas[[#This Row],['# Queja]],Historico_Registro_Quejas3[#All],22,0)","v":"Plagas Habitaciones"},{"$f":"VLOOKUP(Precentación_Quejas[[#This Row],[Payaso]],Tabla_Payasos[[Payasos]:[Columna1]],2,0)","v":49},691,{"$f":"VLOOKUP(Precentación_Quejas[[#This Row],['# Queja]],Historico_Registro_Quejas3[[#All],['# Queja]:[Valoración]],15,0)","v":"ROJA"}]
[{"$f":"VLOOKUP(Precentación_Quejas[[#This Row],['# Queja]],Historico_Registro_Quejas3[#All],4,0)","v":201},{"$f":"VLOOKUP(Precentación_Quejas[[#This Row],['# Queja]],Historico_Registro_Quejas3[#All],2,0)","v":"2018-07-04"},{"$f":"VLOOKUP(Precentación_Quejas[[#This Row],['# Queja]],Historico_Registro_Quejas3[#All],7,0)","v":"Huésped se queja que durante la noche de ayer 03-07-18, hubo un ruido que los pertubó, el ruido al parecer venía del techo"},{"$f":"VLOOKUP(Precentación_Quejas[[#This Row],['# Queja]],Historico_Registro_Quejas3[#All],22,0)","v":"Ruido habitación"},{"$f":"VLOOKUP(Precentación_Quejas[[#This Row],[Payaso]],Tabla_Payasos[[Payasos]:[Columna1]],2,0)","v":15},690,{"$f":"VLOOKUP(Precentación_Quejas[[#This Row],['# Queja]],Historico_Registro_Quejas3[[#All],['# Queja]:[Valoración]],15,0)","v":"ROJA"}]
[{"$f":"VLOOKUP(Precentación_Quejas[[#This Row],['# Queja]],Historico_Registro_Quejas3[#All],4,0)","v":312},{"$f":"VLOOKUP(Precentación_Quejas[[#This Row],['# Queja]],Historico_Registro_Quejas3[#All],2,0)","v":"2018-07-03"},{"$f":"VLOOKUP(Precentación_Quejas[[#This Row],['# Queja]],Historico_Registro_Quejas3[#All],7,0)","v":"Huésped se encuentra enfermo según ellos esto les pasó después de almorzar en el hotel unos fetuccini di mari, "},{"$f":"VLOOKUP(Precentación_Quejas[[#This Row],['# Queja]],Historico_Registro_Quejas3[#All],22,0)","v":"Desestimado"},{"$f":"VLOOKUP(Precentación_Quejas[[#This Row],[Payaso]],Tabla_Payasos[[Payasos]:[Columna1]],2,0)","v":29},689,{"$f":"VLOOKUP(Precentación_Quejas[[#This Row],['# Queja]],Historico_Registro_Quejas3[[#All],['# Queja]:[Valoración]],15,0)","v":"Desestimada"}]
[{"$f":"VLOOKUP(Precentación_Quejas[[#This Row],['# Queja]],Historico_Registro_Quejas3[#All],4,0)","v":0},{"$f":"VLOOKUP(Precentación_Quejas[[#This Row],['# Queja]],Historico_Registro_Quejas3[#All],2,0)","v":"2018-07-03"},{"$f":"VLOOKUP(Precentación_Quejas[[#This Row],['# Queja]],Historico_Registro_Quejas3[#All],7,0)","v":"Precios de la cena muy elevados"},{"$f":"VLOOKUP(Precentación_Quejas[[#This Row],['# Queja]],Historico_Registro_Quejas3[#All],22,0)","v":"Calidad comida"},{"$f":"VLOOKUP(Precentación_Quejas[[#This Row],[Payaso]],Tabla_Payasos[[Payasos]:[Columna1]],2,0)","v":70},688,{"$f":"VLOOKUP(Precentación_Quejas[[#This Row],['# Queja]],Historico_Registro_Quejas3[[#All],['# Queja]:[Valoración]],15,0)","v":"ROJA"}]
[{"$f":"VLOOKUP(Precentación_Quejas[[#This Row],['# Queja]],Historico_Registro_Quejas3[#All],4,0)","v":0},{"$f":"VLOOKUP(Precentación_Quejas[[#This Row],['# Queja]],Historico_Registro_Quejas3[#All],2,0)","v":"2018-07-03"},{"$f":"VLOOKUP(Precentación_Quejas[[#This Row],['# Queja]],Historico_Registro_Quejas3[#All],7,0)","v":"Al ser las 10:15 am aproximadamente el servicio de Internet del hotel se cae imposibilitando realizar cobros con el datafono, entre otras cosas. Varios huéspedes se vieron afectados tanto haciendo check-out como otros que llamaban preguntando por el Wi-Fi del hotel ya que no les servía."},{"$f":"VLOOKUP(Precentación_Quejas[[#This Row],['# Queja]],Historico_Registro_Quejas3[#All],22,0)","v":"Wifi"},{"$f":"VLOOKUP(Precentación_Quejas[[#This Row],[Payaso]],Tabla_Payasos[[Payasos]:[Columna1]],2,0)","v":23},687,{"$f":"VLOOKUP(Precentación_Quejas[[#This Row],['# Queja]],Historico_Registro_Quejas3[[#All],['# Queja]:[Valoración]],15,0)","v":"ROJA"}]
[{"$f":"VLOOKUP(Precentación_Quejas[[#This Row],['# Queja]],Historico_Registro_Quejas3[#All],4,0)","v":504},{"$f":"VLOOKUP(Precentación_Quejas[[#This Row],['# Queja]],Historico_Registro_Quejas3[#All],2,0)","v":"2018-07-03"},{"$f":"VLOOKUP(Precentación_Quejas[[#This Row],['# Queja]],Historico_Registro_Quejas3[#All],7,0)","v":"Huéspedes se quejan ya que el documento que le envió la agencia a recepción para ser entregado a los huéspedes no se les dió, los señores no pudieron ir a un tour ya que no fueron informados y se encontraban inconformes con el error que se dió en recepción al enviar un documento en español que no correspondía con el que envió la agencia."},{"$f":"VLOOKUP(Precentación_Quejas[[#This Row],['# Queja]],Historico_Registro_Quejas3[#All],22,0)","v":"Servicio al cliente "},{"$f":"VLOOKUP(Precentación_Quejas[[#This Row],[Payaso]],Tabla_Payasos[[Payasos]:[Columna1]],2,0)","v":4},686,{"$f":"VLOOKUP(Precentación_Quejas[[#This Row],['# Queja]],Historico_Registro_Quejas3[[#All],['# Queja]:[Valoración]],15,0)","v":"ROJA"}]
[{"$f":"VLOOKUP(Precentación_Quejas[[#This Row],['# Queja]],Historico_Registro_Quejas3[#All],4,0)","v":512},{"$f":"VLOOKUP(Precentación_Quejas[[#This Row],['# Queja]],Historico_Registro_Quejas3[#All],2,0)","v":"2018-07-02"},{"$f":"VLOOKUP(Precentación_Quejas[[#This Row],['# Queja]],Historico_Registro_Quejas3[#All],7,0)","v":"Cliente indica el agua del baño apenas es tibia incluso abriendola toda. Y necesitaban tomar un baño. "},{"$f":"VLOOKUP(Precentación_Quejas[[#This Row],['# Queja]],Historico_Registro_Quejas3[#All],22,0)","v":"Agua caliente"},{"$f":"VLOOKUP(Precentación_Quejas[[#This Row],[Payaso]],Tabla_Payasos[[Payasos]:[Columna1]],2,0)","v":13},685,{"$f":"VLOOKUP(Precentación_Quejas[[#This Row],['# Queja]],Historico_Registro_Quejas3[[#All],['# Queja]:[Valoración]],15,0)","v":"ROJA"}]
[{"$f":"VLOOKUP(Precentación_Quejas[[#This Row],['# Queja]],Historico_Registro_Quejas3[#All],4,0)","v":107},{"$f":"VLOOKUP(Precentación_Quejas[[#This Row],['# Queja]],Historico_Registro_Quejas3[#All],2,0)","v":"2018-07-02"},{"$f":"VLOOKUP(Precentación_Quejas[[#This Row],['# Queja]],Historico_Registro_Quejas3[#All],7,0)","v":"Cuando se le aborda al huésped mediante la llamada de bienvenida reporta un olor desagradable y muy fuerte."},{"$f":"VLOOKUP(Precentación_Quejas[[#This Row],['# Queja]],Historico_Registro_Quejas3[#All],22,0)","v":"Malos olores"},{"$f":"VLOOKUP(Precentación_Quejas[[#This Row],[Payaso]],Tabla_Payasos[[Payasos]:[Columna1]],2,0)","v":2},684,{"$f":"VLOOKUP(Precentación_Quejas[[#This Row],['# Queja]],Historico_Registro_Quejas3[[#All],['# Queja]:[Valoración]],15,0)","v":"ROJA"}]
[{"$f":"VLOOKUP(Precentación_Quejas[[#This Row],['# Queja]],Historico_Registro_Quejas3[#All],4,0)","v":606},{"$f":"VLOOKUP(Precentación_Quejas[[#This Row],['# Queja]],Historico_Registro_Quejas3[#All],2,0)","v":"2018-07-01"},{"$f":"VLOOKUP(Precentación_Quejas[[#This Row],['# Queja]],Historico_Registro_Quejas3[#All],7,0)","v":"Huésped molesto porque no hay servicio de desayuno a la habitación."},{"$f":"VLOOKUP(Precentación_Quejas[[#This Row],['# Queja]],Historico_Registro_Quejas3[#All],22,0)","v":"Desestimado"},{"$f":"VLOOKUP(Precentación_Quejas[[#This Row],[Payaso]],Tabla_Payasos[[Payasos]:[Columna1]],2,0)","v":29},683,{"$f":"VLOOKUP(Precentación_Quejas[[#This Row],['# Queja]],Historico_Registro_Quejas3[[#All],['# Queja]:[Valoración]],15,0)","v":"Desestimada"}]
[{"$f":"VLOOKUP(Precentación_Quejas[[#This Row],['# Queja]],Historico_Registro_Quejas3[#All],4,0)","v":515},{"$f":"VLOOKUP(Precentación_Quejas[[#This Row],['# Queja]],Historico_Registro_Quejas3[#All],2,0)","v":"2018-06-30"},{"$f":"VLOOKUP(Precentación_Quejas[[#This Row],['# Queja]],Historico_Registro_Quejas3[#All],7,0)","v":"Todos los días que estuvimos hospedados tuvimos problemas con cucarachas grandes y pequeñas, el veneno hizo que salieran cada día más, por las noches la situación era peor."},{"$f":"VLOOKUP(Precentación_Quejas[[#This Row],['# Queja]],Historico_Registro_Quejas3[#All],22,0)","v":"Plagas Habitaciones"},{"$f":"VLOOKUP(Precentación_Quejas[[#This Row],[Payaso]],Tabla_Payasos[[Payasos]:[Columna1]],2,0)","v":49},682,{"$f":"VLOOKUP(Precentación_Quejas[[#This Row],['# Queja]],Historico_Registro_Quejas3[[#All],['# Queja]:[Valoración]],15,0)","v":"ROJA"}]
[{"$f":"VLOOKUP(Precentación_Quejas[[#This Row],['# Queja]],Historico_Registro_Quejas3[#All],4,0)","v":411},{"$f":"VLOOKUP(Precentación_Quejas[[#This Row],['# Queja]],Historico_Registro_Quejas3[#All],2,0)","v":"2018-06-29"},{"$f":"VLOOKUP(Precentación_Quejas[[#This Row],['# Queja]],Historico_Registro_Quejas3[#All],7,0)","v":"Mejor selección en calidad de las comidas."},{"$f":"VLOOKUP(Precentación_Quejas[[#This Row],['# Queja]],Historico_Registro_Quejas3[#All],22,0)","v":"Calidad comida"},{"$f":"VLOOKUP(Precentación_Quejas[[#This Row],[Payaso]],Tabla_Payasos[[Payasos]:[Columna1]],2,0)","v":70},681,{"$f":"VLOOKUP(Precentación_Quejas[[#This Row],['# Queja]],Historico_Registro_Quejas3[[#All],['# Queja]:[Valoración]],15,0)","v":"ROJA"}]
[{"$f":"VLOOKUP(Precentación_Quejas[[#This Row],['# Queja]],Historico_Registro_Quejas3[#All],4,0)","v":203},{"$f":"VLOOKUP(Precentación_Quejas[[#This Row],['# Queja]],Historico_Registro_Quejas3[#All],2,0)","v":"2018-06-30"},{"$f":"VLOOKUP(Precentación_Quejas[[#This Row],['# Queja]],Historico_Registro_Quejas3[#All],7,0)","v":"La refrigeradora hace mucho ruido"},{"$f":"VLOOKUP(Precentación_Quejas[[#This Row],['# Queja]],Historico_Registro_Quejas3[#All],22,0)","v":"Habitaciones"},{"$f":"VLOOKUP(Precentación_Quejas[[#This Row],[Payaso]],Tabla_Payasos[[Payasos]:[Columna1]],2,0)","v":54},680,{"$f":"VLOOKUP(Precentación_Quejas[[#This Row],['# Queja]],Historico_Registro_Quejas3[[#All],['# Queja]:[Valoración]],15,0)","v":"ROJA"}]
[{"$f":"VLOOKUP(Precentación_Quejas[[#This Row],['# Queja]],Historico_Registro_Quejas3[#All],4,0)","v":0},{"$f":"VLOOKUP(Precentación_Quejas[[#This Row],['# Queja]],Historico_Registro_Quejas3[#All],2,0)","v":"2018-07-02"},{"$f":"VLOOKUP(Precentación_Quejas[[#This Row],['# Queja]],Historico_Registro_Quejas3[#All],7,0)","v":"Cena muy limitada y con precio elevado."},{"$f":"VLOOKUP(Precentación_Quejas[[#This Row],['# Queja]],Historico_Registro_Quejas3[#All],22,0)","v":"Calidad comida"},{"$f":"VLOOKUP(Precentación_Quejas[[#This Row],[Payaso]],Tabla_Payasos[[Payasos]:[Columna1]],2,0)","v":70},679,{"$f":"VLOOKUP(Precentación_Quejas[[#This Row],['# Queja]],Historico_Registro_Quejas3[[#All],['# Queja]:[Valoración]],15,0)","v":"ROJA"}]
[{"$f":"VLOOKUP(Precentación_Quejas[[#This Row],['# Queja]],Historico_Registro_Quejas3[#All],4,0)","v":0},{"$f":"VLOOKUP(Precentación_Quejas[[#This Row],['# Queja]],Historico_Registro_Quejas3[#All],2,0)","v":"2018-07-02"},{"$f":"VLOOKUP(Precentación_Quejas[[#This Row],['# Queja]],Historico_Registro_Quejas3[#All],7,0)","v":"La selección de opciones de desayuno no es buena, no hay tocino. "},{"$f":"VLOOKUP(Precentación_Quejas[[#This Row],['# Queja]],Historico_Registro_Quejas3[#All],22,0)","v":"Desestimado"},{"$f":"VLOOKUP(Precentación_Quejas[[#This Row],[Payaso]],Tabla_Payasos[[Payasos]:[Columna1]],2,0)","v":29},678,{"$f":"VLOOKUP(Precentación_Quejas[[#This Row],['# Queja]],Historico_Registro_Quejas3[[#All],['# Queja]:[Valoración]],15,0)","v":"Desestimada"}]
[{"$f":"VLOOKUP(Precentación_Quejas[[#This Row],['# Queja]],Historico_Registro_Quejas3[#All],4,0)","v":0},{"$f":"VLOOKUP(Precentación_Quejas[[#This Row],['# Queja]],Historico_Registro_Quejas3[#All],2,0)","v":"2018-07-01"},{"$f":"VLOOKUP(Precentación_Quejas[[#This Row],['# Queja]],Historico_Registro_Quejas3[#All],7,0)","v":"Muy decepcionados con la cena, precios muy caros y calidad de la comida no es equivalente a los que cobran en comparación con otros hoteles de la zona."},{"$f":"VLOOKUP(Precentación_Quejas[[#This Row],['# Queja]],Historico_Registro_Quejas3[#All],22,0)","v":"Calidad comida"},{"$f":"VLOOKUP(Precentación_Quejas[[#This Row],[Payaso]],Tabla_Payasos[[Payasos]:[Columna1]],2,0)","v":70},677,{"$f":"VLOOKUP(Precentación_Quejas[[#This Row],['# Queja]],Historico_Registro_Quejas3[[#All],['# Queja]:[Valoración]],15,0)","v":"ROJA"}]
[{"$f":"VLOOKUP(Precentación_Quejas[[#This Row],['# Queja]],Historico_Registro_Quejas3[#All],4,0)","v":0},{"$f":"VLOOKUP(Precentación_Quejas[[#This Row],['# Queja]],Historico_Registro_Quejas3[#All],2,0)","v":"2018-06-19"},{"$f":"VLOOKUP(Precentación_Quejas[[#This Row],['# Queja]],Historico_Registro_Quejas3[#All],7,0)","v":"El costo de las comidas es muy caro y es mejor ir a alguna soda en el pueblo."},{"$f":"VLOOKUP(Precentación_Quejas[[#This Row],['# Queja]],Historico_Registro_Quejas3[#All],22,0)","v":"Calidad comida"},{"$f":"VLOOKUP(Precentación_Quejas[[#This Row],[Payaso]],Tabla_Payasos[[Payasos]:[Columna1]],2,0)","v":70},676,{"$f":"VLOOKUP(Precentación_Quejas[[#This Row],['# Queja]],Historico_Registro_Quejas3[[#All],['# Queja]:[Valoración]],15,0)","v":"ROJA"}]
[{"$f":"VLOOKUP(Precentación_Quejas[[#This Row],['# Queja]],Historico_Registro_Quejas3[#All],4,0)","v":0},{"$f":"VLOOKUP(Precentación_Quejas[[#This Row],['# Queja]],Historico_Registro_Quejas3[#All],2,0)","v":"2018-06-16"},{"$f":"VLOOKUP(Precentación_Quejas[[#This Row],['# Queja]],Historico_Registro_Quejas3[#All],7,0)","v":"Cenas y bar de la piscina con precios muy elevados."},{"$f":"VLOOKUP(Precentación_Quejas[[#This Row],['# Queja]],Historico_Registro_Quejas3[#All],22,0)","v":"Calidad comida"},{"$f":"VLOOKUP(Precentación_Quejas[[#This Row],[Payaso]],Tabla_Payasos[[Payasos]:[Columna1]],2,0)","v":70},675,{"$f":"VLOOKUP(Precentación_Quejas[[#This Row],['# Queja]],Historico_Registro_Quejas3[[#All],['# Queja]:[Valoración]],15,0)","v":"ROJA"}]
[{"$f":"VLOOKUP(Precentación_Quejas[[#This Row],['# Queja]],Historico_Registro_Quejas3[#All],4,0)","v":0},{"$f":"VLOOKUP(Precentación_Quejas[[#This Row],['# Queja]],Historico_Registro_Quejas3[#All],2,0)","v":"2018-06-13"},{"$f":"VLOOKUP(Precentación_Quejas[[#This Row],['# Queja]],Historico_Registro_Quejas3[#All],7,0)","v":"El sushi es pésimo, la calidad de los ingredientes es terrible (cero frescos), las combinaciones de sabor fatal, el arroz no tiene la textura adecuada y tampoco buena presentación. \r\nNo entiendo como un hotel tan bello puede ofrecer un sushi tan terrible :(\r\n"},{"$f":"VLOOKUP(Precentación_Quejas[[#This Row],['# Queja]],Historico_Registro_Quejas3[#All],22,0)","v":"Calidad Sushi"},{"$f":"VLOOKUP(Precentación_Quejas[[#This Row],[Payaso]],Tabla_Payasos[[Payasos]:[Columna1]],2,0)","v":7},674,{"$f":"VLOOKUP(Precentación_Quejas[[#This Row],['# Queja]],Historico_Registro_Quejas3[[#All],['# Queja]:[Valoración]],15,0)","v":"ROJA"}]
[{"$f":"VLOOKUP(Precentación_Quejas[[#This Row],['# Queja]],Historico_Registro_Quejas3[#All],4,0)","v":710},{"$f":"VLOOKUP(Precentación_Quejas[[#This Row],['# Queja]],Historico_Registro_Quejas3[#All],2,0)","v":"2018-06-29"},{"$f":"VLOOKUP(Precentación_Quejas[[#This Row],['# Queja]],Historico_Registro_Quejas3[#All],7,0)","v":"Huésped reporta que hay cucarachas en la habitación"},{"$f":"VLOOKUP(Precentación_Quejas[[#This Row],['# Queja]],Historico_Registro_Quejas3[#All],22,0)","v":"Plagas Habitaciones"},{"$f":"VLOOKUP(Precentación_Quejas[[#This Row],[Payaso]],Tabla_Payasos[[Payasos]:[Columna1]],2,0)","v":49},673,{"$f":"VLOOKUP(Precentación_Quejas[[#This Row],['# Queja]],Historico_Registro_Quejas3[[#All],['# Queja]:[Valoración]],15,0)","v":"ROJA"}]
[{"$f":"VLOOKUP(Precentación_Quejas[[#This Row],['# Queja]],Historico_Registro_Quejas3[#All],4,0)","v":"111-112"},{"$f":"VLOOKUP(Precentación_Quejas[[#This Row],['# Queja]],Historico_Registro_Quejas3[#All],2,0)","v":"2018-06-29"},{"$f":"VLOOKUP(Precentación_Quejas[[#This Row],['# Queja]],Historico_Registro_Quejas3[#All],7,0)","v":"Huéspedes se quejan que se les hizo entrega de l acajaita de desayuno y no incluía cucharas o tenedores para comer. Tuvieron que bajarse del carro y venir a recepción porque se les había indicado que si llevaban cucharas de acuerdo a lo que se indicó de parte de los compañeros de salón a recepción."},{"$f":"VLOOKUP(Precentación_Quejas[[#This Row],['# Queja]],Historico_Registro_Quejas3[#All],22,0)","v":"Calida Desayuno"},{"$f":"VLOOKUP(Precentación_Quejas[[#This Row],[Payaso]],Tabla_Payasos[[Payasos]:[Columna1]],2,0)","v":15},672,{"$f":"VLOOKUP(Precentación_Quejas[[#This Row],['# Queja]],Historico_Registro_Quejas3[[#All],['# Queja]:[Valoración]],15,0)","v":"ROJA"}]
[{"$f":"VLOOKUP(Precentación_Quejas[[#This Row],['# Queja]],Historico_Registro_Quejas3[#All],4,0)","v":"514-515"},{"$f":"VLOOKUP(Precentación_Quejas[[#This Row],['# Queja]],Historico_Registro_Quejas3[#All],2,0)","v":"2018-06-28"},{"$f":"VLOOKUP(Precentación_Quejas[[#This Row],['# Queja]],Historico_Registro_Quejas3[#All],7,0)","v":"Huésped bastante decepcionado y molesto ya que en su habitación no dejan de salir cucarachas principalmente del lado del mueble cerca del televisor, el muchacho se acercó a recepción indicando que está cansado de esto y que jamás pensó que el hotel fuera un cucarachero, se fumigó horas antes y debido a eso salen las cucarachas atontadas y esto molestó más al huésped. El dice que va estar 2 noches más en el hotel y que no esperaba vivir esto."},{"$f":"VLOOKUP(Precentación_Quejas[[#This Row],['# Queja]],Historico_Registro_Quejas3[#All],22,0)","v":"Plagas Habitaciones"},{"$f":"VLOOKUP(Precentación_Quejas[[#This Row],[Payaso]],Tabla_Payasos[[Payasos]:[Columna1]],2,0)","v":49},671,{"$f":"VLOOKUP(Precentación_Quejas[[#This Row],['# Queja]],Historico_Registro_Quejas3[[#All],['# Queja]:[Valoración]],15,0)","v":"ROJA"}]
[{"$f":"VLOOKUP(Precentación_Quejas[[#This Row],['# Queja]],Historico_Registro_Quejas3[#All],4,0)","v":105},{"$f":"VLOOKUP(Precentación_Quejas[[#This Row],['# Queja]],Historico_Registro_Quejas3[#All],2,0)","v":"2018-06-28"},{"$f":"VLOOKUP(Precentación_Quejas[[#This Row],['# Queja]],Historico_Registro_Quejas3[#All],7,0)","v":"Precios sumamente caros en las comidas, deberían poner un transporte a la fortuna donde se pueda ir y comer y que ofrezcan precios razonables"},{"$f":"VLOOKUP(Precentación_Quejas[[#This Row],['# Queja]],Historico_Registro_Quejas3[#All],22,0)","v":"Calidad comida"},{"$f":"VLOOKUP(Precentación_Quejas[[#This Row],[Payaso]],Tabla_Payasos[[Payasos]:[Columna1]],2,0)","v":70},670,{"$f":"VLOOKUP(Precentación_Quejas[[#This Row],['# Queja]],Historico_Registro_Quejas3[[#All],['# Queja]:[Valoración]],15,0)","v":"ROJA"}]
[{"$f":"VLOOKUP(Precentación_Quejas[[#This Row],['# Queja]],Historico_Registro_Quejas3[#All],4,0)","v":105},{"$f":"VLOOKUP(Precentación_Quejas[[#This Row],['# Queja]],Historico_Registro_Quejas3[#All],2,0)","v":"2018-06-28"},{"$f":"VLOOKUP(Precentación_Quejas[[#This Row],['# Queja]],Historico_Registro_Quejas3[#All],7,0)","v":"Huéspedes se quejan que el servicio de internet no les funciona y aunque aparecen conectados no es posible usar el internet."},{"$f":"VLOOKUP(Precentación_Quejas[[#This Row],['# Queja]],Historico_Registro_Quejas3[#All],22,0)","v":"Wifi"},{"$f":"VLOOKUP(Precentación_Quejas[[#This Row],[Payaso]],Tabla_Payasos[[Payasos]:[Columna1]],2,0)","v":23},669,{"$f":"VLOOKUP(Precentación_Quejas[[#This Row],['# Queja]],Historico_Registro_Quejas3[[#All],['# Queja]:[Valoración]],15,0)","v":"ROJA"}]
[{"$f":"VLOOKUP(Precentación_Quejas[[#This Row],['# Queja]],Historico_Registro_Quejas3[#All],4,0)","v":801},{"$f":"VLOOKUP(Precentación_Quejas[[#This Row],['# Queja]],Historico_Registro_Quejas3[#All],2,0)","v":"2018-06-28"},{"$f":"VLOOKUP(Precentación_Quejas[[#This Row],['# Queja]],Historico_Registro_Quejas3[#All],7,0)","v":"Las instrucciones en alemán están mal redactadas y con mala ortografía también."},{"$f":"VLOOKUP(Precentación_Quejas[[#This Row],['# Queja]],Historico_Registro_Quejas3[#All],22,0)","v":"Encuentas de satisfacción"},{"$f":"VLOOKUP(Precentación_Quejas[[#This Row],[Payaso]],Tabla_Payasos[[Payasos]:[Columna1]],2,0)","v":1},668,{"$f":"VLOOKUP(Precentación_Quejas[[#This Row],['# Queja]],Historico_Registro_Quejas3[[#All],['# Queja]:[Valoración]],15,0)","v":"ROJA"}]
[{"$f":"VLOOKUP(Precentación_Quejas[[#This Row],['# Queja]],Historico_Registro_Quejas3[#All],4,0)","v":504},{"$f":"VLOOKUP(Precentación_Quejas[[#This Row],['# Queja]],Historico_Registro_Quejas3[#All],2,0)","v":"2018-06-24"},{"$f":"VLOOKUP(Precentación_Quejas[[#This Row],['# Queja]],Historico_Registro_Quejas3[#All],7,0)","v":"El baño de la habitación expide un olor desagradable"},{"$f":"VLOOKUP(Precentación_Quejas[[#This Row],['# Queja]],Historico_Registro_Quejas3[#All],22,0)","v":"Habitaciones"},{"$f":"VLOOKUP(Precentación_Quejas[[#This Row],[Payaso]],Tabla_Payasos[[Payasos]:[Columna1]],2,0)","v":54},667,{"$f":"VLOOKUP(Precentación_Quejas[[#This Row],['# Queja]],Historico_Registro_Quejas3[[#All],['# Queja]:[Valoración]],15,0)","v":"ROJA"}]
[{"$f":"VLOOKUP(Precentación_Quejas[[#This Row],['# Queja]],Historico_Registro_Quejas3[#All],4,0)","v":301},{"$f":"VLOOKUP(Precentación_Quejas[[#This Row],['# Queja]],Historico_Registro_Quejas3[#All],2,0)","v":"2018-06-27"},{"$f":"VLOOKUP(Precentación_Quejas[[#This Row],['# Queja]],Historico_Registro_Quejas3[#All],7,0)","v":"Tener productos que sean organicos"},{"$f":"VLOOKUP(Precentación_Quejas[[#This Row],['# Queja]],Historico_Registro_Quejas3[#All],22,0)","v":"Calidad comida"},{"$f":"VLOOKUP(Precentación_Quejas[[#This Row],[Payaso]],Tabla_Payasos[[Payasos]:[Columna1]],2,0)","v":70},666,{"$f":"VLOOKUP(Precentación_Quejas[[#This Row],['# Queja]],Historico_Registro_Quejas3[[#All],['# Queja]:[Valoración]],15,0)","v":"ROJA"}]
[{"$f":"VLOOKUP(Precentación_Quejas[[#This Row],['# Queja]],Historico_Registro_Quejas3[#All],4,0)","v":301},{"$f":"VLOOKUP(Precentación_Quejas[[#This Row],['# Queja]],Historico_Registro_Quejas3[#All],2,0)","v":"2018-06-27"},{"$f":"VLOOKUP(Precentación_Quejas[[#This Row],['# Queja]],Historico_Registro_Quejas3[#All],7,0)","v":"Menú para niños"},{"$f":"VLOOKUP(Precentación_Quejas[[#This Row],['# Queja]],Historico_Registro_Quejas3[#All],22,0)","v":"Menú niños"},{"$f":"VLOOKUP(Precentación_Quejas[[#This Row],[Payaso]],Tabla_Payasos[[Payasos]:[Columna1]],2,0)","v":2},665,{"$f":"VLOOKUP(Precentación_Quejas[[#This Row],['# Queja]],Historico_Registro_Quejas3[[#All],['# Queja]:[Valoración]],15,0)","v":"ROJA"}]
[{"$f":"VLOOKUP(Precentación_Quejas[[#This Row],['# Queja]],Historico_Registro_Quejas3[#All],4,0)","v":602},{"$f":"VLOOKUP(Precentación_Quejas[[#This Row],['# Queja]],Historico_Registro_Quejas3[#All],2,0)","v":"2018-06-27"},{"$f":"VLOOKUP(Precentación_Quejas[[#This Row],['# Queja]],Historico_Registro_Quejas3[#All],7,0)","v":"El restaurante nacional debería de tener más decoración costarricense, más musica típica para el desayuno e instrumental para la noche"},{"$f":"VLOOKUP(Precentación_Quejas[[#This Row],['# Queja]],Historico_Registro_Quejas3[#All],22,0)","v":"Menú típico"},{"$f":"VLOOKUP(Precentación_Quejas[[#This Row],[Payaso]],Tabla_Payasos[[Payasos]:[Columna1]],2,0)","v":5},664,{"$f":"VLOOKUP(Precentación_Quejas[[#This Row],['# Queja]],Historico_Registro_Quejas3[[#All],['# Queja]:[Valoración]],15,0)","v":"ROJA"}]
[{"$f":"VLOOKUP(Precentación_Quejas[[#This Row],['# Queja]],Historico_Registro_Quejas3[#All],4,0)","v":515},{"$f":"VLOOKUP(Precentación_Quejas[[#This Row],['# Queja]],Historico_Registro_Quejas3[#All],2,0)","v":"2018-06-27"},{"$f":"VLOOKUP(Precentación_Quejas[[#This Row],['# Queja]],Historico_Registro_Quejas3[#All],7,0)","v":"Cucarachas en la habitación "},{"$f":"VLOOKUP(Precentación_Quejas[[#This Row],['# Queja]],Historico_Registro_Quejas3[#All],22,0)","v":"Plagas Habitaciones"},{"$f":"VLOOKUP(Precentación_Quejas[[#This Row],[Payaso]],Tabla_Payasos[[Payasos]:[Columna1]],2,0)","v":49},663,{"$f":"VLOOKUP(Precentación_Quejas[[#This Row],['# Queja]],Historico_Registro_Quejas3[[#All],['# Queja]:[Valoración]],15,0)","v":"ROJA"}]
[{"$f":"VLOOKUP(Precentación_Quejas[[#This Row],['# Queja]],Historico_Registro_Quejas3[#All],4,0)","v":408},{"$f":"VLOOKUP(Precentación_Quejas[[#This Row],['# Queja]],Historico_Registro_Quejas3[#All],2,0)","v":"2018-06-25"},{"$f":"VLOOKUP(Precentación_Quejas[[#This Row],['# Queja]],Historico_Registro_Quejas3[#All],7,0)","v":"Más opciones en las comidas y mejorar servicio en el bar de psicinas."},{"$f":"VLOOKUP(Precentación_Quejas[[#This Row],['# Queja]],Historico_Registro_Quejas3[#All],22,0)","v":"Servicio cliente restaurante "},{"$f":"VLOOKUP(Precentación_Quejas[[#This Row],[Payaso]],Tabla_Payasos[[Payasos]:[Columna1]],2,0)","v":25},662,{"$f":"VLOOKUP(Precentación_Quejas[[#This Row],['# Queja]],Historico_Registro_Quejas3[[#All],['# Queja]:[Valoración]],15,0)","v":"ROJA"}]
[{"$f":"VLOOKUP(Precentación_Quejas[[#This Row],['# Queja]],Historico_Registro_Quejas3[#All],4,0)","v":304},{"$f":"VLOOKUP(Precentación_Quejas[[#This Row],['# Queja]],Historico_Registro_Quejas3[#All],2,0)","v":"2018-06-25"},{"$f":"VLOOKUP(Precentación_Quejas[[#This Row],['# Queja]],Historico_Registro_Quejas3[#All],7,0)","v":"Solo hay una mesa de noche y deberían haber dos para poner cosas."},{"$f":"VLOOKUP(Precentación_Quejas[[#This Row],['# Queja]],Historico_Registro_Quejas3[#All],22,0)","v":"Habitaciones"},{"$f":"VLOOKUP(Precentación_Quejas[[#This Row],[Payaso]],Tabla_Payasos[[Payasos]:[Columna1]],2,0)","v":54},661,{"$f":"VLOOKUP(Precentación_Quejas[[#This Row],['# Queja]],Historico_Registro_Quejas3[[#All],['# Queja]:[Valoración]],15,0)","v":"ROJA"}]
[{"$f":"VLOOKUP(Precentación_Quejas[[#This Row],['# Queja]],Historico_Registro_Quejas3[#All],4,0)","v":304},{"$f":"VLOOKUP(Precentación_Quejas[[#This Row],['# Queja]],Historico_Registro_Quejas3[#All],2,0)","v":"2018-06-24"},{"$f":"VLOOKUP(Precentación_Quejas[[#This Row],['# Queja]],Historico_Registro_Quejas3[#All],7,0)","v":"Alrededor del hotel deberían haber mas senderos o areas para ver aves y flores."},{"$f":"VLOOKUP(Precentación_Quejas[[#This Row],['# Queja]],Historico_Registro_Quejas3[#All],22,0)","v":"Desestimado"},{"$f":"VLOOKUP(Precentación_Quejas[[#This Row],[Payaso]],Tabla_Payasos[[Payasos]:[Columna1]],2,0)","v":29},660,{"$f":"VLOOKUP(Precentación_Quejas[[#This Row],['# Queja]],Historico_Registro_Quejas3[[#All],['# Queja]:[Valoración]],15,0)","v":"Desestimada"}]
[{"$f":"VLOOKUP(Precentación_Quejas[[#This Row],['# Queja]],Historico_Registro_Quejas3[#All],4,0)","v":211},{"$f":"VLOOKUP(Precentación_Quejas[[#This Row],['# Queja]],Historico_Registro_Quejas3[#All],2,0)","v":"2018-04-24"},{"$f":"VLOOKUP(Precentación_Quejas[[#This Row],['# Queja]],Historico_Registro_Quejas3[#All],7,0)","v":"Es necesario tener mas opciones para personas diabéticas."},{"$f":"VLOOKUP(Precentación_Quejas[[#This Row],['# Queja]],Historico_Registro_Quejas3[#All],22,0)","v":"Desestimado"},{"$f":"VLOOKUP(Precentación_Quejas[[#This Row],[Payaso]],Tabla_Payasos[[Payasos]:[Columna1]],2,0)","v":29},659,{"$f":"VLOOKUP(Precentación_Quejas[[#This Row],['# Queja]],Historico_Registro_Quejas3[[#All],['# Queja]:[Valoración]],15,0)","v":"Desestimada"}]
[{"$f":"VLOOKUP(Precentación_Quejas[[#This Row],['# Queja]],Historico_Registro_Quejas3[#All],4,0)","v":407},{"$f":"VLOOKUP(Precentación_Quejas[[#This Row],['# Queja]],Historico_Registro_Quejas3[#All],2,0)","v":"2018-06-24"},{"$f":"VLOOKUP(Precentación_Quejas[[#This Row],['# Queja]],Historico_Registro_Quejas3[#All],7,0)","v":"El espejo con aumento en el baño esta muy alto."},{"$f":"VLOOKUP(Precentación_Quejas[[#This Row],['# Queja]],Historico_Registro_Quejas3[#All],22,0)","v":"Desestimado"},{"$f":"VLOOKUP(Precentación_Quejas[[#This Row],[Payaso]],Tabla_Payasos[[Payasos]:[Columna1]],2,0)","v":29},658,{"$f":"VLOOKUP(Precentación_Quejas[[#This Row],['# Queja]],Historico_Registro_Quejas3[[#All],['# Queja]:[Valoración]],15,0)","v":"Desestimada"}]
[{"$f":"VLOOKUP(Precentación_Quejas[[#This Row],['# Queja]],Historico_Registro_Quejas3[#All],4,0)","v":705},{"$f":"VLOOKUP(Precentación_Quejas[[#This Row],['# Queja]],Historico_Registro_Quejas3[#All],2,0)","v":"2018-06-23"},{"$f":"VLOOKUP(Precentación_Quejas[[#This Row],['# Queja]],Historico_Registro_Quejas3[#All],7,0)","v":"Sería bueno tener un espejo grande en la habitación fuera del baño"},{"$f":"VLOOKUP(Precentación_Quejas[[#This Row],['# Queja]],Historico_Registro_Quejas3[#All],22,0)","v":"Habitaciones"},{"$f":"VLOOKUP(Precentación_Quejas[[#This Row],[Payaso]],Tabla_Payasos[[Payasos]:[Columna1]],2,0)","v":54},657,{"$f":"VLOOKUP(Precentación_Quejas[[#This Row],['# Queja]],Historico_Registro_Quejas3[[#All],['# Queja]:[Valoración]],15,0)","v":"Desestimada"}]
[{"$f":"VLOOKUP(Precentación_Quejas[[#This Row],['# Queja]],Historico_Registro_Quejas3[#All],4,0)","v":111},{"$f":"VLOOKUP(Precentación_Quejas[[#This Row],['# Queja]],Historico_Registro_Quejas3[#All],2,0)","v":"2018-06-23"},{"$f":"VLOOKUP(Precentación_Quejas[[#This Row],['# Queja]],Historico_Registro_Quejas3[#All],7,0)","v":"El huésped menciona que el día miercoles 20 al ser las 9 de la mañana cuando fueron al desayuno, los muchachos del restaurante se veían más apurado por limpiar y terminar que por servir al huésped"},{"$f":"VLOOKUP(Precentación_Quejas[[#This Row],['# Queja]],Historico_Registro_Quejas3[#All],22,0)","v":"Servicio cliente restaurante "},{"$f":"VLOOKUP(Precentación_Quejas[[#This Row],[Payaso]],Tabla_Payasos[[Payasos]:[Columna1]],2,0)","v":25},656,{"$f":"VLOOKUP(Precentación_Quejas[[#This Row],['# Queja]],Historico_Registro_Quejas3[[#All],['# Queja]:[Valoración]],15,0)","v":"ROJA"}]
[{"$f":"VLOOKUP(Precentación_Quejas[[#This Row],['# Queja]],Historico_Registro_Quejas3[#All],4,0)","v":612},{"$f":"VLOOKUP(Precentación_Quejas[[#This Row],['# Queja]],Historico_Registro_Quejas3[#All],2,0)","v":"2018-06-22"},{"$f":"VLOOKUP(Precentación_Quejas[[#This Row],['# Queja]],Historico_Registro_Quejas3[#All],7,0)","v":"Tienen muchos bichos en la habitación, "},{"$f":"VLOOKUP(Precentación_Quejas[[#This Row],['# Queja]],Historico_Registro_Quejas3[#All],22,0)","v":"Plagas Habitaciones"},{"$f":"VLOOKUP(Precentación_Quejas[[#This Row],[Payaso]],Tabla_Payasos[[Payasos]:[Columna1]],2,0)","v":49},655,{"$f":"VLOOKUP(Precentación_Quejas[[#This Row],['# Queja]],Historico_Registro_Quejas3[[#All],['# Queja]:[Valoración]],15,0)","v":"ROJA"}]
[{"$f":"VLOOKUP(Precentación_Quejas[[#This Row],['# Queja]],Historico_Registro_Quejas3[#All],4,0)","v":"309-310"},{"$f":"VLOOKUP(Precentación_Quejas[[#This Row],['# Queja]],Historico_Registro_Quejas3[#All],2,0)","v":"2018-06-22"},{"$f":"VLOOKUP(Precentación_Quejas[[#This Row],['# Queja]],Historico_Registro_Quejas3[#All],7,0)","v":"Tienen muchas hormigas y bichos en la habitación. Es el segundo reporte durante la estadía. "},{"$f":"VLOOKUP(Precentación_Quejas[[#This Row],['# Queja]],Historico_Registro_Quejas3[#All],22,0)","v":"Plagas Habitaciones"},{"$f":"VLOOKUP(Precentación_Quejas[[#This Row],[Payaso]],Tabla_Payasos[[Payasos]:[Columna1]],2,0)","v":49},654,{"$f":"VLOOKUP(Precentación_Quejas[[#This Row],['# Queja]],Historico_Registro_Quejas3[[#All],['# Queja]:[Valoración]],15,0)","v":"ROJA"}]
[{"$f":"VLOOKUP(Precentación_Quejas[[#This Row],['# Queja]],Historico_Registro_Quejas3[#All],4,0)","v":502},{"$f":"VLOOKUP(Precentación_Quejas[[#This Row],['# Queja]],Historico_Registro_Quejas3[#All],2,0)","v":"2018-06-20"},{"$f":"VLOOKUP(Precentación_Quejas[[#This Row],['# Queja]],Historico_Registro_Quejas3[#All],7,0)","v":"Huésped muy decepcionado del servicio de Internet que le ofrecemos, el mismo no puede utilizar un celular que usa para negocios ya que a pesar de que le sale conectado no es posible hacer uso del internet."},{"$f":"VLOOKUP(Precentación_Quejas[[#This Row],['# Queja]],Historico_Registro_Quejas3[#All],22,0)","v":"Wifi"},{"$f":"VLOOKUP(Precentación_Quejas[[#This Row],[Payaso]],Tabla_Payasos[[Payasos]:[Columna1]],2,0)","v":23},653,{"$f":"VLOOKUP(Precentación_Quejas[[#This Row],['# Queja]],Historico_Registro_Quejas3[[#All],['# Queja]:[Valoración]],15,0)","v":"ROJA"}]
[{"$f":"VLOOKUP(Precentación_Quejas[[#This Row],['# Queja]],Historico_Registro_Quejas3[#All],4,0)","v":602},{"$f":"VLOOKUP(Precentación_Quejas[[#This Row],['# Queja]],Historico_Registro_Quejas3[#All],2,0)","v":"2018-06-20"},{"$f":"VLOOKUP(Precentación_Quejas[[#This Row],['# Queja]],Historico_Registro_Quejas3[#All],7,0)","v":"Equipo del gym no funciona apropiadamente."},{"$f":"VLOOKUP(Precentación_Quejas[[#This Row],['# Queja]],Historico_Registro_Quejas3[#All],22,0)","v":"Gimnasio"},{"$f":"VLOOKUP(Precentación_Quejas[[#This Row],[Payaso]],Tabla_Payasos[[Payasos]:[Columna1]],2,0)","v":4},652,{"$f":"VLOOKUP(Precentación_Quejas[[#This Row],['# Queja]],Historico_Registro_Quejas3[[#All],['# Queja]:[Valoración]],15,0)","v":"ROJA"}]
[{"$f":"VLOOKUP(Precentación_Quejas[[#This Row],['# Queja]],Historico_Registro_Quejas3[#All],4,0)","v":512},{"$f":"VLOOKUP(Precentación_Quejas[[#This Row],['# Queja]],Historico_Registro_Quejas3[#All],2,0)","v":"2018-06-19"},{"$f":"VLOOKUP(Precentación_Quejas[[#This Row],['# Queja]],Historico_Registro_Quejas3[#All],7,0)","v":"El jacuzzi de la habitación no le funciona el agua termal"},{"$f":"VLOOKUP(Precentación_Quejas[[#This Row],['# Queja]],Historico_Registro_Quejas3[#All],22,0)","v":"Rotulación Jacuzzi"},{"$f":"VLOOKUP(Precentación_Quejas[[#This Row],[Payaso]],Tabla_Payasos[[Payasos]:[Columna1]],2,0)","v":4},651,{"$f":"VLOOKUP(Precentación_Quejas[[#This Row],['# Queja]],Historico_Registro_Quejas3[[#All],['# Queja]:[Valoración]],15,0)","v":"ROJA"}]
[{"$f":"VLOOKUP(Precentación_Quejas[[#This Row],['# Queja]],Historico_Registro_Quejas3[#All],4,0)","v":103},{"$f":"VLOOKUP(Precentación_Quejas[[#This Row],['# Queja]],Historico_Registro_Quejas3[#All],2,0)","v":"2018-06-19"},{"$f":"VLOOKUP(Precentación_Quejas[[#This Row],['# Queja]],Historico_Registro_Quejas3[#All],7,0)","v":"El basurero del servicio de la habitación debería tener tapa"},{"$f":"VLOOKUP(Precentación_Quejas[[#This Row],['# Queja]],Historico_Registro_Quejas3[#All],22,0)","v":"Habitaciones"},{"$f":"VLOOKUP(Precentación_Quejas[[#This Row],[Payaso]],Tabla_Payasos[[Payasos]:[Columna1]],2,0)","v":54},650,{"$f":"VLOOKUP(Precentación_Quejas[[#This Row],['# Queja]],Historico_Registro_Quejas3[[#All],['# Queja]:[Valoración]],15,0)","v":"ROJA"}]
[{"$f":"VLOOKUP(Precentación_Quejas[[#This Row],['# Queja]],Historico_Registro_Quejas3[#All],4,0)","v":104},{"$f":"VLOOKUP(Precentación_Quejas[[#This Row],['# Queja]],Historico_Registro_Quejas3[#All],2,0)","v":"2018-06-20"},{"$f":"VLOOKUP(Precentación_Quejas[[#This Row],['# Queja]],Historico_Registro_Quejas3[#All],7,0)","v":"Sería bueno tener gavetas más amplias en el baño"},{"$f":"VLOOKUP(Precentación_Quejas[[#This Row],['# Queja]],Historico_Registro_Quejas3[#All],22,0)","v":"Desestimado"},{"$f":"VLOOKUP(Precentación_Quejas[[#This Row],[Payaso]],Tabla_Payasos[[Payasos]:[Columna1]],2,0)","v":29},649,{"$f":"VLOOKUP(Precentación_Quejas[[#This Row],['# Queja]],Historico_Registro_Quejas3[[#All],['# Queja]:[Valoración]],15,0)","v":"Desestimada"}]
[{"$f":"VLOOKUP(Precentación_Quejas[[#This Row],['# Queja]],Historico_Registro_Quejas3[#All],4,0)","v":407},{"$f":"VLOOKUP(Precentación_Quejas[[#This Row],['# Queja]],Historico_Registro_Quejas3[#All],2,0)","v":"2018-06-20"},{"$f":"VLOOKUP(Precentación_Quejas[[#This Row],['# Queja]],Historico_Registro_Quejas3[#All],7,0)","v":"Algunos insectos en la habitación"},{"$f":"VLOOKUP(Precentación_Quejas[[#This Row],['# Queja]],Historico_Registro_Quejas3[#All],22,0)","v":"Plagas Habitaciones"},{"$f":"VLOOKUP(Precentación_Quejas[[#This Row],[Payaso]],Tabla_Payasos[[Payasos]:[Columna1]],2,0)","v":49},648,{"$f":"VLOOKUP(Precentación_Quejas[[#This Row],['# Queja]],Historico_Registro_Quejas3[[#All],['# Queja]:[Valoración]],15,0)","v":"ROJA"}]
[{"$f":"VLOOKUP(Precentación_Quejas[[#This Row],['# Queja]],Historico_Registro_Quejas3[#All],4,0)","v":603},{"$f":"VLOOKUP(Precentación_Quejas[[#This Row],['# Queja]],Historico_Registro_Quejas3[#All],2,0)","v":"2018-06-17"},{"$f":"VLOOKUP(Precentación_Quejas[[#This Row],['# Queja]],Historico_Registro_Quejas3[#All],7,0)","v":"Muchas Hormigas en la habitación."},{"$f":"VLOOKUP(Precentación_Quejas[[#This Row],['# Queja]],Historico_Registro_Quejas3[#All],22,0)","v":"Plagas Habitaciones"},{"$f":"VLOOKUP(Precentación_Quejas[[#This Row],[Payaso]],Tabla_Payasos[[Payasos]:[Columna1]],2,0)","v":49},647,{"$f":"VLOOKUP(Precentación_Quejas[[#This Row],['# Queja]],Historico_Registro_Quejas3[[#All],['# Queja]:[Valoración]],15,0)","v":"ROJA"}]
[{"$f":"VLOOKUP(Precentación_Quejas[[#This Row],['# Queja]],Historico_Registro_Quejas3[#All],4,0)","v":403},{"$f":"VLOOKUP(Precentación_Quejas[[#This Row],['# Queja]],Historico_Registro_Quejas3[#All],2,0)","v":"2018-06-17"},{"$f":"VLOOKUP(Precentación_Quejas[[#This Row],['# Queja]],Historico_Registro_Quejas3[#All],7,0)","v":"Huésped se queja de que a la hora de reservar en el hotel acordó una cena romántica especial  cual le vendieron y prometieron y no se cumplió, el señor estaba bastante molesto porque pagó más de 100 dólares por la cena y el menú que le brindaron era el mismo menú que se le ofrece a todos los clientes, el señor argumenta que  no hay nada especial en lo que se le ofreció y lo que le molesta es que le hayan mentido, el mismo prefirió que se le reintegrara el dinero y que iba a pagar lo que consumiera como otro huésped más común y corriente. "},{"$f":"VLOOKUP(Precentación_Quejas[[#This Row],['# Queja]],Historico_Registro_Quejas3[#All],22,0)","v":"Calidad comida"},{"$f":"VLOOKUP(Precentación_Quejas[[#This Row],[Payaso]],Tabla_Payasos[[Payasos]:[Columna1]],2,0)","v":70},646,{"$f":"VLOOKUP(Precentación_Quejas[[#This Row],['# Queja]],Historico_Registro_Quejas3[[#All],['# Queja]:[Valoración]],15,0)","v":"ROJA"}]
[{"$f":"VLOOKUP(Precentación_Quejas[[#This Row],['# Queja]],Historico_Registro_Quejas3[#All],4,0)","v":503},{"$f":"VLOOKUP(Precentación_Quejas[[#This Row],['# Queja]],Historico_Registro_Quejas3[#All],2,0)","v":"2018-06-17"},{"$f":"VLOOKUP(Precentación_Quejas[[#This Row],['# Queja]],Historico_Registro_Quejas3[#All],7,0)","v":"Huésped se queja que el internet le funciona en la hab 503 pero en la de la par no le sirve del todo lo cual le parece bastante extraño."},{"$f":"VLOOKUP(Precentación_Quejas[[#This Row],['# Queja]],Historico_Registro_Quejas3[#All],22,0)","v":"Wifi"},{"$f":"VLOOKUP(Precentación_Quejas[[#This Row],[Payaso]],Tabla_Payasos[[Payasos]:[Columna1]],2,0)","v":23},645,{"$f":"VLOOKUP(Precentación_Quejas[[#This Row],['# Queja]],Historico_Registro_Quejas3[[#All],['# Queja]:[Valoración]],15,0)","v":"ROJA"}]
[{"$f":"VLOOKUP(Precentación_Quejas[[#This Row],['# Queja]],Historico_Registro_Quejas3[#All],4,0)","v":"Grupo de la Mora"},{"$f":"VLOOKUP(Precentación_Quejas[[#This Row],['# Queja]],Historico_Registro_Quejas3[#All],2,0)","v":"2018-06-17"},{"$f":"VLOOKUP(Precentación_Quejas[[#This Row],['# Queja]],Historico_Registro_Quejas3[#All],7,0)","v":"A continuación hacemos de su conocimiento una situación que se presentó en el restaurante Ti-Cain durante la cena del “Grupo de La Mora”.\nAl ser las 9:20pm se aproximó a recepción  el encargado del Grupo de La Mora, el mismo nos preguntó si se encontraba Miguel Munera en el hotel, ya que deseaba externarle el malestar por la mala atención que recibieron a la hora de la cena, nos comenta que el servicio fue lento y que la comida simplemente no estuvo bien, también nos hace saber que la tour leader le pidió por favor para la cena de mañana buscar un restaurante en el centro en el cual les brinden un buen servicio rápido y oportuno.\n"},{"$f":"VLOOKUP(Precentación_Quejas[[#This Row],['# Queja]],Historico_Registro_Quejas3[#All],22,0)","v":"Calidad comida"},{"$f":"VLOOKUP(Precentación_Quejas[[#This Row],[Payaso]],Tabla_Payasos[[Payasos]:[Columna1]],2,0)","v":70},644,{"$f":"VLOOKUP(Precentación_Quejas[[#This Row],['# Queja]],Historico_Registro_Quejas3[[#All],['# Queja]:[Valoración]],15,0)","v":"ROJA"}]
[{"$f":"VLOOKUP(Precentación_Quejas[[#This Row],['# Queja]],Historico_Registro_Quejas3[#All],4,0)","v":607},{"$f":"VLOOKUP(Precentación_Quejas[[#This Row],['# Queja]],Historico_Registro_Quejas3[#All],2,0)","v":"2018-06-13"},{"$f":"VLOOKUP(Precentación_Quejas[[#This Row],['# Queja]],Historico_Registro_Quejas3[#All],7,0)","v":"\"Una cuchara pequeña que utilicé para endulzar mi café, no me di cuenta pero estaba sucia con huevo\" huésped nos recomienda entonces tener más cuidado con esto"},{"$f":"VLOOKUP(Precentación_Quejas[[#This Row],['# Queja]],Historico_Registro_Quejas3[#All],22,0)","v":"Plagas Habitaciones"},{"$f":"VLOOKUP(Precentación_Quejas[[#This Row],[Payaso]],Tabla_Payasos[[Payasos]:[Columna1]],2,0)","v":49},643,{"$f":"VLOOKUP(Precentación_Quejas[[#This Row],['# Queja]],Historico_Registro_Quejas3[[#All],['# Queja]:[Valoración]],15,0)","v":"ROJA"}]
[{"$f":"VLOOKUP(Precentación_Quejas[[#This Row],['# Queja]],Historico_Registro_Quejas3[#All],4,0)","v":709},{"$f":"VLOOKUP(Precentación_Quejas[[#This Row],['# Queja]],Historico_Registro_Quejas3[#All],2,0)","v":"2018-06-13"},{"$f":"VLOOKUP(Precentación_Quejas[[#This Row],['# Queja]],Historico_Registro_Quejas3[#All],7,0)","v":"El baño necesita mejor iluminación // Coordinar poner dos bombillos por lámpara"},{"$f":"VLOOKUP(Precentación_Quejas[[#This Row],['# Queja]],Historico_Registro_Quejas3[#All],22,0)","v":"Habitaciones"},{"$f":"VLOOKUP(Precentación_Quejas[[#This Row],[Payaso]],Tabla_Payasos[[Payasos]:[Columna1]],2,0)","v":54},642,{"$f":"VLOOKUP(Precentación_Quejas[[#This Row],['# Queja]],Historico_Registro_Quejas3[[#All],['# Queja]:[Valoración]],15,0)","v":"ROJA"}]
[{"$f":"VLOOKUP(Precentación_Quejas[[#This Row],['# Queja]],Historico_Registro_Quejas3[#All],4,0)","v":109},{"$f":"VLOOKUP(Precentación_Quejas[[#This Row],['# Queja]],Historico_Registro_Quejas3[#All],2,0)","v":"2018-06-16"},{"$f":"VLOOKUP(Precentación_Quejas[[#This Row],['# Queja]],Historico_Registro_Quejas3[#All],7,0)","v":"Hormigas en la habitacion"},{"$f":"VLOOKUP(Precentación_Quejas[[#This Row],['# Queja]],Historico_Registro_Quejas3[#All],22,0)","v":"Plagas Habitaciones"},{"$f":"VLOOKUP(Precentación_Quejas[[#This Row],[Payaso]],Tabla_Payasos[[Payasos]:[Columna1]],2,0)","v":49},641,{"$f":"VLOOKUP(Precentación_Quejas[[#This Row],['# Queja]],Historico_Registro_Quejas3[[#All],['# Queja]:[Valoración]],15,0)","v":"ROJA"}]
[{"$f":"VLOOKUP(Precentación_Quejas[[#This Row],['# Queja]],Historico_Registro_Quejas3[#All],4,0)","v":504},{"$f":"VLOOKUP(Precentación_Quejas[[#This Row],['# Queja]],Historico_Registro_Quejas3[#All],2,0)","v":"2018-06-16"},{"$f":"VLOOKUP(Precentación_Quejas[[#This Row],['# Queja]],Historico_Registro_Quejas3[#All],7,0)","v":"Huesped  se queja de hormigas en la habitación."},{"$f":"VLOOKUP(Precentación_Quejas[[#This Row],['# Queja]],Historico_Registro_Quejas3[#All],22,0)","v":"Plagas Habitaciones"},{"$f":"VLOOKUP(Precentación_Quejas[[#This Row],[Payaso]],Tabla_Payasos[[Payasos]:[Columna1]],2,0)","v":49},640,{"$f":"VLOOKUP(Precentación_Quejas[[#This Row],['# Queja]],Historico_Registro_Quejas3[[#All],['# Queja]:[Valoración]],15,0)","v":"ROJA"}]
[{"$f":"VLOOKUP(Precentación_Quejas[[#This Row],['# Queja]],Historico_Registro_Quejas3[#All],4,0)","v":"111-112"},{"$f":"VLOOKUP(Precentación_Quejas[[#This Row],['# Queja]],Historico_Registro_Quejas3[#All],2,0)","v":"2018-06-15"},{"$f":"VLOOKUP(Precentación_Quejas[[#This Row],['# Queja]],Historico_Registro_Quejas3[#All],7,0)","v":"Huesped  se queja de hormigas en la habitación."},{"$f":"VLOOKUP(Precentación_Quejas[[#This Row],['# Queja]],Historico_Registro_Quejas3[#All],22,0)","v":"Plagas Habitaciones"},{"$f":"VLOOKUP(Precentación_Quejas[[#This Row],[Payaso]],Tabla_Payasos[[Payasos]:[Columna1]],2,0)","v":49},639,{"$f":"VLOOKUP(Precentación_Quejas[[#This Row],['# Queja]],Historico_Registro_Quejas3[[#All],['# Queja]:[Valoración]],15,0)","v":"ROJA"}]
[{"$f":"VLOOKUP(Precentación_Quejas[[#This Row],['# Queja]],Historico_Registro_Quejas3[#All],4,0)","v":302},{"$f":"VLOOKUP(Precentación_Quejas[[#This Row],['# Queja]],Historico_Registro_Quejas3[#All],2,0)","v":"2018-06-14"},{"$f":"VLOOKUP(Precentación_Quejas[[#This Row],['# Queja]],Historico_Registro_Quejas3[#All],7,0)","v":"Huesped se queja de hormigas en toda la habitación."},{"$f":"VLOOKUP(Precentación_Quejas[[#This Row],['# Queja]],Historico_Registro_Quejas3[#All],22,0)","v":"Plagas Habitaciones"},{"$f":"VLOOKUP(Precentación_Quejas[[#This Row],[Payaso]],Tabla_Payasos[[Payasos]:[Columna1]],2,0)","v":49},638,{"$f":"VLOOKUP(Precentación_Quejas[[#This Row],['# Queja]],Historico_Registro_Quejas3[[#All],['# Queja]:[Valoración]],15,0)","v":"ROJA"}]
[{"$f":"VLOOKUP(Precentación_Quejas[[#This Row],['# Queja]],Historico_Registro_Quejas3[#All],4,0)","v":307},{"$f":"VLOOKUP(Precentación_Quejas[[#This Row],['# Queja]],Historico_Registro_Quejas3[#All],2,0)","v":"2018-06-13"},{"$f":"VLOOKUP(Precentación_Quejas[[#This Row],['# Queja]],Historico_Registro_Quejas3[#All],7,0)","v":"Se queja de la altura de la cama ya que es de baja estatura y le fue muy dificil bajarse."},{"$f":"VLOOKUP(Precentación_Quejas[[#This Row],['# Queja]],Historico_Registro_Quejas3[#All],22,0)","v":"Camas altas "},{"$f":"VLOOKUP(Precentación_Quejas[[#This Row],[Payaso]],Tabla_Payasos[[Payasos]:[Columna1]],2,0)","v":2},637,{"$f":"VLOOKUP(Precentación_Quejas[[#This Row],['# Queja]],Historico_Registro_Quejas3[[#All],['# Queja]:[Valoración]],15,0)","v":"ROJA"}]
[{"$f":"VLOOKUP(Precentación_Quejas[[#This Row],['# Queja]],Historico_Registro_Quejas3[#All],4,0)","v":902},{"$f":"VLOOKUP(Precentación_Quejas[[#This Row],['# Queja]],Historico_Registro_Quejas3[#All],2,0)","v":"2018-06-14"},{"$f":"VLOOKUP(Precentación_Quejas[[#This Row],['# Queja]],Historico_Registro_Quejas3[#All],7,0)","v":"Huésped se queja que ellos nunca pusieron letrero de no molestar en la habitación, y que alguien lo hizo, lo cual esto provocó que no les hicieran la limpieza."},{"$f":"VLOOKUP(Precentación_Quejas[[#This Row],['# Queja]],Historico_Registro_Quejas3[#All],22,0)","v":"Desestimado"},{"$f":"VLOOKUP(Precentación_Quejas[[#This Row],[Payaso]],Tabla_Payasos[[Payasos]:[Columna1]],2,0)","v":29},636,{"$f":"VLOOKUP(Precentación_Quejas[[#This Row],['# Queja]],Historico_Registro_Quejas3[[#All],['# Queja]:[Valoración]],15,0)","v":"Desestimada"}]
[{"$f":"VLOOKUP(Precentación_Quejas[[#This Row],['# Queja]],Historico_Registro_Quejas3[#All],4,0)","v":303},{"$f":"VLOOKUP(Precentación_Quejas[[#This Row],['# Queja]],Historico_Registro_Quejas3[#All],2,0)","v":"2018-06-14"},{"$f":"VLOOKUP(Precentación_Quejas[[#This Row],['# Queja]],Historico_Registro_Quejas3[#All],7,0)","v":"Huésped se queja que su teléfono no conecta a internet de ninguna manera."},{"$f":"VLOOKUP(Precentación_Quejas[[#This Row],['# Queja]],Historico_Registro_Quejas3[#All],22,0)","v":"Wifi"},{"$f":"VLOOKUP(Precentación_Quejas[[#This Row],[Payaso]],Tabla_Payasos[[Payasos]:[Columna1]],2,0)","v":23},635,{"$f":"VLOOKUP(Precentación_Quejas[[#This Row],['# Queja]],Historico_Registro_Quejas3[[#All],['# Queja]:[Valoración]],15,0)","v":"ROJA"}]
[{"$f":"VLOOKUP(Precentación_Quejas[[#This Row],['# Queja]],Historico_Registro_Quejas3[#All],4,0)","v":202},{"$f":"VLOOKUP(Precentación_Quejas[[#This Row],['# Queja]],Historico_Registro_Quejas3[#All],2,0)","v":"2018-06-11"},{"$f":"VLOOKUP(Precentación_Quejas[[#This Row],['# Queja]],Historico_Registro_Quejas3[#All],7,0)","v":"Promover una noche para bailar, o bien tener más buena música."},{"$f":"VLOOKUP(Precentación_Quejas[[#This Row],['# Queja]],Historico_Registro_Quejas3[#All],22,0)","v":"Entretenimiento"},{"$f":"VLOOKUP(Precentación_Quejas[[#This Row],[Payaso]],Tabla_Payasos[[Payasos]:[Columna1]],2,0)","v":7},634,{"$f":"VLOOKUP(Precentación_Quejas[[#This Row],['# Queja]],Historico_Registro_Quejas3[[#All],['# Queja]:[Valoración]],15,0)","v":"VERDE"}]
[{"$f":"VLOOKUP(Precentación_Quejas[[#This Row],['# Queja]],Historico_Registro_Quejas3[#All],4,0)","v":202},{"$f":"VLOOKUP(Precentación_Quejas[[#This Row],['# Queja]],Historico_Registro_Quejas3[#All],2,0)","v":"2018-06-11"},{"$f":"VLOOKUP(Precentación_Quejas[[#This Row],['# Queja]],Historico_Registro_Quejas3[#All],7,0)","v":"Más botellas de agua en la habitación sería un buen detalle"},{"$f":"VLOOKUP(Precentación_Quejas[[#This Row],['# Queja]],Historico_Registro_Quejas3[#All],22,0)","v":"Desestimado"},{"$f":"VLOOKUP(Precentación_Quejas[[#This Row],[Payaso]],Tabla_Payasos[[Payasos]:[Columna1]],2,0)","v":29},633,{"$f":"VLOOKUP(Precentación_Quejas[[#This Row],['# Queja]],Historico_Registro_Quejas3[[#All],['# Queja]:[Valoración]],15,0)","v":"Desestimada"}]
[{"$f":"VLOOKUP(Precentación_Quejas[[#This Row],['# Queja]],Historico_Registro_Quejas3[#All],4,0)","v":202},{"$f":"VLOOKUP(Precentación_Quejas[[#This Row],['# Queja]],Historico_Registro_Quejas3[#All],2,0)","v":"2018-06-11"},{"$f":"VLOOKUP(Precentación_Quejas[[#This Row],['# Queja]],Historico_Registro_Quejas3[#All],7,0)","v":"Sería genial tener una silla en la habitación"},{"$f":"VLOOKUP(Precentación_Quejas[[#This Row],['# Queja]],Historico_Registro_Quejas3[#All],22,0)","v":"Silla en habitación"},{"$f":"VLOOKUP(Precentación_Quejas[[#This Row],[Payaso]],Tabla_Payasos[[Payasos]:[Columna1]],2,0)","v":13},632,{"$f":"VLOOKUP(Precentación_Quejas[[#This Row],['# Queja]],Historico_Registro_Quejas3[[#All],['# Queja]:[Valoración]],15,0)","v":"ROJA"}]
[{"$f":"VLOOKUP(Precentación_Quejas[[#This Row],['# Queja]],Historico_Registro_Quejas3[#All],4,0)","v":202},{"$f":"VLOOKUP(Precentación_Quejas[[#This Row],['# Queja]],Historico_Registro_Quejas3[#All],2,0)","v":"2018-06-11"},{"$f":"VLOOKUP(Precentación_Quejas[[#This Row],['# Queja]],Historico_Registro_Quejas3[#All],7,0)","v":"El shampoo podría ser mejor"},{"$f":"VLOOKUP(Precentación_Quejas[[#This Row],['# Queja]],Historico_Registro_Quejas3[#All],22,0)","v":"Amenidades"},{"$f":"VLOOKUP(Precentación_Quejas[[#This Row],[Payaso]],Tabla_Payasos[[Payasos]:[Columna1]],2,0)","v":3},631,{"$f":"VLOOKUP(Precentación_Quejas[[#This Row],['# Queja]],Historico_Registro_Quejas3[[#All],['# Queja]:[Valoración]],15,0)","v":"ROJA"}]
[{"$f":"VLOOKUP(Precentación_Quejas[[#This Row],['# Queja]],Historico_Registro_Quejas3[#All],4,0)","v":0},{"$f":"VLOOKUP(Precentación_Quejas[[#This Row],['# Queja]],Historico_Registro_Quejas3[#All],2,0)","v":"2018-06-11"},{"$f":"VLOOKUP(Precentación_Quejas[[#This Row],['# Queja]],Historico_Registro_Quejas3[#All],7,0)","v":"Más comida tradicional de Costa Rica en los menú, ya que cuando estuvimos hospedados solo estaba abierto el restaurante italiano y japones."},{"$f":"VLOOKUP(Precentación_Quejas[[#This Row],['# Queja]],Historico_Registro_Quejas3[#All],22,0)","v":"Menú típico"},{"$f":"VLOOKUP(Precentación_Quejas[[#This Row],[Payaso]],Tabla_Payasos[[Payasos]:[Columna1]],2,0)","v":5},630,{"$f":"VLOOKUP(Precentación_Quejas[[#This Row],['# Queja]],Historico_Registro_Quejas3[[#All],['# Queja]:[Valoración]],15,0)","v":"ROJA"}]
[{"$f":"VLOOKUP(Precentación_Quejas[[#This Row],['# Queja]],Historico_Registro_Quejas3[#All],4,0)","v":403},{"$f":"VLOOKUP(Precentación_Quejas[[#This Row],['# Queja]],Historico_Registro_Quejas3[#All],2,0)","v":"2018-06-11"},{"$f":"VLOOKUP(Precentación_Quejas[[#This Row],['# Queja]],Historico_Registro_Quejas3[#All],7,0)","v":"Huésped se queja de un ruido constante como un pito justo detrás de su habitación que no le permite dormir."},{"$f":"VLOOKUP(Precentación_Quejas[[#This Row],['# Queja]],Historico_Registro_Quejas3[#All],22,0)","v":"Alarmas "},{"$f":"VLOOKUP(Precentación_Quejas[[#This Row],[Payaso]],Tabla_Payasos[[Payasos]:[Columna1]],2,0)","v":5},629,{"$f":"VLOOKUP(Precentación_Quejas[[#This Row],['# Queja]],Historico_Registro_Quejas3[[#All],['# Queja]:[Valoración]],15,0)","v":"ROJA"}]
[{"$f":"VLOOKUP(Precentación_Quejas[[#This Row],['# Queja]],Historico_Registro_Quejas3[#All],4,0)","v":610},{"$f":"VLOOKUP(Precentación_Quejas[[#This Row],['# Queja]],Historico_Registro_Quejas3[#All],2,0)","v":"2018-06-11"},{"$f":"VLOOKUP(Precentación_Quejas[[#This Row],['# Queja]],Historico_Registro_Quejas3[#All],7,0)","v":"Huéspedes se quejan de hormigas y cucarachas en la habitación."},{"$f":"VLOOKUP(Precentación_Quejas[[#This Row],['# Queja]],Historico_Registro_Quejas3[#All],22,0)","v":"Plagas Habitaciones"},{"$f":"VLOOKUP(Precentación_Quejas[[#This Row],[Payaso]],Tabla_Payasos[[Payasos]:[Columna1]],2,0)","v":49},628,{"$f":"VLOOKUP(Precentación_Quejas[[#This Row],['# Queja]],Historico_Registro_Quejas3[[#All],['# Queja]:[Valoración]],15,0)","v":"ROJA"}]
[{"$f":"VLOOKUP(Precentación_Quejas[[#This Row],['# Queja]],Historico_Registro_Quejas3[#All],4,0)","v":510},{"$f":"VLOOKUP(Precentación_Quejas[[#This Row],['# Queja]],Historico_Registro_Quejas3[#All],2,0)","v":"2018-06-09"},{"$f":"VLOOKUP(Precentación_Quejas[[#This Row],['# Queja]],Historico_Registro_Quejas3[#All],7,0)","v":"Al bañarse la segunda persona el agua era muy fria. El agua caliete solo dura dos minutos"},{"$f":"VLOOKUP(Precentación_Quejas[[#This Row],['# Queja]],Historico_Registro_Quejas3[#All],22,0)","v":"Agua caliente"},{"$f":"VLOOKUP(Precentación_Quejas[[#This Row],[Payaso]],Tabla_Payasos[[Payasos]:[Columna1]],2,0)","v":13},627,{"$f":"VLOOKUP(Precentación_Quejas[[#This Row],['# Queja]],Historico_Registro_Quejas3[[#All],['# Queja]:[Valoración]],15,0)","v":"ROJA"}]
[{"$f":"VLOOKUP(Precentación_Quejas[[#This Row],['# Queja]],Historico_Registro_Quejas3[#All],4,0)","v":510},{"$f":"VLOOKUP(Precentación_Quejas[[#This Row],['# Queja]],Historico_Registro_Quejas3[#All],2,0)","v":"2018-06-09"},{"$f":"VLOOKUP(Precentación_Quejas[[#This Row],['# Queja]],Historico_Registro_Quejas3[#All],7,0)","v":"El wifi o es muy lento o no funciona en la habitación"},{"$f":"VLOOKUP(Precentación_Quejas[[#This Row],['# Queja]],Historico_Registro_Quejas3[#All],22,0)","v":"Wifi"},{"$f":"VLOOKUP(Precentación_Quejas[[#This Row],[Payaso]],Tabla_Payasos[[Payasos]:[Columna1]],2,0)","v":23},626,{"$f":"VLOOKUP(Precentación_Quejas[[#This Row],['# Queja]],Historico_Registro_Quejas3[[#All],['# Queja]:[Valoración]],15,0)","v":"ROJA"}]
[{"$f":"VLOOKUP(Precentación_Quejas[[#This Row],['# Queja]],Historico_Registro_Quejas3[#All],4,0)","v":509},{"$f":"VLOOKUP(Precentación_Quejas[[#This Row],['# Queja]],Historico_Registro_Quejas3[#All],2,0)","v":"2018-06-09"},{"$f":"VLOOKUP(Precentación_Quejas[[#This Row],['# Queja]],Historico_Registro_Quejas3[#All],7,0)","v":"El agua caliente a veces no funciona bien."},{"$f":"VLOOKUP(Precentación_Quejas[[#This Row],['# Queja]],Historico_Registro_Quejas3[#All],22,0)","v":"Agua caliente"},{"$f":"VLOOKUP(Precentación_Quejas[[#This Row],[Payaso]],Tabla_Payasos[[Payasos]:[Columna1]],2,0)","v":13},625,{"$f":"VLOOKUP(Precentación_Quejas[[#This Row],['# Queja]],Historico_Registro_Quejas3[[#All],['# Queja]:[Valoración]],15,0)","v":"ROJA"}]
[{"$f":"VLOOKUP(Precentación_Quejas[[#This Row],['# Queja]],Historico_Registro_Quejas3[#All],4,0)","v":509},{"$f":"VLOOKUP(Precentación_Quejas[[#This Row],['# Queja]],Historico_Registro_Quejas3[#All],2,0)","v":"2018-06-09"},{"$f":"VLOOKUP(Precentación_Quejas[[#This Row],['# Queja]],Historico_Registro_Quejas3[#All],7,0)","v":"El wifi no funciona bien"},{"$f":"VLOOKUP(Precentación_Quejas[[#This Row],['# Queja]],Historico_Registro_Quejas3[#All],22,0)","v":"Wifi"},{"$f":"VLOOKUP(Precentación_Quejas[[#This Row],[Payaso]],Tabla_Payasos[[Payasos]:[Columna1]],2,0)","v":23},624,{"$f":"VLOOKUP(Precentación_Quejas[[#This Row],['# Queja]],Historico_Registro_Quejas3[[#All],['# Queja]:[Valoración]],15,0)","v":"ROJA"}]
[{"$f":"VLOOKUP(Precentación_Quejas[[#This Row],['# Queja]],Historico_Registro_Quejas3[#All],4,0)","v":312},{"$f":"VLOOKUP(Precentación_Quejas[[#This Row],['# Queja]],Historico_Registro_Quejas3[#All],2,0)","v":"2018-06-09"},{"$f":"VLOOKUP(Precentación_Quejas[[#This Row],['# Queja]],Historico_Registro_Quejas3[#All],7,0)","v":"El jacuzzi debería tener rotulos para saber donde se debe presionar para obtener las burbujas"},{"$f":"VLOOKUP(Precentación_Quejas[[#This Row],['# Queja]],Historico_Registro_Quejas3[#All],22,0)","v":"Rotulación Jacuzzi"},{"$f":"VLOOKUP(Precentación_Quejas[[#This Row],[Payaso]],Tabla_Payasos[[Payasos]:[Columna1]],2,0)","v":4},623,{"$f":"VLOOKUP(Precentación_Quejas[[#This Row],['# Queja]],Historico_Registro_Quejas3[[#All],['# Queja]:[Valoración]],15,0)","v":"VERDE"}]
[{"$f":"VLOOKUP(Precentación_Quejas[[#This Row],['# Queja]],Historico_Registro_Quejas3[#All],4,0)","v":712},{"$f":"VLOOKUP(Precentación_Quejas[[#This Row],['# Queja]],Historico_Registro_Quejas3[#All],2,0)","v":"2018-06-05"},{"$f":"VLOOKUP(Precentación_Quejas[[#This Row],['# Queja]],Historico_Registro_Quejas3[#All],7,0)","v":"Unos cuantos insectos en la habitación"},{"$f":"VLOOKUP(Precentación_Quejas[[#This Row],['# Queja]],Historico_Registro_Quejas3[#All],22,0)","v":"Plagas Habitaciones"},{"$f":"VLOOKUP(Precentación_Quejas[[#This Row],[Payaso]],Tabla_Payasos[[Payasos]:[Columna1]],2,0)","v":49},622,{"$f":"VLOOKUP(Precentación_Quejas[[#This Row],['# Queja]],Historico_Registro_Quejas3[[#All],['# Queja]:[Valoración]],15,0)","v":"ROJA"}]
[{"$f":"VLOOKUP(Precentación_Quejas[[#This Row],['# Queja]],Historico_Registro_Quejas3[#All],4,0)","v":610},{"$f":"VLOOKUP(Precentación_Quejas[[#This Row],['# Queja]],Historico_Registro_Quejas3[#All],2,0)","v":"2018-06-07"},{"$f":"VLOOKUP(Precentación_Quejas[[#This Row],['# Queja]],Historico_Registro_Quejas3[#All],7,0)","v":"Las porciones de comida no están acorde con el precio"},{"$f":"VLOOKUP(Precentación_Quejas[[#This Row],['# Queja]],Historico_Registro_Quejas3[#All],22,0)","v":"Calidad comida"},{"$f":"VLOOKUP(Precentación_Quejas[[#This Row],[Payaso]],Tabla_Payasos[[Payasos]:[Columna1]],2,0)","v":70},621,{"$f":"VLOOKUP(Precentación_Quejas[[#This Row],['# Queja]],Historico_Registro_Quejas3[[#All],['# Queja]:[Valoración]],15,0)","v":"ROJA"}]
[{"$f":"VLOOKUP(Precentación_Quejas[[#This Row],['# Queja]],Historico_Registro_Quejas3[#All],4,0)","v":705},{"$f":"VLOOKUP(Precentación_Quejas[[#This Row],['# Queja]],Historico_Registro_Quejas3[#All],2,0)","v":"2018-06-07"},{"$f":"VLOOKUP(Precentación_Quejas[[#This Row],['# Queja]],Historico_Registro_Quejas3[#All],7,0)","v":"Más opciones de comida vegetariana en el restaurante principal."},{"$f":"VLOOKUP(Precentación_Quejas[[#This Row],['# Queja]],Historico_Registro_Quejas3[#All],22,0)","v":"MENÚ VEGETARIANO"},{"$f":"VLOOKUP(Precentación_Quejas[[#This Row],[Payaso]],Tabla_Payasos[[Payasos]:[Columna1]],2,0)","v":4},620,{"$f":"VLOOKUP(Precentación_Quejas[[#This Row],['# Queja]],Historico_Registro_Quejas3[[#All],['# Queja]:[Valoración]],15,0)","v":"ROJA"}]
[{"$f":"VLOOKUP(Precentación_Quejas[[#This Row],['# Queja]],Historico_Registro_Quejas3[#All],4,0)","v":712},{"$f":"VLOOKUP(Precentación_Quejas[[#This Row],['# Queja]],Historico_Registro_Quejas3[#All],2,0)","v":"2018-06-08"},{"$f":"VLOOKUP(Precentación_Quejas[[#This Row],['# Queja]],Historico_Registro_Quejas3[#All],7,0)","v":"El internet no funcionó bien, muy lento cuando pudimos recibir algo de señal."},{"$f":"VLOOKUP(Precentación_Quejas[[#This Row],['# Queja]],Historico_Registro_Quejas3[#All],22,0)","v":"Wifi"},{"$f":"VLOOKUP(Precentación_Quejas[[#This Row],[Payaso]],Tabla_Payasos[[Payasos]:[Columna1]],2,0)","v":23},619,{"$f":"VLOOKUP(Precentación_Quejas[[#This Row],['# Queja]],Historico_Registro_Quejas3[[#All],['# Queja]:[Valoración]],15,0)","v":"ROJA"}]
[{"$f":"VLOOKUP(Precentación_Quejas[[#This Row],['# Queja]],Historico_Registro_Quejas3[#All],4,0)","v":712},{"$f":"VLOOKUP(Precentación_Quejas[[#This Row],['# Queja]],Historico_Registro_Quejas3[#All],2,0)","v":"2018-06-08"},{"$f":"VLOOKUP(Precentación_Quejas[[#This Row],['# Queja]],Historico_Registro_Quejas3[#All],7,0)","v":"El refrigerador produce demasiado ruido"},{"$f":"VLOOKUP(Precentación_Quejas[[#This Row],['# Queja]],Historico_Registro_Quejas3[#All],22,0)","v":"Habitaciones"},{"$f":"VLOOKUP(Precentación_Quejas[[#This Row],[Payaso]],Tabla_Payasos[[Payasos]:[Columna1]],2,0)","v":54},618,{"$f":"VLOOKUP(Precentación_Quejas[[#This Row],['# Queja]],Historico_Registro_Quejas3[[#All],['# Queja]:[Valoración]],15,0)","v":"ROJA"}]
[{"$f":"VLOOKUP(Precentación_Quejas[[#This Row],['# Queja]],Historico_Registro_Quejas3[#All],4,0)","v":"414-415"},{"$f":"VLOOKUP(Precentación_Quejas[[#This Row],['# Queja]],Historico_Registro_Quejas3[#All],2,0)","v":"2018-06-07"},{"$f":"VLOOKUP(Precentación_Quejas[[#This Row],['# Queja]],Historico_Registro_Quejas3[#All],7,0)","v":"Cliente indica que no puede conectarse al Wifi, y luego cuando logró la conexion, la misma es muy debil y no le permite accesar correctamente. "},{"$f":"VLOOKUP(Precentación_Quejas[[#This Row],['# Queja]],Historico_Registro_Quejas3[#All],22,0)","v":"Wifi"},{"$f":"VLOOKUP(Precentación_Quejas[[#This Row],[Payaso]],Tabla_Payasos[[Payasos]:[Columna1]],2,0)","v":23},617,{"$f":"VLOOKUP(Precentación_Quejas[[#This Row],['# Queja]],Historico_Registro_Quejas3[[#All],['# Queja]:[Valoración]],15,0)","v":"ROJA"}]
[{"$f":"VLOOKUP(Precentación_Quejas[[#This Row],['# Queja]],Historico_Registro_Quejas3[#All],4,0)","v":305},{"$f":"VLOOKUP(Precentación_Quejas[[#This Row],['# Queja]],Historico_Registro_Quejas3[#All],2,0)","v":"2018-06-05"},{"$f":"VLOOKUP(Precentación_Quejas[[#This Row],['# Queja]],Historico_Registro_Quejas3[#All],7,0)","v":"Huésped se queja de los precios de los restaurantes, muy altos "},{"$f":"VLOOKUP(Precentación_Quejas[[#This Row],['# Queja]],Historico_Registro_Quejas3[#All],22,0)","v":"Calidad comida"},{"$f":"VLOOKUP(Precentación_Quejas[[#This Row],[Payaso]],Tabla_Payasos[[Payasos]:[Columna1]],2,0)","v":70},616,{"$f":"VLOOKUP(Precentación_Quejas[[#This Row],['# Queja]],Historico_Registro_Quejas3[[#All],['# Queja]:[Valoración]],15,0)","v":"ROJA"}]
[{"$f":"VLOOKUP(Precentación_Quejas[[#This Row],['# Queja]],Historico_Registro_Quejas3[#All],4,0)","v":305},{"$f":"VLOOKUP(Precentación_Quejas[[#This Row],['# Queja]],Historico_Registro_Quejas3[#All],2,0)","v":"2018-06-05"},{"$f":"VLOOKUP(Precentación_Quejas[[#This Row],['# Queja]],Historico_Registro_Quejas3[#All],7,0)","v":"Huésped se queja que reservó 22 días antes y solicitó una hab para adulta mayor y cerca a todas las areas comunes, sin embargo no tuvo respuesta."},{"$f":"VLOOKUP(Precentación_Quejas[[#This Row],['# Queja]],Historico_Registro_Quejas3[#All],22,0)","v":"Proceso de reservas"},{"$f":"VLOOKUP(Precentación_Quejas[[#This Row],[Payaso]],Tabla_Payasos[[Payasos]:[Columna1]],2,0)","v":2},615,{"$f":"VLOOKUP(Precentación_Quejas[[#This Row],['# Queja]],Historico_Registro_Quejas3[[#All],['# Queja]:[Valoración]],15,0)","v":"ROJA"}]
[{"$f":"VLOOKUP(Precentación_Quejas[[#This Row],['# Queja]],Historico_Registro_Quejas3[#All],4,0)","v":206},{"$f":"VLOOKUP(Precentación_Quejas[[#This Row],['# Queja]],Historico_Registro_Quejas3[#All],2,0)","v":"2018-06-02"},{"$f":"VLOOKUP(Precentación_Quejas[[#This Row],['# Queja]],Historico_Registro_Quejas3[#All],7,0)","v":"Huésped se queja de las limitadas opciones en las comidas del bar de la piscina, le gustaria como hamburguesas. Además se queja del mal servicio recibido especialmente en el Italiano."},{"$f":"VLOOKUP(Precentación_Quejas[[#This Row],['# Queja]],Historico_Registro_Quejas3[#All],22,0)","v":"Calidad comida"},{"$f":"VLOOKUP(Precentación_Quejas[[#This Row],[Payaso]],Tabla_Payasos[[Payasos]:[Columna1]],2,0)","v":70},614,{"$f":"VLOOKUP(Precentación_Quejas[[#This Row],['# Queja]],Historico_Registro_Quejas3[[#All],['# Queja]:[Valoración]],15,0)","v":"ROJA"}]
[{"$f":"VLOOKUP(Precentación_Quejas[[#This Row],['# Queja]],Historico_Registro_Quejas3[#All],4,0)","v":504},{"$f":"VLOOKUP(Precentación_Quejas[[#This Row],['# Queja]],Historico_Registro_Quejas3[#All],2,0)","v":"2018-06-05"},{"$f":"VLOOKUP(Precentación_Quejas[[#This Row],['# Queja]],Historico_Registro_Quejas3[#All],7,0)","v":"Hubieramos podido usar los vasos, si estos estuviesen limpios."},{"$f":"VLOOKUP(Precentación_Quejas[[#This Row],['# Queja]],Historico_Registro_Quejas3[#All],22,0)","v":"Habitaciones"},{"$f":"VLOOKUP(Precentación_Quejas[[#This Row],[Payaso]],Tabla_Payasos[[Payasos]:[Columna1]],2,0)","v":54},613,{"$f":"VLOOKUP(Precentación_Quejas[[#This Row],['# Queja]],Historico_Registro_Quejas3[[#All],['# Queja]:[Valoración]],15,0)","v":"ROJA"}]
[{"$f":"VLOOKUP(Precentación_Quejas[[#This Row],['# Queja]],Historico_Registro_Quejas3[#All],4,0)","v":504},{"$f":"VLOOKUP(Precentación_Quejas[[#This Row],['# Queja]],Historico_Registro_Quejas3[#All],2,0)","v":"2018-06-05"},{"$f":"VLOOKUP(Precentación_Quejas[[#This Row],['# Queja]],Historico_Registro_Quejas3[#All],7,0)","v":"Huesped se queja de hormigas en el area del baño."},{"$f":"VLOOKUP(Precentación_Quejas[[#This Row],['# Queja]],Historico_Registro_Quejas3[#All],22,0)","v":"Plagas Habitaciones"},{"$f":"VLOOKUP(Precentación_Quejas[[#This Row],[Payaso]],Tabla_Payasos[[Payasos]:[Columna1]],2,0)","v":49},612,{"$f":"VLOOKUP(Precentación_Quejas[[#This Row],['# Queja]],Historico_Registro_Quejas3[[#All],['# Queja]:[Valoración]],15,0)","v":"ROJA"}]
[{"$f":"VLOOKUP(Precentación_Quejas[[#This Row],['# Queja]],Historico_Registro_Quejas3[#All],4,0)","v":111},{"$f":"VLOOKUP(Precentación_Quejas[[#This Row],['# Queja]],Historico_Registro_Quejas3[#All],2,0)","v":"2018-06-04"},{"$f":"VLOOKUP(Precentación_Quejas[[#This Row],['# Queja]],Historico_Registro_Quejas3[#All],7,0)","v":"Huesped se queja de hormigas dentro de la  habitación y fuera. "},{"$f":"VLOOKUP(Precentación_Quejas[[#This Row],['# Queja]],Historico_Registro_Quejas3[#All],22,0)","v":"Plagas Habitaciones"},{"$f":"VLOOKUP(Precentación_Quejas[[#This Row],[Payaso]],Tabla_Payasos[[Payasos]:[Columna1]],2,0)","v":49},611,{"$f":"VLOOKUP(Precentación_Quejas[[#This Row],['# Queja]],Historico_Registro_Quejas3[[#All],['# Queja]:[Valoración]],15,0)","v":"ROJA"}]
[{"$f":"VLOOKUP(Precentación_Quejas[[#This Row],['# Queja]],Historico_Registro_Quejas3[#All],4,0)","v":608},{"$f":"VLOOKUP(Precentación_Quejas[[#This Row],['# Queja]],Historico_Registro_Quejas3[#All],2,0)","v":"2018-06-04"},{"$f":"VLOOKUP(Precentación_Quejas[[#This Row],['# Queja]],Historico_Registro_Quejas3[#All],7,0)","v":"NO hay silla en la habitación y es necesaria"},{"$f":"VLOOKUP(Precentación_Quejas[[#This Row],['# Queja]],Historico_Registro_Quejas3[#All],22,0)","v":"Silla en habitación"},{"$f":"VLOOKUP(Precentación_Quejas[[#This Row],[Payaso]],Tabla_Payasos[[Payasos]:[Columna1]],2,0)","v":13},610,{"$f":"VLOOKUP(Precentación_Quejas[[#This Row],['# Queja]],Historico_Registro_Quejas3[[#All],['# Queja]:[Valoración]],15,0)","v":"ROJA"}]
[{"$f":"VLOOKUP(Precentación_Quejas[[#This Row],['# Queja]],Historico_Registro_Quejas3[#All],4,0)","v":605},{"$f":"VLOOKUP(Precentación_Quejas[[#This Row],['# Queja]],Historico_Registro_Quejas3[#All],2,0)","v":"2018-06-04"},{"$f":"VLOOKUP(Precentación_Quejas[[#This Row],['# Queja]],Historico_Registro_Quejas3[#All],7,0)","v":"Se quejan porque no hay coca cola zero ni tampoco menú para celiacos."},{"$f":"VLOOKUP(Precentación_Quejas[[#This Row],['# Queja]],Historico_Registro_Quejas3[#All],22,0)","v":"Calidad comida"},{"$f":"VLOOKUP(Precentación_Quejas[[#This Row],[Payaso]],Tabla_Payasos[[Payasos]:[Columna1]],2,0)","v":70},609,{"$f":"VLOOKUP(Precentación_Quejas[[#This Row],['# Queja]],Historico_Registro_Quejas3[[#All],['# Queja]:[Valoración]],15,0)","v":"ROJA"}]
[{"$f":"VLOOKUP(Precentación_Quejas[[#This Row],['# Queja]],Historico_Registro_Quejas3[#All],4,0)","v":309},{"$f":"VLOOKUP(Precentación_Quejas[[#This Row],['# Queja]],Historico_Registro_Quejas3[#All],2,0)","v":"2018-06-02"},{"$f":"VLOOKUP(Precentación_Quejas[[#This Row],['# Queja]],Historico_Registro_Quejas3[#All],7,0)","v":"Huésped se queja del restaurante Italiano el cual en ese momento se encontraba trabajando como el restaurante principal debido al cierre del Ti-Cain, se queja de que no hay en realidad opciones de comida costarricense, los precios muy altos en comparación con la cantidad y calidad de la comida."},{"$f":"VLOOKUP(Precentación_Quejas[[#This Row],['# Queja]],Historico_Registro_Quejas3[#All],22,0)","v":"Calidad comida"},{"$f":"VLOOKUP(Precentación_Quejas[[#This Row],[Payaso]],Tabla_Payasos[[Payasos]:[Columna1]],2,0)","v":70},608,{"$f":"VLOOKUP(Precentación_Quejas[[#This Row],['# Queja]],Historico_Registro_Quejas3[[#All],['# Queja]:[Valoración]],15,0)","v":"ROJA"}]
[{"$f":"VLOOKUP(Precentación_Quejas[[#This Row],['# Queja]],Historico_Registro_Quejas3[#All],4,0)","v":211},{"$f":"VLOOKUP(Precentación_Quejas[[#This Row],['# Queja]],Historico_Registro_Quejas3[#All],2,0)","v":"2018-06-03"},{"$f":"VLOOKUP(Precentación_Quejas[[#This Row],['# Queja]],Historico_Registro_Quejas3[#All],7,0)","v":"Probamos dos rollos de sushi y un sashimi y la calidad fue muy mala, el pescado no estaba fresco y la combinación de sabores no era la mejor, además la presentación de los rollos deficiente y la calidad del arroz no estaba al nivel de un restaurante aceptable de sushi. Y precios sumamente elevados en relación a la calidad."},{"$f":"VLOOKUP(Precentación_Quejas[[#This Row],['# Queja]],Historico_Registro_Quejas3[#All],22,0)","v":"Calidad comida"},{"$f":"VLOOKUP(Precentación_Quejas[[#This Row],[Payaso]],Tabla_Payasos[[Payasos]:[Columna1]],2,0)","v":70},607,{"$f":"VLOOKUP(Precentación_Quejas[[#This Row],['# Queja]],Historico_Registro_Quejas3[[#All],['# Queja]:[Valoración]],15,0)","v":"ROJA"}]
[{"$f":"VLOOKUP(Precentación_Quejas[[#This Row],['# Queja]],Historico_Registro_Quejas3[#All],4,0)","v":104},{"$f":"VLOOKUP(Precentación_Quejas[[#This Row],['# Queja]],Historico_Registro_Quejas3[#All],2,0)","v":"2018-05-31"},{"$f":"VLOOKUP(Precentación_Quejas[[#This Row],['# Queja]],Historico_Registro_Quejas3[#All],7,0)","v":"Muchas hormigas pequeñas en el baño y el  teléfono no funcionaba."},{"$f":"VLOOKUP(Precentación_Quejas[[#This Row],['# Queja]],Historico_Registro_Quejas3[#All],22,0)","v":"Plagas Habitaciones"},{"$f":"VLOOKUP(Precentación_Quejas[[#This Row],[Payaso]],Tabla_Payasos[[Payasos]:[Columna1]],2,0)","v":49},606,{"$f":"VLOOKUP(Precentación_Quejas[[#This Row],['# Queja]],Historico_Registro_Quejas3[[#All],['# Queja]:[Valoración]],15,0)","v":"ROJA"}]
[{"$f":"VLOOKUP(Precentación_Quejas[[#This Row],['# Queja]],Historico_Registro_Quejas3[#All],4,0)","v":406},{"$f":"VLOOKUP(Precentación_Quejas[[#This Row],['# Queja]],Historico_Registro_Quejas3[#All],2,0)","v":"2018-06-03"},{"$f":"VLOOKUP(Precentación_Quejas[[#This Row],['# Queja]],Historico_Registro_Quejas3[#All],7,0)","v":"Huésped indica que sería muy bueno tener sombrillas en la habitación."},{"$f":"VLOOKUP(Precentación_Quejas[[#This Row],['# Queja]],Historico_Registro_Quejas3[#All],22,0)","v":"Desestimado"},{"$f":"VLOOKUP(Precentación_Quejas[[#This Row],[Payaso]],Tabla_Payasos[[Payasos]:[Columna1]],2,0)","v":29},605,{"$f":"VLOOKUP(Precentación_Quejas[[#This Row],['# Queja]],Historico_Registro_Quejas3[[#All],['# Queja]:[Valoración]],15,0)","v":"Desestimada"}]
[{"$f":"VLOOKUP(Precentación_Quejas[[#This Row],['# Queja]],Historico_Registro_Quejas3[#All],4,0)","v":108},{"$f":"VLOOKUP(Precentación_Quejas[[#This Row],['# Queja]],Historico_Registro_Quejas3[#All],2,0)","v":"2018-06-02"},{"$f":"VLOOKUP(Precentación_Quejas[[#This Row],['# Queja]],Historico_Registro_Quejas3[#All],7,0)","v":"Hormigas en la habitación, hormigas en el coffee maker, hormigas en la cama."},{"$f":"VLOOKUP(Precentación_Quejas[[#This Row],['# Queja]],Historico_Registro_Quejas3[#All],22,0)","v":"Plagas Habitaciones"},{"$f":"VLOOKUP(Precentación_Quejas[[#This Row],[Payaso]],Tabla_Payasos[[Payasos]:[Columna1]],2,0)","v":49},604,{"$f":"VLOOKUP(Precentación_Quejas[[#This Row],['# Queja]],Historico_Registro_Quejas3[[#All],['# Queja]:[Valoración]],15,0)","v":"ROJA"}]
[{"$f":"VLOOKUP(Precentación_Quejas[[#This Row],['# Queja]],Historico_Registro_Quejas3[#All],4,0)","v":510},{"$f":"VLOOKUP(Precentación_Quejas[[#This Row],['# Queja]],Historico_Registro_Quejas3[#All],2,0)","v":"2018-06-03"},{"$f":"VLOOKUP(Precentación_Quejas[[#This Row],['# Queja]],Historico_Registro_Quejas3[#All],7,0)","v":"Huésped comenta a modo de recomendación que los compañeros de los bares en la piscina, deberían utilizar siempre guantes al realizar las distintas labores que realizan ahí, dado que muchas veces se limpian las manos en sus camisas y por el tipo de camisas y el calor que se produce ahí, pasan sudando por lo que es anti higienico"},{"$f":"VLOOKUP(Precentación_Quejas[[#This Row],['# Queja]],Historico_Registro_Quejas3[#All],22,0)","v":"Higiene en restaurante"},{"$f":"VLOOKUP(Precentación_Quejas[[#This Row],[Payaso]],Tabla_Payasos[[Payasos]:[Columna1]],2,0)","v":1},603,{"$f":"VLOOKUP(Precentación_Quejas[[#This Row],['# Queja]],Historico_Registro_Quejas3[[#All],['# Queja]:[Valoración]],15,0)","v":"ROJA"}]
[{"$f":"VLOOKUP(Precentación_Quejas[[#This Row],['# Queja]],Historico_Registro_Quejas3[#All],4,0)","v":103},{"$f":"VLOOKUP(Precentación_Quejas[[#This Row],['# Queja]],Historico_Registro_Quejas3[#All],2,0)","v":"2018-06-03"},{"$f":"VLOOKUP(Precentación_Quejas[[#This Row],['# Queja]],Historico_Registro_Quejas3[#All],7,0)","v":"Huesped reporta que tiene cucarachas en la habitación en la noche. "},{"$f":"VLOOKUP(Precentación_Quejas[[#This Row],['# Queja]],Historico_Registro_Quejas3[#All],22,0)","v":"Plagas Habitaciones"},{"$f":"VLOOKUP(Precentación_Quejas[[#This Row],[Payaso]],Tabla_Payasos[[Payasos]:[Columna1]],2,0)","v":49},602,{"$f":"VLOOKUP(Precentación_Quejas[[#This Row],['# Queja]],Historico_Registro_Quejas3[[#All],['# Queja]:[Valoración]],15,0)","v":"ROJA"}]
[{"$f":"VLOOKUP(Precentación_Quejas[[#This Row],['# Queja]],Historico_Registro_Quejas3[#All],4,0)","v":107},{"$f":"VLOOKUP(Precentación_Quejas[[#This Row],['# Queja]],Historico_Registro_Quejas3[#All],2,0)","v":"2018-06-03"},{"$f":"VLOOKUP(Precentación_Quejas[[#This Row],['# Queja]],Historico_Registro_Quejas3[#All],7,0)","v":"Huesped reporta hormigas en la habitación. "},{"$f":"VLOOKUP(Precentación_Quejas[[#This Row],['# Queja]],Historico_Registro_Quejas3[#All],22,0)","v":"Plagas Habitaciones"},{"$f":"VLOOKUP(Precentación_Quejas[[#This Row],[Payaso]],Tabla_Payasos[[Payasos]:[Columna1]],2,0)","v":49},601,{"$f":"VLOOKUP(Precentación_Quejas[[#This Row],['# Queja]],Historico_Registro_Quejas3[[#All],['# Queja]:[Valoración]],15,0)","v":"ROJA"}]
[{"$f":"VLOOKUP(Precentación_Quejas[[#This Row],['# Queja]],Historico_Registro_Quejas3[#All],4,0)","v":205},{"$f":"VLOOKUP(Precentación_Quejas[[#This Row],['# Queja]],Historico_Registro_Quejas3[#All],2,0)","v":"2018-06-02"},{"$f":"VLOOKUP(Precentación_Quejas[[#This Row],['# Queja]],Historico_Registro_Quejas3[#All],7,0)","v":"Huésped reporta que tenía una pizza en la habitación, y que la compañera mucama al realizar la limpieza la tiró a la basura."},{"$f":"VLOOKUP(Precentación_Quejas[[#This Row],['# Queja]],Historico_Registro_Quejas3[#All],22,0)","v":"Desestimado"},{"$f":"VLOOKUP(Precentación_Quejas[[#This Row],[Payaso]],Tabla_Payasos[[Payasos]:[Columna1]],2,0)","v":29},600,{"$f":"VLOOKUP(Precentación_Quejas[[#This Row],['# Queja]],Historico_Registro_Quejas3[[#All],['# Queja]:[Valoración]],15,0)","v":"Desestimada"}]
[{"$f":"VLOOKUP(Precentación_Quejas[[#This Row],['# Queja]],Historico_Registro_Quejas3[#All],4,0)","v":601},{"$f":"VLOOKUP(Precentación_Quejas[[#This Row],['# Queja]],Historico_Registro_Quejas3[#All],2,0)","v":"2018-05-31"},{"$f":"VLOOKUP(Precentación_Quejas[[#This Row],['# Queja]],Historico_Registro_Quejas3[#All],7,0)","v":"El hotel debería de tener un area designada para juegos de mesa con sillas y mesas para juegos mientras llueve."},{"$f":"VLOOKUP(Precentación_Quejas[[#This Row],['# Queja]],Historico_Registro_Quejas3[#All],22,0)","v":"Sala de juegos"},{"$f":"VLOOKUP(Precentación_Quejas[[#This Row],[Payaso]],Tabla_Payasos[[Payasos]:[Columna1]],2,0)","v":3},599,{"$f":"VLOOKUP(Precentación_Quejas[[#This Row],['# Queja]],Historico_Registro_Quejas3[[#All],['# Queja]:[Valoración]],15,0)","v":"ROJA"}]
[{"$f":"VLOOKUP(Precentación_Quejas[[#This Row],['# Queja]],Historico_Registro_Quejas3[#All],4,0)","v":505},{"$f":"VLOOKUP(Precentación_Quejas[[#This Row],['# Queja]],Historico_Registro_Quejas3[#All],2,0)","v":"2018-05-30"},{"$f":"VLOOKUP(Precentación_Quejas[[#This Row],['# Queja]],Historico_Registro_Quejas3[#All],7,0)","v":"La señal de Internet es mala y débil especialmente en las habitaciones."},{"$f":"VLOOKUP(Precentación_Quejas[[#This Row],['# Queja]],Historico_Registro_Quejas3[#All],22,0)","v":"Wifi"},{"$f":"VLOOKUP(Precentación_Quejas[[#This Row],[Payaso]],Tabla_Payasos[[Payasos]:[Columna1]],2,0)","v":23},598,{"$f":"VLOOKUP(Precentación_Quejas[[#This Row],['# Queja]],Historico_Registro_Quejas3[[#All],['# Queja]:[Valoración]],15,0)","v":"ROJA"}]
[{"$f":"VLOOKUP(Precentación_Quejas[[#This Row],['# Queja]],Historico_Registro_Quejas3[#All],4,0)","v":310},{"$f":"VLOOKUP(Precentación_Quejas[[#This Row],['# Queja]],Historico_Registro_Quejas3[#All],2,0)","v":"2018-05-31"},{"$f":"VLOOKUP(Precentación_Quejas[[#This Row],['# Queja]],Historico_Registro_Quejas3[#All],7,0)","v":"En la noche debería haber alguna actividad nocturna de entretenimiento."},{"$f":"VLOOKUP(Precentación_Quejas[[#This Row],['# Queja]],Historico_Registro_Quejas3[#All],22,0)","v":"Desestimado"},{"$f":"VLOOKUP(Precentación_Quejas[[#This Row],[Payaso]],Tabla_Payasos[[Payasos]:[Columna1]],2,0)","v":29},597,{"$f":"VLOOKUP(Precentación_Quejas[[#This Row],['# Queja]],Historico_Registro_Quejas3[[#All],['# Queja]:[Valoración]],15,0)","v":"Desestimada"}]
[{"$f":"VLOOKUP(Precentación_Quejas[[#This Row],['# Queja]],Historico_Registro_Quejas3[#All],4,0)","v":111},{"$f":"VLOOKUP(Precentación_Quejas[[#This Row],['# Queja]],Historico_Registro_Quejas3[#All],2,0)","v":"2018-05-31"},{"$f":"VLOOKUP(Precentación_Quejas[[#This Row],['# Queja]],Historico_Registro_Quejas3[#All],7,0)","v":"No hay paraguas en la habitación."},{"$f":"VLOOKUP(Precentación_Quejas[[#This Row],['# Queja]],Historico_Registro_Quejas3[#All],22,0)","v":"Desestimado"},{"$f":"VLOOKUP(Precentación_Quejas[[#This Row],[Payaso]],Tabla_Payasos[[Payasos]:[Columna1]],2,0)","v":29},596,{"$f":"VLOOKUP(Precentación_Quejas[[#This Row],['# Queja]],Historico_Registro_Quejas3[[#All],['# Queja]:[Valoración]],15,0)","v":"Desestimada"}]
[{"$f":"VLOOKUP(Precentación_Quejas[[#This Row],['# Queja]],Historico_Registro_Quejas3[#All],4,0)","v":305},{"$f":"VLOOKUP(Precentación_Quejas[[#This Row],['# Queja]],Historico_Registro_Quejas3[#All],2,0)","v":"2018-05-31"},{"$f":"VLOOKUP(Precentación_Quejas[[#This Row],['# Queja]],Historico_Registro_Quejas3[#All],7,0)","v":"No hay opciones en el desayuno libres de glutten y el restaurante Italiano muy bajo en servicio."},{"$f":"VLOOKUP(Precentación_Quejas[[#This Row],['# Queja]],Historico_Registro_Quejas3[#All],22,0)","v":"Desestimado"},{"$f":"VLOOKUP(Precentación_Quejas[[#This Row],[Payaso]],Tabla_Payasos[[Payasos]:[Columna1]],2,0)","v":29},595,{"$f":"VLOOKUP(Precentación_Quejas[[#This Row],['# Queja]],Historico_Registro_Quejas3[[#All],['# Queja]:[Valoración]],15,0)","v":"Desestimada"}]
[{"$f":"VLOOKUP(Precentación_Quejas[[#This Row],['# Queja]],Historico_Registro_Quejas3[#All],4,0)","v":506},{"$f":"VLOOKUP(Precentación_Quejas[[#This Row],['# Queja]],Historico_Registro_Quejas3[#All],2,0)","v":"2018-05-31"},{"$f":"VLOOKUP(Precentación_Quejas[[#This Row],['# Queja]],Historico_Registro_Quejas3[#All],7,0)","v":"Una silla en la habitación es necesaria"},{"$f":"VLOOKUP(Precentación_Quejas[[#This Row],['# Queja]],Historico_Registro_Quejas3[#All],22,0)","v":"Silla en habitación"},{"$f":"VLOOKUP(Precentación_Quejas[[#This Row],[Payaso]],Tabla_Payasos[[Payasos]:[Columna1]],2,0)","v":13},594,{"$f":"VLOOKUP(Precentación_Quejas[[#This Row],['# Queja]],Historico_Registro_Quejas3[[#All],['# Queja]:[Valoración]],15,0)","v":"ROJA"}]
[{"$f":"VLOOKUP(Precentación_Quejas[[#This Row],['# Queja]],Historico_Registro_Quejas3[#All],4,0)","v":506},{"$f":"VLOOKUP(Precentación_Quejas[[#This Row],['# Queja]],Historico_Registro_Quejas3[#All],2,0)","v":"2018-05-31"},{"$f":"VLOOKUP(Precentación_Quejas[[#This Row],['# Queja]],Historico_Registro_Quejas3[#All],7,0)","v":"Pan fresco todas las mañanas."},{"$f":"VLOOKUP(Precentación_Quejas[[#This Row],['# Queja]],Historico_Registro_Quejas3[#All],22,0)","v":"Calida Desayuno"},{"$f":"VLOOKUP(Precentación_Quejas[[#This Row],[Payaso]],Tabla_Payasos[[Payasos]:[Columna1]],2,0)","v":15},593,{"$f":"VLOOKUP(Precentación_Quejas[[#This Row],['# Queja]],Historico_Registro_Quejas3[[#All],['# Queja]:[Valoración]],15,0)","v":"ROJA"}]
[{"$f":"VLOOKUP(Precentación_Quejas[[#This Row],['# Queja]],Historico_Registro_Quejas3[#All],4,0)","v":0},{"$f":"VLOOKUP(Precentación_Quejas[[#This Row],['# Queja]],Historico_Registro_Quejas3[#All],2,0)","v":"2018-05-30"},{"$f":"VLOOKUP(Precentación_Quejas[[#This Row],['# Queja]],Historico_Registro_Quejas3[#All],7,0)","v":"Menú limitado en el Italiano"},{"$f":"VLOOKUP(Precentación_Quejas[[#This Row],['# Queja]],Historico_Registro_Quejas3[#All],22,0)","v":"Calidad comida"},{"$f":"VLOOKUP(Precentación_Quejas[[#This Row],[Payaso]],Tabla_Payasos[[Payasos]:[Columna1]],2,0)","v":70},592,{"$f":"VLOOKUP(Precentación_Quejas[[#This Row],['# Queja]],Historico_Registro_Quejas3[[#All],['# Queja]:[Valoración]],15,0)","v":"ROJA"}]
[{"$f":"VLOOKUP(Precentación_Quejas[[#This Row],['# Queja]],Historico_Registro_Quejas3[#All],4,0)","v":303},{"$f":"VLOOKUP(Precentación_Quejas[[#This Row],['# Queja]],Historico_Registro_Quejas3[#All],2,0)","v":"2018-05-30"},{"$f":"VLOOKUP(Precentación_Quejas[[#This Row],['# Queja]],Historico_Registro_Quejas3[#All],7,0)","v":"Huespedes se quejan que ante el mal clima y que desde las 2:30pm comenzó a llover el hotel debería tener alguna opcion de entretenimiento como sala de peliculas, bingo, karaoke, juegos de trivia ya que es aburrido estar en la habitación encerrados."},{"$f":"VLOOKUP(Precentación_Quejas[[#This Row],['# Queja]],Historico_Registro_Quejas3[#All],22,0)","v":"Sala de juegos"},{"$f":"VLOOKUP(Precentación_Quejas[[#This Row],[Payaso]],Tabla_Payasos[[Payasos]:[Columna1]],2,0)","v":3},591,{"$f":"VLOOKUP(Precentación_Quejas[[#This Row],['# Queja]],Historico_Registro_Quejas3[[#All],['# Queja]:[Valoración]],15,0)","v":"ROJA"}]
[{"$f":"VLOOKUP(Precentación_Quejas[[#This Row],['# Queja]],Historico_Registro_Quejas3[#All],4,0)","v":309},{"$f":"VLOOKUP(Precentación_Quejas[[#This Row],['# Queja]],Historico_Registro_Quejas3[#All],2,0)","v":"2018-05-30"},{"$f":"VLOOKUP(Precentación_Quejas[[#This Row],['# Queja]],Historico_Registro_Quejas3[#All],7,0)","v":"Hormigas e insectos en la habitción."},{"$f":"VLOOKUP(Precentación_Quejas[[#This Row],['# Queja]],Historico_Registro_Quejas3[#All],22,0)","v":"Plagas Habitaciones"},{"$f":"VLOOKUP(Precentación_Quejas[[#This Row],[Payaso]],Tabla_Payasos[[Payasos]:[Columna1]],2,0)","v":49},590,{"$f":"VLOOKUP(Precentación_Quejas[[#This Row],['# Queja]],Historico_Registro_Quejas3[[#All],['# Queja]:[Valoración]],15,0)","v":"ROJA"}]
[{"$f":"VLOOKUP(Precentación_Quejas[[#This Row],['# Queja]],Historico_Registro_Quejas3[#All],4,0)","v":104},{"$f":"VLOOKUP(Precentación_Quejas[[#This Row],['# Queja]],Historico_Registro_Quejas3[#All],2,0)","v":"2018-05-30"},{"$f":"VLOOKUP(Precentación_Quejas[[#This Row],['# Queja]],Historico_Registro_Quejas3[#All],7,0)","v":"Reduzcan los precios de los los bares y restaurantes porque son muy elevados."},{"$f":"VLOOKUP(Precentación_Quejas[[#This Row],['# Queja]],Historico_Registro_Quejas3[#All],22,0)","v":"Calidad comida"},{"$f":"VLOOKUP(Precentación_Quejas[[#This Row],[Payaso]],Tabla_Payasos[[Payasos]:[Columna1]],2,0)","v":70},589,{"$f":"VLOOKUP(Precentación_Quejas[[#This Row],['# Queja]],Historico_Registro_Quejas3[[#All],['# Queja]:[Valoración]],15,0)","v":"ROJA"}]
[{"$f":"VLOOKUP(Precentación_Quejas[[#This Row],['# Queja]],Historico_Registro_Quejas3[#All],4,0)","v":709},{"$f":"VLOOKUP(Precentación_Quejas[[#This Row],['# Queja]],Historico_Registro_Quejas3[#All],2,0)","v":"2018-05-30"},{"$f":"VLOOKUP(Precentación_Quejas[[#This Row],['# Queja]],Historico_Registro_Quejas3[#All],7,0)","v":"Una silla en la habitación para ponerse zapatos y pantalon, la cama es muy alta."},{"$f":"VLOOKUP(Precentación_Quejas[[#This Row],['# Queja]],Historico_Registro_Quejas3[#All],22,0)","v":"Silla en habitación"},{"$f":"VLOOKUP(Precentación_Quejas[[#This Row],[Payaso]],Tabla_Payasos[[Payasos]:[Columna1]],2,0)","v":13},588,{"$f":"VLOOKUP(Precentación_Quejas[[#This Row],['# Queja]],Historico_Registro_Quejas3[[#All],['# Queja]:[Valoración]],15,0)","v":"ROJA"}]
[{"$f":"VLOOKUP(Precentación_Quejas[[#This Row],['# Queja]],Historico_Registro_Quejas3[#All],4,0)","v":515},{"$f":"VLOOKUP(Precentación_Quejas[[#This Row],['# Queja]],Historico_Registro_Quejas3[#All],2,0)","v":"2018-05-29"},{"$f":"VLOOKUP(Precentación_Quejas[[#This Row],['# Queja]],Historico_Registro_Quejas3[#All],7,0)","v":"Huésped comenta que dos veces han solicitado room service y al entregarlo no les llevan platos ni cubertería."},{"$f":"VLOOKUP(Precentación_Quejas[[#This Row],['# Queja]],Historico_Registro_Quejas3[#All],22,0)","v":"Room service"},{"$f":"VLOOKUP(Precentación_Quejas[[#This Row],[Payaso]],Tabla_Payasos[[Payasos]:[Columna1]],2,0)","v":2},587,{"$f":"VLOOKUP(Precentación_Quejas[[#This Row],['# Queja]],Historico_Registro_Quejas3[[#All],['# Queja]:[Valoración]],15,0)","v":"ROJA"}]
[{"$f":"VLOOKUP(Precentación_Quejas[[#This Row],['# Queja]],Historico_Registro_Quejas3[#All],4,0)","v":410},{"$f":"VLOOKUP(Precentación_Quejas[[#This Row],['# Queja]],Historico_Registro_Quejas3[#All],2,0)","v":"2018-05-28"},{"$f":"VLOOKUP(Precentación_Quejas[[#This Row],['# Queja]],Historico_Registro_Quejas3[#All],7,0)","v":"Sería bueno tener una banca en el gimnasio para poder hacer las pesas"},{"$f":"VLOOKUP(Precentación_Quejas[[#This Row],['# Queja]],Historico_Registro_Quejas3[#All],22,0)","v":"Desestimado"},{"$f":"VLOOKUP(Precentación_Quejas[[#This Row],[Payaso]],Tabla_Payasos[[Payasos]:[Columna1]],2,0)","v":29},586,{"$f":"VLOOKUP(Precentación_Quejas[[#This Row],['# Queja]],Historico_Registro_Quejas3[[#All],['# Queja]:[Valoración]],15,0)","v":"Desestimada"}]
[{"$f":"VLOOKUP(Precentación_Quejas[[#This Row],['# Queja]],Historico_Registro_Quejas3[#All],4,0)","v":410},{"$f":"VLOOKUP(Precentación_Quejas[[#This Row],['# Queja]],Historico_Registro_Quejas3[#All],2,0)","v":"2018-05-28"},{"$f":"VLOOKUP(Precentación_Quejas[[#This Row],['# Queja]],Historico_Registro_Quejas3[#All],7,0)","v":"Yoga sería mejor si las clases fueran avanzadas"},{"$f":"VLOOKUP(Precentación_Quejas[[#This Row],['# Queja]],Historico_Registro_Quejas3[#All],22,0)","v":"Desestimado"},{"$f":"VLOOKUP(Precentación_Quejas[[#This Row],[Payaso]],Tabla_Payasos[[Payasos]:[Columna1]],2,0)","v":29},585,{"$f":"VLOOKUP(Precentación_Quejas[[#This Row],['# Queja]],Historico_Registro_Quejas3[[#All],['# Queja]:[Valoración]],15,0)","v":"Desestimada"}]
[{"$f":"VLOOKUP(Precentación_Quejas[[#This Row],['# Queja]],Historico_Registro_Quejas3[#All],4,0)","v":0},{"$f":"VLOOKUP(Precentación_Quejas[[#This Row],['# Queja]],Historico_Registro_Quejas3[#All],2,0)","v":"2018-05-26"},{"$f":"VLOOKUP(Precentación_Quejas[[#This Row],['# Queja]],Historico_Registro_Quejas3[#All],7,0)","v":"Menu limitado especialmente si el restaurante principal está cerrado,  no hay variedad de comida costarricense."},{"$f":"VLOOKUP(Precentación_Quejas[[#This Row],['# Queja]],Historico_Registro_Quejas3[#All],22,0)","v":"Calidad comida"},{"$f":"VLOOKUP(Precentación_Quejas[[#This Row],[Payaso]],Tabla_Payasos[[Payasos]:[Columna1]],2,0)","v":70},584,{"$f":"VLOOKUP(Precentación_Quejas[[#This Row],['# Queja]],Historico_Registro_Quejas3[[#All],['# Queja]:[Valoración]],15,0)","v":"ROJA"}]
[{"$f":"VLOOKUP(Precentación_Quejas[[#This Row],['# Queja]],Historico_Registro_Quejas3[#All],4,0)","v":0},{"$f":"VLOOKUP(Precentación_Quejas[[#This Row],['# Queja]],Historico_Registro_Quejas3[#All],2,0)","v":"2018-05-23"},{"$f":"VLOOKUP(Precentación_Quejas[[#This Row],['# Queja]],Historico_Registro_Quejas3[#All],7,0)","v":"Opciones limitadas en los restaurantes."},{"$f":"VLOOKUP(Precentación_Quejas[[#This Row],['# Queja]],Historico_Registro_Quejas3[#All],22,0)","v":"Calidad comida"},{"$f":"VLOOKUP(Precentación_Quejas[[#This Row],[Payaso]],Tabla_Payasos[[Payasos]:[Columna1]],2,0)","v":70},583,{"$f":"VLOOKUP(Precentación_Quejas[[#This Row],['# Queja]],Historico_Registro_Quejas3[[#All],['# Queja]:[Valoración]],15,0)","v":"ROJA"}]
[{"$f":"VLOOKUP(Precentación_Quejas[[#This Row],['# Queja]],Historico_Registro_Quejas3[#All],4,0)","v":0},{"$f":"VLOOKUP(Precentación_Quejas[[#This Row],['# Queja]],Historico_Registro_Quejas3[#All],2,0)","v":"2018-05-23"},{"$f":"VLOOKUP(Precentación_Quejas[[#This Row],['# Queja]],Historico_Registro_Quejas3[#All],7,0)","v":"Comidas limitadas y menú de ensaladas no es amplio."},{"$f":"VLOOKUP(Precentación_Quejas[[#This Row],['# Queja]],Historico_Registro_Quejas3[#All],22,0)","v":"Calidad comida"},{"$f":"VLOOKUP(Precentación_Quejas[[#This Row],[Payaso]],Tabla_Payasos[[Payasos]:[Columna1]],2,0)","v":70},582,{"$f":"VLOOKUP(Precentación_Quejas[[#This Row],['# Queja]],Historico_Registro_Quejas3[[#All],['# Queja]:[Valoración]],15,0)","v":"ROJA"}]
[{"$f":"VLOOKUP(Precentación_Quejas[[#This Row],['# Queja]],Historico_Registro_Quejas3[#All],4,0)","v":0},{"$f":"VLOOKUP(Precentación_Quejas[[#This Row],['# Queja]],Historico_Registro_Quejas3[#All],2,0)","v":"2018-05-22"},{"$f":"VLOOKUP(Precentación_Quejas[[#This Row],['# Queja]],Historico_Registro_Quejas3[#All],7,0)","v":"Habitación pequeña y con pequeños insectos , las paredes son delgadas y se escucha todo además durante la noche había un ruido extraño en el techo que interrumpía el sueño."},{"$f":"VLOOKUP(Precentación_Quejas[[#This Row],['# Queja]],Historico_Registro_Quejas3[#All],22,0)","v":"Ruido habitación"},{"$f":"VLOOKUP(Precentación_Quejas[[#This Row],[Payaso]],Tabla_Payasos[[Payasos]:[Columna1]],2,0)","v":15},581,{"$f":"VLOOKUP(Precentación_Quejas[[#This Row],['# Queja]],Historico_Registro_Quejas3[[#All],['# Queja]:[Valoración]],15,0)","v":"ROJA"}]
[{"$f":"VLOOKUP(Precentación_Quejas[[#This Row],['# Queja]],Historico_Registro_Quejas3[#All],4,0)","v":0},{"$f":"VLOOKUP(Precentación_Quejas[[#This Row],['# Queja]],Historico_Registro_Quejas3[#All],2,0)","v":"2018-05-22"},{"$f":"VLOOKUP(Precentación_Quejas[[#This Row],['# Queja]],Historico_Registro_Quejas3[#All],7,0)","v":"Precios increiblemente elevados "},{"$f":"VLOOKUP(Precentación_Quejas[[#This Row],['# Queja]],Historico_Registro_Quejas3[#All],22,0)","v":"Calidad comida"},{"$f":"VLOOKUP(Precentación_Quejas[[#This Row],[Payaso]],Tabla_Payasos[[Payasos]:[Columna1]],2,0)","v":70},580,{"$f":"VLOOKUP(Precentación_Quejas[[#This Row],['# Queja]],Historico_Registro_Quejas3[[#All],['# Queja]:[Valoración]],15,0)","v":"ROJA"}]
[{"$f":"VLOOKUP(Precentación_Quejas[[#This Row],['# Queja]],Historico_Registro_Quejas3[#All],4,0)","v":0},{"$f":"VLOOKUP(Precentación_Quejas[[#This Row],['# Queja]],Historico_Registro_Quejas3[#All],2,0)","v":"2018-05-14"},{"$f":"VLOOKUP(Precentación_Quejas[[#This Row],['# Queja]],Historico_Registro_Quejas3[#All],7,0)","v":"Precio elevado de los restaurantes"},{"$f":"VLOOKUP(Precentación_Quejas[[#This Row],['# Queja]],Historico_Registro_Quejas3[#All],22,0)","v":"Calidad comida"},{"$f":"VLOOKUP(Precentación_Quejas[[#This Row],[Payaso]],Tabla_Payasos[[Payasos]:[Columna1]],2,0)","v":70},579,{"$f":"VLOOKUP(Precentación_Quejas[[#This Row],['# Queja]],Historico_Registro_Quejas3[[#All],['# Queja]:[Valoración]],15,0)","v":"ROJA"}]
[{"$f":"VLOOKUP(Precentación_Quejas[[#This Row],['# Queja]],Historico_Registro_Quejas3[#All],4,0)","v":0},{"$f":"VLOOKUP(Precentación_Quejas[[#This Row],['# Queja]],Historico_Registro_Quejas3[#All],2,0)","v":"2018-05-14"},{"$f":"VLOOKUP(Precentación_Quejas[[#This Row],['# Queja]],Historico_Registro_Quejas3[#All],7,0)","v":"El desayuno puede mejorar, Costa Rica tiene muchas frutas y deberían incluirse en el desayuno ya que solamente había piña y banano como únicas opciones."},{"$f":"VLOOKUP(Precentación_Quejas[[#This Row],['# Queja]],Historico_Registro_Quejas3[#All],22,0)","v":"Calidad comida"},{"$f":"VLOOKUP(Precentación_Quejas[[#This Row],[Payaso]],Tabla_Payasos[[Payasos]:[Columna1]],2,0)","v":70},578,{"$f":"VLOOKUP(Precentación_Quejas[[#This Row],['# Queja]],Historico_Registro_Quejas3[[#All],['# Queja]:[Valoración]],15,0)","v":"ROJA"}]
[{"$f":"VLOOKUP(Precentación_Quejas[[#This Row],['# Queja]],Historico_Registro_Quejas3[#All],4,0)","v":0},{"$f":"VLOOKUP(Precentación_Quejas[[#This Row],['# Queja]],Historico_Registro_Quejas3[#All],2,0)","v":"2018-05-12"},{"$f":"VLOOKUP(Precentación_Quejas[[#This Row],['# Queja]],Historico_Registro_Quejas3[#All],7,0)","v":"Variedad de opciones en el desayuno no es muy amplia."},{"$f":"VLOOKUP(Precentación_Quejas[[#This Row],['# Queja]],Historico_Registro_Quejas3[#All],22,0)","v":"Calidad comida"},{"$f":"VLOOKUP(Precentación_Quejas[[#This Row],[Payaso]],Tabla_Payasos[[Payasos]:[Columna1]],2,0)","v":70},577,{"$f":"VLOOKUP(Precentación_Quejas[[#This Row],['# Queja]],Historico_Registro_Quejas3[[#All],['# Queja]:[Valoración]],15,0)","v":"ROJA"}]
[{"$f":"VLOOKUP(Precentación_Quejas[[#This Row],['# Queja]],Historico_Registro_Quejas3[#All],4,0)","v":0},{"$f":"VLOOKUP(Precentación_Quejas[[#This Row],['# Queja]],Historico_Registro_Quejas3[#All],2,0)","v":"2018-05-09"},{"$f":"VLOOKUP(Precentación_Quejas[[#This Row],['# Queja]],Historico_Registro_Quejas3[#All],7,0)","v":"El costo de las bebidas de los bares y las cmoidas en restaurantes es elevado."},{"$f":"VLOOKUP(Precentación_Quejas[[#This Row],['# Queja]],Historico_Registro_Quejas3[#All],22,0)","v":"Calidad comida"},{"$f":"VLOOKUP(Precentación_Quejas[[#This Row],[Payaso]],Tabla_Payasos[[Payasos]:[Columna1]],2,0)","v":70},576,{"$f":"VLOOKUP(Precentación_Quejas[[#This Row],['# Queja]],Historico_Registro_Quejas3[[#All],['# Queja]:[Valoración]],15,0)","v":"ROJA"}]
[{"$f":"VLOOKUP(Precentación_Quejas[[#This Row],['# Queja]],Historico_Registro_Quejas3[#All],4,0)","v":0},{"$f":"VLOOKUP(Precentación_Quejas[[#This Row],['# Queja]],Historico_Registro_Quejas3[#All],2,0)","v":"2018-05-08"},{"$f":"VLOOKUP(Precentación_Quejas[[#This Row],['# Queja]],Historico_Registro_Quejas3[#All],7,0)","v":"Los precios de los restaurantes son un poco caros."},{"$f":"VLOOKUP(Precentación_Quejas[[#This Row],['# Queja]],Historico_Registro_Quejas3[#All],22,0)","v":"Calidad comida"},{"$f":"VLOOKUP(Precentación_Quejas[[#This Row],[Payaso]],Tabla_Payasos[[Payasos]:[Columna1]],2,0)","v":70},575,{"$f":"VLOOKUP(Precentación_Quejas[[#This Row],['# Queja]],Historico_Registro_Quejas3[[#All],['# Queja]:[Valoración]],15,0)","v":"ROJA"}]
[{"$f":"VLOOKUP(Precentación_Quejas[[#This Row],['# Queja]],Historico_Registro_Quejas3[#All],4,0)","v":0},{"$f":"VLOOKUP(Precentación_Quejas[[#This Row],['# Queja]],Historico_Registro_Quejas3[#All],2,0)","v":"2018-05-08"},{"$f":"VLOOKUP(Precentación_Quejas[[#This Row],['# Queja]],Historico_Registro_Quejas3[#All],7,0)","v":"El ventilador no se puede apagar a menos que se desactive la electricidad de toda la habitación."},{"$f":"VLOOKUP(Precentación_Quejas[[#This Row],['# Queja]],Historico_Registro_Quejas3[#All],22,0)","v":"Etiquetas en apagadores"},{"$f":"VLOOKUP(Precentación_Quejas[[#This Row],[Payaso]],Tabla_Payasos[[Payasos]:[Columna1]],2,0)","v":1},574,{"$f":"VLOOKUP(Precentación_Quejas[[#This Row],['# Queja]],Historico_Registro_Quejas3[[#All],['# Queja]:[Valoración]],15,0)","v":"ROJA"}]
[{"$f":"VLOOKUP(Precentación_Quejas[[#This Row],['# Queja]],Historico_Registro_Quejas3[#All],4,0)","v":0},{"$f":"VLOOKUP(Precentación_Quejas[[#This Row],['# Queja]],Historico_Registro_Quejas3[#All],2,0)","v":"2018-05-08"},{"$f":"VLOOKUP(Precentación_Quejas[[#This Row],['# Queja]],Historico_Registro_Quejas3[#All],7,0)","v":"El hotel es bueno excepto por la comida (de regular a mediocre) y algunos empleados, como por ejemplo la persona en recepción que no quiso cambiar dólares. "},{"$f":"VLOOKUP(Precentación_Quejas[[#This Row],['# Queja]],Historico_Registro_Quejas3[#All],22,0)","v":"Calidad comida"},{"$f":"VLOOKUP(Precentación_Quejas[[#This Row],[Payaso]],Tabla_Payasos[[Payasos]:[Columna1]],2,0)","v":70},573,{"$f":"VLOOKUP(Precentación_Quejas[[#This Row],['# Queja]],Historico_Registro_Quejas3[[#All],['# Queja]:[Valoración]],15,0)","v":"ROJA"}]
[{"$f":"VLOOKUP(Precentación_Quejas[[#This Row],['# Queja]],Historico_Registro_Quejas3[#All],4,0)","v":0},{"$f":"VLOOKUP(Precentación_Quejas[[#This Row],['# Queja]],Historico_Registro_Quejas3[#All],2,0)","v":"2018-05-08"},{"$f":"VLOOKUP(Precentación_Quejas[[#This Row],['# Queja]],Historico_Registro_Quejas3[#All],7,0)","v":"Comida y servicios no se comparan con precio, esperaba más para el dinero que cuesta el hospedaje."},{"$f":"VLOOKUP(Precentación_Quejas[[#This Row],['# Queja]],Historico_Registro_Quejas3[#All],22,0)","v":"Calidad comida"},{"$f":"VLOOKUP(Precentación_Quejas[[#This Row],[Payaso]],Tabla_Payasos[[Payasos]:[Columna1]],2,0)","v":70},572,{"$f":"VLOOKUP(Precentación_Quejas[[#This Row],['# Queja]],Historico_Registro_Quejas3[[#All],['# Queja]:[Valoración]],15,0)","v":"ROJA"}]
[{"$f":"VLOOKUP(Precentación_Quejas[[#This Row],['# Queja]],Historico_Registro_Quejas3[#All],4,0)","v":0},{"$f":"VLOOKUP(Precentación_Quejas[[#This Row],['# Queja]],Historico_Registro_Quejas3[#All],2,0)","v":"2018-05-07"},{"$f":"VLOOKUP(Precentación_Quejas[[#This Row],['# Queja]],Historico_Registro_Quejas3[#All],7,0)","v":"Opciones en las comidas de los restaurantes son muy limitadas."},{"$f":"VLOOKUP(Precentación_Quejas[[#This Row],['# Queja]],Historico_Registro_Quejas3[#All],22,0)","v":"Calidad comida"},{"$f":"VLOOKUP(Precentación_Quejas[[#This Row],[Payaso]],Tabla_Payasos[[Payasos]:[Columna1]],2,0)","v":70},571,{"$f":"VLOOKUP(Precentación_Quejas[[#This Row],['# Queja]],Historico_Registro_Quejas3[[#All],['# Queja]:[Valoración]],15,0)","v":"ROJA"}]
[{"$f":"VLOOKUP(Precentación_Quejas[[#This Row],['# Queja]],Historico_Registro_Quejas3[#All],4,0)","v":0},{"$f":"VLOOKUP(Precentación_Quejas[[#This Row],['# Queja]],Historico_Registro_Quejas3[#All],2,0)","v":"2018-05-07"},{"$f":"VLOOKUP(Precentación_Quejas[[#This Row],['# Queja]],Historico_Registro_Quejas3[#All],7,0)","v":"Limitadas y pequeñas areas de piscina"},{"$f":"VLOOKUP(Precentación_Quejas[[#This Row],['# Queja]],Historico_Registro_Quejas3[#All],22,0)","v":"Piscinas "},{"$f":"VLOOKUP(Precentación_Quejas[[#This Row],[Payaso]],Tabla_Payasos[[Payasos]:[Columna1]],2,0)","v":{"$error":"#N/A"}},570,{"$f":"VLOOKUP(Precentación_Quejas[[#This Row],['# Queja]],Historico_Registro_Quejas3[[#All],['# Queja]:[Valoración]],15,0)","v":"Desestimada"}]
[{"$f":"VLOOKUP(Precentación_Quejas[[#This Row],['# Queja]],Historico_Registro_Quejas3[#All],4,0)","v":0},{"$f":"VLOOKUP(Precentación_Quejas[[#This Row],['# Queja]],Historico_Registro_Quejas3[#All],2,0)","v":"2018-05-07"},{"$f":"VLOOKUP(Precentación_Quejas[[#This Row],['# Queja]],Historico_Registro_Quejas3[#All],7,0)","v":"Los alimentos no son de buena calidad y muy básicos, el desayuno es muy rutinario y es necesario tener mas variedad de opciones.  Además el precio no se compara con el servicio y calidad."},{"$f":"VLOOKUP(Precentación_Quejas[[#This Row],['# Queja]],Historico_Registro_Quejas3[#All],22,0)","v":"Calidad comida"},{"$f":"VLOOKUP(Precentación_Quejas[[#This Row],[Payaso]],Tabla_Payasos[[Payasos]:[Columna1]],2,0)","v":70},569,{"$f":"VLOOKUP(Precentación_Quejas[[#This Row],['# Queja]],Historico_Registro_Quejas3[[#All],['# Queja]:[Valoración]],15,0)","v":"ROJA"}]
[{"$f":"VLOOKUP(Precentación_Quejas[[#This Row],['# Queja]],Historico_Registro_Quejas3[#All],4,0)","v":0},{"$f":"VLOOKUP(Precentación_Quejas[[#This Row],['# Queja]],Historico_Registro_Quejas3[#All],2,0)","v":"2018-05-03"},{"$f":"VLOOKUP(Precentación_Quejas[[#This Row],['# Queja]],Historico_Registro_Quejas3[#All],7,0)","v":"Opciones de almuerzo y cena muy limitadas"},{"$f":"VLOOKUP(Precentación_Quejas[[#This Row],['# Queja]],Historico_Registro_Quejas3[#All],22,0)","v":"Calidad comida"},{"$f":"VLOOKUP(Precentación_Quejas[[#This Row],[Payaso]],Tabla_Payasos[[Payasos]:[Columna1]],2,0)","v":70},568,{"$f":"VLOOKUP(Precentación_Quejas[[#This Row],['# Queja]],Historico_Registro_Quejas3[[#All],['# Queja]:[Valoración]],15,0)","v":"ROJA"}]
[{"$f":"VLOOKUP(Precentación_Quejas[[#This Row],['# Queja]],Historico_Registro_Quejas3[#All],4,0)","v":504},{"$f":"VLOOKUP(Precentación_Quejas[[#This Row],['# Queja]],Historico_Registro_Quejas3[#All],2,0)","v":"2018-05-26"},{"$f":"VLOOKUP(Precentación_Quejas[[#This Row],['# Queja]],Historico_Registro_Quejas3[#All],7,0)","v":"Hab necesita mejor luz"},{"$f":"VLOOKUP(Precentación_Quejas[[#This Row],['# Queja]],Historico_Registro_Quejas3[#All],22,0)","v":"Iluminación hab closet"},{"$f":"VLOOKUP(Precentación_Quejas[[#This Row],[Payaso]],Tabla_Payasos[[Payasos]:[Columna1]],2,0)","v":2},567,{"$f":"VLOOKUP(Precentación_Quejas[[#This Row],['# Queja]],Historico_Registro_Quejas3[[#All],['# Queja]:[Valoración]],15,0)","v":"ROJA"}]
[{"$f":"VLOOKUP(Precentación_Quejas[[#This Row],['# Queja]],Historico_Registro_Quejas3[#All],4,0)","v":504},{"$f":"VLOOKUP(Precentación_Quejas[[#This Row],['# Queja]],Historico_Registro_Quejas3[#All],2,0)","v":"2018-05-26"},{"$f":"VLOOKUP(Precentación_Quejas[[#This Row],['# Queja]],Historico_Registro_Quejas3[#All],7,0)","v":"Muy mala experiencia en el restaurante con un salonero, el cual no fue atento, con un mal servicio."},{"$f":"VLOOKUP(Precentación_Quejas[[#This Row],['# Queja]],Historico_Registro_Quejas3[#All],22,0)","v":"Servicio cliente restaurante "},{"$f":"VLOOKUP(Precentación_Quejas[[#This Row],[Payaso]],Tabla_Payasos[[Payasos]:[Columna1]],2,0)","v":25},566,{"$f":"VLOOKUP(Precentación_Quejas[[#This Row],['# Queja]],Historico_Registro_Quejas3[[#All],['# Queja]:[Valoración]],15,0)","v":"ROJA"}]
[{"$f":"VLOOKUP(Precentación_Quejas[[#This Row],['# Queja]],Historico_Registro_Quejas3[#All],4,0)","v":512},{"$f":"VLOOKUP(Precentación_Quejas[[#This Row],['# Queja]],Historico_Registro_Quejas3[#All],2,0)","v":"2018-05-27"},{"$f":"VLOOKUP(Precentación_Quejas[[#This Row],['# Queja]],Historico_Registro_Quejas3[#All],7,0)","v":"No hay carne en el desayuno, la variedad de la comida es limitada, y el tamaño de las sopas no es el ideal"},{"$f":"VLOOKUP(Precentación_Quejas[[#This Row],['# Queja]],Historico_Registro_Quejas3[#All],22,0)","v":"Calidad comida"},{"$f":"VLOOKUP(Precentación_Quejas[[#This Row],[Payaso]],Tabla_Payasos[[Payasos]:[Columna1]],2,0)","v":70},565,{"$f":"VLOOKUP(Precentación_Quejas[[#This Row],['# Queja]],Historico_Registro_Quejas3[[#All],['# Queja]:[Valoración]],15,0)","v":"ROJA"}]
[{"$f":"VLOOKUP(Precentación_Quejas[[#This Row],['# Queja]],Historico_Registro_Quejas3[#All],4,0)","v":903},{"$f":"VLOOKUP(Precentación_Quejas[[#This Row],['# Queja]],Historico_Registro_Quejas3[#All],2,0)","v":"2018-05-27"},{"$f":"VLOOKUP(Precentación_Quejas[[#This Row],['# Queja]],Historico_Registro_Quejas3[#All],7,0)","v":"necesitamos mejor comida en los restaurantes"},{"$f":"VLOOKUP(Precentación_Quejas[[#This Row],['# Queja]],Historico_Registro_Quejas3[#All],22,0)","v":"Calidad comida"},{"$f":"VLOOKUP(Precentación_Quejas[[#This Row],[Payaso]],Tabla_Payasos[[Payasos]:[Columna1]],2,0)","v":70},564,{"$f":"VLOOKUP(Precentación_Quejas[[#This Row],['# Queja]],Historico_Registro_Quejas3[[#All],['# Queja]:[Valoración]],15,0)","v":"ROJA"}]
[{"$f":"VLOOKUP(Precentación_Quejas[[#This Row],['# Queja]],Historico_Registro_Quejas3[#All],4,0)","v":205},{"$f":"VLOOKUP(Precentación_Quejas[[#This Row],['# Queja]],Historico_Registro_Quejas3[#All],2,0)","v":"2018-05-26"},{"$f":"VLOOKUP(Precentación_Quejas[[#This Row],['# Queja]],Historico_Registro_Quejas3[#All],7,0)","v":"Huespedes se quejan de la poca variedad en las comidas "},{"$f":"VLOOKUP(Precentación_Quejas[[#This Row],['# Queja]],Historico_Registro_Quejas3[#All],22,0)","v":"Calidad comida"},{"$f":"VLOOKUP(Precentación_Quejas[[#This Row],[Payaso]],Tabla_Payasos[[Payasos]:[Columna1]],2,0)","v":70},563,{"$f":"VLOOKUP(Precentación_Quejas[[#This Row],['# Queja]],Historico_Registro_Quejas3[[#All],['# Queja]:[Valoración]],15,0)","v":"ROJA"}]
[{"$f":"VLOOKUP(Precentación_Quejas[[#This Row],['# Queja]],Historico_Registro_Quejas3[#All],4,0)","v":404},{"$f":"VLOOKUP(Precentación_Quejas[[#This Row],['# Queja]],Historico_Registro_Quejas3[#All],2,0)","v":"2018-05-26"},{"$f":"VLOOKUP(Precentación_Quejas[[#This Row],['# Queja]],Historico_Registro_Quejas3[#All],7,0)","v":"Él botones llega a la habitación a dejar el check in y encuentran una cerveza por la mitad en la refri "},{"$f":"VLOOKUP(Precentación_Quejas[[#This Row],['# Queja]],Historico_Registro_Quejas3[#All],22,0)","v":"Habitaciones"},{"$f":"VLOOKUP(Precentación_Quejas[[#This Row],[Payaso]],Tabla_Payasos[[Payasos]:[Columna1]],2,0)","v":54},562,{"$f":"VLOOKUP(Precentación_Quejas[[#This Row],['# Queja]],Historico_Registro_Quejas3[[#All],['# Queja]:[Valoración]],15,0)","v":"ROJA"}]
[{"$f":"VLOOKUP(Precentación_Quejas[[#This Row],['# Queja]],Historico_Registro_Quejas3[#All],4,0)","v":306},{"$f":"VLOOKUP(Precentación_Quejas[[#This Row],['# Queja]],Historico_Registro_Quejas3[#All],2,0)","v":"2018-05-26"},{"$f":"VLOOKUP(Precentación_Quejas[[#This Row],['# Queja]],Historico_Registro_Quejas3[#All],7,0)","v":"huespedes nos informan de foma traquila que la alarma los despertó la noche anterior mas no se encontraban molestos al respecto "},{"$f":"VLOOKUP(Precentación_Quejas[[#This Row],['# Queja]],Historico_Registro_Quejas3[#All],22,0)","v":"Alarmas "},{"$f":"VLOOKUP(Precentación_Quejas[[#This Row],[Payaso]],Tabla_Payasos[[Payasos]:[Columna1]],2,0)","v":5},561,{"$f":"VLOOKUP(Precentación_Quejas[[#This Row],['# Queja]],Historico_Registro_Quejas3[[#All],['# Queja]:[Valoración]],15,0)","v":"ROJA"}]
[{"$f":"VLOOKUP(Precentación_Quejas[[#This Row],['# Queja]],Historico_Registro_Quejas3[#All],4,0)","v":"207-208"},{"$f":"VLOOKUP(Precentación_Quejas[[#This Row],['# Queja]],Historico_Registro_Quejas3[#All],2,0)","v":"2018-05-26"},{"$f":"VLOOKUP(Precentación_Quejas[[#This Row],['# Queja]],Historico_Registro_Quejas3[#All],7,0)","v":"huespedes se apersonaron muy molestos al area de recepción para quejarse por que no pudieron dormir debido a que la alarma de incendios se activó la noche anterior, se activó a las 2am y de nuevo 5am, no dieron chance a ninguna solución mas que hablar con el gerente. "},{"$f":"VLOOKUP(Precentación_Quejas[[#This Row],['# Queja]],Historico_Registro_Quejas3[#All],22,0)","v":"Alarmas "},{"$f":"VLOOKUP(Precentación_Quejas[[#This Row],[Payaso]],Tabla_Payasos[[Payasos]:[Columna1]],2,0)","v":5},560,{"$f":"VLOOKUP(Precentación_Quejas[[#This Row],['# Queja]],Historico_Registro_Quejas3[[#All],['# Queja]:[Valoración]],15,0)","v":"ROJA"}]
[{"$f":"VLOOKUP(Precentación_Quejas[[#This Row],['# Queja]],Historico_Registro_Quejas3[#All],4,0)","v":206},{"$f":"VLOOKUP(Precentación_Quejas[[#This Row],['# Queja]],Historico_Registro_Quejas3[#All],2,0)","v":"2018-05-26"},{"$f":"VLOOKUP(Precentación_Quejas[[#This Row],['# Queja]],Historico_Registro_Quejas3[#All],7,0)","v":"huespedes se apersonaron muy molestos al area de recepción para quejarse por que no pudieron dormir debido a que la alarma de incendios se activó la noche anterior, se activó a las 2am y de nuevo 5am, no dieron chance a ninguna solución mas que hablar con el gerente. "},{"$f":"VLOOKUP(Precentación_Quejas[[#This Row],['# Queja]],Historico_Registro_Quejas3[#All],22,0)","v":"Servicio cliente botones"},{"$f":"VLOOKUP(Precentación_Quejas[[#This Row],[Payaso]],Tabla_Payasos[[Payasos]:[Columna1]],2,0)","v":6},559,{"$f":"VLOOKUP(Precentación_Quejas[[#This Row],['# Queja]],Historico_Registro_Quejas3[[#All],['# Queja]:[Valoración]],15,0)","v":"ROJA"}]
[{"$f":"VLOOKUP(Precentación_Quejas[[#This Row],['# Queja]],Historico_Registro_Quejas3[#All],4,0)","v":0},{"$f":"VLOOKUP(Precentación_Quejas[[#This Row],['# Queja]],Historico_Registro_Quejas3[#All],2,0)","v":"2018-05-25"},{"$f":"VLOOKUP(Precentación_Quejas[[#This Row],['# Queja]],Historico_Registro_Quejas3[#All],7,0)","v":"La huésped comenta que al haber pedido algo en el sushi cuando se lo entregaron el botones no fue amable."},{"$f":"VLOOKUP(Precentación_Quejas[[#This Row],['# Queja]],Historico_Registro_Quejas3[#All],22,0)","v":"Servicio cliente botones"},{"$f":"VLOOKUP(Precentación_Quejas[[#This Row],[Payaso]],Tabla_Payasos[[Payasos]:[Columna1]],2,0)","v":6},558,{"$f":"VLOOKUP(Precentación_Quejas[[#This Row],['# Queja]],Historico_Registro_Quejas3[[#All],['# Queja]:[Valoración]],15,0)","v":"ROJA"}]
[{"$f":"VLOOKUP(Precentación_Quejas[[#This Row],['# Queja]],Historico_Registro_Quejas3[#All],4,0)","v":0},{"$f":"VLOOKUP(Precentación_Quejas[[#This Row],['# Queja]],Historico_Registro_Quejas3[#All],2,0)","v":"2018-05-25"},{"$f":"VLOOKUP(Precentación_Quejas[[#This Row],['# Queja]],Historico_Registro_Quejas3[#All],7,0)","v":"La relación precio calidad de los restaurantes es mala, como ejemplo dice que la ultima noche pidió comida en el sushi bar y esto fue según ella una desgracia."},{"$f":"VLOOKUP(Precentación_Quejas[[#This Row],['# Queja]],Historico_Registro_Quejas3[#All],22,0)","v":"Calidad Sushi"},{"$f":"VLOOKUP(Precentación_Quejas[[#This Row],[Payaso]],Tabla_Payasos[[Payasos]:[Columna1]],2,0)","v":7},557,{"$f":"VLOOKUP(Precentación_Quejas[[#This Row],['# Queja]],Historico_Registro_Quejas3[[#All],['# Queja]:[Valoración]],15,0)","v":"ROJA"}]
[{"$f":"VLOOKUP(Precentación_Quejas[[#This Row],['# Queja]],Historico_Registro_Quejas3[#All],4,0)","v":0},{"$f":"VLOOKUP(Precentación_Quejas[[#This Row],['# Queja]],Historico_Registro_Quejas3[#All],2,0)","v":"2018-05-25"},{"$f":"VLOOKUP(Precentación_Quejas[[#This Row],['# Queja]],Historico_Registro_Quejas3[#All],7,0)","v":"Huésped recomienda que se deberia cambiar el nombre de las habitaciones, ya que según su opinión el nombre Junior Suite no va con las características que tienen nuestras habitaciones, de hecho comenta que la habitación le pareció estupenda y da como ejemplo de nombre Premium"},{"$f":"VLOOKUP(Precentación_Quejas[[#This Row],['# Queja]],Historico_Registro_Quejas3[#All],22,0)","v":"Desestimado"},{"$f":"VLOOKUP(Precentación_Quejas[[#This Row],[Payaso]],Tabla_Payasos[[Payasos]:[Columna1]],2,0)","v":29},556,{"$f":"VLOOKUP(Precentación_Quejas[[#This Row],['# Queja]],Historico_Registro_Quejas3[[#All],['# Queja]:[Valoración]],15,0)","v":"Desestimada"}]
[{"$f":"VLOOKUP(Precentación_Quejas[[#This Row],['# Queja]],Historico_Registro_Quejas3[#All],4,0)","v":901},{"$f":"VLOOKUP(Precentación_Quejas[[#This Row],['# Queja]],Historico_Registro_Quejas3[#All],2,0)","v":"2018-05-25"},{"$f":"VLOOKUP(Precentación_Quejas[[#This Row],['# Queja]],Historico_Registro_Quejas3[#All],7,0)","v":"Huésped reporta que encontró muchos insectos  incluyendo 2 cucarachas ."},{"$f":"VLOOKUP(Precentación_Quejas[[#This Row],['# Queja]],Historico_Registro_Quejas3[#All],22,0)","v":"Plagas Habitaciones"},{"$f":"VLOOKUP(Precentación_Quejas[[#This Row],[Payaso]],Tabla_Payasos[[Payasos]:[Columna1]],2,0)","v":49},555,{"$f":"VLOOKUP(Precentación_Quejas[[#This Row],['# Queja]],Historico_Registro_Quejas3[[#All],['# Queja]:[Valoración]],15,0)","v":"ROJA"}]
[{"$f":"VLOOKUP(Precentación_Quejas[[#This Row],['# Queja]],Historico_Registro_Quejas3[#All],4,0)","v":210},{"$f":"VLOOKUP(Precentación_Quejas[[#This Row],['# Queja]],Historico_Registro_Quejas3[#All],2,0)","v":"2018-05-25"},{"$f":"VLOOKUP(Precentación_Quejas[[#This Row],['# Queja]],Historico_Registro_Quejas3[#All],7,0)","v":"Restaurantes muy caros, mejor si hubiera mas comida tipica y con precios mas bajos."},{"$f":"VLOOKUP(Precentación_Quejas[[#This Row],['# Queja]],Historico_Registro_Quejas3[#All],22,0)","v":"Calidad comida"},{"$f":"VLOOKUP(Precentación_Quejas[[#This Row],[Payaso]],Tabla_Payasos[[Payasos]:[Columna1]],2,0)","v":70},554,{"$f":"VLOOKUP(Precentación_Quejas[[#This Row],['# Queja]],Historico_Registro_Quejas3[[#All],['# Queja]:[Valoración]],15,0)","v":"ROJA"}]
[{"$f":"VLOOKUP(Precentación_Quejas[[#This Row],['# Queja]],Historico_Registro_Quejas3[#All],4,0)","v":0},{"$f":"VLOOKUP(Precentación_Quejas[[#This Row],['# Queja]],Historico_Registro_Quejas3[#All],2,0)","v":"2018-05-25"},{"$f":"VLOOKUP(Precentación_Quejas[[#This Row],['# Queja]],Historico_Registro_Quejas3[#All],7,0)","v":"aL ser las 11:30am el encargado de lockers Javier reporta que el area del gimnasio, lockers y hamacas  presenta un acceso complicado debido a que los compañeros de restaurantes estaban lavando el piso del Ti Cain, la caída de jabón y agua era constante impidiendo el acceso de una cosiderable cantidad de huespedes presentes en las piscinas, era complicado entrar por el área principal de lockers. El jabón estaba en las aceras lo cuál pudo provocar que algun huesped sufriera una caída. "},{"$f":"VLOOKUP(Precentación_Quejas[[#This Row],['# Queja]],Historico_Registro_Quejas3[#All],22,0)","v":"Falta de comunicación"},{"$f":"VLOOKUP(Precentación_Quejas[[#This Row],[Payaso]],Tabla_Payasos[[Payasos]:[Columna1]],2,0)","v":1},553,{"$f":"VLOOKUP(Precentación_Quejas[[#This Row],['# Queja]],Historico_Registro_Quejas3[[#All],['# Queja]:[Valoración]],15,0)","v":"ROJA"}]
[{"$f":"VLOOKUP(Precentación_Quejas[[#This Row],['# Queja]],Historico_Registro_Quejas3[#All],4,0)","v":304},{"$f":"VLOOKUP(Precentación_Quejas[[#This Row],['# Queja]],Historico_Registro_Quejas3[#All],2,0)","v":"2018-05-25"},{"$f":"VLOOKUP(Precentación_Quejas[[#This Row],['# Queja]],Historico_Registro_Quejas3[#All],7,0)","v":"Huéspedes se quejan del tamaño de la habitación e indican que es muy ajustada para 3 o 4 personas, además dicen que se ocupan 2 sanitarios y 2 lavatorios especialmente cuando hay 4 personas en la misma habitación."},{"$f":"VLOOKUP(Precentación_Quejas[[#This Row],['# Queja]],Historico_Registro_Quejas3[#All],22,0)","v":"Desestimado"},{"$f":"VLOOKUP(Precentación_Quejas[[#This Row],[Payaso]],Tabla_Payasos[[Payasos]:[Columna1]],2,0)","v":29},552,{"$f":"VLOOKUP(Precentación_Quejas[[#This Row],['# Queja]],Historico_Registro_Quejas3[[#All],['# Queja]:[Valoración]],15,0)","v":"Desestimada"}]
[{"$f":"VLOOKUP(Precentación_Quejas[[#This Row],['# Queja]],Historico_Registro_Quejas3[#All],4,0)","v":411},{"$f":"VLOOKUP(Precentación_Quejas[[#This Row],['# Queja]],Historico_Registro_Quejas3[#All],2,0)","v":"2018-05-24"},{"$f":"VLOOKUP(Precentación_Quejas[[#This Row],['# Queja]],Historico_Registro_Quejas3[#All],7,0)","v":"Huesped indica que el hotel debería tener un poco de baile por la tarde o noche, como un salón de baile con algún entretenimiento."},{"$f":"VLOOKUP(Precentación_Quejas[[#This Row],['# Queja]],Historico_Registro_Quejas3[#All],22,0)","v":"Desestimado"},{"$f":"VLOOKUP(Precentación_Quejas[[#This Row],[Payaso]],Tabla_Payasos[[Payasos]:[Columna1]],2,0)","v":29},551,{"$f":"VLOOKUP(Precentación_Quejas[[#This Row],['# Queja]],Historico_Registro_Quejas3[[#All],['# Queja]:[Valoración]],15,0)","v":"Desestimada"}]
[{"$f":"VLOOKUP(Precentación_Quejas[[#This Row],['# Queja]],Historico_Registro_Quejas3[#All],4,0)","v":112},{"$f":"VLOOKUP(Precentación_Quejas[[#This Row],['# Queja]],Historico_Registro_Quejas3[#All],2,0)","v":"2018-05-22"},{"$f":"VLOOKUP(Precentación_Quejas[[#This Row],['# Queja]],Historico_Registro_Quejas3[#All],7,0)","v":"\"El único problema fue que habían pequeños ciempies en el baño\""},{"$f":"VLOOKUP(Precentación_Quejas[[#This Row],['# Queja]],Historico_Registro_Quejas3[#All],22,0)","v":"Plagas Habitaciones"},{"$f":"VLOOKUP(Precentación_Quejas[[#This Row],[Payaso]],Tabla_Payasos[[Payasos]:[Columna1]],2,0)","v":49},550,{"$f":"VLOOKUP(Precentación_Quejas[[#This Row],['# Queja]],Historico_Registro_Quejas3[[#All],['# Queja]:[Valoración]],15,0)","v":"ROJA"}]
[{"$f":"VLOOKUP(Precentación_Quejas[[#This Row],['# Queja]],Historico_Registro_Quejas3[#All],4,0)","v":507},{"$f":"VLOOKUP(Precentación_Quejas[[#This Row],['# Queja]],Historico_Registro_Quejas3[#All],2,0)","v":"2018-05-22"},{"$f":"VLOOKUP(Precentación_Quejas[[#This Row],['# Queja]],Historico_Registro_Quejas3[#All],7,0)","v":"La huésped se mostró muy molesta poe que no tenia un maletero extra , el cual había solicitado varias veces."},{"$f":"VLOOKUP(Precentación_Quejas[[#This Row],['# Queja]],Historico_Registro_Quejas3[#All],22,0)","v":"Plagas Habitaciones"},{"$f":"VLOOKUP(Precentación_Quejas[[#This Row],[Payaso]],Tabla_Payasos[[Payasos]:[Columna1]],2,0)","v":49},549,{"$f":"VLOOKUP(Precentación_Quejas[[#This Row],['# Queja]],Historico_Registro_Quejas3[[#All],['# Queja]:[Valoración]],15,0)","v":"ROJA"}]
[{"$f":"VLOOKUP(Precentación_Quejas[[#This Row],['# Queja]],Historico_Registro_Quejas3[#All],4,0)","v":609},{"$f":"VLOOKUP(Precentación_Quejas[[#This Row],['# Queja]],Historico_Registro_Quejas3[#All],2,0)","v":"2018-05-21"},{"$f":"VLOOKUP(Precentación_Quejas[[#This Row],['# Queja]],Historico_Registro_Quejas3[#All],7,0)","v":"Huéspedes de Caravan les salió una cucaracha de la mesa mientras se encontraban comiendo."},{"$f":"VLOOKUP(Precentación_Quejas[[#This Row],['# Queja]],Historico_Registro_Quejas3[#All],22,0)","v":"Plagas Habitaciones"},{"$f":"VLOOKUP(Precentación_Quejas[[#This Row],[Payaso]],Tabla_Payasos[[Payasos]:[Columna1]],2,0)","v":49},548,{"$f":"VLOOKUP(Precentación_Quejas[[#This Row],['# Queja]],Historico_Registro_Quejas3[[#All],['# Queja]:[Valoración]],15,0)","v":"ROJA"}]
[{"$f":"VLOOKUP(Precentación_Quejas[[#This Row],['# Queja]],Historico_Registro_Quejas3[#All],4,0)","v":207},{"$f":"VLOOKUP(Precentación_Quejas[[#This Row],['# Queja]],Historico_Registro_Quejas3[#All],2,0)","v":"2018-05-21"},{"$f":"VLOOKUP(Precentación_Quejas[[#This Row],['# Queja]],Historico_Registro_Quejas3[#All],7,0)","v":"Huéspedes se quejan porque no es permitido ingresar invitados o amigos de otros hoteles, indican que parece un hospital o una carcel."},{"$f":"VLOOKUP(Precentación_Quejas[[#This Row],['# Queja]],Historico_Registro_Quejas3[#All],22,0)","v":"Vistas de huespedes"},{"$f":"VLOOKUP(Precentación_Quejas[[#This Row],[Payaso]],Tabla_Payasos[[Payasos]:[Columna1]],2,0)","v":2},547,{"$f":"VLOOKUP(Precentación_Quejas[[#This Row],['# Queja]],Historico_Registro_Quejas3[[#All],['# Queja]:[Valoración]],15,0)","v":"ROJA"}]
[{"$f":"VLOOKUP(Precentación_Quejas[[#This Row],['# Queja]],Historico_Registro_Quejas3[#All],4,0)","v":207},{"$f":"VLOOKUP(Precentación_Quejas[[#This Row],['# Queja]],Historico_Registro_Quejas3[#All],2,0)","v":"2018-05-21"},{"$f":"VLOOKUP(Precentación_Quejas[[#This Row],['# Queja]],Historico_Registro_Quejas3[#All],7,0)","v":"Huéspedes se quejan de los brazaletes, solicitan que se eliminen ya que eso es barato y se ve mal."},{"$f":"VLOOKUP(Precentación_Quejas[[#This Row],['# Queja]],Historico_Registro_Quejas3[#All],22,0)","v":"Brazaletes"},{"$f":"VLOOKUP(Precentación_Quejas[[#This Row],[Payaso]],Tabla_Payasos[[Payasos]:[Columna1]],2,0)","v":4},546,{"$f":"VLOOKUP(Precentación_Quejas[[#This Row],['# Queja]],Historico_Registro_Quejas3[[#All],['# Queja]:[Valoración]],15,0)","v":"ROJA"}]
[{"$f":"VLOOKUP(Precentación_Quejas[[#This Row],['# Queja]],Historico_Registro_Quejas3[#All],4,0)","v":207},{"$f":"VLOOKUP(Precentación_Quejas[[#This Row],['# Queja]],Historico_Registro_Quejas3[#All],2,0)","v":"2018-05-21"},{"$f":"VLOOKUP(Precentación_Quejas[[#This Row],['# Queja]],Historico_Registro_Quejas3[#All],7,0)","v":"Mejores camas de bronceado y más sombra en el area de piscinas."},{"$f":"VLOOKUP(Precentación_Quejas[[#This Row],['# Queja]],Historico_Registro_Quejas3[#All],22,0)","v":"Piscinas "},{"$f":"VLOOKUP(Precentación_Quejas[[#This Row],[Payaso]],Tabla_Payasos[[Payasos]:[Columna1]],2,0)","v":{"$error":"#N/A"}},545,{"$f":"VLOOKUP(Precentación_Quejas[[#This Row],['# Queja]],Historico_Registro_Quejas3[[#All],['# Queja]:[Valoración]],15,0)","v":"ROJA"}]
[{"$f":"VLOOKUP(Precentación_Quejas[[#This Row],['# Queja]],Historico_Registro_Quejas3[#All],4,0)","v":207},{"$f":"VLOOKUP(Precentación_Quejas[[#This Row],['# Queja]],Historico_Registro_Quejas3[#All],2,0)","v":"2018-05-21"},{"$f":"VLOOKUP(Precentación_Quejas[[#This Row],['# Queja]],Historico_Registro_Quejas3[#All],7,0)","v":"Se quejan de que no hay espejo en la habitación."},{"$f":"VLOOKUP(Precentación_Quejas[[#This Row],['# Queja]],Historico_Registro_Quejas3[#All],22,0)","v":"Habitaciones"},{"$f":"VLOOKUP(Precentación_Quejas[[#This Row],[Payaso]],Tabla_Payasos[[Payasos]:[Columna1]],2,0)","v":54},544,{"$f":"VLOOKUP(Precentación_Quejas[[#This Row],['# Queja]],Historico_Registro_Quejas3[[#All],['# Queja]:[Valoración]],15,0)","v":"Amarilla"}]
[{"$f":"VLOOKUP(Precentación_Quejas[[#This Row],['# Queja]],Historico_Registro_Quejas3[#All],4,0)","v":601},{"$f":"VLOOKUP(Precentación_Quejas[[#This Row],['# Queja]],Historico_Registro_Quejas3[#All],2,0)","v":"2018-05-21"},{"$f":"VLOOKUP(Precentación_Quejas[[#This Row],['# Queja]],Historico_Registro_Quejas3[#All],7,0)","v":"Huéspedes se quejan de que el baño huele a cigarro como si hubieran fumado, además se queja que el agua caliente es muy caliente y es peligrosa."},{"$f":"VLOOKUP(Precentación_Quejas[[#This Row],['# Queja]],Historico_Registro_Quejas3[#All],22,0)","v":"Habitaciones"},{"$f":"VLOOKUP(Precentación_Quejas[[#This Row],[Payaso]],Tabla_Payasos[[Payasos]:[Columna1]],2,0)","v":54},543,{"$f":"VLOOKUP(Precentación_Quejas[[#This Row],['# Queja]],Historico_Registro_Quejas3[[#All],['# Queja]:[Valoración]],15,0)","v":"ROJA"}]
[{"$f":"VLOOKUP(Precentación_Quejas[[#This Row],['# Queja]],Historico_Registro_Quejas3[#All],4,0)","v":204},{"$f":"VLOOKUP(Precentación_Quejas[[#This Row],['# Queja]],Historico_Registro_Quejas3[#All],2,0)","v":"2018-05-21"},{"$f":"VLOOKUP(Precentación_Quejas[[#This Row],['# Queja]],Historico_Registro_Quejas3[#All],7,0)","v":"Cuando el botones está entregando la hab al check-in, encuentra en el mini bar una botellita pequeña de vino rosa a la mitad posiblemente de los huéspedes anteriores."},{"$f":"VLOOKUP(Precentación_Quejas[[#This Row],['# Queja]],Historico_Registro_Quejas3[#All],22,0)","v":"Habitaciones"},{"$f":"VLOOKUP(Precentación_Quejas[[#This Row],[Payaso]],Tabla_Payasos[[Payasos]:[Columna1]],2,0)","v":54},542,{"$f":"VLOOKUP(Precentación_Quejas[[#This Row],['# Queja]],Historico_Registro_Quejas3[[#All],['# Queja]:[Valoración]],15,0)","v":"ROJA"}]
[{"$f":"VLOOKUP(Precentación_Quejas[[#This Row],['# Queja]],Historico_Registro_Quejas3[#All],4,0)","v":509},{"$f":"VLOOKUP(Precentación_Quejas[[#This Row],['# Queja]],Historico_Registro_Quejas3[#All],2,0)","v":"2018-05-20"},{"$f":"VLOOKUP(Precentación_Quejas[[#This Row],['# Queja]],Historico_Registro_Quejas3[#All],7,0)","v":"Cuando el botones está entregando la habitación al check in, encuantra en la refri un a botella grade metálica de los clientes que estuvieron anteriormente ahí "},{"$f":"VLOOKUP(Precentación_Quejas[[#This Row],['# Queja]],Historico_Registro_Quejas3[#All],22,0)","v":"Habitaciones"},{"$f":"VLOOKUP(Precentación_Quejas[[#This Row],[Payaso]],Tabla_Payasos[[Payasos]:[Columna1]],2,0)","v":54},541,{"$f":"VLOOKUP(Precentación_Quejas[[#This Row],['# Queja]],Historico_Registro_Quejas3[[#All],['# Queja]:[Valoración]],15,0)","v":"ROJA"}]
[{"$f":"VLOOKUP(Precentación_Quejas[[#This Row],['# Queja]],Historico_Registro_Quejas3[#All],4,0)","v":903},{"$f":"VLOOKUP(Precentación_Quejas[[#This Row],['# Queja]],Historico_Registro_Quejas3[#All],2,0)","v":"2018-05-20"},{"$f":"VLOOKUP(Precentación_Quejas[[#This Row],['# Queja]],Historico_Registro_Quejas3[#All],7,0)","v":"Huéspedes se quejan porque no hay ventiladores en los restaurantes y porque no hay gran variedad de opciones."},{"$f":"VLOOKUP(Precentación_Quejas[[#This Row],['# Queja]],Historico_Registro_Quejas3[#All],22,0)","v":"Restaurante"},{"$f":"VLOOKUP(Precentación_Quejas[[#This Row],[Payaso]],Tabla_Payasos[[Payasos]:[Columna1]],2,0)","v":2},540,{"$f":"VLOOKUP(Precentación_Quejas[[#This Row],['# Queja]],Historico_Registro_Quejas3[[#All],['# Queja]:[Valoración]],15,0)","v":"ROJA"}]
[{"$f":"VLOOKUP(Precentación_Quejas[[#This Row],['# Queja]],Historico_Registro_Quejas3[#All],4,0)","v":604},{"$f":"VLOOKUP(Precentación_Quejas[[#This Row],['# Queja]],Historico_Registro_Quejas3[#All],2,0)","v":"2018-05-20"},{"$f":"VLOOKUP(Precentación_Quejas[[#This Row],['# Queja]],Historico_Registro_Quejas3[#All],7,0)","v":"Huésped reporta que encontró un raton muerto en la parte alta de las termales."},{"$f":"VLOOKUP(Precentación_Quejas[[#This Row],['# Queja]],Historico_Registro_Quejas3[#All],22,0)","v":"Plagas Habitaciones"},{"$f":"VLOOKUP(Precentación_Quejas[[#This Row],[Payaso]],Tabla_Payasos[[Payasos]:[Columna1]],2,0)","v":49},539,{"$f":"VLOOKUP(Precentación_Quejas[[#This Row],['# Queja]],Historico_Registro_Quejas3[[#All],['# Queja]:[Valoración]],15,0)","v":"Desestimada"}]
[{"$f":"VLOOKUP(Precentación_Quejas[[#This Row],['# Queja]],Historico_Registro_Quejas3[#All],4,0)","v":604},{"$f":"VLOOKUP(Precentación_Quejas[[#This Row],['# Queja]],Historico_Registro_Quejas3[#All],2,0)","v":"2018-05-20"},{"$f":"VLOOKUP(Precentación_Quejas[[#This Row],['# Queja]],Historico_Registro_Quejas3[#All],7,0)","v":"Huésped reporta que durante el desayuno una cucaracha apareción en su mesa."},{"$f":"VLOOKUP(Precentación_Quejas[[#This Row],['# Queja]],Historico_Registro_Quejas3[#All],22,0)","v":"Plagas Habitaciones"},{"$f":"VLOOKUP(Precentación_Quejas[[#This Row],[Payaso]],Tabla_Payasos[[Payasos]:[Columna1]],2,0)","v":49},538,{"$f":"VLOOKUP(Precentación_Quejas[[#This Row],['# Queja]],Historico_Registro_Quejas3[[#All],['# Queja]:[Valoración]],15,0)","v":"ROJA"}]
[{"$f":"VLOOKUP(Precentación_Quejas[[#This Row],['# Queja]],Historico_Registro_Quejas3[#All],4,0)","v":207},{"$f":"VLOOKUP(Precentación_Quejas[[#This Row],['# Queja]],Historico_Registro_Quejas3[#All],2,0)","v":"2018-05-19"},{"$f":"VLOOKUP(Precentación_Quejas[[#This Row],['# Queja]],Historico_Registro_Quejas3[#All],7,0)","v":"Cliente está molesta por que quiere traer amigos a cenar con ella y las políticas del hotel no lo permiten y tampoco hay información sobre esto en ningún lado "},{"$f":"VLOOKUP(Precentación_Quejas[[#This Row],['# Queja]],Historico_Registro_Quejas3[#All],22,0)","v":"Vistas de huespedes"},{"$f":"VLOOKUP(Precentación_Quejas[[#This Row],[Payaso]],Tabla_Payasos[[Payasos]:[Columna1]],2,0)","v":2},537,{"$f":"VLOOKUP(Precentación_Quejas[[#This Row],['# Queja]],Historico_Registro_Quejas3[[#All],['# Queja]:[Valoración]],15,0)","v":"ROJA"}]
[{"$f":"VLOOKUP(Precentación_Quejas[[#This Row],['# Queja]],Historico_Registro_Quejas3[#All],4,0)","v":408},{"$f":"VLOOKUP(Precentación_Quejas[[#This Row],['# Queja]],Historico_Registro_Quejas3[#All],2,0)","v":"2018-05-18"},{"$f":"VLOOKUP(Precentación_Quejas[[#This Row],['# Queja]],Historico_Registro_Quejas3[#All],7,0)","v":"Necesidad de mas sombras en el area de piscinas"},{"$f":"VLOOKUP(Precentación_Quejas[[#This Row],['# Queja]],Historico_Registro_Quejas3[#All],22,0)","v":"Piscinas "},{"$f":"VLOOKUP(Precentación_Quejas[[#This Row],[Payaso]],Tabla_Payasos[[Payasos]:[Columna1]],2,0)","v":{"$error":"#N/A"}},536,{"$f":"VLOOKUP(Precentación_Quejas[[#This Row],['# Queja]],Historico_Registro_Quejas3[[#All],['# Queja]:[Valoración]],15,0)","v":"ROJA"}]
[{"$f":"VLOOKUP(Precentación_Quejas[[#This Row],['# Queja]],Historico_Registro_Quejas3[#All],4,0)","v":405},{"$f":"VLOOKUP(Precentación_Quejas[[#This Row],['# Queja]],Historico_Registro_Quejas3[#All],2,0)","v":"2018-05-18"},{"$f":"VLOOKUP(Precentación_Quejas[[#This Row],['# Queja]],Historico_Registro_Quejas3[#All],7,0)","v":"Vino muy caro en comparación con otros hoteles en los que hemos estado en costa rica"},{"$f":"VLOOKUP(Precentación_Quejas[[#This Row],['# Queja]],Historico_Registro_Quejas3[#All],22,0)","v":"Cockteles bares"},{"$f":"VLOOKUP(Precentación_Quejas[[#This Row],[Payaso]],Tabla_Payasos[[Payasos]:[Columna1]],2,0)","v":5},535,{"$f":"VLOOKUP(Precentación_Quejas[[#This Row],['# Queja]],Historico_Registro_Quejas3[[#All],['# Queja]:[Valoración]],15,0)","v":"ROJA"}]
[{"$f":"VLOOKUP(Precentación_Quejas[[#This Row],['# Queja]],Historico_Registro_Quejas3[#All],4,0)","v":308},{"$f":"VLOOKUP(Precentación_Quejas[[#This Row],['# Queja]],Historico_Registro_Quejas3[#All],2,0)","v":"2018-05-17"},{"$f":"VLOOKUP(Precentación_Quejas[[#This Row],['# Queja]],Historico_Registro_Quejas3[#All],7,0)","v":"Paraguas en la habitación"},{"$f":"VLOOKUP(Precentación_Quejas[[#This Row],['# Queja]],Historico_Registro_Quejas3[#All],22,0)","v":"N/A"},{"$f":"VLOOKUP(Precentación_Quejas[[#This Row],[Payaso]],Tabla_Payasos[[Payasos]:[Columna1]],2,0)","v":44},534,{"$f":"VLOOKUP(Precentación_Quejas[[#This Row],['# Queja]],Historico_Registro_Quejas3[[#All],['# Queja]:[Valoración]],15,0)","v":"Desestimada"}]
[{"$f":"VLOOKUP(Precentación_Quejas[[#This Row],['# Queja]],Historico_Registro_Quejas3[#All],4,0)","v":203},{"$f":"VLOOKUP(Precentación_Quejas[[#This Row],['# Queja]],Historico_Registro_Quejas3[#All],2,0)","v":"2018-05-18"},{"$f":"VLOOKUP(Precentación_Quejas[[#This Row],['# Queja]],Historico_Registro_Quejas3[#All],7,0)","v":"En el bar las bebidas no siempre son servidas de igual forma, una vez nos dieron el coctel tipo frozen y otra a las rocas"},{"$f":"VLOOKUP(Precentación_Quejas[[#This Row],['# Queja]],Historico_Registro_Quejas3[#All],22,0)","v":"Cockteles bares"},{"$f":"VLOOKUP(Precentación_Quejas[[#This Row],[Payaso]],Tabla_Payasos[[Payasos]:[Columna1]],2,0)","v":5},533,{"$f":"VLOOKUP(Precentación_Quejas[[#This Row],['# Queja]],Historico_Registro_Quejas3[[#All],['# Queja]:[Valoración]],15,0)","v":"ROJA"}]
[{"$f":"VLOOKUP(Precentación_Quejas[[#This Row],['# Queja]],Historico_Registro_Quejas3[#All],4,0)","v":202},{"$f":"VLOOKUP(Precentación_Quejas[[#This Row],['# Queja]],Historico_Registro_Quejas3[#All],2,0)","v":"2018-05-17"},{"$f":"VLOOKUP(Precentación_Quejas[[#This Row],['# Queja]],Historico_Registro_Quejas3[#All],7,0)","v":"Sería delicioso poder tener aguacate en el desayuno"},{"$f":"VLOOKUP(Precentación_Quejas[[#This Row],['# Queja]],Historico_Registro_Quejas3[#All],22,0)","v":"Calida Desayuno"},{"$f":"VLOOKUP(Precentación_Quejas[[#This Row],[Payaso]],Tabla_Payasos[[Payasos]:[Columna1]],2,0)","v":15},532,{"$f":"VLOOKUP(Precentación_Quejas[[#This Row],['# Queja]],Historico_Registro_Quejas3[[#All],['# Queja]:[Valoración]],15,0)","v":"Desestimada"}]
[{"$f":"VLOOKUP(Precentación_Quejas[[#This Row],['# Queja]],Historico_Registro_Quejas3[#All],4,0)","v":304},{"$f":"VLOOKUP(Precentación_Quejas[[#This Row],['# Queja]],Historico_Registro_Quejas3[#All],2,0)","v":"2018-05-09"},{"$f":"VLOOKUP(Precentación_Quejas[[#This Row],['# Queja]],Historico_Registro_Quejas3[#All],7,0)","v":"No habia lugar en el armario, solo los percheros"},{"$f":"VLOOKUP(Precentación_Quejas[[#This Row],['# Queja]],Historico_Registro_Quejas3[#All],22,0)","v":"N/A"},{"$f":"VLOOKUP(Precentación_Quejas[[#This Row],[Payaso]],Tabla_Payasos[[Payasos]:[Columna1]],2,0)","v":44},531,{"$f":"VLOOKUP(Precentación_Quejas[[#This Row],['# Queja]],Historico_Registro_Quejas3[[#All],['# Queja]:[Valoración]],15,0)","v":"Desestimada"}]
[{"$f":"VLOOKUP(Precentación_Quejas[[#This Row],['# Queja]],Historico_Registro_Quejas3[#All],4,0)","v":304},{"$f":"VLOOKUP(Precentación_Quejas[[#This Row],['# Queja]],Historico_Registro_Quejas3[#All],2,0)","v":"2018-05-05"},{"$f":"VLOOKUP(Precentación_Quejas[[#This Row],['# Queja]],Historico_Registro_Quejas3[#All],7,0)","v":"Huespedes se quejan de la falta de gavetas para la ropa."},{"$f":"VLOOKUP(Precentación_Quejas[[#This Row],['# Queja]],Historico_Registro_Quejas3[#All],22,0)","v":"Habitaciones"},{"$f":"VLOOKUP(Precentación_Quejas[[#This Row],[Payaso]],Tabla_Payasos[[Payasos]:[Columna1]],2,0)","v":54},530,{"$f":"VLOOKUP(Precentación_Quejas[[#This Row],['# Queja]],Historico_Registro_Quejas3[[#All],['# Queja]:[Valoración]],15,0)","v":"Desestimada"}]
[{"$f":"VLOOKUP(Precentación_Quejas[[#This Row],['# Queja]],Historico_Registro_Quejas3[#All],4,0)","v":606},{"$f":"VLOOKUP(Precentación_Quejas[[#This Row],['# Queja]],Historico_Registro_Quejas3[#All],2,0)","v":"2018-05-04"},{"$f":"VLOOKUP(Precentación_Quejas[[#This Row],['# Queja]],Historico_Registro_Quejas3[#All],7,0)","v":"Se quejan del estaurante italiano e indican que debería cambiarse y tener un restaurante de mariscos."},{"$f":"VLOOKUP(Precentación_Quejas[[#This Row],['# Queja]],Historico_Registro_Quejas3[#All],22,0)","v":"Calidad comida"},{"$f":"VLOOKUP(Precentación_Quejas[[#This Row],[Payaso]],Tabla_Payasos[[Payasos]:[Columna1]],2,0)","v":70},529,{"$f":"VLOOKUP(Precentación_Quejas[[#This Row],['# Queja]],Historico_Registro_Quejas3[[#All],['# Queja]:[Valoración]],15,0)","v":"Desestimada"}]
[{"$f":"VLOOKUP(Precentación_Quejas[[#This Row],['# Queja]],Historico_Registro_Quejas3[#All],4,0)","v":0},{"$f":"VLOOKUP(Precentación_Quejas[[#This Row],['# Queja]],Historico_Registro_Quejas3[#All],2,0)","v":"2018-05-04"},{"$f":"VLOOKUP(Precentación_Quejas[[#This Row],['# Queja]],Historico_Registro_Quejas3[#All],7,0)","v":"00:00:00"},{"$f":"VLOOKUP(Precentación_Quejas[[#This Row],['# Queja]],Historico_Registro_Quejas3[#All],22,0)","v":"N/A"},{"$f":"VLOOKUP(Precentación_Quejas[[#This Row],[Payaso]],Tabla_Payasos[[Payasos]:[Columna1]],2,0)","v":44},528,{"$f":"VLOOKUP(Precentación_Quejas[[#This Row],['# Queja]],Historico_Registro_Quejas3[[#All],['# Queja]:[Valoración]],15,0)","v":"Desestimada"}]
[{"$f":"VLOOKUP(Precentación_Quejas[[#This Row],['# Queja]],Historico_Registro_Quejas3[#All],4,0)","v":212},{"$f":"VLOOKUP(Precentación_Quejas[[#This Row],['# Queja]],Historico_Registro_Quejas3[#All],2,0)","v":"2018-05-17"},{"$f":"VLOOKUP(Precentación_Quejas[[#This Row],['# Queja]],Historico_Registro_Quejas3[#All],7,0)","v":"Huesped se queja de la presencia de hormigas en la habitación, se encuentra disgustada y quiere que le eliminen los insectos."},{"$f":"VLOOKUP(Precentación_Quejas[[#This Row],['# Queja]],Historico_Registro_Quejas3[#All],22,0)","v":"Plagas Habitaciones"},{"$f":"VLOOKUP(Precentación_Quejas[[#This Row],[Payaso]],Tabla_Payasos[[Payasos]:[Columna1]],2,0)","v":49},527,{"$f":"VLOOKUP(Precentación_Quejas[[#This Row],['# Queja]],Historico_Registro_Quejas3[[#All],['# Queja]:[Valoración]],15,0)","v":"ROJA"}]
[{"$f":"VLOOKUP(Precentación_Quejas[[#This Row],['# Queja]],Historico_Registro_Quejas3[#All],4,0)","v":201},{"$f":"VLOOKUP(Precentación_Quejas[[#This Row],['# Queja]],Historico_Registro_Quejas3[#All],2,0)","v":"2018-05-17"},{"$f":"VLOOKUP(Precentación_Quejas[[#This Row],['# Queja]],Historico_Registro_Quejas3[#All],7,0)","v":"Huespedes se quejan de ruidos en el techo durante toda la noche, indican que son animales y que provocan mucho ruido."},{"$f":"VLOOKUP(Precentación_Quejas[[#This Row],['# Queja]],Historico_Registro_Quejas3[#All],22,0)","v":"Ruido habitación"},{"$f":"VLOOKUP(Precentación_Quejas[[#This Row],[Payaso]],Tabla_Payasos[[Payasos]:[Columna1]],2,0)","v":15},526,{"$f":"VLOOKUP(Precentación_Quejas[[#This Row],['# Queja]],Historico_Registro_Quejas3[[#All],['# Queja]:[Valoración]],15,0)","v":"ROJA"}]
[{"$f":"VLOOKUP(Precentación_Quejas[[#This Row],['# Queja]],Historico_Registro_Quejas3[#All],4,0)","v":403},{"$f":"VLOOKUP(Precentación_Quejas[[#This Row],['# Queja]],Historico_Registro_Quejas3[#All],2,0)","v":"2018-05-15"},{"$f":"VLOOKUP(Precentación_Quejas[[#This Row],['# Queja]],Historico_Registro_Quejas3[#All],7,0)","v":"Se podría tener una maquina de hielo más cerca a la habitacion"},{"$f":"VLOOKUP(Precentación_Quejas[[#This Row],['# Queja]],Historico_Registro_Quejas3[#All],22,0)","v":"Maquina de hielo"},{"$f":"VLOOKUP(Precentación_Quejas[[#This Row],[Payaso]],Tabla_Payasos[[Payasos]:[Columna1]],2,0)","v":1},525,{"$f":"VLOOKUP(Precentación_Quejas[[#This Row],['# Queja]],Historico_Registro_Quejas3[[#All],['# Queja]:[Valoración]],15,0)","v":"VERDE"}]
[{"$f":"VLOOKUP(Precentación_Quejas[[#This Row],['# Queja]],Historico_Registro_Quejas3[#All],4,0)","v":108},{"$f":"VLOOKUP(Precentación_Quejas[[#This Row],['# Queja]],Historico_Registro_Quejas3[#All],2,0)","v":"2018-05-15"},{"$f":"VLOOKUP(Precentación_Quejas[[#This Row],['# Queja]],Historico_Registro_Quejas3[#All],7,0)","v":"Falta una cafeteria para el almuerzo ligero, por ejemplo ensaladas sandwiches"},{"$f":"VLOOKUP(Precentación_Quejas[[#This Row],['# Queja]],Historico_Registro_Quejas3[#All],22,0)","v":"Comidas snacks"},{"$f":"VLOOKUP(Precentación_Quejas[[#This Row],[Payaso]],Tabla_Payasos[[Payasos]:[Columna1]],2,0)","v":1},524,{"$f":"VLOOKUP(Precentación_Quejas[[#This Row],['# Queja]],Historico_Registro_Quejas3[[#All],['# Queja]:[Valoración]],15,0)","v":"Desestimada"}]
[{"$f":"VLOOKUP(Precentación_Quejas[[#This Row],['# Queja]],Historico_Registro_Quejas3[#All],4,0)","v":108},{"$f":"VLOOKUP(Precentación_Quejas[[#This Row],['# Queja]],Historico_Registro_Quejas3[#All],2,0)","v":"2018-05-15"},{"$f":"VLOOKUP(Precentación_Quejas[[#This Row],['# Queja]],Historico_Registro_Quejas3[#All],7,0)","v":"Relación precio-calidad muy costoso por lo que es."},{"$f":"VLOOKUP(Precentación_Quejas[[#This Row],['# Queja]],Historico_Registro_Quejas3[#All],22,0)","v":"Calidad comida"},{"$f":"VLOOKUP(Precentación_Quejas[[#This Row],[Payaso]],Tabla_Payasos[[Payasos]:[Columna1]],2,0)","v":70},523,{"$f":"VLOOKUP(Precentación_Quejas[[#This Row],['# Queja]],Historico_Registro_Quejas3[[#All],['# Queja]:[Valoración]],15,0)","v":"ROJA"}]
[{"$f":"VLOOKUP(Precentación_Quejas[[#This Row],['# Queja]],Historico_Registro_Quejas3[#All],4,0)","v":"201-304"},{"$f":"VLOOKUP(Precentación_Quejas[[#This Row],['# Queja]],Historico_Registro_Quejas3[#All],2,0)","v":"2018-05-15"},{"$f":"VLOOKUP(Precentación_Quejas[[#This Row],['# Queja]],Historico_Registro_Quejas3[#All],7,0)","v":"Huéspedes llaman indicando que no hay agua en las habitaciones."},{"$f":"VLOOKUP(Precentación_Quejas[[#This Row],['# Queja]],Historico_Registro_Quejas3[#All],22,0)","v":"Agua potable"},{"$f":"VLOOKUP(Precentación_Quejas[[#This Row],[Payaso]],Tabla_Payasos[[Payasos]:[Columna1]],2,0)","v":2},522,{"$f":"VLOOKUP(Precentación_Quejas[[#This Row],['# Queja]],Historico_Registro_Quejas3[[#All],['# Queja]:[Valoración]],15,0)","v":"ROJA"}]
[{"$f":"VLOOKUP(Precentación_Quejas[[#This Row],['# Queja]],Historico_Registro_Quejas3[#All],4,0)","v":0},{"$f":"VLOOKUP(Precentación_Quejas[[#This Row],['# Queja]],Historico_Registro_Quejas3[#All],2,0)","v":"2018-05-15"},{"$f":"VLOOKUP(Precentación_Quejas[[#This Row],['# Queja]],Historico_Registro_Quejas3[#All],7,0)","v":"La noche del 14/05/18 mientras varios huéspedes se encontraban cenando se presentaron varias goteras con una cantidad importante de agua ingresando la cual no pudo ser controlada sin que los huéspedes se enteraran ante el aguacero tan fuerte. El agua mojó un poco unos sillones y unas mesas cerca."},{"$f":"VLOOKUP(Precentación_Quejas[[#This Row],['# Queja]],Historico_Registro_Quejas3[#All],22,0)","v":"Agua llovida italiano"},{"$f":"VLOOKUP(Precentación_Quejas[[#This Row],[Payaso]],Tabla_Payasos[[Payasos]:[Columna1]],2,0)","v":1},521,{"$f":"VLOOKUP(Precentación_Quejas[[#This Row],['# Queja]],Historico_Registro_Quejas3[[#All],['# Queja]:[Valoración]],15,0)","v":"ROJA"}]
[{"$f":"VLOOKUP(Precentación_Quejas[[#This Row],['# Queja]],Historico_Registro_Quejas3[#All],4,0)","v":303},{"$f":"VLOOKUP(Precentación_Quejas[[#This Row],['# Queja]],Historico_Registro_Quejas3[#All],2,0)","v":"2018-05-14"},{"$f":"VLOOKUP(Precentación_Quejas[[#This Row],['# Queja]],Historico_Registro_Quejas3[#All],7,0)","v":"El pescado que sirvieron en el sushi no estaba fresco y no fue una buena experiencia."},{"$f":"VLOOKUP(Precentación_Quejas[[#This Row],['# Queja]],Historico_Registro_Quejas3[#All],22,0)","v":"Calidad Sushi"},{"$f":"VLOOKUP(Precentación_Quejas[[#This Row],[Payaso]],Tabla_Payasos[[Payasos]:[Columna1]],2,0)","v":7},520,{"$f":"VLOOKUP(Precentación_Quejas[[#This Row],['# Queja]],Historico_Registro_Quejas3[[#All],['# Queja]:[Valoración]],15,0)","v":"ROJA"}]
[{"$f":"VLOOKUP(Precentación_Quejas[[#This Row],['# Queja]],Historico_Registro_Quejas3[#All],4,0)","v":904},{"$f":"VLOOKUP(Precentación_Quejas[[#This Row],['# Queja]],Historico_Registro_Quejas3[#All],2,0)","v":"2018-05-14"},{"$f":"VLOOKUP(Precentación_Quejas[[#This Row],['# Queja]],Historico_Registro_Quejas3[#All],7,0)","v":"Huéspedes se quejan de gritos y ruidos fuertes en hab 903, al parecer discutiendo"},{"$f":"VLOOKUP(Precentación_Quejas[[#This Row],['# Queja]],Historico_Registro_Quejas3[#All],22,0)","v":"Ruido habitación"},{"$f":"VLOOKUP(Precentación_Quejas[[#This Row],[Payaso]],Tabla_Payasos[[Payasos]:[Columna1]],2,0)","v":15},519,{"$f":"VLOOKUP(Precentación_Quejas[[#This Row],['# Queja]],Historico_Registro_Quejas3[[#All],['# Queja]:[Valoración]],15,0)","v":"ROJA"}]
[{"$f":"VLOOKUP(Precentación_Quejas[[#This Row],['# Queja]],Historico_Registro_Quejas3[#All],4,0)","v":201},{"$f":"VLOOKUP(Precentación_Quejas[[#This Row],['# Queja]],Historico_Registro_Quejas3[#All],2,0)","v":"2018-05-13"},{"$f":"VLOOKUP(Precentación_Quejas[[#This Row],['# Queja]],Historico_Registro_Quejas3[#All],7,0)","v":"Los paneles solares para calentar agua parece que estan flojos en el techo y causan mucho ruido especialmente en las noches."},{"$f":"VLOOKUP(Precentación_Quejas[[#This Row],['# Queja]],Historico_Registro_Quejas3[#All],22,0)","v":"Ruido sistema solar"},{"$f":"VLOOKUP(Precentación_Quejas[[#This Row],[Payaso]],Tabla_Payasos[[Payasos]:[Columna1]],2,0)","v":1},518,{"$f":"VLOOKUP(Precentación_Quejas[[#This Row],['# Queja]],Historico_Registro_Quejas3[[#All],['# Queja]:[Valoración]],15,0)","v":"ROJA"}]
[{"$f":"VLOOKUP(Precentación_Quejas[[#This Row],['# Queja]],Historico_Registro_Quejas3[#All],4,0)","v":801},{"$f":"VLOOKUP(Precentación_Quejas[[#This Row],['# Queja]],Historico_Registro_Quejas3[#All],2,0)","v":"2018-05-03"},{"$f":"VLOOKUP(Precentación_Quejas[[#This Row],['# Queja]],Historico_Registro_Quejas3[#All],7,0)","v":"Se quejan de que hace falta un basurero en la habitación para residuos NO reciclables, ya que únicamente hay para reciclaje aunque no se indica que tipo de desechos reciclables se pueden depositar."},{"$f":"VLOOKUP(Precentación_Quejas[[#This Row],['# Queja]],Historico_Registro_Quejas3[#All],22,0)","v":"Reciclaje"},{"$f":"VLOOKUP(Precentación_Quejas[[#This Row],[Payaso]],Tabla_Payasos[[Payasos]:[Columna1]],2,0)","v":1},517,{"$f":"VLOOKUP(Precentación_Quejas[[#This Row],['# Queja]],Historico_Registro_Quejas3[[#All],['# Queja]:[Valoración]],15,0)","v":"VERDE"}]
[{"$f":"VLOOKUP(Precentación_Quejas[[#This Row],['# Queja]],Historico_Registro_Quejas3[#All],4,0)","v":702},{"$f":"VLOOKUP(Precentación_Quejas[[#This Row],['# Queja]],Historico_Registro_Quejas3[#All],2,0)","v":"2018-05-10"},{"$f":"VLOOKUP(Precentación_Quejas[[#This Row],['# Queja]],Historico_Registro_Quejas3[#All],7,0)","v":"La ducha tiene una fuga que cae fuera del baño"},{"$f":"VLOOKUP(Precentación_Quejas[[#This Row],['# Queja]],Historico_Registro_Quejas3[#All],22,0)","v":"Fujas de agua"},{"$f":"VLOOKUP(Precentación_Quejas[[#This Row],[Payaso]],Tabla_Payasos[[Payasos]:[Columna1]],2,0)","v":1},516,{"$f":"VLOOKUP(Precentación_Quejas[[#This Row],['# Queja]],Historico_Registro_Quejas3[[#All],['# Queja]:[Valoración]],15,0)","v":"ROJA"}]
[{"$f":"VLOOKUP(Precentación_Quejas[[#This Row],['# Queja]],Historico_Registro_Quejas3[#All],4,0)","v":801},{"$f":"VLOOKUP(Precentación_Quejas[[#This Row],['# Queja]],Historico_Registro_Quejas3[#All],2,0)","v":"2018-05-12"},{"$f":"VLOOKUP(Precentación_Quejas[[#This Row],['# Queja]],Historico_Registro_Quejas3[#All],7,0)","v":"El desayuno esta bien, pero podría beneficiarse con frutas y jugos mas frescos"},{"$f":"VLOOKUP(Precentación_Quejas[[#This Row],['# Queja]],Historico_Registro_Quejas3[#All],22,0)","v":"Desestimado"},{"$f":"VLOOKUP(Precentación_Quejas[[#This Row],[Payaso]],Tabla_Payasos[[Payasos]:[Columna1]],2,0)","v":29},515,{"$f":"VLOOKUP(Precentación_Quejas[[#This Row],['# Queja]],Historico_Registro_Quejas3[[#All],['# Queja]:[Valoración]],15,0)","v":"Desestimada"}]
[{"$f":"VLOOKUP(Precentación_Quejas[[#This Row],['# Queja]],Historico_Registro_Quejas3[#All],4,0)","v":603},{"$f":"VLOOKUP(Precentación_Quejas[[#This Row],['# Queja]],Historico_Registro_Quejas3[#All],2,0)","v":"2018-05-10"},{"$f":"VLOOKUP(Precentación_Quejas[[#This Row],['# Queja]],Historico_Registro_Quejas3[#All],7,0)","v":"Huéspedes se quejan de las clases de yoga,  los mismos indican que debería ser solo para adultos,  que el niño que se encontraba haciendo yoga con ellos de otra habitación solo los interrumpía y no permitía que las clases fueran tranquilas."},{"$f":"VLOOKUP(Precentación_Quejas[[#This Row],['# Queja]],Historico_Registro_Quejas3[#All],22,0)","v":"Clases de yoga"},{"$f":"VLOOKUP(Precentación_Quejas[[#This Row],[Payaso]],Tabla_Payasos[[Payasos]:[Columna1]],2,0)","v":1},514,{"$f":"VLOOKUP(Precentación_Quejas[[#This Row],['# Queja]],Historico_Registro_Quejas3[[#All],['# Queja]:[Valoración]],15,0)","v":"ROJA"}]
[{"$f":"VLOOKUP(Precentación_Quejas[[#This Row],['# Queja]],Historico_Registro_Quejas3[#All],4,0)","v":603},{"$f":"VLOOKUP(Precentación_Quejas[[#This Row],['# Queja]],Historico_Registro_Quejas3[#All],2,0)","v":"2018-05-10"},{"$f":"VLOOKUP(Precentación_Quejas[[#This Row],['# Queja]],Historico_Registro_Quejas3[#All],7,0)","v":"Huespedes se quejan que solamente en el desayuno se ofrecen frutas, los señores me explican que en Europa ellos acostumbran a comer frutas tambíen al almuerzo y a la cena por lo que indican tengamos en cuenta este aspecto para un futuro tener mas huéspedes satisfechos."},{"$f":"VLOOKUP(Precentación_Quejas[[#This Row],['# Queja]],Historico_Registro_Quejas3[#All],22,0)","v":"Plato de frutas"},{"$f":"VLOOKUP(Precentación_Quejas[[#This Row],[Payaso]],Tabla_Payasos[[Payasos]:[Columna1]],2,0)","v":1},513,{"$f":"VLOOKUP(Precentación_Quejas[[#This Row],['# Queja]],Historico_Registro_Quejas3[[#All],['# Queja]:[Valoración]],15,0)","v":"VERDE"}]
[{"$f":"VLOOKUP(Precentación_Quejas[[#This Row],['# Queja]],Historico_Registro_Quejas3[#All],4,0)","v":"109 (Inspector de agencia)"},{"$f":"VLOOKUP(Precentación_Quejas[[#This Row],['# Queja]],Historico_Registro_Quejas3[#All],2,0)","v":"2018-05-08"},{"$f":"VLOOKUP(Precentación_Quejas[[#This Row],['# Queja]],Historico_Registro_Quejas3[#All],7,0)","v":"La única crítica constructiva seria el cambiar las láminas de el techo de luz, ya que estan bastante tostadas por el sol y con un poco de moho, esto al menos en la habitación en la cual estuve."},{"$f":"VLOOKUP(Precentación_Quejas[[#This Row],['# Queja]],Historico_Registro_Quejas3[#All],22,0)","v":"Habitaciones"},{"$f":"VLOOKUP(Precentación_Quejas[[#This Row],[Payaso]],Tabla_Payasos[[Payasos]:[Columna1]],2,0)","v":54},512,{"$f":"VLOOKUP(Precentación_Quejas[[#This Row],['# Queja]],Historico_Registro_Quejas3[[#All],['# Queja]:[Valoración]],15,0)","v":"Amarilla"}]
[{"$f":"VLOOKUP(Precentación_Quejas[[#This Row],['# Queja]],Historico_Registro_Quejas3[#All],4,0)","v":0},{"$f":"VLOOKUP(Precentación_Quejas[[#This Row],['# Queja]],Historico_Registro_Quejas3[#All],2,0)","v":"2018-05-09"},{"$f":"VLOOKUP(Precentación_Quejas[[#This Row],['# Queja]],Historico_Registro_Quejas3[#All],7,0)","v":"El servicio está dañado, el tanque no se llena y el  agua queda directa. Tiene muchisimo tiempo de estar así y se le ha dicho infinitas veces a mantemiento"},{"$f":"VLOOKUP(Precentación_Quejas[[#This Row],['# Queja]],Historico_Registro_Quejas3[#All],22,0)","v":"Lockers"},{"$f":"VLOOKUP(Precentación_Quejas[[#This Row],[Payaso]],Tabla_Payasos[[Payasos]:[Columna1]],2,0)","v":4},511,{"$f":"VLOOKUP(Precentación_Quejas[[#This Row],['# Queja]],Historico_Registro_Quejas3[[#All],['# Queja]:[Valoración]],15,0)","v":"ROJA"}]
[{"$f":"VLOOKUP(Precentación_Quejas[[#This Row],['# Queja]],Historico_Registro_Quejas3[#All],4,0)","v":107},{"$f":"VLOOKUP(Precentación_Quejas[[#This Row],['# Queja]],Historico_Registro_Quejas3[#All],2,0)","v":"2018-05-09"},{"$f":"VLOOKUP(Precentación_Quejas[[#This Row],['# Queja]],Historico_Registro_Quejas3[#All],7,0)","v":"Poner una silla en la habitacion sería util"},{"$f":"VLOOKUP(Precentación_Quejas[[#This Row],['# Queja]],Historico_Registro_Quejas3[#All],22,0)","v":"Silla en habitación"},{"$f":"VLOOKUP(Precentación_Quejas[[#This Row],[Payaso]],Tabla_Payasos[[Payasos]:[Columna1]],2,0)","v":13},510,{"$f":"VLOOKUP(Precentación_Quejas[[#This Row],['# Queja]],Historico_Registro_Quejas3[[#All],['# Queja]:[Valoración]],15,0)","v":"ROJA"}]
[{"$f":"VLOOKUP(Precentación_Quejas[[#This Row],['# Queja]],Historico_Registro_Quejas3[#All],4,0)","v":304},{"$f":"VLOOKUP(Precentación_Quejas[[#This Row],['# Queja]],Historico_Registro_Quejas3[#All],2,0)","v":"2018-05-09"},{"$f":"VLOOKUP(Precentación_Quejas[[#This Row],['# Queja]],Historico_Registro_Quejas3[#All],7,0)","v":"Camas muy altas"},{"$f":"VLOOKUP(Precentación_Quejas[[#This Row],['# Queja]],Historico_Registro_Quejas3[#All],22,0)","v":"Camas altas "},{"$f":"VLOOKUP(Precentación_Quejas[[#This Row],[Payaso]],Tabla_Payasos[[Payasos]:[Columna1]],2,0)","v":2},509,{"$f":"VLOOKUP(Precentación_Quejas[[#This Row],['# Queja]],Historico_Registro_Quejas3[[#All],['# Queja]:[Valoración]],15,0)","v":"Amarilla"}]
[{"$f":"VLOOKUP(Precentación_Quejas[[#This Row],['# Queja]],Historico_Registro_Quejas3[#All],4,0)","v":405},{"$f":"VLOOKUP(Precentación_Quejas[[#This Row],['# Queja]],Historico_Registro_Quejas3[#All],2,0)","v":"2018-05-09"},{"$f":"VLOOKUP(Precentación_Quejas[[#This Row],['# Queja]],Historico_Registro_Quejas3[#All],7,0)","v":"A veces los empleados no entienden lo que uno pregunta,pura barrera del lenguaje"},{"$f":"VLOOKUP(Precentación_Quejas[[#This Row],['# Queja]],Historico_Registro_Quejas3[#All],22,0)","v":"Servicio al cliente "},{"$f":"VLOOKUP(Precentación_Quejas[[#This Row],[Payaso]],Tabla_Payasos[[Payasos]:[Columna1]],2,0)","v":4},508,{"$f":"VLOOKUP(Precentación_Quejas[[#This Row],['# Queja]],Historico_Registro_Quejas3[[#All],['# Queja]:[Valoración]],15,0)","v":"Amarilla"}]
[{"$f":"VLOOKUP(Precentación_Quejas[[#This Row],['# Queja]],Historico_Registro_Quejas3[#All],4,0)","v":0},{"$f":"VLOOKUP(Precentación_Quejas[[#This Row],['# Queja]],Historico_Registro_Quejas3[#All],2,0)","v":"2018-05-09"},{"$f":"VLOOKUP(Precentación_Quejas[[#This Row],['# Queja]],Historico_Registro_Quejas3[#All],7,0)","v":"A veces los empleados no entienden lo que uno pregunta,pura barrera del lenguaje"},{"$f":"VLOOKUP(Precentación_Quejas[[#This Row],['# Queja]],Historico_Registro_Quejas3[#All],22,0)","v":"Servicio cliente restaurante "},{"$f":"VLOOKUP(Precentación_Quejas[[#This Row],[Payaso]],Tabla_Payasos[[Payasos]:[Columna1]],2,0)","v":25},507,{"$f":"VLOOKUP(Precentación_Quejas[[#This Row],['# Queja]],Historico_Registro_Quejas3[[#All],['# Queja]:[Valoración]],15,0)","v":"Amarilla"}]
[{"$f":"VLOOKUP(Precentación_Quejas[[#This Row],['# Queja]],Historico_Registro_Quejas3[#All],4,0)","v":305},{"$f":"VLOOKUP(Precentación_Quejas[[#This Row],['# Queja]],Historico_Registro_Quejas3[#All],2,0)","v":"2018-05-09"},{"$f":"VLOOKUP(Precentación_Quejas[[#This Row],['# Queja]],Historico_Registro_Quejas3[#All],7,0)","v":"Habia comida vieja en la refri de las personas que estuvieron antes que nosotros"},{"$f":"VLOOKUP(Precentación_Quejas[[#This Row],['# Queja]],Historico_Registro_Quejas3[#All],22,0)","v":"Habitaciones"},{"$f":"VLOOKUP(Precentación_Quejas[[#This Row],[Payaso]],Tabla_Payasos[[Payasos]:[Columna1]],2,0)","v":54},506,{"$f":"VLOOKUP(Precentación_Quejas[[#This Row],['# Queja]],Historico_Registro_Quejas3[[#All],['# Queja]:[Valoración]],15,0)","v":"ROJA"}]
[{"$f":"VLOOKUP(Precentación_Quejas[[#This Row],['# Queja]],Historico_Registro_Quejas3[#All],4,0)","v":606},{"$f":"VLOOKUP(Precentación_Quejas[[#This Row],['# Queja]],Historico_Registro_Quejas3[#All],2,0)","v":"2018-05-09"},{"$f":"VLOOKUP(Precentación_Quejas[[#This Row],['# Queja]],Historico_Registro_Quejas3[#All],7,0)","v":"Ayer solicité un masaje en el Spa, más alla de haber sido una experiencia relajante, quede toda adolorida e inflamada del mal uso de la tecnica , recomiendo para futuros clientes que supervisen el entrenamiento del personal."},{"$f":"VLOOKUP(Precentación_Quejas[[#This Row],['# Queja]],Historico_Registro_Quejas3[#All],22,0)","v":"Spa"},{"$f":"VLOOKUP(Precentación_Quejas[[#This Row],[Payaso]],Tabla_Payasos[[Payasos]:[Columna1]],2,0)","v":4},505,{"$f":"VLOOKUP(Precentación_Quejas[[#This Row],['# Queja]],Historico_Registro_Quejas3[[#All],['# Queja]:[Valoración]],15,0)","v":"ROJA"}]
[{"$f":"VLOOKUP(Precentación_Quejas[[#This Row],['# Queja]],Historico_Registro_Quejas3[#All],4,0)","v":706},{"$f":"VLOOKUP(Precentación_Quejas[[#This Row],['# Queja]],Historico_Registro_Quejas3[#All],2,0)","v":"2018-05-07"},{"$f":"VLOOKUP(Precentación_Quejas[[#This Row],['# Queja]],Historico_Registro_Quejas3[#All],7,0)","v":"Huesped se queja de la poca variedad en comidas y pide mayor variedad en las opciones."},{"$f":"VLOOKUP(Precentación_Quejas[[#This Row],['# Queja]],Historico_Registro_Quejas3[#All],22,0)","v":"Calidad comida"},{"$f":"VLOOKUP(Precentación_Quejas[[#This Row],[Payaso]],Tabla_Payasos[[Payasos]:[Columna1]],2,0)","v":70},504,{"$f":"VLOOKUP(Precentación_Quejas[[#This Row],['# Queja]],Historico_Registro_Quejas3[[#All],['# Queja]:[Valoración]],15,0)","v":"ROJA"}]
[{"$f":"VLOOKUP(Precentación_Quejas[[#This Row],['# Queja]],Historico_Registro_Quejas3[#All],4,0)","v":510},{"$f":"VLOOKUP(Precentación_Quejas[[#This Row],['# Queja]],Historico_Registro_Quejas3[#All],2,0)","v":"2018-05-08"},{"$f":"VLOOKUP(Precentación_Quejas[[#This Row],['# Queja]],Historico_Registro_Quejas3[#All],7,0)","v":"El sol de la tarde pega directo a la habitación, deberia haber una pantalla que cubra esto"},{"$f":"VLOOKUP(Precentación_Quejas[[#This Row],['# Queja]],Historico_Registro_Quejas3[#All],22,0)","v":"Habitaciones"},{"$f":"VLOOKUP(Precentación_Quejas[[#This Row],[Payaso]],Tabla_Payasos[[Payasos]:[Columna1]],2,0)","v":54},503,{"$f":"VLOOKUP(Precentación_Quejas[[#This Row],['# Queja]],Historico_Registro_Quejas3[[#All],['# Queja]:[Valoración]],15,0)","v":"Amarilla"}]
[{"$f":"VLOOKUP(Precentación_Quejas[[#This Row],['# Queja]],Historico_Registro_Quejas3[#All],4,0)","v":510},{"$f":"VLOOKUP(Precentación_Quejas[[#This Row],['# Queja]],Historico_Registro_Quejas3[#All],2,0)","v":"2018-05-08"},{"$f":"VLOOKUP(Precentación_Quejas[[#This Row],['# Queja]],Historico_Registro_Quejas3[#All],7,0)","v":"La tapa de coffee maker esta rota"},{"$f":"VLOOKUP(Precentación_Quejas[[#This Row],['# Queja]],Historico_Registro_Quejas3[#All],22,0)","v":"Habitaciones"},{"$f":"VLOOKUP(Precentación_Quejas[[#This Row],[Payaso]],Tabla_Payasos[[Payasos]:[Columna1]],2,0)","v":54},502,{"$f":"VLOOKUP(Precentación_Quejas[[#This Row],['# Queja]],Historico_Registro_Quejas3[[#All],['# Queja]:[Valoración]],15,0)","v":"VERDE"}]
[{"$f":"VLOOKUP(Precentación_Quejas[[#This Row],['# Queja]],Historico_Registro_Quejas3[#All],4,0)","v":503},{"$f":"VLOOKUP(Precentación_Quejas[[#This Row],['# Queja]],Historico_Registro_Quejas3[#All],2,0)","v":"2018-05-07"},{"$f":"VLOOKUP(Precentación_Quejas[[#This Row],['# Queja]],Historico_Registro_Quejas3[#All],7,0)","v":"Más vegetales con la carne"},{"$f":"VLOOKUP(Precentación_Quejas[[#This Row],['# Queja]],Historico_Registro_Quejas3[#All],22,0)","v":"Calidad comida"},{"$f":"VLOOKUP(Precentación_Quejas[[#This Row],[Payaso]],Tabla_Payasos[[Payasos]:[Columna1]],2,0)","v":70},501,{"$f":"VLOOKUP(Precentación_Quejas[[#This Row],['# Queja]],Historico_Registro_Quejas3[[#All],['# Queja]:[Valoración]],15,0)","v":"ROJA"}]
[{"$f":"VLOOKUP(Precentación_Quejas[[#This Row],['# Queja]],Historico_Registro_Quejas3[#All],4,0)","v":212},{"$f":"VLOOKUP(Precentación_Quejas[[#This Row],['# Queja]],Historico_Registro_Quejas3[#All],2,0)","v":"2018-05-07"},{"$f":"VLOOKUP(Precentación_Quejas[[#This Row],['# Queja]],Historico_Registro_Quejas3[#All],7,0)","v":"Cuando uno esta esperando un huésped, sería genial tener una habitación fria, toma un tiempo para que esta se enfrie"},{"$f":"VLOOKUP(Precentación_Quejas[[#This Row],['# Queja]],Historico_Registro_Quejas3[#All],22,0)","v":"A/C"},{"$f":"VLOOKUP(Precentación_Quejas[[#This Row],[Payaso]],Tabla_Payasos[[Payasos]:[Columna1]],2,0)","v":25},500,{"$f":"VLOOKUP(Precentación_Quejas[[#This Row],['# Queja]],Historico_Registro_Quejas3[[#All],['# Queja]:[Valoración]],15,0)","v":"Amarilla"}]
[{"$f":"VLOOKUP(Precentación_Quejas[[#This Row],['# Queja]],Historico_Registro_Quejas3[#All],4,0)","v":509},{"$f":"VLOOKUP(Precentación_Quejas[[#This Row],['# Queja]],Historico_Registro_Quejas3[#All],2,0)","v":"2018-05-07"},{"$f":"VLOOKUP(Precentación_Quejas[[#This Row],['# Queja]],Historico_Registro_Quejas3[#All],7,0)","v":"Más variedad de frutas y cereales calientes como avena"},{"$f":"VLOOKUP(Precentación_Quejas[[#This Row],['# Queja]],Historico_Registro_Quejas3[#All],22,0)","v":"Calidad comida"},{"$f":"VLOOKUP(Precentación_Quejas[[#This Row],[Payaso]],Tabla_Payasos[[Payasos]:[Columna1]],2,0)","v":70},499,{"$f":"VLOOKUP(Precentación_Quejas[[#This Row],['# Queja]],Historico_Registro_Quejas3[[#All],['# Queja]:[Valoración]],15,0)","v":"ROJA"}]
[{"$f":"VLOOKUP(Precentación_Quejas[[#This Row],['# Queja]],Historico_Registro_Quejas3[#All],4,0)","v":709},{"$f":"VLOOKUP(Precentación_Quejas[[#This Row],['# Queja]],Historico_Registro_Quejas3[#All],2,0)","v":"2018-05-06"},{"$f":"VLOOKUP(Precentación_Quejas[[#This Row],['# Queja]],Historico_Registro_Quejas3[#All],7,0)","v":"La música del restaurante muy alta, al final del día necesitamos descansar y cenar en una tranquila y silenciosa atmosfera"},{"$f":"VLOOKUP(Precentación_Quejas[[#This Row],['# Queja]],Historico_Registro_Quejas3[#All],22,0)","v":"Musica restaurantes"},{"$f":"VLOOKUP(Precentación_Quejas[[#This Row],[Payaso]],Tabla_Payasos[[Payasos]:[Columna1]],2,0)","v":1},498,{"$f":"VLOOKUP(Precentación_Quejas[[#This Row],['# Queja]],Historico_Registro_Quejas3[[#All],['# Queja]:[Valoración]],15,0)","v":"VERDE"}]
[{"$f":"VLOOKUP(Precentación_Quejas[[#This Row],['# Queja]],Historico_Registro_Quejas3[#All],4,0)","v":410},{"$f":"VLOOKUP(Precentación_Quejas[[#This Row],['# Queja]],Historico_Registro_Quejas3[#All],2,0)","v":"2018-05-06"},{"$f":"VLOOKUP(Precentación_Quejas[[#This Row],['# Queja]],Historico_Registro_Quejas3[#All],7,0)","v":"A/C bajo rendimiento, sería recomendable tenerlos encendidos antes que los huéspedes lleguen a la habitación."},{"$f":"VLOOKUP(Precentación_Quejas[[#This Row],['# Queja]],Historico_Registro_Quejas3[#All],22,0)","v":"A/C"},{"$f":"VLOOKUP(Precentación_Quejas[[#This Row],[Payaso]],Tabla_Payasos[[Payasos]:[Columna1]],2,0)","v":25},497,{"$f":"VLOOKUP(Precentación_Quejas[[#This Row],['# Queja]],Historico_Registro_Quejas3[[#All],['# Queja]:[Valoración]],15,0)","v":"Amarilla"}]
[{"$f":"VLOOKUP(Precentación_Quejas[[#This Row],['# Queja]],Historico_Registro_Quejas3[#All],4,0)","v":612},{"$f":"VLOOKUP(Precentación_Quejas[[#This Row],['# Queja]],Historico_Registro_Quejas3[#All],2,0)","v":"2018-05-06"},{"$f":"VLOOKUP(Precentación_Quejas[[#This Row],['# Queja]],Historico_Registro_Quejas3[#All],7,0)","v":"Un basurero con tapa sería mejor para el baño, especialmente porque este contiene papel higienico usado"},{"$f":"VLOOKUP(Precentación_Quejas[[#This Row],['# Queja]],Historico_Registro_Quejas3[#All],22,0)","v":"Basurero baño"},{"$f":"VLOOKUP(Precentación_Quejas[[#This Row],[Payaso]],Tabla_Payasos[[Payasos]:[Columna1]],2,0)","v":2},496,{"$f":"VLOOKUP(Precentación_Quejas[[#This Row],['# Queja]],Historico_Registro_Quejas3[[#All],['# Queja]:[Valoración]],15,0)","v":"ROJA"}]
[{"$f":"VLOOKUP(Precentación_Quejas[[#This Row],['# Queja]],Historico_Registro_Quejas3[#All],4,0)","v":109},{"$f":"VLOOKUP(Precentación_Quejas[[#This Row],['# Queja]],Historico_Registro_Quejas3[#All],2,0)","v":"2018-05-04"},{"$f":"VLOOKUP(Precentación_Quejas[[#This Row],['# Queja]],Historico_Registro_Quejas3[#All],7,0)","v":"La caja fuerte no funcionó en toda la estadía, huespedes reclaman que se quedó cerrada los 2 días y no permitía ingresar un código."},{"$f":"VLOOKUP(Precentación_Quejas[[#This Row],['# Queja]],Historico_Registro_Quejas3[#All],22,0)","v":"Habitaciones"},{"$f":"VLOOKUP(Precentación_Quejas[[#This Row],[Payaso]],Tabla_Payasos[[Payasos]:[Columna1]],2,0)","v":54},495,{"$f":"VLOOKUP(Precentación_Quejas[[#This Row],['# Queja]],Historico_Registro_Quejas3[[#All],['# Queja]:[Valoración]],15,0)","v":"Amarilla"}]
[{"$f":"VLOOKUP(Precentación_Quejas[[#This Row],['# Queja]],Historico_Registro_Quejas3[#All],4,0)","v":204},{"$f":"VLOOKUP(Precentación_Quejas[[#This Row],['# Queja]],Historico_Registro_Quejas3[#All],2,0)","v":"2018-05-04"},{"$f":"VLOOKUP(Precentación_Quejas[[#This Row],['# Queja]],Historico_Registro_Quejas3[#All],7,0)","v":"Huesped se queja de la iluminación de la habitación, indica que es pobre y no es suficiente. Además se queja de que no hay una silla  y que el control del TV solo funciona desde una cama y no de las 2."},{"$f":"VLOOKUP(Precentación_Quejas[[#This Row],['# Queja]],Historico_Registro_Quejas3[#All],22,0)","v":"Habitaciones"},{"$f":"VLOOKUP(Precentación_Quejas[[#This Row],[Payaso]],Tabla_Payasos[[Payasos]:[Columna1]],2,0)","v":54},494,{"$f":"VLOOKUP(Precentación_Quejas[[#This Row],['# Queja]],Historico_Registro_Quejas3[[#All],['# Queja]:[Valoración]],15,0)","v":"VERDE"}]
[{"$f":"VLOOKUP(Precentación_Quejas[[#This Row],['# Queja]],Historico_Registro_Quejas3[#All],4,0)","v":107},{"$f":"VLOOKUP(Precentación_Quejas[[#This Row],['# Queja]],Historico_Registro_Quejas3[#All],2,0)","v":"2018-05-04"},{"$f":"VLOOKUP(Precentación_Quejas[[#This Row],['# Queja]],Historico_Registro_Quejas3[#All],7,0)","v":"Huesped se queja de lo limitado del menú con opciones vegetarianas y reclama por mas opciones."},{"$f":"VLOOKUP(Precentación_Quejas[[#This Row],['# Queja]],Historico_Registro_Quejas3[#All],22,0)","v":"Menú vegetariano"},{"$f":"VLOOKUP(Precentación_Quejas[[#This Row],[Payaso]],Tabla_Payasos[[Payasos]:[Columna1]],2,0)","v":4},493,{"$f":"VLOOKUP(Precentación_Quejas[[#This Row],['# Queja]],Historico_Registro_Quejas3[[#All],['# Queja]:[Valoración]],15,0)","v":"ROJA"}]
[{"$f":"VLOOKUP(Precentación_Quejas[[#This Row],['# Queja]],Historico_Registro_Quejas3[#All],4,0)","v":609},{"$f":"VLOOKUP(Precentación_Quejas[[#This Row],['# Queja]],Historico_Registro_Quejas3[#All],2,0)","v":"2018-05-06"},{"$f":"VLOOKUP(Precentación_Quejas[[#This Row],['# Queja]],Historico_Registro_Quejas3[#All],7,0)","v":"Huesped se queja de que el hotel no dispone de un area de juegos para los niños, la señora me indica que quedaron encantados con el lugar pero debido a que su familia tiene varios niños pues consideran que es necesario tener un area con pequeño playground."},{"$f":"VLOOKUP(Precentación_Quejas[[#This Row],['# Queja]],Historico_Registro_Quejas3[#All],22,0)","v":"Área  para niños "},{"$f":"VLOOKUP(Precentación_Quejas[[#This Row],[Payaso]],Tabla_Payasos[[Payasos]:[Columna1]],2,0)","v":3},492,{"$f":"VLOOKUP(Precentación_Quejas[[#This Row],['# Queja]],Historico_Registro_Quejas3[[#All],['# Queja]:[Valoración]],15,0)","v":"ROJA"}]
[{"$f":"VLOOKUP(Precentación_Quejas[[#This Row],['# Queja]],Historico_Registro_Quejas3[#All],4,0)","v":304},{"$f":"VLOOKUP(Precentación_Quejas[[#This Row],['# Queja]],Historico_Registro_Quejas3[#All],2,0)","v":"2018-05-05"},{"$f":"VLOOKUP(Precentación_Quejas[[#This Row],['# Queja]],Historico_Registro_Quejas3[#All],7,0)","v":"Huesped se queja que el detector de humo se encendió a las 12:30am y comenzó a hacer beep, el mismo se queja que tuvo que llamar a la mañana siguiente para que el staff se diera cuenta."},{"$f":"VLOOKUP(Precentación_Quejas[[#This Row],['# Queja]],Historico_Registro_Quejas3[#All],22,0)","v":"Alarmas "},{"$f":"VLOOKUP(Precentación_Quejas[[#This Row],[Payaso]],Tabla_Payasos[[Payasos]:[Columna1]],2,0)","v":5},491,{"$f":"VLOOKUP(Precentación_Quejas[[#This Row],['# Queja]],Historico_Registro_Quejas3[[#All],['# Queja]:[Valoración]],15,0)","v":"ROJA"}]
[{"$f":"VLOOKUP(Precentación_Quejas[[#This Row],['# Queja]],Historico_Registro_Quejas3[#All],4,0)","v":601},{"$f":"VLOOKUP(Precentación_Quejas[[#This Row],['# Queja]],Historico_Registro_Quejas3[#All],2,0)","v":"2018-05-04"},{"$f":"VLOOKUP(Precentación_Quejas[[#This Row],['# Queja]],Historico_Registro_Quejas3[#All],7,0)","v":"Huespedes se quejan porque el hotel deberia considerar tener menus de los restaurantes en las habitaciones y así facilitar el servicio a la habitación."},{"$f":"VLOOKUP(Precentación_Quejas[[#This Row],['# Queja]],Historico_Registro_Quejas3[#All],22,0)","v":"Menú room service"},{"$f":"VLOOKUP(Precentación_Quejas[[#This Row],[Payaso]],Tabla_Payasos[[Payasos]:[Columna1]],2,0)","v":2},490,{"$f":"VLOOKUP(Precentación_Quejas[[#This Row],['# Queja]],Historico_Registro_Quejas3[[#All],['# Queja]:[Valoración]],15,0)","v":"Amarilla"}]
[{"$f":"VLOOKUP(Precentación_Quejas[[#This Row],['# Queja]],Historico_Registro_Quejas3[#All],4,0)","v":702},{"$f":"VLOOKUP(Precentación_Quejas[[#This Row],['# Queja]],Historico_Registro_Quejas3[#All],2,0)","v":"2018-05-05"},{"$f":"VLOOKUP(Precentación_Quejas[[#This Row],['# Queja]],Historico_Registro_Quejas3[#All],7,0)","v":"Huesped indica que talvez un spray´insecticida pequeño sería útil para los insectos que aparezcan durante la estadía."},{"$f":"VLOOKUP(Precentación_Quejas[[#This Row],['# Queja]],Historico_Registro_Quejas3[#All],22,0)","v":"Plagas Habitaciones"},{"$f":"VLOOKUP(Precentación_Quejas[[#This Row],[Payaso]],Tabla_Payasos[[Payasos]:[Columna1]],2,0)","v":49},489,{"$f":"VLOOKUP(Precentación_Quejas[[#This Row],['# Queja]],Historico_Registro_Quejas3[[#All],['# Queja]:[Valoración]],15,0)","v":"ROJA"}]
[{"$f":"VLOOKUP(Precentación_Quejas[[#This Row],['# Queja]],Historico_Registro_Quejas3[#All],4,0)","v":702},{"$f":"VLOOKUP(Precentación_Quejas[[#This Row],['# Queja]],Historico_Registro_Quejas3[#All],2,0)","v":"2018-05-05"},{"$f":"VLOOKUP(Precentación_Quejas[[#This Row],['# Queja]],Historico_Registro_Quejas3[#All],7,0)","v":"Huesped se queja de que el hotel debería de tener mas opciones de ensaladas."},{"$f":"VLOOKUP(Precentación_Quejas[[#This Row],['# Queja]],Historico_Registro_Quejas3[#All],22,0)","v":"Calidad comida"},{"$f":"VLOOKUP(Precentación_Quejas[[#This Row],[Payaso]],Tabla_Payasos[[Payasos]:[Columna1]],2,0)","v":70},488,{"$f":"VLOOKUP(Precentación_Quejas[[#This Row],['# Queja]],Historico_Registro_Quejas3[[#All],['# Queja]:[Valoración]],15,0)","v":"VERDE"}]
[{"$f":"VLOOKUP(Precentación_Quejas[[#This Row],['# Queja]],Historico_Registro_Quejas3[#All],4,0)","v":701},{"$f":"VLOOKUP(Precentación_Quejas[[#This Row],['# Queja]],Historico_Registro_Quejas3[#All],2,0)","v":"2018-05-04"},{"$f":"VLOOKUP(Precentación_Quejas[[#This Row],['# Queja]],Historico_Registro_Quejas3[#All],7,0)","v":"Pequeñas hormigas en el baño, en el area de la caja de manicure"},{"$f":"VLOOKUP(Precentación_Quejas[[#This Row],['# Queja]],Historico_Registro_Quejas3[#All],22,0)","v":"Plagas Habitaciones"},{"$f":"VLOOKUP(Precentación_Quejas[[#This Row],[Payaso]],Tabla_Payasos[[Payasos]:[Columna1]],2,0)","v":49},487,{"$f":"VLOOKUP(Precentación_Quejas[[#This Row],['# Queja]],Historico_Registro_Quejas3[[#All],['# Queja]:[Valoración]],15,0)","v":"ROJA"}]
[{"$f":"VLOOKUP(Precentación_Quejas[[#This Row],['# Queja]],Historico_Registro_Quejas3[#All],4,0)","v":111},{"$f":"VLOOKUP(Precentación_Quejas[[#This Row],['# Queja]],Historico_Registro_Quejas3[#All],2,0)","v":"2018-05-03"},{"$f":"VLOOKUP(Precentación_Quejas[[#This Row],['# Queja]],Historico_Registro_Quejas3[#All],7,0)","v":"Huespedes se quejan de tratamiento recibido en el SPA, se muestran molestos y decepcionados porque no quedaron satisfechos con el trabajo que se llevó a cabo en un pedicure, se quejaron de la silla que es muy incómoda, de que no les masajearon los pies mas de 4 minutos a  pesar de que el tratamiento duraba 60 minutos y además  aclaran que no se le tenía agua caliente para colocar los pies y sentirse relajada. "},{"$f":"VLOOKUP(Precentación_Quejas[[#This Row],['# Queja]],Historico_Registro_Quejas3[#All],22,0)","v":"Spa"},{"$f":"VLOOKUP(Precentación_Quejas[[#This Row],[Payaso]],Tabla_Payasos[[Payasos]:[Columna1]],2,0)","v":4},486,{"$f":"VLOOKUP(Precentación_Quejas[[#This Row],['# Queja]],Historico_Registro_Quejas3[[#All],['# Queja]:[Valoración]],15,0)","v":"ROJA"}]
[{"$f":"VLOOKUP(Precentación_Quejas[[#This Row],['# Queja]],Historico_Registro_Quejas3[#All],4,0)","v":101},{"$f":"VLOOKUP(Precentación_Quejas[[#This Row],['# Queja]],Historico_Registro_Quejas3[#All],2,0)","v":"2018-05-03"},{"$f":"VLOOKUP(Precentación_Quejas[[#This Row],['# Queja]],Historico_Registro_Quejas3[#All],7,0)","v":"Cliente reporta que se metieron a la habitacion y extrajeron dinero en efectivo y un celular, mientras ellos estaban en la cena. "},{"$f":"VLOOKUP(Precentación_Quejas[[#This Row],['# Queja]],Historico_Registro_Quejas3[#All],22,0)","v":"Robo en habitaciones"},{"$f":"VLOOKUP(Precentación_Quejas[[#This Row],[Payaso]],Tabla_Payasos[[Payasos]:[Columna1]],2,0)","v":3},485,{"$f":"VLOOKUP(Precentación_Quejas[[#This Row],['# Queja]],Historico_Registro_Quejas3[[#All],['# Queja]:[Valoración]],15,0)","v":"ROJA"}]
[{"$f":"VLOOKUP(Precentación_Quejas[[#This Row],['# Queja]],Historico_Registro_Quejas3[#All],4,0)","v":411},{"$f":"VLOOKUP(Precentación_Quejas[[#This Row],['# Queja]],Historico_Registro_Quejas3[#All],2,0)","v":"2018-05-02"},{"$f":"VLOOKUP(Precentación_Quejas[[#This Row],['# Queja]],Historico_Registro_Quejas3[#All],7,0)","v":"Huesped se queja debido a que el hotel no cuenta con una acera o camino especial para personas discapacitadas desde las habitaciones hasta las areas comunes, piscinas y restaurantes. Además se queja que en la noche no hay señalización iluminada y que cuando se transita los carritos de golf pasan muy cerca de los peatones."},{"$f":"VLOOKUP(Precentación_Quejas[[#This Row],['# Queja]],Historico_Registro_Quejas3[#All],22,0)","v":"Acera para transitar "},{"$f":"VLOOKUP(Precentación_Quejas[[#This Row],[Payaso]],Tabla_Payasos[[Payasos]:[Columna1]],2,0)","v":2},484,{"$f":"VLOOKUP(Precentación_Quejas[[#This Row],['# Queja]],Historico_Registro_Quejas3[[#All],['# Queja]:[Valoración]],15,0)","v":"ROJA"}]
[{"$f":"VLOOKUP(Precentación_Quejas[[#This Row],['# Queja]],Historico_Registro_Quejas3[#All],4,0)","v":604},{"$f":"VLOOKUP(Precentación_Quejas[[#This Row],['# Queja]],Historico_Registro_Quejas3[#All],2,0)","v":"2018-05-01"},{"$f":"VLOOKUP(Precentación_Quejas[[#This Row],['# Queja]],Historico_Registro_Quejas3[#All],7,0)","v":"El té de la habitación de manzanilla tiene sabor a tierra"},{"$f":"VLOOKUP(Precentación_Quejas[[#This Row],['# Queja]],Historico_Registro_Quejas3[#All],22,0)","v":"Minibar habitaciones"},{"$f":"VLOOKUP(Precentación_Quejas[[#This Row],[Payaso]],Tabla_Payasos[[Payasos]:[Columna1]],2,0)","v":2},483,{"$f":"VLOOKUP(Precentación_Quejas[[#This Row],['# Queja]],Historico_Registro_Quejas3[[#All],['# Queja]:[Valoración]],15,0)","v":"ROJA"}]
[{"$f":"VLOOKUP(Precentación_Quejas[[#This Row],['# Queja]],Historico_Registro_Quejas3[#All],4,0)","v":410},{"$f":"VLOOKUP(Precentación_Quejas[[#This Row],['# Queja]],Historico_Registro_Quejas3[#All],2,0)","v":"2018-05-01"},{"$f":"VLOOKUP(Precentación_Quejas[[#This Row],['# Queja]],Historico_Registro_Quejas3[#All],7,0)","v":"Hacer que uno se sirva el café"},{"$f":"VLOOKUP(Precentación_Quejas[[#This Row],['# Queja]],Historico_Registro_Quejas3[#All],22,0)","v":"N/A"},{"$f":"VLOOKUP(Precentación_Quejas[[#This Row],[Payaso]],Tabla_Payasos[[Payasos]:[Columna1]],2,0)","v":44},482,{"$f":"VLOOKUP(Precentación_Quejas[[#This Row],['# Queja]],Historico_Registro_Quejas3[[#All],['# Queja]:[Valoración]],15,0)","v":"Desestimada"}]
[{"$f":"VLOOKUP(Precentación_Quejas[[#This Row],['# Queja]],Historico_Registro_Quejas3[#All],4,0)","v":509},{"$f":"VLOOKUP(Precentación_Quejas[[#This Row],['# Queja]],Historico_Registro_Quejas3[#All],2,0)","v":"2018-05-01"},{"$f":"VLOOKUP(Precentación_Quejas[[#This Row],['# Queja]],Historico_Registro_Quejas3[#All],7,0)","v":"La comida es muy cara y regular, la comida de las sodas de afuera es mucho mejor y menos cara"},{"$f":"VLOOKUP(Precentación_Quejas[[#This Row],['# Queja]],Historico_Registro_Quejas3[#All],22,0)","v":"Calidad comida"},{"$f":"VLOOKUP(Precentación_Quejas[[#This Row],[Payaso]],Tabla_Payasos[[Payasos]:[Columna1]],2,0)","v":70},481,{"$f":"VLOOKUP(Precentación_Quejas[[#This Row],['# Queja]],Historico_Registro_Quejas3[[#All],['# Queja]:[Valoración]],15,0)","v":"ROJA"}]
[{"$f":"VLOOKUP(Precentación_Quejas[[#This Row],['# Queja]],Historico_Registro_Quejas3[#All],4,0)","v":208},{"$f":"VLOOKUP(Precentación_Quejas[[#This Row],['# Queja]],Historico_Registro_Quejas3[#All],2,0)","v":"2018-05-01"},{"$f":"VLOOKUP(Precentación_Quejas[[#This Row],['# Queja]],Historico_Registro_Quejas3[#All],7,0)","v":"El chef de la piscina fue muy descortés al no dejar que los niños jueguen en la piscina."},{"$f":"VLOOKUP(Precentación_Quejas[[#This Row],['# Queja]],Historico_Registro_Quejas3[#All],22,0)","v":"Servicio cliente sushi"},{"$f":"VLOOKUP(Precentación_Quejas[[#This Row],[Payaso]],Tabla_Payasos[[Payasos]:[Columna1]],2,0)","v":1},480,{"$f":"VLOOKUP(Precentación_Quejas[[#This Row],['# Queja]],Historico_Registro_Quejas3[[#All],['# Queja]:[Valoración]],15,0)","v":"ROJA"}]
[{"$f":"VLOOKUP(Precentación_Quejas[[#This Row],['# Queja]],Historico_Registro_Quejas3[#All],4,0)","v":708},{"$f":"VLOOKUP(Precentación_Quejas[[#This Row],['# Queja]],Historico_Registro_Quejas3[#All],2,0)","v":"2018-04-30"},{"$f":"VLOOKUP(Precentación_Quejas[[#This Row],['# Queja]],Historico_Registro_Quejas3[#All],7,0)","v":"Las camas son un poco duras"},{"$f":"VLOOKUP(Precentación_Quejas[[#This Row],['# Queja]],Historico_Registro_Quejas3[#All],22,0)","v":"Colchon duro"},{"$f":"VLOOKUP(Precentación_Quejas[[#This Row],[Payaso]],Tabla_Payasos[[Payasos]:[Columna1]],2,0)","v":5},479,{"$f":"VLOOKUP(Precentación_Quejas[[#This Row],['# Queja]],Historico_Registro_Quejas3[[#All],['# Queja]:[Valoración]],15,0)","v":"VERDE"}]
[{"$f":"VLOOKUP(Precentación_Quejas[[#This Row],['# Queja]],Historico_Registro_Quejas3[#All],4,0)","v":302},{"$f":"VLOOKUP(Precentación_Quejas[[#This Row],['# Queja]],Historico_Registro_Quejas3[#All],2,0)","v":"2018-04-29"},{"$f":"VLOOKUP(Precentación_Quejas[[#This Row],['# Queja]],Historico_Registro_Quejas3[#All],7,0)","v":"Un basurero cerrado en el baño, sería bueno"},{"$f":"VLOOKUP(Precentación_Quejas[[#This Row],['# Queja]],Historico_Registro_Quejas3[#All],22,0)","v":"Basurero baño"},{"$f":"VLOOKUP(Precentación_Quejas[[#This Row],[Payaso]],Tabla_Payasos[[Payasos]:[Columna1]],2,0)","v":2},478,{"$f":"VLOOKUP(Precentación_Quejas[[#This Row],['# Queja]],Historico_Registro_Quejas3[[#All],['# Queja]:[Valoración]],15,0)","v":"ROJA"}]
[{"$f":"VLOOKUP(Precentación_Quejas[[#This Row],['# Queja]],Historico_Registro_Quejas3[#All],4,0)","v":302},{"$f":"VLOOKUP(Precentación_Quejas[[#This Row],['# Queja]],Historico_Registro_Quejas3[#All],2,0)","v":"2018-04-29"},{"$f":"VLOOKUP(Precentación_Quejas[[#This Row],['# Queja]],Historico_Registro_Quejas3[#All],7,0)","v":"El jugo de naranja podrá ser hecho con frutas a mano "},{"$f":"VLOOKUP(Precentación_Quejas[[#This Row],['# Queja]],Historico_Registro_Quejas3[#All],22,0)","v":"N/A"},{"$f":"VLOOKUP(Precentación_Quejas[[#This Row],[Payaso]],Tabla_Payasos[[Payasos]:[Columna1]],2,0)","v":44},477,{"$f":"VLOOKUP(Precentación_Quejas[[#This Row],['# Queja]],Historico_Registro_Quejas3[[#All],['# Queja]:[Valoración]],15,0)","v":"Desestimada"}]
[{"$f":"VLOOKUP(Precentación_Quejas[[#This Row],['# Queja]],Historico_Registro_Quejas3[#All],4,0)","v":402},{"$f":"VLOOKUP(Precentación_Quejas[[#This Row],['# Queja]],Historico_Registro_Quejas3[#All],2,0)","v":"2018-05-01"},{"$f":"VLOOKUP(Precentación_Quejas[[#This Row],['# Queja]],Historico_Registro_Quejas3[#All],7,0)","v":"Mejorar la calidad del champú-gel manzana"},{"$f":"VLOOKUP(Precentación_Quejas[[#This Row],['# Queja]],Historico_Registro_Quejas3[#All],22,0)","v":"Amenidades"},{"$f":"VLOOKUP(Precentación_Quejas[[#This Row],[Payaso]],Tabla_Payasos[[Payasos]:[Columna1]],2,0)","v":3},476,{"$f":"VLOOKUP(Precentación_Quejas[[#This Row],['# Queja]],Historico_Registro_Quejas3[[#All],['# Queja]:[Valoración]],15,0)","v":"ROJA"}]
[{"$f":"VLOOKUP(Precentación_Quejas[[#This Row],['# Queja]],Historico_Registro_Quejas3[#All],4,0)","v":402},{"$f":"VLOOKUP(Precentación_Quejas[[#This Row],['# Queja]],Historico_Registro_Quejas3[#All],2,0)","v":"2018-05-01"},{"$f":"VLOOKUP(Precentación_Quejas[[#This Row],['# Queja]],Historico_Registro_Quejas3[#All],7,0)","v":"Mejorar la calidad del café en el desayuno"},{"$f":"VLOOKUP(Precentación_Quejas[[#This Row],['# Queja]],Historico_Registro_Quejas3[#All],22,0)","v":"Calida Desayuno"},{"$f":"VLOOKUP(Precentación_Quejas[[#This Row],[Payaso]],Tabla_Payasos[[Payasos]:[Columna1]],2,0)","v":15},475,{"$f":"VLOOKUP(Precentación_Quejas[[#This Row],['# Queja]],Historico_Registro_Quejas3[[#All],['# Queja]:[Valoración]],15,0)","v":"ROJA"}]
[{"$f":"VLOOKUP(Precentación_Quejas[[#This Row],['# Queja]],Historico_Registro_Quejas3[#All],4,0)","v":110},{"$f":"VLOOKUP(Precentación_Quejas[[#This Row],['# Queja]],Historico_Registro_Quejas3[#All],2,0)","v":"2018-04-30"},{"$f":"VLOOKUP(Precentación_Quejas[[#This Row],['# Queja]],Historico_Registro_Quejas3[#All],7,0)","v":"Los cocteles y bebidas en general muy caros y con mejoras pendientes en calidad"},{"$f":"VLOOKUP(Precentación_Quejas[[#This Row],['# Queja]],Historico_Registro_Quejas3[#All],22,0)","v":"Cockteles bares"},{"$f":"VLOOKUP(Precentación_Quejas[[#This Row],[Payaso]],Tabla_Payasos[[Payasos]:[Columna1]],2,0)","v":5},474,{"$f":"VLOOKUP(Precentación_Quejas[[#This Row],['# Queja]],Historico_Registro_Quejas3[[#All],['# Queja]:[Valoración]],15,0)","v":"VERDE"}]
[{"$f":"VLOOKUP(Precentación_Quejas[[#This Row],['# Queja]],Historico_Registro_Quejas3[#All],4,0)","v":307},{"$f":"VLOOKUP(Precentación_Quejas[[#This Row],['# Queja]],Historico_Registro_Quejas3[#All],2,0)","v":"2018-05-01"},{"$f":"VLOOKUP(Precentación_Quejas[[#This Row],['# Queja]],Historico_Registro_Quejas3[#All],7,0)","v":"Huesped se acerca a recepcion disgustado acerca de una situacion acontecida en el Rest Italiano, indica que solicitó una pizza cuya cual venia con un pedazo de plastico y nos informa que al expresar su disgusto con el compañero presente hizo caso omiso a su reclamo, el nos expresa que firmó la factura inconforme por lo tanto vino a Recepcion a mostrar su descontento, solicitando una solucipon al respecto. (huesped vino resintiendo su malestar, cubriendo su abdomen con su mano)"},{"$f":"VLOOKUP(Precentación_Quejas[[#This Row],['# Queja]],Historico_Registro_Quejas3[#All],22,0)","v":"Objetos en la comida"},{"$f":"VLOOKUP(Precentación_Quejas[[#This Row],[Payaso]],Tabla_Payasos[[Payasos]:[Columna1]],2,0)","v":2},473,{"$f":"VLOOKUP(Precentación_Quejas[[#This Row],['# Queja]],Historico_Registro_Quejas3[[#All],['# Queja]:[Valoración]],15,0)","v":"ROJA"}]
[{"$f":"VLOOKUP(Precentación_Quejas[[#This Row],['# Queja]],Historico_Registro_Quejas3[#All],4,0)","v":409},{"$f":"VLOOKUP(Precentación_Quejas[[#This Row],['# Queja]],Historico_Registro_Quejas3[#All],2,0)","v":"2018-04-30"},{"$f":"VLOOKUP(Precentación_Quejas[[#This Row],['# Queja]],Historico_Registro_Quejas3[#All],7,0)","v":"Sería bueno que tuvieran sangría en todos los bares"},{"$f":"VLOOKUP(Precentación_Quejas[[#This Row],['# Queja]],Historico_Registro_Quejas3[#All],22,0)","v":"Servicio cliente restaurante "},{"$f":"VLOOKUP(Precentación_Quejas[[#This Row],[Payaso]],Tabla_Payasos[[Payasos]:[Columna1]],2,0)","v":25},472,{"$f":"VLOOKUP(Precentación_Quejas[[#This Row],['# Queja]],Historico_Registro_Quejas3[[#All],['# Queja]:[Valoración]],15,0)","v":"VERDE"}]
[{"$f":"VLOOKUP(Precentación_Quejas[[#This Row],['# Queja]],Historico_Registro_Quejas3[#All],4,0)","v":305},{"$f":"VLOOKUP(Precentación_Quejas[[#This Row],['# Queja]],Historico_Registro_Quejas3[#All],2,0)","v":"2018-04-30"},{"$f":"VLOOKUP(Precentación_Quejas[[#This Row],['# Queja]],Historico_Registro_Quejas3[#All],7,0)","v":"\"Mi esposo queria un masaje de envoltura o exfoliación com decía que cerraban a las 8 pm, esperabamos que nos pudieran atender después de las 3 pm, pero nos dijeron que no porque las muchachas salian a las 6 pm, además no había recepcionista para buscar la info tuvimos que interrumpir una sesión."},{"$f":"VLOOKUP(Precentación_Quejas[[#This Row],['# Queja]],Historico_Registro_Quejas3[#All],22,0)","v":"Servicio cliente spa"},{"$f":"VLOOKUP(Precentación_Quejas[[#This Row],[Payaso]],Tabla_Payasos[[Payasos]:[Columna1]],2,0)","v":2},471,{"$f":"VLOOKUP(Precentación_Quejas[[#This Row],['# Queja]],Historico_Registro_Quejas3[[#All],['# Queja]:[Valoración]],15,0)","v":"ROJA"}]
[{"$f":"VLOOKUP(Precentación_Quejas[[#This Row],['# Queja]],Historico_Registro_Quejas3[#All],4,0)","v":201},{"$f":"VLOOKUP(Precentación_Quejas[[#This Row],['# Queja]],Historico_Registro_Quejas3[#All],2,0)","v":"2018-04-29"},{"$f":"VLOOKUP(Precentación_Quejas[[#This Row],['# Queja]],Historico_Registro_Quejas3[#All],7,0)","v":"Huesped indica que deberían agregar mas espacios en la piscina para descansar, ejemplo: camitas de piedra en el agua y no solo asientos."},{"$f":"VLOOKUP(Precentación_Quejas[[#This Row],['# Queja]],Historico_Registro_Quejas3[#All],22,0)","v":"N/A"},{"$f":"VLOOKUP(Precentación_Quejas[[#This Row],[Payaso]],Tabla_Payasos[[Payasos]:[Columna1]],2,0)","v":44},470,{"$f":"VLOOKUP(Precentación_Quejas[[#This Row],['# Queja]],Historico_Registro_Quejas3[[#All],['# Queja]:[Valoración]],15,0)","v":"VERDE"}]
[{"$f":"VLOOKUP(Precentación_Quejas[[#This Row],['# Queja]],Historico_Registro_Quejas3[#All],4,0)","v":311},{"$f":"VLOOKUP(Precentación_Quejas[[#This Row],['# Queja]],Historico_Registro_Quejas3[#All],2,0)","v":"2018-04-29"},{"$f":"VLOOKUP(Precentación_Quejas[[#This Row],['# Queja]],Historico_Registro_Quejas3[#All],7,0)","v":"El mojito estaba horrible y muy caro"},{"$f":"VLOOKUP(Precentación_Quejas[[#This Row],['# Queja]],Historico_Registro_Quejas3[#All],22,0)","v":"Cockteles bares"},{"$f":"VLOOKUP(Precentación_Quejas[[#This Row],[Payaso]],Tabla_Payasos[[Payasos]:[Columna1]],2,0)","v":5},469,{"$f":"VLOOKUP(Precentación_Quejas[[#This Row],['# Queja]],Historico_Registro_Quejas3[[#All],['# Queja]:[Valoración]],15,0)","v":"ROJA"}]
[{"$f":"VLOOKUP(Precentación_Quejas[[#This Row],['# Queja]],Historico_Registro_Quejas3[#All],4,0)","v":306},{"$f":"VLOOKUP(Precentación_Quejas[[#This Row],['# Queja]],Historico_Registro_Quejas3[#All],2,0)","v":"2018-04-29"},{"$f":"VLOOKUP(Precentación_Quejas[[#This Row],['# Queja]],Historico_Registro_Quejas3[#All],7,0)","v":"Huesped sequeja del sonido que se percibe desde las otras habitaciones "},{"$f":"VLOOKUP(Precentación_Quejas[[#This Row],['# Queja]],Historico_Registro_Quejas3[#All],22,0)","v":"Ruido habitación"},{"$f":"VLOOKUP(Precentación_Quejas[[#This Row],[Payaso]],Tabla_Payasos[[Payasos]:[Columna1]],2,0)","v":15},468,{"$f":"VLOOKUP(Precentación_Quejas[[#This Row],['# Queja]],Historico_Registro_Quejas3[[#All],['# Queja]:[Valoración]],15,0)","v":"ROJA"}]
[{"$f":"VLOOKUP(Precentación_Quejas[[#This Row],['# Queja]],Historico_Registro_Quejas3[#All],4,0)","v":106},{"$f":"VLOOKUP(Precentación_Quejas[[#This Row],['# Queja]],Historico_Registro_Quejas3[#All],2,0)","v":"2018-04-29"},{"$f":"VLOOKUP(Precentación_Quejas[[#This Row],['# Queja]],Historico_Registro_Quejas3[#All],7,0)","v":"Puerta del baño se encuentra mala y caída."},{"$f":"VLOOKUP(Precentación_Quejas[[#This Row],['# Queja]],Historico_Registro_Quejas3[#All],22,0)","v":"Puerta de baño"},{"$f":"VLOOKUP(Precentación_Quejas[[#This Row],[Payaso]],Tabla_Payasos[[Payasos]:[Columna1]],2,0)","v":2},467,{"$f":"VLOOKUP(Precentación_Quejas[[#This Row],['# Queja]],Historico_Registro_Quejas3[[#All],['# Queja]:[Valoración]],15,0)","v":"ROJA"}]
[{"$f":"VLOOKUP(Precentación_Quejas[[#This Row],['# Queja]],Historico_Registro_Quejas3[#All],4,0)","v":111},{"$f":"VLOOKUP(Precentación_Quejas[[#This Row],['# Queja]],Historico_Registro_Quejas3[#All],2,0)","v":"2018-04-29"},{"$f":"VLOOKUP(Precentación_Quejas[[#This Row],['# Queja]],Historico_Registro_Quejas3[#All],7,0)","v":"Huesped solicita mejor la calidad del pepperoni de las pizzas."},{"$f":"VLOOKUP(Precentación_Quejas[[#This Row],['# Queja]],Historico_Registro_Quejas3[#All],22,0)","v":"Precios Comidas Italiano"},{"$f":"VLOOKUP(Precentación_Quejas[[#This Row],[Payaso]],Tabla_Payasos[[Payasos]:[Columna1]],2,0)","v":11},466,{"$f":"VLOOKUP(Precentación_Quejas[[#This Row],['# Queja]],Historico_Registro_Quejas3[[#All],['# Queja]:[Valoración]],15,0)","v":"ROJA"}]
[{"$f":"VLOOKUP(Precentación_Quejas[[#This Row],['# Queja]],Historico_Registro_Quejas3[#All],4,0)","v":901},{"$f":"VLOOKUP(Precentación_Quejas[[#This Row],['# Queja]],Historico_Registro_Quejas3[#All],2,0)","v":"2018-04-29"},{"$f":"VLOOKUP(Precentación_Quejas[[#This Row],['# Queja]],Historico_Registro_Quejas3[#All],7,0)","v":"Huesped al hacer check-out se queja del funcionamiento del Aire Acondicionado, indica que no enfría y que nunca pudieron refrescar la habitación como lo deseaban."},{"$f":"VLOOKUP(Precentación_Quejas[[#This Row],['# Queja]],Historico_Registro_Quejas3[#All],22,0)","v":"A/C"},{"$f":"VLOOKUP(Precentación_Quejas[[#This Row],[Payaso]],Tabla_Payasos[[Payasos]:[Columna1]],2,0)","v":25},465,{"$f":"VLOOKUP(Precentación_Quejas[[#This Row],['# Queja]],Historico_Registro_Quejas3[[#All],['# Queja]:[Valoración]],15,0)","v":"ROJA"}]
[{"$f":"VLOOKUP(Precentación_Quejas[[#This Row],['# Queja]],Historico_Registro_Quejas3[#All],4,0)","v":106},{"$f":"VLOOKUP(Precentación_Quejas[[#This Row],['# Queja]],Historico_Registro_Quejas3[#All],2,0)","v":"2018-04-28"},{"$f":"VLOOKUP(Precentación_Quejas[[#This Row],['# Queja]],Historico_Registro_Quejas3[#All],7,0)","v":"Huesped indica que la música del bar húmedo podría mejorar y no ser aburrida y desactualizada."},{"$f":"VLOOKUP(Precentación_Quejas[[#This Row],['# Queja]],Historico_Registro_Quejas3[#All],22,0)","v":"Servicio cliente restaurante "},{"$f":"VLOOKUP(Precentación_Quejas[[#This Row],[Payaso]],Tabla_Payasos[[Payasos]:[Columna1]],2,0)","v":25},464,{"$f":"VLOOKUP(Precentación_Quejas[[#This Row],['# Queja]],Historico_Registro_Quejas3[[#All],['# Queja]:[Valoración]],15,0)","v":"ROJA"}]
[{"$f":"VLOOKUP(Precentación_Quejas[[#This Row],['# Queja]],Historico_Registro_Quejas3[#All],4,0)","v":402},{"$f":"VLOOKUP(Precentación_Quejas[[#This Row],['# Queja]],Historico_Registro_Quejas3[#All],2,0)","v":"2018-04-28"},{"$f":"VLOOKUP(Precentación_Quejas[[#This Row],['# Queja]],Historico_Registro_Quejas3[#All],7,0)","v":"Huesped se queja que el gimnasio necesita mejor equipo."},{"$f":"VLOOKUP(Precentación_Quejas[[#This Row],['# Queja]],Historico_Registro_Quejas3[#All],22,0)","v":"Gimnasio"},{"$f":"VLOOKUP(Precentación_Quejas[[#This Row],[Payaso]],Tabla_Payasos[[Payasos]:[Columna1]],2,0)","v":4},463,{"$f":"VLOOKUP(Precentación_Quejas[[#This Row],['# Queja]],Historico_Registro_Quejas3[[#All],['# Queja]:[Valoración]],15,0)","v":"ROJA"}]
[{"$f":"VLOOKUP(Precentación_Quejas[[#This Row],['# Queja]],Historico_Registro_Quejas3[#All],4,0)","v":0},{"$f":"VLOOKUP(Precentación_Quejas[[#This Row],['# Queja]],Historico_Registro_Quejas3[#All],2,0)","v":"2018-04-27"},{"$f":"VLOOKUP(Precentación_Quejas[[#This Row],['# Queja]],Historico_Registro_Quejas3[#All],7,0)","v":"Ayer note que hay falta de iluminación en el jacuzzi, les pregunte a mantenimiento y me dijeron que están esperando unas lámparas. Solamente para que tomen nota de esto, asi nos evitamos un accidente."},{"$f":"VLOOKUP(Precentación_Quejas[[#This Row],['# Queja]],Historico_Registro_Quejas3[#All],22,0)","v":"Rotulación Jacuzzi"},{"$f":"VLOOKUP(Precentación_Quejas[[#This Row],[Payaso]],Tabla_Payasos[[Payasos]:[Columna1]],2,0)","v":4},462,{"$f":"VLOOKUP(Precentación_Quejas[[#This Row],['# Queja]],Historico_Registro_Quejas3[[#All],['# Queja]:[Valoración]],15,0)","v":"ROJA"}]
[{"$f":"VLOOKUP(Precentación_Quejas[[#This Row],['# Queja]],Historico_Registro_Quejas3[#All],4,0)","v":104},{"$f":"VLOOKUP(Precentación_Quejas[[#This Row],['# Queja]],Historico_Registro_Quejas3[#All],2,0)","v":"2018-04-26"},{"$f":"VLOOKUP(Precentación_Quejas[[#This Row],['# Queja]],Historico_Registro_Quejas3[#All],7,0)","v":"La ceramica de la hab es muy resbalosa y cuando esta mojada es muy dificl caminar para las personas que tenemos problemas caminando"},{"$f":"VLOOKUP(Precentación_Quejas[[#This Row],['# Queja]],Historico_Registro_Quejas3[#All],22,0)","v":"Piso resbaloso"},{"$f":"VLOOKUP(Precentación_Quejas[[#This Row],[Payaso]],Tabla_Payasos[[Payasos]:[Columna1]],2,0)","v":1},461,{"$f":"VLOOKUP(Precentación_Quejas[[#This Row],['# Queja]],Historico_Registro_Quejas3[[#All],['# Queja]:[Valoración]],15,0)","v":"ROJA"}]
[{"$f":"VLOOKUP(Precentación_Quejas[[#This Row],['# Queja]],Historico_Registro_Quejas3[#All],4,0)","v":103},{"$f":"VLOOKUP(Precentación_Quejas[[#This Row],['# Queja]],Historico_Registro_Quejas3[#All],2,0)","v":"2018-04-27"},{"$f":"VLOOKUP(Precentación_Quejas[[#This Row],['# Queja]],Historico_Registro_Quejas3[#All],7,0)","v":"Mas opciones para el menu de desayuno, todos los días lo mismo no nos hace felices"},{"$f":"VLOOKUP(Precentación_Quejas[[#This Row],['# Queja]],Historico_Registro_Quejas3[#All],22,0)","v":"Calida Desayuno"},{"$f":"VLOOKUP(Precentación_Quejas[[#This Row],[Payaso]],Tabla_Payasos[[Payasos]:[Columna1]],2,0)","v":15},460,{"$f":"VLOOKUP(Precentación_Quejas[[#This Row],['# Queja]],Historico_Registro_Quejas3[[#All],['# Queja]:[Valoración]],15,0)","v":"ROJA"}]
[{"$f":"VLOOKUP(Precentación_Quejas[[#This Row],['# Queja]],Historico_Registro_Quejas3[#All],4,0)","v":510},{"$f":"VLOOKUP(Precentación_Quejas[[#This Row],['# Queja]],Historico_Registro_Quejas3[#All],2,0)","v":"2018-04-27"},{"$f":"VLOOKUP(Precentación_Quejas[[#This Row],['# Queja]],Historico_Registro_Quejas3[#All],7,0)","v":"Huespedes se acercan molestos arecepción para reclamar que como puede ser posible que no haya ni una sola silla en la habitación, ellos son una pareja de baja estatura y solicitan se les dé una silla a la habitación."},{"$f":"VLOOKUP(Precentación_Quejas[[#This Row],['# Queja]],Historico_Registro_Quejas3[#All],22,0)","v":"Silla en habitación"},{"$f":"VLOOKUP(Precentación_Quejas[[#This Row],[Payaso]],Tabla_Payasos[[Payasos]:[Columna1]],2,0)","v":13},459,{"$f":"VLOOKUP(Precentación_Quejas[[#This Row],['# Queja]],Historico_Registro_Quejas3[[#All],['# Queja]:[Valoración]],15,0)","v":"ROJA"}]
[{"$f":"VLOOKUP(Precentación_Quejas[[#This Row],['# Queja]],Historico_Registro_Quejas3[#All],4,0)","v":406},{"$f":"VLOOKUP(Precentación_Quejas[[#This Row],['# Queja]],Historico_Registro_Quejas3[#All],2,0)","v":"2018-04-27"},{"$f":"VLOOKUP(Precentación_Quejas[[#This Row],['# Queja]],Historico_Registro_Quejas3[#All],7,0)","v":"demasiado ruido causado por el generador"},{"$f":"VLOOKUP(Precentación_Quejas[[#This Row],['# Queja]],Historico_Registro_Quejas3[#All],22,0)","v":"Ruido generadores"},{"$f":"VLOOKUP(Precentación_Quejas[[#This Row],[Payaso]],Tabla_Payasos[[Payasos]:[Columna1]],2,0)","v":3},458,{"$f":"VLOOKUP(Precentación_Quejas[[#This Row],['# Queja]],Historico_Registro_Quejas3[[#All],['# Queja]:[Valoración]],15,0)","v":"ROJA"}]
[{"$f":"VLOOKUP(Precentación_Quejas[[#This Row],['# Queja]],Historico_Registro_Quejas3[#All],4,0)","v":502},{"$f":"VLOOKUP(Precentación_Quejas[[#This Row],['# Queja]],Historico_Registro_Quejas3[#All],2,0)","v":"2018-04-27"},{"$f":"VLOOKUP(Precentación_Quejas[[#This Row],['# Queja]],Historico_Registro_Quejas3[#All],7,0)","v":"demasiado ruido causado por el generador"},{"$f":"VLOOKUP(Precentación_Quejas[[#This Row],['# Queja]],Historico_Registro_Quejas3[#All],22,0)","v":"Ruido generadores"},{"$f":"VLOOKUP(Precentación_Quejas[[#This Row],[Payaso]],Tabla_Payasos[[Payasos]:[Columna1]],2,0)","v":3},457,{"$f":"VLOOKUP(Precentación_Quejas[[#This Row],['# Queja]],Historico_Registro_Quejas3[[#All],['# Queja]:[Valoración]],15,0)","v":"ROJA"}]
[{"$f":"VLOOKUP(Precentación_Quejas[[#This Row],['# Queja]],Historico_Registro_Quejas3[#All],4,0)","v":509},{"$f":"VLOOKUP(Precentación_Quejas[[#This Row],['# Queja]],Historico_Registro_Quejas3[#All],2,0)","v":"2018-04-26"},{"$f":"VLOOKUP(Precentación_Quejas[[#This Row],['# Queja]],Historico_Registro_Quejas3[#All],7,0)","v":"Huesped indica que se necesita mas variedad en el desayuno."},{"$f":"VLOOKUP(Precentación_Quejas[[#This Row],['# Queja]],Historico_Registro_Quejas3[#All],22,0)","v":"Calida Desayuno"},{"$f":"VLOOKUP(Precentación_Quejas[[#This Row],[Payaso]],Tabla_Payasos[[Payasos]:[Columna1]],2,0)","v":15},456,{"$f":"VLOOKUP(Precentación_Quejas[[#This Row],['# Queja]],Historico_Registro_Quejas3[[#All],['# Queja]:[Valoración]],15,0)","v":"ROJA"}]
[{"$f":"VLOOKUP(Precentación_Quejas[[#This Row],['# Queja]],Historico_Registro_Quejas3[#All],4,0)","v":401},{"$f":"VLOOKUP(Precentación_Quejas[[#This Row],['# Queja]],Historico_Registro_Quejas3[#All],2,0)","v":"2018-04-25"},{"$f":"VLOOKUP(Precentación_Quejas[[#This Row],['# Queja]],Historico_Registro_Quejas3[#All],7,0)","v":"Huesped se queja que habían insectos viniendo atraves de las paredes."},{"$f":"VLOOKUP(Precentación_Quejas[[#This Row],['# Queja]],Historico_Registro_Quejas3[#All],22,0)","v":"Plagas Habitaciones"},{"$f":"VLOOKUP(Precentación_Quejas[[#This Row],[Payaso]],Tabla_Payasos[[Payasos]:[Columna1]],2,0)","v":49},455,{"$f":"VLOOKUP(Precentación_Quejas[[#This Row],['# Queja]],Historico_Registro_Quejas3[[#All],['# Queja]:[Valoración]],15,0)","v":"ROJA"}]
[{"$f":"VLOOKUP(Precentación_Quejas[[#This Row],['# Queja]],Historico_Registro_Quejas3[#All],4,0)","v":415},{"$f":"VLOOKUP(Precentación_Quejas[[#This Row],['# Queja]],Historico_Registro_Quejas3[#All],2,0)","v":"2018-04-25"},{"$f":"VLOOKUP(Precentación_Quejas[[#This Row],['# Queja]],Historico_Registro_Quejas3[#All],7,0)","v":"La pared donde esta el aire acondicionado va tener problemas a futuro debido a que el condensador gotea"},{"$f":"VLOOKUP(Precentación_Quejas[[#This Row],['# Queja]],Historico_Registro_Quejas3[#All],22,0)","v":"Habitaciones"},{"$f":"VLOOKUP(Precentación_Quejas[[#This Row],[Payaso]],Tabla_Payasos[[Payasos]:[Columna1]],2,0)","v":54},454,{"$f":"VLOOKUP(Precentación_Quejas[[#This Row],['# Queja]],Historico_Registro_Quejas3[[#All],['# Queja]:[Valoración]],15,0)","v":"ROJA"}]
[{"$f":"VLOOKUP(Precentación_Quejas[[#This Row],['# Queja]],Historico_Registro_Quejas3[#All],4,0)","v":415},{"$f":"VLOOKUP(Precentación_Quejas[[#This Row],['# Queja]],Historico_Registro_Quejas3[#All],2,0)","v":"2018-04-25"},{"$f":"VLOOKUP(Precentación_Quejas[[#This Row],['# Queja]],Historico_Registro_Quejas3[#All],7,0)","v":"Deberiamos de pensar en quitar las lineas amarillas de la calle, no hay necesidad de ellas porque los carros no van a altas velocidades y a su vez estas lineas afean la belleza de las instalaciones en conjunto con la naturaleza"},{"$f":"VLOOKUP(Precentación_Quejas[[#This Row],['# Queja]],Historico_Registro_Quejas3[#All],22,0)","v":"Señalización"},{"$f":"VLOOKUP(Precentación_Quejas[[#This Row],[Payaso]],Tabla_Payasos[[Payasos]:[Columna1]],2,0)","v":1},453,{"$f":"VLOOKUP(Precentación_Quejas[[#This Row],['# Queja]],Historico_Registro_Quejas3[[#All],['# Queja]:[Valoración]],15,0)","v":"Desestimada"}]
[{"$f":"VLOOKUP(Precentación_Quejas[[#This Row],['# Queja]],Historico_Registro_Quejas3[#All],4,0)","v":602},{"$f":"VLOOKUP(Precentación_Quejas[[#This Row],['# Queja]],Historico_Registro_Quejas3[#All],2,0)","v":"2018-04-24"},{"$f":"VLOOKUP(Precentación_Quejas[[#This Row],['# Queja]],Historico_Registro_Quejas3[#All],7,0)","v":"Una sola cama y un sillón sería mucho mejor que dos camas y ningún sitio donde sentarse"},{"$f":"VLOOKUP(Precentación_Quejas[[#This Row],['# Queja]],Historico_Registro_Quejas3[#All],22,0)","v":"Silla en habitación"},{"$f":"VLOOKUP(Precentación_Quejas[[#This Row],[Payaso]],Tabla_Payasos[[Payasos]:[Columna1]],2,0)","v":13},452,{"$f":"VLOOKUP(Precentación_Quejas[[#This Row],['# Queja]],Historico_Registro_Quejas3[[#All],['# Queja]:[Valoración]],15,0)","v":"ROJA"}]
[{"$f":"VLOOKUP(Precentación_Quejas[[#This Row],['# Queja]],Historico_Registro_Quejas3[#All],4,0)","v":602},{"$f":"VLOOKUP(Precentación_Quejas[[#This Row],['# Queja]],Historico_Registro_Quejas3[#All],2,0)","v":"2018-04-24"},{"$f":"VLOOKUP(Precentación_Quejas[[#This Row],['# Queja]],Historico_Registro_Quejas3[#All],7,0)","v":"Una sombrilla por habitación, reduciría el uso de los carritos de golf"},{"$f":"VLOOKUP(Precentación_Quejas[[#This Row],['# Queja]],Historico_Registro_Quejas3[#All],22,0)","v":"Sombrillas"},{"$f":"VLOOKUP(Precentación_Quejas[[#This Row],[Payaso]],Tabla_Payasos[[Payasos]:[Columna1]],2,0)","v":2},451,{"$f":"VLOOKUP(Precentación_Quejas[[#This Row],['# Queja]],Historico_Registro_Quejas3[[#All],['# Queja]:[Valoración]],15,0)","v":"Desestimada"}]
[{"$f":"VLOOKUP(Precentación_Quejas[[#This Row],['# Queja]],Historico_Registro_Quejas3[#All],4,0)","v":602},{"$f":"VLOOKUP(Precentación_Quejas[[#This Row],['# Queja]],Historico_Registro_Quejas3[#All],2,0)","v":"2018-04-24"},{"$f":"VLOOKUP(Precentación_Quejas[[#This Row],['# Queja]],Historico_Registro_Quejas3[#All],7,0)","v":"Huésped encontró una piedrita en el piso al majarla y escribe que fue un verdadero Ouch! Y además dice que el resto de la habitación no parecia que estuviera bien limpia"},{"$f":"VLOOKUP(Precentación_Quejas[[#This Row],['# Queja]],Historico_Registro_Quejas3[#All],22,0)","v":"Limpieza en habitación"},{"$f":"VLOOKUP(Precentación_Quejas[[#This Row],[Payaso]],Tabla_Payasos[[Payasos]:[Columna1]],2,0)","v":8},450,{"$f":"VLOOKUP(Precentación_Quejas[[#This Row],['# Queja]],Historico_Registro_Quejas3[[#All],['# Queja]:[Valoración]],15,0)","v":"ROJA"}]
[{"$f":"VLOOKUP(Precentación_Quejas[[#This Row],['# Queja]],Historico_Registro_Quejas3[#All],4,0)","v":106},{"$f":"VLOOKUP(Precentación_Quejas[[#This Row],['# Queja]],Historico_Registro_Quejas3[#All],2,0)","v":"2018-04-24"},{"$f":"VLOOKUP(Precentación_Quejas[[#This Row],['# Queja]],Historico_Registro_Quejas3[#All],7,0)","v":"Huésped comenta que los grupos de niños son muy ruidosos y si el hotel vende tranquilidad debería de cumplirse, se sintío inconforme en areas comunes e incluso en la habitación. "},{"$f":"VLOOKUP(Precentación_Quejas[[#This Row],['# Queja]],Historico_Registro_Quejas3[#All],22,0)","v":"Grupos estudiantes"},{"$f":"VLOOKUP(Precentación_Quejas[[#This Row],[Payaso]],Tabla_Payasos[[Payasos]:[Columna1]],2,0)","v":1},449,{"$f":"VLOOKUP(Precentación_Quejas[[#This Row],['# Queja]],Historico_Registro_Quejas3[[#All],['# Queja]:[Valoración]],15,0)","v":"ROJA"}]
[{"$f":"VLOOKUP(Precentación_Quejas[[#This Row],['# Queja]],Historico_Registro_Quejas3[#All],4,0)","v":308},{"$f":"VLOOKUP(Precentación_Quejas[[#This Row],['# Queja]],Historico_Registro_Quejas3[#All],2,0)","v":"2018-04-24"},{"$f":"VLOOKUP(Precentación_Quejas[[#This Row],['# Queja]],Historico_Registro_Quejas3[#All],7,0)","v":"Huesped solicitó transporte para 2 personas dado la lluvia sin embargo ningun compañero fue por ellos, ella muy molesta se vino caminando desde su habitacion."},{"$f":"VLOOKUP(Precentación_Quejas[[#This Row],['# Queja]],Historico_Registro_Quejas3[#All],22,0)","v":"Servicio cliente botones"},{"$f":"VLOOKUP(Precentación_Quejas[[#This Row],[Payaso]],Tabla_Payasos[[Payasos]:[Columna1]],2,0)","v":6},448,{"$f":"VLOOKUP(Precentación_Quejas[[#This Row],['# Queja]],Historico_Registro_Quejas3[[#All],['# Queja]:[Valoración]],15,0)","v":"ROJA"}]
[{"$f":"VLOOKUP(Precentación_Quejas[[#This Row],['# Queja]],Historico_Registro_Quejas3[#All],4,0)","v":201},{"$f":"VLOOKUP(Precentación_Quejas[[#This Row],['# Queja]],Historico_Registro_Quejas3[#All],2,0)","v":"2018-04-22"},{"$f":"VLOOKUP(Precentación_Quejas[[#This Row],['# Queja]],Historico_Registro_Quejas3[#All],7,0)","v":"Pusimos el rotulo de no cambiar las toallas pero si las cambiaron."},{"$f":"VLOOKUP(Precentación_Quejas[[#This Row],['# Queja]],Historico_Registro_Quejas3[#All],22,0)","v":"Limpieza en habitación"},{"$f":"VLOOKUP(Precentación_Quejas[[#This Row],[Payaso]],Tabla_Payasos[[Payasos]:[Columna1]],2,0)","v":8},447,{"$f":"VLOOKUP(Precentación_Quejas[[#This Row],['# Queja]],Historico_Registro_Quejas3[[#All],['# Queja]:[Valoración]],15,0)","v":"ROJA"}]
[{"$f":"VLOOKUP(Precentación_Quejas[[#This Row],['# Queja]],Historico_Registro_Quejas3[#All],4,0)","v":211},{"$f":"VLOOKUP(Precentación_Quejas[[#This Row],['# Queja]],Historico_Registro_Quejas3[#All],2,0)","v":"2018-04-23"},{"$f":"VLOOKUP(Precentación_Quejas[[#This Row],['# Queja]],Historico_Registro_Quejas3[#All],7,0)","v":"Hay muchos niños, no esperabamos tener que hacer fila para poder conseguir omelets, pancakes o frutas."},{"$f":"VLOOKUP(Precentación_Quejas[[#This Row],['# Queja]],Historico_Registro_Quejas3[#All],22,0)","v":"Calida Desayuno"},{"$f":"VLOOKUP(Precentación_Quejas[[#This Row],[Payaso]],Tabla_Payasos[[Payasos]:[Columna1]],2,0)","v":15},446,{"$f":"VLOOKUP(Precentación_Quejas[[#This Row],['# Queja]],Historico_Registro_Quejas3[[#All],['# Queja]:[Valoración]],15,0)","v":"ROJA"}]
[{"$f":"VLOOKUP(Precentación_Quejas[[#This Row],['# Queja]],Historico_Registro_Quejas3[#All],4,0)","v":211},{"$f":"VLOOKUP(Precentación_Quejas[[#This Row],['# Queja]],Historico_Registro_Quejas3[#All],2,0)","v":"2018-04-23"},{"$f":"VLOOKUP(Precentación_Quejas[[#This Row],['# Queja]],Historico_Registro_Quejas3[#All],7,0)","v":"Para un hotel como este uno espera que haya batas de baño en la habitación"},{"$f":"VLOOKUP(Precentación_Quejas[[#This Row],['# Queja]],Historico_Registro_Quejas3[#All],22,0)","v":"Batas de baño"},{"$f":"VLOOKUP(Precentación_Quejas[[#This Row],[Payaso]],Tabla_Payasos[[Payasos]:[Columna1]],2,0)","v":1},445,{"$f":"VLOOKUP(Precentación_Quejas[[#This Row],['# Queja]],Historico_Registro_Quejas3[[#All],['# Queja]:[Valoración]],15,0)","v":"Desestimada"}]
[{"$f":"VLOOKUP(Precentación_Quejas[[#This Row],['# Queja]],Historico_Registro_Quejas3[#All],4,0)","v":210},{"$f":"VLOOKUP(Precentación_Quejas[[#This Row],['# Queja]],Historico_Registro_Quejas3[#All],2,0)","v":"2018-04-21"},{"$f":"VLOOKUP(Precentación_Quejas[[#This Row],['# Queja]],Historico_Registro_Quejas3[#All],7,0)","v":"Huesped se queja que las opciones vegetarianas son muy limitadas para la epoca en la que nos encontramos, el mismo indica que al haber muchas personas vegetarianas, el hotel debería mejorar."},{"$f":"VLOOKUP(Precentación_Quejas[[#This Row],['# Queja]],Historico_Registro_Quejas3[#All],22,0)","v":"Menú vegetariano"},{"$f":"VLOOKUP(Precentación_Quejas[[#This Row],[Payaso]],Tabla_Payasos[[Payasos]:[Columna1]],2,0)","v":4},444,{"$f":"VLOOKUP(Precentación_Quejas[[#This Row],['# Queja]],Historico_Registro_Quejas3[[#All],['# Queja]:[Valoración]],15,0)","v":"ROJA"}]
[{"$f":"VLOOKUP(Precentación_Quejas[[#This Row],['# Queja]],Historico_Registro_Quejas3[#All],4,0)","v":310},{"$f":"VLOOKUP(Precentación_Quejas[[#This Row],['# Queja]],Historico_Registro_Quejas3[#All],2,0)","v":"2018-04-21"},{"$f":"VLOOKUP(Precentación_Quejas[[#This Row],['# Queja]],Historico_Registro_Quejas3[#All],7,0)","v":"Huesped indica que debería haber un tomacorriente especial cerca de la mesa para cargar la computadora"},{"$f":"VLOOKUP(Precentación_Quejas[[#This Row],['# Queja]],Historico_Registro_Quejas3[#All],22,0)","v":"N/A"},{"$f":"VLOOKUP(Precentación_Quejas[[#This Row],[Payaso]],Tabla_Payasos[[Payasos]:[Columna1]],2,0)","v":44},443,{"$f":"VLOOKUP(Precentación_Quejas[[#This Row],['# Queja]],Historico_Registro_Quejas3[[#All],['# Queja]:[Valoración]],15,0)","v":"Desestimada"}]
[{"$f":"VLOOKUP(Precentación_Quejas[[#This Row],['# Queja]],Historico_Registro_Quejas3[#All],4,0)","v":408},{"$f":"VLOOKUP(Precentación_Quejas[[#This Row],['# Queja]],Historico_Registro_Quejas3[#All],2,0)","v":"2018-04-22"},{"$f":"VLOOKUP(Precentación_Quejas[[#This Row],['# Queja]],Historico_Registro_Quejas3[#All],7,0)","v":"Huesped se acerca a Recepción muy molesto debido a que llamó para solicitar hielo y nunca lo recibió, el señor no permite ni que le ayudemos, se queja muy fuerte por el mal servicio, tambien se queja por que en la maquina de hielo no hay bolsas y solo pide una bolsa para seguidamente indicarnos que no quiere ningún carrito de golf y que se irá caminando apesar de la lluvia. "},{"$f":"VLOOKUP(Precentación_Quejas[[#This Row],['# Queja]],Historico_Registro_Quejas3[#All],22,0)","v":"Servicio cliente botones"},{"$f":"VLOOKUP(Precentación_Quejas[[#This Row],[Payaso]],Tabla_Payasos[[Payasos]:[Columna1]],2,0)","v":6},442,{"$f":"VLOOKUP(Precentación_Quejas[[#This Row],['# Queja]],Historico_Registro_Quejas3[[#All],['# Queja]:[Valoración]],15,0)","v":"ROJA"}]
[{"$f":"VLOOKUP(Precentación_Quejas[[#This Row],['# Queja]],Historico_Registro_Quejas3[#All],4,0)","v":702},{"$f":"VLOOKUP(Precentación_Quejas[[#This Row],['# Queja]],Historico_Registro_Quejas3[#All],2,0)","v":"2018-04-21"},{"$f":"VLOOKUP(Precentación_Quejas[[#This Row],['# Queja]],Historico_Registro_Quejas3[#All],7,0)","v":"Si se etiquetaran las apagadores de la habitación sería mas funcional, ya que no se sabe cual es para cada cosa."},{"$f":"VLOOKUP(Precentación_Quejas[[#This Row],['# Queja]],Historico_Registro_Quejas3[#All],22,0)","v":"Rotulación ventilador"},{"$f":"VLOOKUP(Precentación_Quejas[[#This Row],[Payaso]],Tabla_Payasos[[Payasos]:[Columna1]],2,0)","v":3},441,{"$f":"VLOOKUP(Precentación_Quejas[[#This Row],['# Queja]],Historico_Registro_Quejas3[[#All],['# Queja]:[Valoración]],15,0)","v":"Desestimada"}]
[{"$f":"VLOOKUP(Precentación_Quejas[[#This Row],['# Queja]],Historico_Registro_Quejas3[#All],4,0)","v":702},{"$f":"VLOOKUP(Precentación_Quejas[[#This Row],['# Queja]],Historico_Registro_Quejas3[#All],2,0)","v":"2018-04-21"},{"$f":"VLOOKUP(Precentación_Quejas[[#This Row],['# Queja]],Historico_Registro_Quejas3[#All],7,0)","v":"Una linea para tender la ropa fuera de la habitación sería util"},{"$f":"VLOOKUP(Precentación_Quejas[[#This Row],['# Queja]],Historico_Registro_Quejas3[#All],22,0)","v":"Habitaciones"},{"$f":"VLOOKUP(Precentación_Quejas[[#This Row],[Payaso]],Tabla_Payasos[[Payasos]:[Columna1]],2,0)","v":54},440,{"$f":"VLOOKUP(Precentación_Quejas[[#This Row],['# Queja]],Historico_Registro_Quejas3[[#All],['# Queja]:[Valoración]],15,0)","v":"VERDE"}]
[{"$f":"VLOOKUP(Precentación_Quejas[[#This Row],['# Queja]],Historico_Registro_Quejas3[#All],4,0)","v":702},{"$f":"VLOOKUP(Precentación_Quejas[[#This Row],['# Queja]],Historico_Registro_Quejas3[#All],2,0)","v":"2018-04-21"},{"$f":"VLOOKUP(Precentación_Quejas[[#This Row],['# Queja]],Historico_Registro_Quejas3[#All],7,0)","v":"La ducha podría usar menos agua si estuviera mejor calibrada "},{"$f":"VLOOKUP(Precentación_Quejas[[#This Row],['# Queja]],Historico_Registro_Quejas3[#All],22,0)","v":"Información duchas"},{"$f":"VLOOKUP(Precentación_Quejas[[#This Row],[Payaso]],Tabla_Payasos[[Payasos]:[Columna1]],2,0)","v":1},439,{"$f":"VLOOKUP(Precentación_Quejas[[#This Row],['# Queja]],Historico_Registro_Quejas3[[#All],['# Queja]:[Valoración]],15,0)","v":"ROJA"}]
[{"$f":"VLOOKUP(Precentación_Quejas[[#This Row],['# Queja]],Historico_Registro_Quejas3[#All],4,0)","v":702},{"$f":"VLOOKUP(Precentación_Quejas[[#This Row],['# Queja]],Historico_Registro_Quejas3[#All],2,0)","v":"2018-04-21"},{"$f":"VLOOKUP(Precentación_Quejas[[#This Row],['# Queja]],Historico_Registro_Quejas3[#All],7,0)","v":"Las lamparas que hay en la habitación no sirven para leer"},{"$f":"VLOOKUP(Precentación_Quejas[[#This Row],['# Queja]],Historico_Registro_Quejas3[#All],22,0)","v":"Lampara de lectura"},{"$f":"VLOOKUP(Precentación_Quejas[[#This Row],[Payaso]],Tabla_Payasos[[Payasos]:[Columna1]],2,0)","v":2},438,{"$f":"VLOOKUP(Precentación_Quejas[[#This Row],['# Queja]],Historico_Registro_Quejas3[[#All],['# Queja]:[Valoración]],15,0)","v":"ROJA"}]
[{"$f":"VLOOKUP(Precentación_Quejas[[#This Row],['# Queja]],Historico_Registro_Quejas3[#All],4,0)","v":702},{"$f":"VLOOKUP(Precentación_Quejas[[#This Row],['# Queja]],Historico_Registro_Quejas3[#All],2,0)","v":"2018-04-21"},{"$f":"VLOOKUP(Precentación_Quejas[[#This Row],['# Queja]],Historico_Registro_Quejas3[#All],7,0)","v":"Podría haber una o dos sillas en la habitación, incluso pueden estar guardadas en el closet"},{"$f":"VLOOKUP(Precentación_Quejas[[#This Row],['# Queja]],Historico_Registro_Quejas3[#All],22,0)","v":"Silla en habitación"},{"$f":"VLOOKUP(Precentación_Quejas[[#This Row],[Payaso]],Tabla_Payasos[[Payasos]:[Columna1]],2,0)","v":13},437,{"$f":"VLOOKUP(Precentación_Quejas[[#This Row],['# Queja]],Historico_Registro_Quejas3[[#All],['# Queja]:[Valoración]],15,0)","v":"ROJA"}]
[{"$f":"VLOOKUP(Precentación_Quejas[[#This Row],['# Queja]],Historico_Registro_Quejas3[#All],4,0)","v":901},{"$f":"VLOOKUP(Precentación_Quejas[[#This Row],['# Queja]],Historico_Registro_Quejas3[#All],2,0)","v":"2018-04-21"},{"$f":"VLOOKUP(Precentación_Quejas[[#This Row],['# Queja]],Historico_Registro_Quejas3[#All],7,0)","v":"Hay un fuerte olor que sale del baño"},{"$f":"VLOOKUP(Precentación_Quejas[[#This Row],['# Queja]],Historico_Registro_Quejas3[#All],22,0)","v":"Mal olor habitación"},{"$f":"VLOOKUP(Precentación_Quejas[[#This Row],[Payaso]],Tabla_Payasos[[Payasos]:[Columna1]],2,0)","v":8},436,{"$f":"VLOOKUP(Precentación_Quejas[[#This Row],['# Queja]],Historico_Registro_Quejas3[[#All],['# Queja]:[Valoración]],15,0)","v":"ROJA"}]
[{"$f":"VLOOKUP(Precentación_Quejas[[#This Row],['# Queja]],Historico_Registro_Quejas3[#All],4,0)","v":901},{"$f":"VLOOKUP(Precentación_Quejas[[#This Row],['# Queja]],Historico_Registro_Quejas3[#All],2,0)","v":"2018-04-21"},{"$f":"VLOOKUP(Precentación_Quejas[[#This Row],['# Queja]],Historico_Registro_Quejas3[#All],7,0)","v":"La puerta del baño no se cierra o abre bien."},{"$f":"VLOOKUP(Precentación_Quejas[[#This Row],['# Queja]],Historico_Registro_Quejas3[#All],22,0)","v":"Puerta de baño"},{"$f":"VLOOKUP(Precentación_Quejas[[#This Row],[Payaso]],Tabla_Payasos[[Payasos]:[Columna1]],2,0)","v":2},435,{"$f":"VLOOKUP(Precentación_Quejas[[#This Row],['# Queja]],Historico_Registro_Quejas3[[#All],['# Queja]:[Valoración]],15,0)","v":"ROJA"}]
[{"$f":"VLOOKUP(Precentación_Quejas[[#This Row],['# Queja]],Historico_Registro_Quejas3[#All],4,0)","v":309},{"$f":"VLOOKUP(Precentación_Quejas[[#This Row],['# Queja]],Historico_Registro_Quejas3[#All],2,0)","v":"2018-04-20"},{"$f":"VLOOKUP(Precentación_Quejas[[#This Row],['# Queja]],Historico_Registro_Quejas3[#All],7,0)","v":"Sería bueno tener al menos una sombrilla por habitación"},{"$f":"VLOOKUP(Precentación_Quejas[[#This Row],['# Queja]],Historico_Registro_Quejas3[#All],22,0)","v":"Sombrillas"},{"$f":"VLOOKUP(Precentación_Quejas[[#This Row],[Payaso]],Tabla_Payasos[[Payasos]:[Columna1]],2,0)","v":2},434,{"$f":"VLOOKUP(Precentación_Quejas[[#This Row],['# Queja]],Historico_Registro_Quejas3[[#All],['# Queja]:[Valoración]],15,0)","v":"Desestimada"}]
[{"$f":"VLOOKUP(Precentación_Quejas[[#This Row],['# Queja]],Historico_Registro_Quejas3[#All],4,0)","v":108},{"$f":"VLOOKUP(Precentación_Quejas[[#This Row],['# Queja]],Historico_Registro_Quejas3[#All],2,0)","v":"2018-04-20"},{"$f":"VLOOKUP(Precentación_Quejas[[#This Row],['# Queja]],Historico_Registro_Quejas3[#All],7,0)","v":"Después de haberlos cambiado de la 601 a la habitación 108, la señora Brandi reporta que hay una cucaracha dentro de la habitación y por este motivo estaba muy molesta"},{"$f":"VLOOKUP(Precentación_Quejas[[#This Row],['# Queja]],Historico_Registro_Quejas3[#All],22,0)","v":"Plagas Habitaciones"},{"$f":"VLOOKUP(Precentación_Quejas[[#This Row],[Payaso]],Tabla_Payasos[[Payasos]:[Columna1]],2,0)","v":49},433,{"$f":"VLOOKUP(Precentación_Quejas[[#This Row],['# Queja]],Historico_Registro_Quejas3[[#All],['# Queja]:[Valoración]],15,0)","v":"ROJA"}]
[{"$f":"VLOOKUP(Precentación_Quejas[[#This Row],['# Queja]],Historico_Registro_Quejas3[#All],4,0)","v":601},{"$f":"VLOOKUP(Precentación_Quejas[[#This Row],['# Queja]],Historico_Registro_Quejas3[#All],2,0)","v":"2018-04-20"},{"$f":"VLOOKUP(Precentación_Quejas[[#This Row],['# Queja]],Historico_Registro_Quejas3[#All],7,0)","v":"Huésped reporta que tiene muchas hormigas dentro de la habitación, que hasta están en las maletas."},{"$f":"VLOOKUP(Precentación_Quejas[[#This Row],['# Queja]],Historico_Registro_Quejas3[#All],22,0)","v":"Plagas Habitaciones"},{"$f":"VLOOKUP(Precentación_Quejas[[#This Row],[Payaso]],Tabla_Payasos[[Payasos]:[Columna1]],2,0)","v":49},432,{"$f":"VLOOKUP(Precentación_Quejas[[#This Row],['# Queja]],Historico_Registro_Quejas3[[#All],['# Queja]:[Valoración]],15,0)","v":"ROJA"}]
[{"$f":"VLOOKUP(Precentación_Quejas[[#This Row],['# Queja]],Historico_Registro_Quejas3[#All],4,0)","v":601},{"$f":"VLOOKUP(Precentación_Quejas[[#This Row],['# Queja]],Historico_Registro_Quejas3[#All],2,0)","v":"2018-04-20"},{"$f":"VLOOKUP(Precentación_Quejas[[#This Row],['# Queja]],Historico_Registro_Quejas3[#All],7,0)","v":"Huésped solicitó transporte para venir al parqueo para irse a tour, pero el carrito de golf no llegó por ellos, debieron venirse caminando entonces"},{"$f":"VLOOKUP(Precentación_Quejas[[#This Row],['# Queja]],Historico_Registro_Quejas3[#All],22,0)","v":"Servicio cliente botones"},{"$f":"VLOOKUP(Precentación_Quejas[[#This Row],[Payaso]],Tabla_Payasos[[Payasos]:[Columna1]],2,0)","v":6},431,{"$f":"VLOOKUP(Precentación_Quejas[[#This Row],['# Queja]],Historico_Registro_Quejas3[[#All],['# Queja]:[Valoración]],15,0)","v":"ROJA"}]
[{"$f":"VLOOKUP(Precentación_Quejas[[#This Row],['# Queja]],Historico_Registro_Quejas3[#All],4,0)","v":706},{"$f":"VLOOKUP(Precentación_Quejas[[#This Row],['# Queja]],Historico_Registro_Quejas3[#All],2,0)","v":"2018-04-19"},{"$f":"VLOOKUP(Precentación_Quejas[[#This Row],['# Queja]],Historico_Registro_Quejas3[#All],7,0)","v":"Huesped se queja porque no hay silla en la habitación, las camas son muy altas y ellos huespedes de baja estatura."},{"$f":"VLOOKUP(Precentación_Quejas[[#This Row],['# Queja]],Historico_Registro_Quejas3[#All],22,0)","v":"Silla en habitación"},{"$f":"VLOOKUP(Precentación_Quejas[[#This Row],[Payaso]],Tabla_Payasos[[Payasos]:[Columna1]],2,0)","v":13},430,{"$f":"VLOOKUP(Precentación_Quejas[[#This Row],['# Queja]],Historico_Registro_Quejas3[[#All],['# Queja]:[Valoración]],15,0)","v":"ROJA"}]
[{"$f":"VLOOKUP(Precentación_Quejas[[#This Row],['# Queja]],Historico_Registro_Quejas3[#All],4,0)","v":904},{"$f":"VLOOKUP(Precentación_Quejas[[#This Row],['# Queja]],Historico_Registro_Quejas3[#All],2,0)","v":"2018-04-19"},{"$f":"VLOOKUP(Precentación_Quejas[[#This Row],['# Queja]],Historico_Registro_Quejas3[#All],7,0)","v":"Huesped reporta que ocasionalmente el lavatorio desprendia fuertes olores a alcantarilla y cloaca."},{"$f":"VLOOKUP(Precentación_Quejas[[#This Row],['# Queja]],Historico_Registro_Quejas3[#All],22,0)","v":"Mal olor habitación"},{"$f":"VLOOKUP(Precentación_Quejas[[#This Row],[Payaso]],Tabla_Payasos[[Payasos]:[Columna1]],2,0)","v":8},429,{"$f":"VLOOKUP(Precentación_Quejas[[#This Row],['# Queja]],Historico_Registro_Quejas3[[#All],['# Queja]:[Valoración]],15,0)","v":"Amarilla"}]
[{"$f":"VLOOKUP(Precentación_Quejas[[#This Row],['# Queja]],Historico_Registro_Quejas3[#All],4,0)","v":710},{"$f":"VLOOKUP(Precentación_Quejas[[#This Row],['# Queja]],Historico_Registro_Quejas3[#All],2,0)","v":"2018-04-18"},{"$f":"VLOOKUP(Precentación_Quejas[[#This Row],['# Queja]],Historico_Registro_Quejas3[#All],7,0)","v":"Huesped llama quejandose por hormigas en el lavatorio y en el area del baño."},{"$f":"VLOOKUP(Precentación_Quejas[[#This Row],['# Queja]],Historico_Registro_Quejas3[#All],22,0)","v":"Plagas Habitaciones"},{"$f":"VLOOKUP(Precentación_Quejas[[#This Row],[Payaso]],Tabla_Payasos[[Payasos]:[Columna1]],2,0)","v":49},428,{"$f":"VLOOKUP(Precentación_Quejas[[#This Row],['# Queja]],Historico_Registro_Quejas3[[#All],['# Queja]:[Valoración]],15,0)","v":"Roja"}]
[{"$f":"VLOOKUP(Precentación_Quejas[[#This Row],['# Queja]],Historico_Registro_Quejas3[#All],4,0)","v":706},{"$f":"VLOOKUP(Precentación_Quejas[[#This Row],['# Queja]],Historico_Registro_Quejas3[#All],2,0)","v":"2018-04-17"},{"$f":"VLOOKUP(Precentación_Quejas[[#This Row],['# Queja]],Historico_Registro_Quejas3[#All],7,0)","v":"Huesped se queja porque no hay pan libre de gluten en el desayuno."},{"$f":"VLOOKUP(Precentación_Quejas[[#This Row],['# Queja]],Historico_Registro_Quejas3[#All],22,0)","v":"Menú Celiacos"},{"$f":"VLOOKUP(Precentación_Quejas[[#This Row],[Payaso]],Tabla_Payasos[[Payasos]:[Columna1]],2,0)","v":7},427,{"$f":"VLOOKUP(Precentación_Quejas[[#This Row],['# Queja]],Historico_Registro_Quejas3[[#All],['# Queja]:[Valoración]],15,0)","v":"Desestimada"}]
[{"$f":"VLOOKUP(Precentación_Quejas[[#This Row],['# Queja]],Historico_Registro_Quejas3[#All],4,0)","v":111},{"$f":"VLOOKUP(Precentación_Quejas[[#This Row],['# Queja]],Historico_Registro_Quejas3[#All],2,0)","v":"2018-04-18"},{"$f":"VLOOKUP(Precentación_Quejas[[#This Row],['# Queja]],Historico_Registro_Quejas3[#All],7,0)","v":"Huesped se queja que entre las 5 y 7 pm deberían haber mas bartenders ya que hay que esperar mucho para ser atendido y mas tiempo para que le hagan un cocktail. "},{"$f":"VLOOKUP(Precentación_Quejas[[#This Row],['# Queja]],Historico_Registro_Quejas3[#All],22,0)","v":"Servicio cliente bar humedo"},{"$f":"VLOOKUP(Precentación_Quejas[[#This Row],[Payaso]],Tabla_Payasos[[Payasos]:[Columna1]],2,0)","v":5},426,{"$f":"VLOOKUP(Precentación_Quejas[[#This Row],['# Queja]],Historico_Registro_Quejas3[[#All],['# Queja]:[Valoración]],15,0)","v":"Verde"}]
[{"$f":"VLOOKUP(Precentación_Quejas[[#This Row],['# Queja]],Historico_Registro_Quejas3[#All],4,0)","v":112},{"$f":"VLOOKUP(Precentación_Quejas[[#This Row],['# Queja]],Historico_Registro_Quejas3[#All],2,0)","v":"2018-04-18"},{"$f":"VLOOKUP(Precentación_Quejas[[#This Row],['# Queja]],Historico_Registro_Quejas3[#All],7,0)","v":"Huesped indica que se necesita un espejo afuera del baño."},{"$f":"VLOOKUP(Precentación_Quejas[[#This Row],['# Queja]],Historico_Registro_Quejas3[#All],22,0)","v":"Espejo grande fuera del baño"},{"$f":"VLOOKUP(Precentación_Quejas[[#This Row],[Payaso]],Tabla_Payasos[[Payasos]:[Columna1]],2,0)","v":4},425,{"$f":"VLOOKUP(Precentación_Quejas[[#This Row],['# Queja]],Historico_Registro_Quejas3[[#All],['# Queja]:[Valoración]],15,0)","v":"Desestimada"}]
[{"$f":"VLOOKUP(Precentación_Quejas[[#This Row],['# Queja]],Historico_Registro_Quejas3[#All],4,0)","v":601},{"$f":"VLOOKUP(Precentación_Quejas[[#This Row],['# Queja]],Historico_Registro_Quejas3[#All],2,0)","v":"2018-04-18"},{"$f":"VLOOKUP(Precentación_Quejas[[#This Row],['# Queja]],Historico_Registro_Quejas3[#All],7,0)","v":"Huesped se queja de hormigas en el area del baño."},{"$f":"VLOOKUP(Precentación_Quejas[[#This Row],['# Queja]],Historico_Registro_Quejas3[#All],22,0)","v":"Plagas Habitaciones"},{"$f":"VLOOKUP(Precentación_Quejas[[#This Row],[Payaso]],Tabla_Payasos[[Payasos]:[Columna1]],2,0)","v":49},424,{"$f":"VLOOKUP(Precentación_Quejas[[#This Row],['# Queja]],Historico_Registro_Quejas3[[#All],['# Queja]:[Valoración]],15,0)","v":"Verde"}]

{"sheet":"Hoja1","index":12,"n_rows":48,"n_cols":15,"rows_kept":48,"cut":false,"hidden":false,"merged":[[0,0,0,1]]}
["Total de Quejas 31 mar al 5 dic 2018"]
["Descripción","Total"]
["Roja",508]
["Amarillas",28]
["Verdes",24]
["Destimadas",105]
["Total",{"$f":"SUM(B3:B6)","v":665}]
[]
[]
["Payasos","%","Cantidad","Marzo","Abril ","Mayo","Junio","Julio","Agosto","Septiembre","Octubre","Noviembre","Diciembre"]
["Otras ",{"$f":"(C11*100/B$3)/100","v":0.45669291338582674},232,1,22,38,13,38,34,20,34,29,3,{"$f":"SUM(D11:M11)","v":232},{"$f":"N11-B11","v":231.54330708661416}]
["Ruido Habitacion ",{"$f":"(C12*100/B$3)/100","v":1.968503937007874E-2},10,null,1,3,null,2,1,null,1,2,null,{"$f":"SUM(D12:M12)","v":10},9.9803149606299204]
["Servicio al cliente general ",1.968503937007874E-2,10,null,null,null,null,1,null,1,2,6,null,{"$f":"SUM(D13:M13)","v":10},9.9803149606299204]
["Sillas habitacion ",2.3622047244094488E-2,12,null,4,3,2,1,null,null,1,1,null,12,11.976377952755906]
["Agua caliente ",2.5590551181102362E-2,13,null,null,null,2,3,5,1,null,2,null,13,12.974409448818898]
["Calidad de desayuno ",2.3622047244094488E-2,12,null,3,1,1,2,3,null,2,null,null,12,11.976377952755906]
["Central Telefónica",3.1496062992125984E-2,16,null,null,null,null,null,12,null,null,4,null,16,15.968503937007874]
["Servicio al cliente restaurante ",3.5433070866141732E-2,18,null,1,1,2,1,1,5,2,5,null,18,{"$f":"N18-B18","v":17.964566929133859}]
["A/C",3.7401574803149609E-2,19,null,1,null,null,3,1,5,4,5,null,19,18.962598425196852]
["Wifi",4.5275590551181105E-2,23,null,null,1,8,7,3,null,1,null,3,23,22.954724409448819]
["Habitaciones",5.905511811023622E-2,30,null,1,5,7,2,5,1,2,7,null,30,29.940944881889763]
["Plagas Habitacines",8.858267716535434E-2,45,null,4,10,20,6,2,2,1,null,null,45,44.911417322834644]
["Calidad de Comida",0.13385826771653542,68,1,1,25,15,10,15,null,null,null,1,68,67.866141732283467]
[null,null,null,null,null,null,null,null,null,null,null,null,null,0]
["Total",null,null,{"$f":"SUM(D11:D24)","v":2},{"$f":"SUM(E11:E24)","v":38},87,70,76,82,35,50,61,7,508]
[null,null,null,null,null,null,null,null,null,null,null,null,null,0]
["Otras","%","Cantidad","Marzo","Abril ","Mayo","Junio","Julio","Agosto","Septiembre","Octubre","Noviembre","Diciembre",0]
["Calidad / Precio",{"$f":"(C28*100/C$11)/100","v":3.4482758620689655E-2},8,null,null,null,null,null,6,1,1,null,null,8]
["Limpieza de habitación ",{"$f":"(C29*100/C$11)/100","v":3.4482758620689655E-2},8,null,2,null,null,1,null,null,null,5,null,8]
["Mal olor de la habitación ",3.4482758620689655E-2,8,null,2,null,null,5,null,1,null,null,null,8]
["Precios comida italiana",3.4482758620689655E-2,8,null,1,null,null,null,3,null,3,1,null,8]
["Calidad Sushi",3.0172413793103446E-2,7,null,null,2,1,null,2,null,2,null,null,7]
["Entretenimiento",3.0172413793103446E-2,7,1,null,1,null,null,2,2,null,1,null,7]
["Menú celiacos ",3.0172413793103446E-2,7,null,1,null,null,null,3,1,1,1,null,7]
["Goteras",2.5862068965517241E-2,6,null,null,null,null,5,1,null,null,null,null,6]
[null,null,null,null,null,null,null,null,null,null,null,null,null,0]
[null,null,null,null,null,null,null,null,null,null,null,null,null,{"$f":"SUM(N28:N36)","v":59}]
["Mes","Cant Quejas",null,"Pax","%"]
["Marzo",{"$f":"D25","v":2},null,231,{"$f":"B39/D39","v":8.658008658008658E-3}]
["Abril ",{"$f":"E25","v":38},null,2357,1.6122189223589309E-2]
["Mayo",{"$f":"F25","v":87},null,2149,{"$f":"B41/D41","v":4.0483946021405308E-2}]
["Junio",{"$f":"G25","v":70},null,2545,{"$f":"B42/D42","v":2.75049115913556E-2}]
["Julio",{"$f":"H25","v":76},null,2551,2.9792238337906705E-2]
["Agosto",{"$f":"I25","v":82},null,2207,3.7154508382419571E-2]
["Septiembre",{"$f":"J25","v":35},null,1213,2.8854080791426217E-2]
["Octubre",{"$f":"K25","v":50},null,1528,3.2722513089005235E-2]
["Noviembre",{"$f":"L25","v":61},null,1474,4.1383989145183174E-2]
["Diciembre",{"$f":"M25","v":7},null,369,1.8970189701897018E-2]

{"sheet":"Hoja3","index":13,"n_rows":0,"n_cols":0,"rows_kept":0,"cut":false,"hidden":false,"merged":[]}